{"text_format":"1","workbook":"xlsx","n_sheets":8,"sheets":["ShooterList","Squads","ScoresEntry","SORT","HTML","Squad1","Squad2","Squad3"],"not_rendered":{"charts":0,"images":0,"macros":1,"external_links":1,"defined_names":28,"comments":0,"pivot_tables":0},"unopened":[],"bounds":{"document_bytes":16777216,"sheet_cells":100000,"rows_first":2000,"rows_last":500,"rows_between":2000,"halvings":0,"cell_chars":16384,"cell_head_chars":4096},"cells_cut":0,"cells_raw":0,"read":"whole","date_system":"1900"}

{"sheet":"ShooterList","index":0,"n_rows":45,"n_cols":19,"rows_kept":45,"cut":false,"hidden":false,"merged":[[0,0,0,8],[14,10,14,15],[27,10,27,15],[1,10,1,15],[1,6,1,8],[1,0,1,5]]}
["3-Gun Match",null,null,null,null,null,null,null,null,null,{"$f":"COUNTA(ShooterList!$B$4:$B$45)","v":0},"Shooters",null,null,null,{"$f":"MID(CELL(\"filename\"),SEARCH(\"[\",CELL(\"filename\"))+1,SEARCH(\"]\",CELL(\"filename\"))-SEARCH(\"[\",CELL(\"filename\"))-1)","v":"3gun.xlsm"}]
["REGISTERED SHOOTERS LIST",null,null,null,null,null,"DATE",null,null,null,"WAITING LIST"]
["No","FNAME","LNAME","FULLNAME","CPF&G","DATE\nRCV'D","PAID","RELEASE","TOURNEY",null,"No","SHOOTER","CPF&G","DATE","PAID","RELEASE"]
[{"$f":"ScoresEntry!A5","v":1},null,null,{"$f":"B4&\" \"&C4","v":" "},null,null,null,{"$f":"IF(E4>0,\"N/R\",\"\")","v":""},null,null,1,null,null,null,null,{"$f":"IF(M4>0,\"N/R\",\"\")","v":""},null,{"$f":"COUNTA($B$4:$B$45)","v":0},"SHOOTERS"]
[{"$f":"ScoresEntry!A6","v":2},null,null,{"$f":"B5&\" \"&C5","v":" "},null,null,null,{"$f":"IF(E5>0,\"N/R\",\"\")","v":""},null,null,2,null,null,null,null,"",null,{"$f":"SUM($G$4:$G$45)+SUM(tblCancelled6[PAID])","v":0},"PAID"]
[{"$f":"ScoresEntry!A7","v":3},null,null,{"$f":"B6&\" \"&C6","v":" "},null,null,null,null,null,null,3,null,null,null,null,"",null,{"$f":"COUNT($I$4:$I$45)","v":0},"TOURNAMENT ENTRIES"]
[4,null,null,{"$f":"B7&\" \"&C7","v":" "},null,null,null,null,null,null,4,null,null,null,null,"",null,{"$f":"SUM($I$4:$I$45)","v":0},"TOURNEY FEES"]
[5,null,null," ",null,null,null,null,null,null,5,null,null,null,null,""]
[6,null,null," ",null,null,null,null,null,null,6,null,null,null,null,""]
[7,null,null," ",null,null,null,null,null,null,7,null,null,null,null,""]
[8,null,null," ",null,null,null,null,null,null,8,null,null,null,null,""]
[9,null,null," ",null,null,null,null,null,null,9,null,null,null,null,""]
[10,null,null," ",null,null,null,null,null,null,10,null,null,null,null,""]
[{"$f":"ScoresEntry!A15","v":11},null,null," "]
[{"$f":"ScoresEntry!A16","v":12},null,null," ",null,null,null,null,null,null,"CANCELLATIONS"]
[{"$f":"ScoresEntry!A17","v":13},null,null," ",null,null,null,null,null,null,"No","SHOOTER","CPF&G","DATE","PAID","RELEASE"]
[{"$f":"ScoresEntry!A18","v":14},null,null," ",null,null,null,null,null,null,1,null,null,null,null,"YES"]
[{"$f":"ScoresEntry!A19","v":15},null,null," ",null,null,null,null,null,null,2,null,null,null,null,{"$f":"IF(M18>0,\"N/R\",\"\")","v":""}]
[{"$f":"ScoresEntry!A20","v":16},null,null," ",null,null,null,null,null,null,3,null,null,null,null,""]
[{"$f":"ScoresEntry!A21","v":17},null,null," ",null,null,null,null,null,null,4,null,null,null,null,""]
[{"$f":"ScoresEntry!A22","v":18},null,null," ",null,null,null,null,null,null,5,null,null,null,null,""]
[{"$f":"ScoresEntry!A23","v":19},null,null," ",null,null,null,null,null,null,6,null,null,null,null,""]
[{"$f":"ScoresEntry!A24","v":20},null,null," ",null,null,null,null,null,null,7,null,null,null,null,""]
[21,null,null," ",null,null,null,null,null,null,8,null,null,null,null,""]
[22,null,null," ",null,null,null,null,null,null,9,null,null,null,null,""]
[23,null,null," ",null,null,null,null,null,null,10,null,null,null,null,""]
[24,null,null," "]
[25,null,null," ",null,null,null,null,null,null,"NO SHOWS"]
[26,null,null," ",null,null,null,null,null,null,"No","SHOOTER","CPF&G","DATE","PAID","RELEASE"]
[27,null,null," ",null,null,null,null,null,null,1]
[28,null,null," ",null,null,null,null,null,null,2]
[29,null,null," ",null,null,null,null,null,null,3]
[30,null,null," ",null,null,null,null,null,null,4]
[31,null,null," ",null,null,null,null,null,null,5]
[32,null,null," ",null,null,null,null,null,null,6]
[33,null,null," ",null,null,null,null,null,null,7]
[34,null,null," ",null,null,null,null,null,null,8]
[35,null,null," ",null,null,null,null,null,null,9]
[36,null,null," ",null,null,null,null,null,null,10]
[37,null,null," "]
[38,null,null," "]
[39,null,null," "]
[40,null,null," "]
[41,null,null," "]
[42,null,null," "]

{"sheet":"Squads","index":1,"n_rows":23,"n_cols":20,"rows_kept":23,"cut":false,"hidden":false,"merged":[[0,16,0,19],[0,0,0,14]]}
["CHECK-IN LIST",null,null,null,null,null,null,null,null,null,null,null,null,null,null,null,"SQUAD ASSIGNMENTS"]
["#","SHOOTER","CPFGC","CHKD IN","RELEASE","AMMO CHK","TOUR",null,"#","SHOOTER","CPFGC","CHKD IN","RELEASE","AMMO CHK","TOUR",null,null,"SQUAD 1\nSTARTING ON STAGE 1","SQUAD 2\nSTARTING ON STAGE 2","SQUAD 3\nSTARTING ON STAGE 3"]
[1,{"$f":"IF(ShooterList!D4=\"\",\"\",ShooterList!D4)","v":" "},{"$f":"IF(ShooterList!E4=\"\",\"\",ShooterList!E4)","v":""},null,{"$f":"IF(ShooterList!H4=\"\",\"\",ShooterList!H4)","v":""},null,{"$f":"IF(ShooterList!I4=\"\",\"\",ShooterList!I4)","v":""},null,22,{"$f":"IF(ShooterList!D25=\"\",\"\",ShooterList!D25)","v":" "},{"$f":"IF(ShooterList!E25=\"\",\"\",ShooterList!E25)","v":""},null,{"$f":"IF(ShooterList!H25=\"\",\"\",ShooterList!H25)","v":""},null,{"$f":"IF(ShooterList!I25=\"\",\"\",ShooterList!I25)","v":""},null,1]
[2,{"$f":"IF(ShooterList!D5=\"\",\"\",ShooterList!D5)","v":" "},{"$f":"IF(ShooterList!E5=\"\",\"\",ShooterList!E5)","v":""},null,{"$f":"IF(ShooterList!H5=\"\",\"\",ShooterList!H5)","v":""},null,{"$f":"IF(ShooterList!I5=\"\",\"\",ShooterList!I5)","v":""},null,23,{"$f":"IF(ShooterList!D26=\"\",\"\",ShooterList!D26)","v":" "},{"$f":"IF(ShooterList!E26=\"\",\"\",ShooterList!E26)","v":""},null,{"$f":"IF(ShooterList!H26=\"\",\"\",ShooterList!H26)","v":""},null,{"$f":"IF(ShooterList!I26=\"\",\"\",ShooterList!I26)","v":""},null,2]
[3,{"$f":"IF(ShooterList!D6=\"\",\"\",ShooterList!D6)","v":" "},{"$f":"IF(ShooterList!E6=\"\",\"\",ShooterList!E6)","v":""},null,{"$f":"IF(ShooterList!H6=\"\",\"\",ShooterList!H6)","v":""},null,{"$f":"IF(ShooterList!I6=\"\",\"\",ShooterList!I6)","v":""},null,24,{"$f":"IF(ShooterList!D27=\"\",\"\",ShooterList!D27)","v":" "},{"$f":"IF(ShooterList!E27=\"\",\"\",ShooterList!E27)","v":""},null,{"$f":"IF(ShooterList!H27=\"\",\"\",ShooterList!H27)","v":""},null,{"$f":"IF(ShooterList!I27=\"\",\"\",ShooterList!I27)","v":""},null,3]
[4,{"$f":"IF(ShooterList!D7=\"\",\"\",ShooterList!D7)","v":" "},{"$f":"IF(ShooterList!E7=\"\",\"\",ShooterList!E7)","v":""},null,{"$f":"IF(ShooterList!H7=\"\",\"\",ShooterList!H7)","v":""},null,{"$f":"IF(ShooterList!I7=\"\",\"\",ShooterList!I7)","v":""},null,25,{"$f":"IF(ShooterList!D28=\"\",\"\",ShooterList!D28)","v":" "},{"$f":"IF(ShooterList!E28=\"\",\"\",ShooterList!E28)","v":""},null,{"$f":"IF(ShooterList!H28=\"\",\"\",ShooterList!H28)","v":""},null,{"$f":"IF(ShooterList!I28=\"\",\"\",ShooterList!I28)","v":""},null,4]
[5,{"$f":"IF(ShooterList!D8=\"\",\"\",ShooterList!D8)","v":" "},{"$f":"IF(ShooterList!E8=\"\",\"\",ShooterList!E8)","v":""},null,{"$f":"IF(ShooterList!H8=\"\",\"\",ShooterList!H8)","v":""},null,{"$f":"IF(ShooterList!I8=\"\",\"\",ShooterList!I8)","v":""},null,26,{"$f":"IF(ShooterList!D29=\"\",\"\",ShooterList!D29)","v":" "},{"$f":"IF(ShooterList!E29=\"\",\"\",ShooterList!E29)","v":""},null,{"$f":"IF(ShooterList!H29=\"\",\"\",ShooterList!H29)","v":""},null,{"$f":"IF(ShooterList!I29=\"\",\"\",ShooterList!I29)","v":""},null,5]
[6,{"$f":"IF(ShooterList!D9=\"\",\"\",ShooterList!D9)","v":" "},{"$f":"IF(ShooterList!E9=\"\",\"\",ShooterList!E9)","v":""},null,{"$f":"IF(ShooterList!H9=\"\",\"\",ShooterList!H9)","v":""},null,{"$f":"IF(ShooterList!I9=\"\",\"\",ShooterList!I9)","v":""},null,27,{"$f":"IF(ShooterList!D30=\"\",\"\",ShooterList!D30)","v":" "},{"$f":"IF(ShooterList!E30=\"\",\"\",ShooterList!E30)","v":""},null,{"$f":"IF(ShooterList!H30=\"\",\"\",ShooterList!H30)","v":""},null,{"$f":"IF(ShooterList!I30=\"\",\"\",ShooterList!I30)","v":""},null,6]
[7,{"$f":"IF(ShooterList!D10=\"\",\"\",ShooterList!D10)","v":" "},{"$f":"IF(ShooterList!E10=\"\",\"\",ShooterList!E10)","v":""},null,{"$f":"IF(ShooterList!H10=\"\",\"\",ShooterList!H10)","v":""},null,{"$f":"IF(ShooterList!I10=\"\",\"\",ShooterList!I10)","v":""},null,28,{"$f":"IF(ShooterList!D31=\"\",\"\",ShooterList!D31)","v":" "},{"$f":"IF(ShooterList!E31=\"\",\"\",ShooterList!E31)","v":""},null,{"$f":"IF(ShooterList!H31=\"\",\"\",ShooterList!H31)","v":""},null,{"$f":"IF(ShooterList!I31=\"\",\"\",ShooterList!I31)","v":""},null,7]
[8,{"$f":"IF(ShooterList!D11=\"\",\"\",ShooterList!D11)","v":" "},{"$f":"IF(ShooterList!E11=\"\",\"\",ShooterList!E11)","v":""},null,{"$f":"IF(ShooterList!H11=\"\",\"\",ShooterList!H11)","v":""},null,{"$f":"IF(ShooterList!I11=\"\",\"\",ShooterList!I11)","v":""},null,29,{"$f":"IF(ShooterList!D32=\"\",\"\",ShooterList!D32)","v":" "},{"$f":"IF(ShooterList!E32=\"\",\"\",ShooterList!E32)","v":""},null,{"$f":"IF(ShooterList!H32=\"\",\"\",ShooterList!H32)","v":""},null,{"$f":"IF(ShooterList!I32=\"\",\"\",ShooterList!I32)","v":""},null,8]
[9,{"$f":"IF(ShooterList!D12=\"\",\"\",ShooterList!D12)","v":" "},{"$f":"IF(ShooterList!E12=\"\",\"\",ShooterList!E12)","v":""},null,{"$f":"IF(ShooterList!H12=\"\",\"\",ShooterList!H12)","v":""},null,{"$f":"IF(ShooterList!I12=\"\",\"\",ShooterList!I12)","v":""},null,30,{"$f":"IF(ShooterList!D33=\"\",\"\",ShooterList!D33)","v":" "},{"$f":"IF(ShooterList!E33=\"\",\"\",ShooterList!E33)","v":""},null,{"$f":"IF(ShooterList!H33=\"\",\"\",ShooterList!H33)","v":""},null,{"$f":"IF(ShooterList!I33=\"\",\"\",ShooterList!I33)","v":""},null,9]
[10,{"$f":"IF(ShooterList!D13=\"\",\"\",ShooterList!D13)","v":" "},{"$f":"IF(ShooterList!E13=\"\",\"\",ShooterList!E13)","v":""},null,{"$f":"IF(ShooterList!H13=\"\",\"\",ShooterList!H13)","v":""},null,{"$f":"IF(ShooterList!I13=\"\",\"\",ShooterList!I13)","v":""},null,31,{"$f":"IF(ShooterList!D34=\"\",\"\",ShooterList!D34)","v":" "},{"$f":"IF(ShooterList!E34=\"\",\"\",ShooterList!E34)","v":""},null,{"$f":"IF(ShooterList!H34=\"\",\"\",ShooterList!H34)","v":""},null,{"$f":"IF(ShooterList!I34=\"\",\"\",ShooterList!I34)","v":""},null,10]
[11,{"$f":"IF(ShooterList!D14=\"\",\"\",ShooterList!D14)","v":" "},{"$f":"IF(ShooterList!E14=\"\",\"\",ShooterList!E14)","v":""},null,{"$f":"IF(ShooterList!H14=\"\",\"\",ShooterList!H14)","v":""},null,{"$f":"IF(ShooterList!I14=\"\",\"\",ShooterList!I14)","v":""},null,32,{"$f":"IF(ShooterList!D35=\"\",\"\",ShooterList!D35)","v":" "},{"$f":"IF(ShooterList!E35=\"\",\"\",ShooterList!E35)","v":""},null,{"$f":"IF(ShooterList!H35=\"\",\"\",ShooterList!H35)","v":""},null,{"$f":"IF(ShooterList!I35=\"\",\"\",ShooterList!I35)","v":""},null,11]
[12,{"$f":"IF(ShooterList!D15=\"\",\"\",ShooterList!D15)","v":" "},{"$f":"IF(ShooterList!E15=\"\",\"\",ShooterList!E15)","v":""},null,{"$f":"IF(ShooterList!H15=\"\",\"\",ShooterList!H15)","v":""},null,{"$f":"IF(ShooterList!I15=\"\",\"\",ShooterList!I15)","v":""},null,33,{"$f":"IF(ShooterList!D36=\"\",\"\",ShooterList!D36)","v":" "},{"$f":"IF(ShooterList!E36=\"\",\"\",ShooterList!E36)","v":""},null,{"$f":"IF(ShooterList!H36=\"\",\"\",ShooterList!H36)","v":""},null,{"$f":"IF(ShooterList!I36=\"\",\"\",ShooterList!I36)","v":""},null,12]
[13,{"$f":"IF(ShooterList!D16=\"\",\"\",ShooterList!D16)","v":" "},{"$f":"IF(ShooterList!E16=\"\",\"\",ShooterList!E16)","v":""},null,{"$f":"IF(ShooterList!H16=\"\",\"\",ShooterList!H16)","v":""},null,{"$f":"IF(ShooterList!I16=\"\",\"\",ShooterList!I16)","v":""},null,34,{"$f":"IF(ShooterList!D37=\"\",\"\",ShooterList!D37)","v":" "},{"$f":"IF(ShooterList!E37=\"\",\"\",ShooterList!E37)","v":""},null,{"$f":"IF(ShooterList!H37=\"\",\"\",ShooterList!H37)","v":""},null,{"$f":"IF(ShooterList!I37=\"\",\"\",ShooterList!I37)","v":""},null,13]
[14,{"$f":"IF(ShooterList!D17=\"\",\"\",ShooterList!D17)","v":" "},{"$f":"IF(ShooterList!E17=\"\",\"\",ShooterList!E17)","v":""},null,{"$f":"IF(ShooterList!H17=\"\",\"\",ShooterList!H17)","v":""},null,{"$f":"IF(ShooterList!I17=\"\",\"\",ShooterList!I17)","v":""},null,35,{"$f":"IF(ShooterList!D38=\"\",\"\",ShooterList!D38)","v":" "},{"$f":"IF(ShooterList!E38=\"\",\"\",ShooterList!E38)","v":""},null,{"$f":"IF(ShooterList!H38=\"\",\"\",ShooterList!H38)","v":""},null,{"$f":"IF(ShooterList!I38=\"\",\"\",ShooterList!I38)","v":""},null,14]
[15,{"$f":"IF(ShooterList!D18=\"\",\"\",ShooterList!D18)","v":" "},{"$f":"IF(ShooterList!E18=\"\",\"\",ShooterList!E18)","v":""},null,{"$f":"IF(ShooterList!H18=\"\",\"\",ShooterList!H18)","v":""},null,{"$f":"IF(ShooterList!I18=\"\",\"\",ShooterList!I18)","v":""},null,36,{"$f":"IF(ShooterList!D39=\"\",\"\",ShooterList!D39)","v":" "},{"$f":"IF(ShooterList!E39=\"\",\"\",ShooterList!E39)","v":""},null,{"$f":"IF(ShooterList!H39=\"\",\"\",ShooterList!H39)","v":""},null,{"$f":"IF(ShooterList!I39=\"\",\"\",ShooterList!I39)","v":""}]
[16,{"$f":"IF(ShooterList!D19=\"\",\"\",ShooterList!D19)","v":" "},{"$f":"IF(ShooterList!E19=\"\",\"\",ShooterList!E19)","v":""},null,{"$f":"IF(ShooterList!H19=\"\",\"\",ShooterList!H19)","v":""},null,{"$f":"IF(ShooterList!I19=\"\",\"\",ShooterList!I19)","v":""},null,37,{"$f":"IF(ShooterList!D40=\"\",\"\",ShooterList!D40)","v":" "},{"$f":"IF(ShooterList!E40=\"\",\"\",ShooterList!E40)","v":""},null,{"$f":"IF(ShooterList!H40=\"\",\"\",ShooterList!H40)","v":""},null,{"$f":"IF(ShooterList!I40=\"\",\"\",ShooterList!I40)","v":""}]
[17,{"$f":"IF(ShooterList!D20=\"\",\"\",ShooterList!D20)","v":" "},{"$f":"IF(ShooterList!E20=\"\",\"\",ShooterList!E20)","v":""},null,{"$f":"IF(ShooterList!H20=\"\",\"\",ShooterList!H20)","v":""},null,{"$f":"IF(ShooterList!I20=\"\",\"\",ShooterList!I20)","v":""},null,38,{"$f":"IF(ShooterList!D41=\"\",\"\",ShooterList!D41)","v":" "},{"$f":"IF(ShooterList!E41=\"\",\"\",ShooterList!E41)","v":""},null,{"$f":"IF(ShooterList!H41=\"\",\"\",ShooterList!H41)","v":""},null,{"$f":"IF(ShooterList!I41=\"\",\"\",ShooterList!I41)","v":""}]
[18,{"$f":"IF(ShooterList!D21=\"\",\"\",ShooterList!D21)","v":" "},{"$f":"IF(ShooterList!E21=\"\",\"\",ShooterList!E21)","v":""},null,{"$f":"IF(ShooterList!H21=\"\",\"\",ShooterList!H21)","v":""},null,{"$f":"IF(ShooterList!I21=\"\",\"\",ShooterList!I21)","v":""},null,39,{"$f":"IF(ShooterList!D42=\"\",\"\",ShooterList!D42)","v":" "},{"$f":"IF(ShooterList!E42=\"\",\"\",ShooterList!E42)","v":""},null,{"$f":"IF(ShooterList!H42=\"\",\"\",ShooterList!H42)","v":""},null,{"$f":"IF(ShooterList!I42=\"\",\"\",ShooterList!I42)","v":""}]
[19,{"$f":"IF(ShooterList!D22=\"\",\"\",ShooterList!D22)","v":" "},{"$f":"IF(ShooterList!E22=\"\",\"\",ShooterList!E22)","v":""},null,{"$f":"IF(ShooterList!H22=\"\",\"\",ShooterList!H22)","v":""},null,{"$f":"IF(ShooterList!I22=\"\",\"\",ShooterList!I22)","v":""},null,40,{"$f":"IF(ShooterList!D43=\"\",\"\",ShooterList!D43)","v":" "},{"$f":"IF(ShooterList!E43=\"\",\"\",ShooterList!E43)","v":""},null,{"$f":"IF(ShooterList!H43=\"\",\"\",ShooterList!H43)","v":""},null,{"$f":"IF(ShooterList!I43=\"\",\"\",ShooterList!I43)","v":""}]
[20,{"$f":"IF(ShooterList!D23=\"\",\"\",ShooterList!D23)","v":" "},{"$f":"IF(ShooterList!E23=\"\",\"\",ShooterList!E23)","v":""},null,{"$f":"IF(ShooterList!H23=\"\",\"\",ShooterList!H23)","v":""},null,{"$f":"IF(ShooterList!I23=\"\",\"\",ShooterList!I23)","v":""},null,41,{"$f":"IF(ShooterList!D44=\"\",\"\",ShooterList!D44)","v":" "},{"$f":"IF(ShooterList!E44=\"\",\"\",ShooterList!E44)","v":""},null,{"$f":"IF(ShooterList!H44=\"\",\"\",ShooterList!H44)","v":""},null,{"$f":"IF(ShooterList!I44=\"\",\"\",ShooterList!I44)","v":""}]
[21,{"$f":"IF(ShooterList!D24=\"\",\"\",ShooterList!D24)","v":" "},{"$f":"IF(ShooterList!E24=\"\",\"\",ShooterList!E24)","v":""},null,{"$f":"IF(ShooterList!H24=\"\",\"\",ShooterList!H24)","v":""},null,{"$f":"IF(ShooterList!I24=\"\",\"\",ShooterList!I24)","v":""},null,42,{"$f":"IF(ShooterList!D45=\"\",\"\",ShooterList!D45)","v":" "},{"$f":"IF(ShooterList!E45=\"\",\"\",ShooterList!E45)","v":""},null,{"$f":"IF(ShooterList!H45=\"\",\"\",ShooterList!H45)","v":""},null,{"$f":"IF(ShooterList!I45=\"\",\"\",ShooterList!I45)","v":""}]

{"sheet":"ScoresEntry","index":2,"n_rows":48,"n_cols":27,"rows_kept":48,"cut":false,"hidden":false,"merged":[[1,15,1,16],[2,15,2,16],[1,0,3,1],[0,2,0,5],[2,5,2,6],[1,5,1,6],[1,10,1,11],[2,10,2,11],[0,7,0,11],[1,2,2,3],[1,7,2,8],[1,12,2,13]]}
[null,"3-Gun Match",{"$f":"ShooterList!$G$2","v":"DATE"},null,null,null,null,null,null,null,null,null,null,null,null,null,{"$f":"MID(CELL(\"filename\"),SEARCH(\"[\",CELL(\"filename\"))+1,SEARCH(\"]\",CELL(\"filename\"))-SEARCH(\"[\",CELL(\"filename\"))-1)","v":"3gun.xlsm"}]
["SHOOTER",null,"STAGE 1",null,{"$f":"W7","v":0},"TARGETS",null,"STAGE 2",null,{"$f":"X7","v":0},"TARGETS",null,"STAGE 3",null,{"$f":"Y7","v":0},"TARGETS"]
[null,null,null,null,{"$f":"W9","v":0},"PAR",null,null,null,{"$f":"X9","v":0},"PAR",null,null,null,{"$f":"Y9","v":0},"PAR"]
[null,null,"RAW TIME","MISS","F2N","TNE","PCE","RAW TIME","MISS","F2N","TNE","PCE","RAW TIME","MISS","F2N","TNE","PCE",null,"RANK","PTS",null,null,"STAGE 1","STAGE 2","STAGE 3"]
[1,{"$f":"IF(ShooterList!D4=\"\",\"\",ShooterList!D4)","v":" "},null,null,null,null,null,null,null,null,null,null,null,null,null,null,null,null,1,{"$f":"ShooterList!$R$6","v":0},null,"GUNS"]
[2,{"$f":"IF(ShooterList!D5=\"\",\"\",ShooterList!D5)","v":" "},null,null,null,null,null,null,null,null,null,null,null,null,null,null,null,null,2,{"$f":"IF(T5-1<0,0,T5-1)","v":0},null,"RELOADS"]
[3,{"$f":"IF(ShooterList!D6=\"\",\"\",ShooterList!D6)","v":" "},null,null,null,null,null,null,null,null,null,null,null,null,null,null,null,null,3,{"$f":"IF(T6-1<0,0,T6-1)","v":0},null,"TARGETS"]
[4,{"$f":"IF(ShooterList!D7=\"\",\"\",ShooterList!D7)","v":" "},null,null,null,null,null,null,null,null,null,null,null,null,null,null,null,null,4,0,null,"LONG-RANGE"]
[5,{"$f":"IF(ShooterList!D8=\"\",\"\",ShooterList!D8)","v":" "},null,null,null,null,null,null,null,null,null,null,null,null,null,null,null,null,5,0,null,"PAR",{"$f":"ROUNDUP(((W5*5)+(W6*5)+(W7*4)+(W8*4))*1.1,-1)","v":0},{"$f":"ROUNDUP(((X5*5)+(X6*5)+(X7*4)+(X8*4))*1.1,-1)","v":0},0,null,"=ROUNDUP(((W5*5)+(W6*5)+(W7*4)+(W8*4))*1.1,-1)"]
[6,{"$f":"IF(ShooterList!D9=\"\",\"\",ShooterList!D9)","v":" "},null,null,null,null,null,null,null,null,null,null,null,null,null,null,null,null,6,0,null,"FTE",{"$f":"W7*15","v":0},{"$f":"X7*15","v":0},0]
[7,{"$f":"IF(ShooterList!D10=\"\",\"\",ShooterList!D10)","v":" "},null,null,null,null,null,null,null,null,null,null,null,null,null,null,null,null,7,0]
[8,{"$f":"IF(ShooterList!D11=\"\",\"\",ShooterList!D11)","v":" "},null,null,null,null,null,null,null,null,null,null,null,null,null,null,null,null,8,0]
[9,{"$f":"IF(ShooterList!D12=\"\",\"\",ShooterList!D12)","v":" "},null,null,null,null,null,null,null,null,null,null,null,null,null,null,null,null,9,0]
[10,{"$f":"IF(ShooterList!D13=\"\",\"\",ShooterList!D13)","v":" "},null,null,null,null,null,null,null,null,null,null,null,null,null,null,null,null,10,0]
[11,{"$f":"IF(ShooterList!D14=\"\",\"\",ShooterList!D14)","v":" "},null,null,null,null,null,null,null,null,null,null,null,null,null,null,null,null,11,0]
[12,{"$f":"IF(ShooterList!D15=\"\",\"\",ShooterList!D15)","v":" "},null,null,null,null,null,null,null,null,null,null,null,null,null,null,null,null,12,0]
[13,{"$f":"IF(ShooterList!D16=\"\",\"\",ShooterList!D16)","v":" "},null,null,null,null,null,null,null,null,null,null,null,null,null,null,null,null,13,0]
[14,{"$f":"IF(ShooterList!D17=\"\",\"\",ShooterList!D17)","v":" "},null,null,null,null,null,null,null,null,null,null,null,null,null,null,null,null,14,0]
[15,{"$f":"IF(ShooterList!D18=\"\",\"\",ShooterList!D18)","v":" "},null,null,null,null,null,null,null,null,null,null,null,null,null,null,null,null,15,0]
[16,{"$f":"IF(ShooterList!D19=\"\",\"\",ShooterList!D19)","v":" "},null,null,null,null,null,null,null,null,null,null,null,null,null,null,null,null,16,0]
[17,{"$f":"IF(ShooterList!D20=\"\",\"\",ShooterList!D20)","v":" "},null,null,null,null,null,null,null,null,null,null,null,null,null,null,null,null,17,0]
[18,{"$f":"IF(ShooterList!D21=\"\",\"\",ShooterList!D21)","v":" "},null,null,null,null,null,null,null,null,null,null,null,null,null,null,null,null,18,0]
[19,{"$f":"IF(ShooterList!D22=\"\",\"\",ShooterList!D22)","v":" "},null,null,null,null,null,null,null,null,null,null,null,null,null,null,null,null,19,0]
[20,{"$f":"IF(ShooterList!D23=\"\",\"\",ShooterList!D23)","v":" "},null,null,null,null,null,null,null,null,null,null,null,null,null,null,null,null,20,0]
[21,{"$f":"IF(ShooterList!D24=\"\",\"\",ShooterList!D24)","v":" "},null,null,null,null,null,null,null,null,null,null,null,null,null,null,null,null,21,0]
[22,{"$f":"IF(ShooterList!D25=\"\",\"\",ShooterList!D25)","v":" "},null,null,null,null,null,null,null,null,null,null,null,null,null,null,null,null,22,0]
[23,{"$f":"IF(ShooterList!D26=\"\",\"\",ShooterList!D26)","v":" "},null,null,null,null,null,null,null,null,null,null,null,null,null,null,null,null,23,0]
[24,{"$f":"IF(ShooterList!D27=\"\",\"\",ShooterList!D27)","v":" "},null,null,null,null,null,null,null,null,null,null,null,null,null,null,null,null,24,0]
[25,{"$f":"IF(ShooterList!D28=\"\",\"\",ShooterList!D28)","v":" "},null,null,null,null,null,null,null,null,null,null,null,null,null,null,null,null,25,0]
[26,{"$f":"IF(ShooterList!D29=\"\",\"\",ShooterList!D29)","v":" "},null,null,null,null,null,null,null,null,null,null,null,null,null,null,null,null,26,0]
[27,{"$f":"IF(ShooterList!D30=\"\",\"\",ShooterList!D30)","v":" "},null,null,null,null,null,null,null,null,null,null,null,null,null,null,null,null,27,0]
[28,{"$f":"IF(ShooterList!D31=\"\",\"\",ShooterList!D31)","v":" "},null,null,null,null,null,null,null,null,null,null,null,null,null,null,null,null,28,0]
[29,{"$f":"IF(ShooterList!D32=\"\",\"\",ShooterList!D32)","v":" "},null,null,null,null,null,null,null,null,null,null,null,null,null,null,null,null,29,0]
[30,{"$f":"IF(ShooterList!D33=\"\",\"\",ShooterList!D33)","v":" "},null,null,null,null,null,null,null,null,null,null,null,null,null,null,null,null,30,0]
[31,{"$f":"IF(ShooterList!D34=\"\",\"\",ShooterList!D34)","v":" "},null,null,null,null,null,null,null,null,null,null,null,null,null,null,null,null,31,0]
[32,{"$f":"IF(ShooterList!D35=\"\",\"\",ShooterList!D35)","v":" "},null,null,null,null,null,null,null,null,null,null,null,null,null,null,null,null,32,0]
[33,{"$f":"IF(ShooterList!D36=\"\",\"\",ShooterList!D36)","v":" "},null,null,null,null,null,null,null,null,null,null,null,null,null,null,null,null,33,0]
[34,{"$f":"IF(ShooterList!D37=\"\",\"\",ShooterList!D37)","v":" "},null,null,null,null,null,null,null,null,null,null,null,null,null,null,null,null,34,0]
[35,{"$f":"IF(ShooterList!D38=\"\",\"\",ShooterList!D38)","v":" "},null,null,null,null,null,null,null,null,null,null,null,null,null,null,null,null,35,0]
[36,{"$f":"IF(ShooterList!D39=\"\",\"\",ShooterList!D39)","v":" "},null,null,null,null,null,null,null,null,null,null,null,null,null,null,null,null,36,0]
[37,{"$f":"IF(ShooterList!D40=\"\",\"\",ShooterList!D40)","v":" "},null,null,null,null,null,null,null,null,null,null,null,null,null,null,null,null,37,0]
[38,{"$f":"IF(ShooterList!D41=\"\",\"\",ShooterList!D41)","v":" "},null,null,null,null,null,null,null,null,null,null,null,null,null,null,null,null,38,0]
[39,{"$f":"IF(ShooterList!D42=\"\",\"\",ShooterList!D42)","v":" "},null,null,null,null,null,null,null,null,null,null,null,null,null,null,null,null,39,0]
[40,{"$f":"IF(ShooterList!D43=\"\",\"\",ShooterList!D43)","v":" "},null,null,null,null,null,null,null,null,null,null,null,null,null,null,null,null,40,0]
[41,{"$f":"IF(ShooterList!D44=\"\",\"\",ShooterList!D44)","v":" "},null,null,null,null,null,null,null,null,null,null,null,null,null,null,null,null,41,0]
[42,{"$f":"IF(ShooterList!D45=\"\",\"\",ShooterList!D45)","v":" "},null,null,null,null,null,null,null,null,null,null,null,null,null,null,null,null,42,0]
[]
[null,"AVERAGES ",{"$f":"IFERROR(AVERAGEIF(C9:C47,\"<900\"),\"\")","v":""},null,null,null,null,{"$f":"IFERROR(AVERAGEIF(H9:H47,\"<900\"),\"\")","v":""},null,null,null,null,{"$f":"IFERROR(AVERAGEIF(M9:M47,\"<900\"),\"\")","v":""}]

{"sheet":"SORT","index":3,"n_rows":46,"n_cols":41,"rows_kept":46,"cut":false,"hidden":false,"merged":[[1,10,1,12],[1,20,1,22],[0,0,0,1],[0,3,0,4],[1,0,1,2],[1,3,1,7],[1,13,1,17],[0,9,0,13],[0,35,0,37],[1,30,1,32],[1,23,1,27],[1,37,1,40],[1,33,1,36]]}
["SORT Sheet",null,null,{"$f":"ShooterList!$G$2","v":"DATE"},null,null,null,null,"Sorted by","Shooter Number",null,null,null,null,null,null,null,null,null,null,null,null,null,null,null,null,null,null,null,null,null,null,null,null,null,{"$f":"MID(CELL(\"filename\"),SEARCH(\"[\",CELL(\"filename\"))+1,SEARCH(\"]\",CELL(\"filename\"))-SEARCH(\"[\",CELL(\"filename\"))-1)","v":"3gun.xlsm"}]
["SHOOTER",null,null,"STAGE 1",null,null,null,null,33,"TARGETS","TOUR 1",null,null,"STAGE 2",null,null,null,null,15,"TARGETS","TOUR 2",null,null,"STAGE 3",null,null,null,null,28,"TARGETS","TOUR 3",null,null,"MATCH TTLS",null,null,null,"TOUR TTLS"]
[]
["#","SHOOTER","TOUR","TIME 1","MISS 1","F2N 1","TNE 1","PCE 1","NET 1","RANK 1","TTIME 1","TRANK 1","PTS 1","TIME 2","MISS 2","F2N 2","TNE 2","PCE 2","NET 2","RANK 2","TTIME 2","TRANK 2","PTS 2","TIME 3","MISS 3","F2N 3","TNE 3","PCE 3","NET 3","RANK 3","TTIME 3","TRANK 3","PTS 3","RAW TIME","PENALTIES","NET","RANK","PTS",null,"RANK","PTS"]
[{"$f":"IF(ScoresEntry!A5=\"\",\"\",ScoresEntry!A5)","v":1},{"$f":"IF(ScoresEntry!$B5=\"\",\"\",ScoresEntry!$B5)","v":" "},{"$f":"IF(ShooterList!I4=0,\"\",ShooterList!I4)","v":""},{"$f":"IF(ScoresEntry!$B5=\"\",0,IF(ScoresEntry!C5=\"SNF\",ScoresEntry!$E$2*15,IF(ScoresEntry!C5=\"SDQ\",990,IF(ScoresEntry!C5=\"MDQ\",999,ScoresEntry!C5))))","v":0},{"$f":"IF(ScoresEntry!$B5=\"\",0,ScoresEntry!D5)","v":0},{"$f":"IF(ScoresEntry!$B5=\"\",0,ScoresEntry!E5)","v":0},{"$f":"IF(ScoresEntry!$B5=\"\",0,ScoresEntry!F5)","v":0},{"$f":"IF(ScoresEntry!$B5=\"\",0,ScoresEntry!G5)","v":0},{"$f":"IF($B5=\"\",\"\",D5+(E5*10)+(F5*5)+(G5*15)+(H5*10))","v":0},{"$f":"IF(OR(I5=0,I5=\"\"),0,_xlfn.RANK.EQ(I5,I$5:I$46,1))","v":0},{"$f":"IF($C5=\"\",\"\",I5)","v":""},{"$f":"IF(OR(K5=0,K5=\"\"),\"\",_xlfn.RANK.EQ(K5,K$5:K$46,1))","v":""},{"$f":"IFERROR(IF($C5=\"\",\"\",$AO$5+1-L5),0)","v":""},{"$f":"IF(ScoresEntry!$B5=\"\",0,IF(ScoresEntry!H5=\"SNF\",ScoresEntry!$J$2*15,IF(ScoresEntry!H5=\"SDQ\",990,IF(ScoresEntry!H5=\"MDQ\",999,ScoresEntry!H5))))","v":0},{"$f":"IF(ScoresEntry!$B5=\"\",0,ScoresEntry!I5)","v":0},{"$f":"IF(ScoresEntry!$B5=\"\",0,ScoresEntry!J5)","v":0},{"$f":"IF(ScoresEntry!$B5=\"\",0,ScoresEntry!K5)","v":0},{"$f":"IF(ScoresEntry!$B5=\"\",0,ScoresEntry!L5)","v":0},{"$f":"IF($B5=\"\",\"\",N5+(O5*10)+(P5*5)+(Q5*15)+(R5*10))","v":0},{"$f":"IF(OR(S5=0,S5=\"\"),0,_xlfn.RANK.EQ(S5,S$5:S$46,1))","v":0},{"$f":"IF($C5=\"\",\"\",S5)","v":""},{"$f":"IF(OR(U5=0,U5=\"\"),\"\",_xlfn.RANK.EQ(U5,U$5:U$46,1))","v":""},{"$f":"IFERROR(IF($C5=\"\",\"\",$AO$5+1-V5),0)","v":""},{"$f":"IF(ScoresEntry!$B5=\"\",0,IF(ScoresEntry!M5=\"SNF\",ScoresEntry!$O$2*15,IF(ScoresEntry!M5=\"SDQ\",990,IF(ScoresEntry!M5=\"MDQ\",999,ScoresEntry!M5))))","v":0},{"$f":"IF(ScoresEntry!$B5=\"\",0,ScoresEntry!N5)","v":0},{"$f":"IF(ScoresEntry!$B5=\"\",0,ScoresEntry!O5)","v":0},{"$f":"IF(ScoresEntry!$B5=\"\",0,ScoresEntry!P5)","v":0},{"$f":"IF(ScoresEntry!$B5=\"\",0,ScoresEntry!Q5)","v":0},{"$f":"IF($B5=\"\",\"\",X5+(Y5*10)+(Z5*5)+(AA5*15)+(AB5*10))","v":0},{"$f":"IF(OR(AC5=0,AC5=\"\"),0,_xlfn.RANK.EQ(AC5,AC$5:AC$46,1))","v":0},{"$f":"IF($C5=\"\",\"\",AC5)","v":""},{"$f":"IF(OR(AE5=0,AE5=\"\"),\"\",_xlfn.RANK.EQ(AE5,AE$5:AE$46,1))","v":""},{"$f":"IFERROR(IF($C5=\"\",\"\",$AO$5+1-AF5),0)","v":""},{"$f":"IF(B5=\"\",\"\",D5+N5+X5)","v":0},{"$f":"(10*(E5+O5+Y5))+(5*(F5+P5+Z5))+(15*(G5+Q5+AA5))+(10*(H5+R5+AB5))","v":0},{"$f":"IF($B5=\"\",\"\",AH5+AI5)","v":0},{"$f":"IF(OR(AJ5=0,AJ5=\"\"),0,_xlfn.RANK.EQ(AJ5,AJ$5:AJ$46,1))","v":0},{"$f":"IF($C5=\"\",\"\",IF(AND(M5=0,AG5=0),0,M5+W5+AG5))","v":""},null,1,{"$f":"ScoresEntry!T5","v":0}]
[{"$f":"IF(ScoresEntry!A6=\"\",\"\",ScoresEntry!A6)","v":2},{"$f":"IF(ScoresEntry!$B6=\"\",\"\",ScoresEntry!$B6)","v":" "},{"$f":"IF(ShooterList!I5=0,\"\",ShooterList!I5)","v":""},{"$f":"IF(ScoresEntry!$B6=\"\",0,IF(ScoresEntry!C6=\"SNF\",ScoresEntry!$E$2*15,IF(ScoresEntry!C6=\"SDQ\",990,IF(ScoresEntry!C6=\"MDQ\",999,ScoresEntry!C6))))","v":0},{"$f":"IF(ScoresEntry!$B6=\"\",0,ScoresEntry!D6)","v":0},{"$f":"IF(ScoresEntry!$B6=\"\",0,ScoresEntry!E6)","v":0},{"$f":"IF(ScoresEntry!$B6=\"\",0,ScoresEntry!F6)","v":0},{"$f":"IF(ScoresEntry!$B6=\"\",0,ScoresEntry!G6)","v":0},0,0,"","","",{"$f":"IF(ScoresEntry!$B6=\"\",0,IF(ScoresEntry!H6=\"SNF\",ScoresEntry!$J$2*15,IF(ScoresEntry!H6=\"SDQ\",990,IF(ScoresEntry!H6=\"MDQ\",999,ScoresEntry!H6))))","v":0},{"$f":"IF(ScoresEntry!$B6=\"\",0,ScoresEntry!I6)","v":0},{"$f":"IF(ScoresEntry!$B6=\"\",0,ScoresEntry!J6)","v":0},{"$f":"IF(ScoresEntry!$B6=\"\",0,ScoresEntry!K6)","v":0},{"$f":"IF(ScoresEntry!$B6=\"\",0,ScoresEntry!L6)","v":0},0,0,"","","",{"$f":"IF(ScoresEntry!$B6=\"\",0,IF(ScoresEntry!M6=\"SNF\",ScoresEntry!$O$2*15,IF(ScoresEntry!M6=\"SDQ\",990,IF(ScoresEntry!M6=\"MDQ\",999,ScoresEntry!M6))))","v":0},{"$f":"IF(ScoresEntry!$B6=\"\",0,ScoresEntry!N6)","v":0},{"$f":"IF(ScoresEntry!$B6=\"\",0,ScoresEntry!O6)","v":0},{"$f":"IF(ScoresEntry!$B6=\"\",0,ScoresEntry!P6)","v":0},{"$f":"IF(ScoresEntry!$B6=\"\",0,ScoresEntry!Q6)","v":0},0,0,"","","",0,0,0,0,"",null,2,{"$f":"ScoresEntry!T6","v":0}]
[{"$f":"IF(ScoresEntry!A7=\"\",\"\",ScoresEntry!A7)","v":3},{"$f":"IF(ScoresEntry!$B7=\"\",\"\",ScoresEntry!$B7)","v":" "},{"$f":"IF(ShooterList!I6=0,\"\",ShooterList!I6)","v":""},{"$f":"IF(ScoresEntry!$B7=\"\",0,IF(ScoresEntry!C7=\"SNF\",ScoresEntry!$E$2*15,IF(ScoresEntry!C7=\"SDQ\",990,IF(ScoresEntry!C7=\"MDQ\",999,ScoresEntry!C7))))","v":0},{"$f":"IF(ScoresEntry!$B7=\"\",0,ScoresEntry!D7)","v":0},{"$f":"IF(ScoresEntry!$B7=\"\",0,ScoresEntry!E7)","v":0},{"$f":"IF(ScoresEntry!$B7=\"\",0,ScoresEntry!F7)","v":0},{"$f":"IF(ScoresEntry!$B7=\"\",0,ScoresEntry!G7)","v":0},0,0,"","","",{"$f":"IF(ScoresEntry!$B7=\"\",0,IF(ScoresEntry!H7=\"SNF\",ScoresEntry!$J$2*15,IF(ScoresEntry!H7=\"SDQ\",990,IF(ScoresEntry!H7=\"MDQ\",999,ScoresEntry!H7))))","v":0},{"$f":"IF(ScoresEntry!$B7=\"\",0,ScoresEntry!I7)","v":0},{"$f":"IF(ScoresEntry!$B7=\"\",0,ScoresEntry!J7)","v":0},{"$f":"IF(ScoresEntry!$B7=\"\",0,ScoresEntry!K7)","v":0},{"$f":"IF(ScoresEntry!$B7=\"\",0,ScoresEntry!L7)","v":0},0,0,"","","",{"$f":"IF(ScoresEntry!$B7=\"\",0,IF(ScoresEntry!M7=\"SNF\",ScoresEntry!$O$2*15,IF(ScoresEntry!M7=\"SDQ\",990,IF(ScoresEntry!M7=\"MDQ\",999,ScoresEntry!M7))))","v":0},{"$f":"IF(ScoresEntry!$B7=\"\",0,ScoresEntry!N7)","v":0},{"$f":"IF(ScoresEntry!$B7=\"\",0,ScoresEntry!O7)","v":0},{"$f":"IF(ScoresEntry!$B7=\"\",0,ScoresEntry!P7)","v":0},{"$f":"IF(ScoresEntry!$B7=\"\",0,ScoresEntry!Q7)","v":0},0,0,"","","",0,0,0,0,"",null,3,{"$f":"ScoresEntry!T7","v":0}]
[{"$f":"IF(ScoresEntry!A8=\"\",\"\",ScoresEntry!A8)","v":4},{"$f":"IF(ScoresEntry!$B8=\"\",\"\",ScoresEntry!$B8)","v":" "},{"$f":"IF(ShooterList!I7=0,\"\",ShooterList!I7)","v":""},{"$f":"IF(ScoresEntry!$B8=\"\",0,IF(ScoresEntry!C8=\"SNF\",ScoresEntry!$E$2*15,IF(ScoresEntry!C8=\"SDQ\",990,IF(ScoresEntry!C8=\"MDQ\",999,ScoresEntry!C8))))","v":0},{"$f":"IF(ScoresEntry!$B8=\"\",0,ScoresEntry!D8)","v":0},{"$f":"IF(ScoresEntry!$B8=\"\",0,ScoresEntry!E8)","v":0},{"$f":"IF(ScoresEntry!$B8=\"\",0,ScoresEntry!F8)","v":0},{"$f":"IF(ScoresEntry!$B8=\"\",0,ScoresEntry!G8)","v":0},0,0,"","","",{"$f":"IF(ScoresEntry!$B8=\"\",0,IF(ScoresEntry!H8=\"SNF\",ScoresEntry!$J$2*15,IF(ScoresEntry!H8=\"SDQ\",990,IF(ScoresEntry!H8=\"MDQ\",999,ScoresEntry!H8))))","v":0},{"$f":"IF(ScoresEntry!$B8=\"\",0,ScoresEntry!I8)","v":0},{"$f":"IF(ScoresEntry!$B8=\"\",0,ScoresEntry!J8)","v":0},{"$f":"IF(ScoresEntry!$B8=\"\",0,ScoresEntry!K8)","v":0},{"$f":"IF(ScoresEntry!$B8=\"\",0,ScoresEntry!L8)","v":0},0,0,"","","",{"$f":"IF(ScoresEntry!$B8=\"\",0,IF(ScoresEntry!M8=\"SNF\",ScoresEntry!$O$2*15,IF(ScoresEntry!M8=\"SDQ\",990,IF(ScoresEntry!M8=\"MDQ\",999,ScoresEntry!M8))))","v":0},{"$f":"IF(ScoresEntry!$B8=\"\",0,ScoresEntry!N8)","v":0},{"$f":"IF(ScoresEntry!$B8=\"\",0,ScoresEntry!O8)","v":0},{"$f":"IF(ScoresEntry!$B8=\"\",0,ScoresEntry!P8)","v":0},{"$f":"IF(ScoresEntry!$B8=\"\",0,ScoresEntry!Q8)","v":0},0,0,"","","",0,0,0,0,"",null,4,{"$f":"ScoresEntry!T8","v":0}]
[{"$f":"IF(ScoresEntry!A9=\"\",\"\",ScoresEntry!A9)","v":5},{"$f":"IF(ScoresEntry!$B9=\"\",\"\",ScoresEntry!$B9)","v":" "},{"$f":"IF(ShooterList!I8=0,\"\",ShooterList!I8)","v":""},{"$f":"IF(ScoresEntry!$B9=\"\",0,IF(ScoresEntry!C9=\"SNF\",ScoresEntry!$E$2*15,IF(ScoresEntry!C9=\"SDQ\",990,IF(ScoresEntry!C9=\"MDQ\",999,ScoresEntry!C9))))","v":0},{"$f":"IF(ScoresEntry!$B9=\"\",0,ScoresEntry!D9)","v":0},{"$f":"IF(ScoresEntry!$B9=\"\",0,ScoresEntry!E9)","v":0},{"$f":"IF(ScoresEntry!$B9=\"\",0,ScoresEntry!F9)","v":0},{"$f":"IF(ScoresEntry!$B9=\"\",0,ScoresEntry!G9)","v":0},0,0,"","","",{"$f":"IF(ScoresEntry!$B9=\"\",0,IF(ScoresEntry!H9=\"SNF\",ScoresEntry!$J$2*15,IF(ScoresEntry!H9=\"SDQ\",990,IF(ScoresEntry!H9=\"MDQ\",999,ScoresEntry!H9))))","v":0},{"$f":"IF(ScoresEntry!$B9=\"\",0,ScoresEntry!I9)","v":0},{"$f":"IF(ScoresEntry!$B9=\"\",0,ScoresEntry!J9)","v":0},{"$f":"IF(ScoresEntry!$B9=\"\",0,ScoresEntry!K9)","v":0},{"$f":"IF(ScoresEntry!$B9=\"\",0,ScoresEntry!L9)","v":0},0,0,"","","",{"$f":"IF(ScoresEntry!$B9=\"\",0,IF(ScoresEntry!M9=\"SNF\",ScoresEntry!$O$2*15,IF(ScoresEntry!M9=\"SDQ\",990,IF(ScoresEntry!M9=\"MDQ\",999,ScoresEntry!M9))))","v":0},{"$f":"IF(ScoresEntry!$B9=\"\",0,ScoresEntry!N9)","v":0},{"$f":"IF(ScoresEntry!$B9=\"\",0,ScoresEntry!O9)","v":0},{"$f":"IF(ScoresEntry!$B9=\"\",0,ScoresEntry!P9)","v":0},{"$f":"IF(ScoresEntry!$B9=\"\",0,ScoresEntry!Q9)","v":0},0,0,"","","",0,0,0,0,"",null,5,{"$f":"ScoresEntry!T9","v":0}]
[{"$f":"IF(ScoresEntry!A10=\"\",\"\",ScoresEntry!A10)","v":6},{"$f":"IF(ScoresEntry!$B10=\"\",\"\",ScoresEntry!$B10)","v":" "},{"$f":"IF(ShooterList!I9=0,\"\",ShooterList!I9)","v":""},{"$f":"IF(ScoresEntry!$B10=\"\",0,IF(ScoresEntry!C10=\"SNF\",ScoresEntry!$E$2*15,IF(ScoresEntry!C10=\"SDQ\",990,IF(ScoresEntry!C10=\"MDQ\",999,ScoresEntry!C10))))","v":0},{"$f":"IF(ScoresEntry!$B10=\"\",0,ScoresEntry!D10)","v":0},{"$f":"IF(ScoresEntry!$B10=\"\",0,ScoresEntry!E10)","v":0},{"$f":"IF(ScoresEntry!$B10=\"\",0,ScoresEntry!F10)","v":0},{"$f":"IF(ScoresEntry!$B10=\"\",0,ScoresEntry!G10)","v":0},0,0,"","","",{"$f":"IF(ScoresEntry!$B10=\"\",0,IF(ScoresEntry!H10=\"SNF\",ScoresEntry!$J$2*15,IF(ScoresEntry!H10=\"SDQ\",990,IF(ScoresEntry!H10=\"MDQ\",999,ScoresEntry!H10))))","v":0},{"$f":"IF(ScoresEntry!$B10=\"\",0,ScoresEntry!I10)","v":0},{"$f":"IF(ScoresEntry!$B10=\"\",0,ScoresEntry!J10)","v":0},{"$f":"IF(ScoresEntry!$B10=\"\",0,ScoresEntry!K10)","v":0},{"$f":"IF(ScoresEntry!$B10=\"\",0,ScoresEntry!L10)","v":0},0,0,"","","",{"$f":"IF(ScoresEntry!$B10=\"\",0,IF(ScoresEntry!M10=\"SNF\",ScoresEntry!$O$2*15,IF(ScoresEntry!M10=\"SDQ\",990,IF(ScoresEntry!M10=\"MDQ\",999,ScoresEntry!M10))))","v":0},{"$f":"IF(ScoresEntry!$B10=\"\",0,ScoresEntry!N10)","v":0},{"$f":"IF(ScoresEntry!$B10=\"\",0,ScoresEntry!O10)","v":0},{"$f":"IF(ScoresEntry!$B10=\"\",0,ScoresEntry!P10)","v":0},{"$f":"IF(ScoresEntry!$B10=\"\",0,ScoresEntry!Q10)","v":0},0,0,"","","",0,0,0,0,"",null,6,{"$f":"ScoresEntry!T10","v":0}]
[{"$f":"IF(ScoresEntry!A11=\"\",\"\",ScoresEntry!A11)","v":7},{"$f":"IF(ScoresEntry!$B11=\"\",\"\",ScoresEntry!$B11)","v":" "},{"$f":"IF(ShooterList!I10=0,\"\",ShooterList!I10)","v":""},{"$f":"IF(ScoresEntry!$B11=\"\",0,IF(ScoresEntry!C11=\"SNF\",ScoresEntry!$E$2*15,IF(ScoresEntry!C11=\"SDQ\",990,IF(ScoresEntry!C11=\"MDQ\",999,ScoresEntry!C11))))","v":0},{"$f":"IF(ScoresEntry!$B11=\"\",0,ScoresEntry!D11)","v":0},{"$f":"IF(ScoresEntry!$B11=\"\",0,ScoresEntry!E11)","v":0},{"$f":"IF(ScoresEntry!$B11=\"\",0,ScoresEntry!F11)","v":0},{"$f":"IF(ScoresEntry!$B11=\"\",0,ScoresEntry!G11)","v":0},0,0,"","","",{"$f":"IF(ScoresEntry!$B11=\"\",0,IF(ScoresEntry!H11=\"SNF\",ScoresEntry!$J$2*15,IF(ScoresEntry!H11=\"SDQ\",990,IF(ScoresEntry!H11=\"MDQ\",999,ScoresEntry!H11))))","v":0},{"$f":"IF(ScoresEntry!$B11=\"\",0,ScoresEntry!I11)","v":0},{"$f":"IF(ScoresEntry!$B11=\"\",0,ScoresEntry!J11)","v":0},{"$f":"IF(ScoresEntry!$B11=\"\",0,ScoresEntry!K11)","v":0},{"$f":"IF(ScoresEntry!$B11=\"\",0,ScoresEntry!L11)","v":0},0,0,"","","",{"$f":"IF(ScoresEntry!$B11=\"\",0,IF(ScoresEntry!M11=\"SNF\",ScoresEntry!$O$2*15,IF(ScoresEntry!M11=\"SDQ\",990,IF(ScoresEntry!M11=\"MDQ\",999,ScoresEntry!M11))))","v":0},{"$f":"IF(ScoresEntry!$B11=\"\",0,ScoresEntry!N11)","v":0},{"$f":"IF(ScoresEntry!$B11=\"\",0,ScoresEntry!O11)","v":0},{"$f":"IF(ScoresEntry!$B11=\"\",0,ScoresEntry!P11)","v":0},{"$f":"IF(ScoresEntry!$B11=\"\",0,ScoresEntry!Q11)","v":0},0,0,"","","",0,0,0,0,"",null,7,{"$f":"ScoresEntry!T11","v":0}]
[{"$f":"IF(ScoresEntry!A12=\"\",\"\",ScoresEntry!A12)","v":8},{"$f":"IF(ScoresEntry!$B12=\"\",\"\",ScoresEntry!$B12)","v":" "},{"$f":"IF(ShooterList!I11=0,\"\",ShooterList!I11)","v":""},{"$f":"IF(ScoresEntry!$B12=\"\",0,IF(ScoresEntry!C12=\"SNF\",ScoresEntry!$E$2*15,IF(ScoresEntry!C12=\"SDQ\",990,IF(ScoresEntry!C12=\"MDQ\",999,ScoresEntry!C12))))","v":0},{"$f":"IF(ScoresEntry!$B12=\"\",0,ScoresEntry!D12)","v":0},{"$f":"IF(ScoresEntry!$B12=\"\",0,ScoresEntry!E12)","v":0},{"$f":"IF(ScoresEntry!$B12=\"\",0,ScoresEntry!F12)","v":0},{"$f":"IF(ScoresEntry!$B12=\"\",0,ScoresEntry!G12)","v":0},0,0,"","","",{"$f":"IF(ScoresEntry!$B12=\"\",0,IF(ScoresEntry!H12=\"SNF\",ScoresEntry!$J$2*15,IF(ScoresEntry!H12=\"SDQ\",990,IF(ScoresEntry!H12=\"MDQ\",999,ScoresEntry!H12))))","v":0},{"$f":"IF(ScoresEntry!$B12=\"\",0,ScoresEntry!I12)","v":0},{"$f":"IF(ScoresEntry!$B12=\"\",0,ScoresEntry!J12)","v":0},{"$f":"IF(ScoresEntry!$B12=\"\",0,ScoresEntry!K12)","v":0},{"$f":"IF(ScoresEntry!$B12=\"\",0,ScoresEntry!L12)","v":0},0,0,"","","",{"$f":"IF(ScoresEntry!$B12=\"\",0,IF(ScoresEntry!M12=\"SNF\",ScoresEntry!$O$2*15,IF(ScoresEntry!M12=\"SDQ\",990,IF(ScoresEntry!M12=\"MDQ\",999,ScoresEntry!M12))))","v":0},{"$f":"IF(ScoresEntry!$B12=\"\",0,ScoresEntry!N12)","v":0},{"$f":"IF(ScoresEntry!$B12=\"\",0,ScoresEntry!O12)","v":0},{"$f":"IF(ScoresEntry!$B12=\"\",0,ScoresEntry!P12)","v":0},{"$f":"IF(ScoresEntry!$B12=\"\",0,ScoresEntry!Q12)","v":0},0,0,"","","",0,0,0,0,"",null,8,{"$f":"ScoresEntry!T12","v":0}]
[{"$f":"IF(ScoresEntry!A13=\"\",\"\",ScoresEntry!A13)","v":9},{"$f":"IF(ScoresEntry!$B13=\"\",\"\",ScoresEntry!$B13)","v":" "},{"$f":"IF(ShooterList!I12=0,\"\",ShooterList!I12)","v":""},{"$f":"IF(ScoresEntry!$B13=\"\",0,IF(ScoresEntry!C13=\"SNF\",ScoresEntry!$E$2*15,IF(ScoresEntry!C13=\"SDQ\",990,IF(ScoresEntry!C13=\"MDQ\",999,ScoresEntry!C13))))","v":0},{"$f":"IF(ScoresEntry!$B13=\"\",0,ScoresEntry!D13)","v":0},{"$f":"IF(ScoresEntry!$B13=\"\",0,ScoresEntry!E13)","v":0},{"$f":"IF(ScoresEntry!$B13=\"\",0,ScoresEntry!F13)","v":0},{"$f":"IF(ScoresEntry!$B13=\"\",0,ScoresEntry!G13)","v":0},0,0,"","","",{"$f":"IF(ScoresEntry!$B13=\"\",0,IF(ScoresEntry!H13=\"SNF\",ScoresEntry!$J$2*15,IF(ScoresEntry!H13=\"SDQ\",990,IF(ScoresEntry!H13=\"MDQ\",999,ScoresEntry!H13))))","v":0},{"$f":"IF(ScoresEntry!$B13=\"\",0,ScoresEntry!I13)","v":0},{"$f":"IF(ScoresEntry!$B13=\"\",0,ScoresEntry!J13)","v":0},{"$f":"IF(ScoresEntry!$B13=\"\",0,ScoresEntry!K13)","v":0},{"$f":"IF(ScoresEntry!$B13=\"\",0,ScoresEntry!L13)","v":0},0,0,"","","",{"$f":"IF(ScoresEntry!$B13=\"\",0,IF(ScoresEntry!M13=\"SNF\",ScoresEntry!$O$2*15,IF(ScoresEntry!M13=\"SDQ\",990,IF(ScoresEntry!M13=\"MDQ\",999,ScoresEntry!M13))))","v":0},{"$f":"IF(ScoresEntry!$B13=\"\",0,ScoresEntry!N13)","v":0},{"$f":"IF(ScoresEntry!$B13=\"\",0,ScoresEntry!O13)","v":0},{"$f":"IF(ScoresEntry!$B13=\"\",0,ScoresEntry!P13)","v":0},{"$f":"IF(ScoresEntry!$B13=\"\",0,ScoresEntry!Q13)","v":0},0,0,"","","",0,0,0,0,"",null,9,{"$f":"ScoresEntry!T13","v":0}]
[{"$f":"IF(ScoresEntry!A14=\"\",\"\",ScoresEntry!A14)","v":10},{"$f":"IF(ScoresEntry!$B14=\"\",\"\",ScoresEntry!$B14)","v":" "},{"$f":"IF(ShooterList!I13=0,\"\",ShooterList!I13)","v":""},{"$f":"IF(ScoresEntry!$B14=\"\",0,IF(ScoresEntry!C14=\"SNF\",ScoresEntry!$E$2*15,IF(ScoresEntry!C14=\"SDQ\",990,IF(ScoresEntry!C14=\"MDQ\",999,ScoresEntry!C14))))","v":0},{"$f":"IF(ScoresEntry!$B14=\"\",0,ScoresEntry!D14)","v":0},{"$f":"IF(ScoresEntry!$B14=\"\",0,ScoresEntry!E14)","v":0},{"$f":"IF(ScoresEntry!$B14=\"\",0,ScoresEntry!F14)","v":0},{"$f":"IF(ScoresEntry!$B14=\"\",0,ScoresEntry!G14)","v":0},0,0,"","","",{"$f":"IF(ScoresEntry!$B14=\"\",0,IF(ScoresEntry!H14=\"SNF\",ScoresEntry!$J$2*15,IF(ScoresEntry!H14=\"SDQ\",990,IF(ScoresEntry!H14=\"MDQ\",999,ScoresEntry!H14))))","v":0},{"$f":"IF(ScoresEntry!$B14=\"\",0,ScoresEntry!I14)","v":0},{"$f":"IF(ScoresEntry!$B14=\"\",0,ScoresEntry!J14)","v":0},{"$f":"IF(ScoresEntry!$B14=\"\",0,ScoresEntry!K14)","v":0},{"$f":"IF(ScoresEntry!$B14=\"\",0,ScoresEntry!L14)","v":0},0,0,"","","",{"$f":"IF(ScoresEntry!$B14=\"\",0,IF(ScoresEntry!M14=\"SNF\",ScoresEntry!$O$2*15,IF(ScoresEntry!M14=\"SDQ\",990,IF(ScoresEntry!M14=\"MDQ\",999,ScoresEntry!M14))))","v":0},{"$f":"IF(ScoresEntry!$B14=\"\",0,ScoresEntry!N14)","v":0},{"$f":"IF(ScoresEntry!$B14=\"\",0,ScoresEntry!O14)","v":0},{"$f":"IF(ScoresEntry!$B14=\"\",0,ScoresEntry!P14)","v":0},{"$f":"IF(ScoresEntry!$B14=\"\",0,ScoresEntry!Q14)","v":0},0,0,"","","",0,0,0,0,"",null,10,{"$f":"ScoresEntry!T14","v":0}]
[{"$f":"IF(ScoresEntry!A15=\"\",\"\",ScoresEntry!A15)","v":11},{"$f":"IF(ScoresEntry!$B15=\"\",\"\",ScoresEntry!$B15)","v":" "},{"$f":"IF(ShooterList!I14=0,\"\",ShooterList!I14)","v":""},{"$f":"IF(ScoresEntry!$B15=\"\",0,IF(ScoresEntry!C15=\"SNF\",ScoresEntry!$E$2*15,IF(ScoresEntry!C15=\"SDQ\",990,IF(ScoresEntry!C15=\"MDQ\",999,ScoresEntry!C15))))","v":0},{"$f":"IF(ScoresEntry!$B15=\"\",0,ScoresEntry!D15)","v":0},{"$f":"IF(ScoresEntry!$B15=\"\",0,ScoresEntry!E15)","v":0},{"$f":"IF(ScoresEntry!$B15=\"\",0,ScoresEntry!F15)","v":0},{"$f":"IF(ScoresEntry!$B15=\"\",0,ScoresEntry!G15)","v":0},0,0,"","","",{"$f":"IF(ScoresEntry!$B15=\"\",0,IF(ScoresEntry!H15=\"SNF\",ScoresEntry!$J$2*15,IF(ScoresEntry!H15=\"SDQ\",990,IF(ScoresEntry!H15=\"MDQ\",999,ScoresEntry!H15))))","v":0},{"$f":"IF(ScoresEntry!$B15=\"\",0,ScoresEntry!I15)","v":0},{"$f":"IF(ScoresEntry!$B15=\"\",0,ScoresEntry!J15)","v":0},{"$f":"IF(ScoresEntry!$B15=\"\",0,ScoresEntry!K15)","v":0},{"$f":"IF(ScoresEntry!$B15=\"\",0,ScoresEntry!L15)","v":0},0,0,"","","",{"$f":"IF(ScoresEntry!$B15=\"\",0,IF(ScoresEntry!M15=\"SNF\",ScoresEntry!$O$2*15,IF(ScoresEntry!M15=\"SDQ\",990,IF(ScoresEntry!M15=\"MDQ\",999,ScoresEntry!M15))))","v":0},{"$f":"IF(ScoresEntry!$B15=\"\",0,ScoresEntry!N15)","v":0},{"$f":"IF(ScoresEntry!$B15=\"\",0,ScoresEntry!O15)","v":0},{"$f":"IF(ScoresEntry!$B15=\"\",0,ScoresEntry!P15)","v":0},{"$f":"IF(ScoresEntry!$B15=\"\",0,ScoresEntry!Q15)","v":0},0,0,"","","",0,0,0,0,"",null,11,{"$f":"ScoresEntry!T15","v":0}]
[{"$f":"IF(ScoresEntry!A16=\"\",\"\",ScoresEntry!A16)","v":12},{"$f":"IF(ScoresEntry!$B16=\"\",\"\",ScoresEntry!$B16)","v":" "},{"$f":"IF(ShooterList!I15=0,\"\",ShooterList!I15)","v":""},{"$f":"IF(ScoresEntry!$B16=\"\",0,IF(ScoresEntry!C16=\"SNF\",ScoresEntry!$E$2*15,IF(ScoresEntry!C16=\"SDQ\",990,IF(ScoresEntry!C16=\"MDQ\",999,ScoresEntry!C16))))","v":0},{"$f":"IF(ScoresEntry!$B16=\"\",0,ScoresEntry!D16)","v":0},{"$f":"IF(ScoresEntry!$B16=\"\",0,ScoresEntry!E16)","v":0},{"$f":"IF(ScoresEntry!$B16=\"\",0,ScoresEntry!F16)","v":0},{"$f":"IF(ScoresEntry!$B16=\"\",0,ScoresEntry!G16)","v":0},0,0,"","","",{"$f":"IF(ScoresEntry!$B16=\"\",0,IF(ScoresEntry!H16=\"SNF\",ScoresEntry!$J$2*15,IF(ScoresEntry!H16=\"SDQ\",990,IF(ScoresEntry!H16=\"MDQ\",999,ScoresEntry!H16))))","v":0},{"$f":"IF(ScoresEntry!$B16=\"\",0,ScoresEntry!I16)","v":0},{"$f":"IF(ScoresEntry!$B16=\"\",0,ScoresEntry!J16)","v":0},{"$f":"IF(ScoresEntry!$B16=\"\",0,ScoresEntry!K16)","v":0},{"$f":"IF(ScoresEntry!$B16=\"\",0,ScoresEntry!L16)","v":0},0,0,"","","",{"$f":"IF(ScoresEntry!$B16=\"\",0,IF(ScoresEntry!M16=\"SNF\",ScoresEntry!$O$2*15,IF(ScoresEntry!M16=\"SDQ\",990,IF(ScoresEntry!M16=\"MDQ\",999,ScoresEntry!M16))))","v":0},{"$f":"IF(ScoresEntry!$B16=\"\",0,ScoresEntry!N16)","v":0},{"$f":"IF(ScoresEntry!$B16=\"\",0,ScoresEntry!O16)","v":0},{"$f":"IF(ScoresEntry!$B16=\"\",0,ScoresEntry!P16)","v":0},{"$f":"IF(ScoresEntry!$B16=\"\",0,ScoresEntry!Q16)","v":0},0,0,"","","",0,0,0,0,"",null,12,{"$f":"ScoresEntry!T16","v":0}]
[{"$f":"IF(ScoresEntry!A17=\"\",\"\",ScoresEntry!A17)","v":13},{"$f":"IF(ScoresEntry!$B17=\"\",\"\",ScoresEntry!$B17)","v":" "},{"$f":"IF(ShooterList!I16=0,\"\",ShooterList!I16)","v":""},{"$f":"IF(ScoresEntry!$B17=\"\",0,IF(ScoresEntry!C17=\"SNF\",ScoresEntry!$E$2*15,IF(ScoresEntry!C17=\"SDQ\",990,IF(ScoresEntry!C17=\"MDQ\",999,ScoresEntry!C17))))","v":0},{"$f":"IF(ScoresEntry!$B17=\"\",0,ScoresEntry!D17)","v":0},{"$f":"IF(ScoresEntry!$B17=\"\",0,ScoresEntry!E17)","v":0},{"$f":"IF(ScoresEntry!$B17=\"\",0,ScoresEntry!F17)","v":0},{"$f":"IF(ScoresEntry!$B17=\"\",0,ScoresEntry!G17)","v":0},0,0,"","","",{"$f":"IF(ScoresEntry!$B17=\"\",0,IF(ScoresEntry!H17=\"SNF\",ScoresEntry!$J$2*15,IF(ScoresEntry!H17=\"SDQ\",990,IF(ScoresEntry!H17=\"MDQ\",999,ScoresEntry!H17))))","v":0},{"$f":"IF(ScoresEntry!$B17=\"\",0,ScoresEntry!I17)","v":0},{"$f":"IF(ScoresEntry!$B17=\"\",0,ScoresEntry!J17)","v":0},{"$f":"IF(ScoresEntry!$B17=\"\",0,ScoresEntry!K17)","v":0},{"$f":"IF(ScoresEntry!$B17=\"\",0,ScoresEntry!L17)","v":0},0,0,"","","",{"$f":"IF(ScoresEntry!$B17=\"\",0,IF(ScoresEntry!M17=\"SNF\",ScoresEntry!$O$2*15,IF(ScoresEntry!M17=\"SDQ\",990,IF(ScoresEntry!M17=\"MDQ\",999,ScoresEntry!M17))))","v":0},{"$f":"IF(ScoresEntry!$B17=\"\",0,ScoresEntry!N17)","v":0},{"$f":"IF(ScoresEntry!$B17=\"\",0,ScoresEntry!O17)","v":0},{"$f":"IF(ScoresEntry!$B17=\"\",0,ScoresEntry!P17)","v":0},{"$f":"IF(ScoresEntry!$B17=\"\",0,ScoresEntry!Q17)","v":0},0,0,"","","",0,0,0,0,"",null,13,{"$f":"ScoresEntry!T17","v":0}]
[{"$f":"IF(ScoresEntry!A18=\"\",\"\",ScoresEntry!A18)","v":14},{"$f":"IF(ScoresEntry!$B18=\"\",\"\",ScoresEntry!$B18)","v":" "},{"$f":"IF(ShooterList!I17=0,\"\",ShooterList!I17)","v":""},{"$f":"IF(ScoresEntry!$B18=\"\",0,IF(ScoresEntry!C18=\"SNF\",ScoresEntry!$E$2*15,IF(ScoresEntry!C18=\"SDQ\",990,IF(ScoresEntry!C18=\"MDQ\",999,ScoresEntry!C18))))","v":0},{"$f":"IF(ScoresEntry!$B18=\"\",0,ScoresEntry!D18)","v":0},{"$f":"IF(ScoresEntry!$B18=\"\",0,ScoresEntry!E18)","v":0},{"$f":"IF(ScoresEntry!$B18=\"\",0,ScoresEntry!F18)","v":0},{"$f":"IF(ScoresEntry!$B18=\"\",0,ScoresEntry!G18)","v":0},0,0,"","","",{"$f":"IF(ScoresEntry!$B18=\"\",0,IF(ScoresEntry!H18=\"SNF\",ScoresEntry!$J$2*15,IF(ScoresEntry!H18=\"SDQ\",990,IF(ScoresEntry!H18=\"MDQ\",999,ScoresEntry!H18))))","v":0},{"$f":"IF(ScoresEntry!$B18=\"\",0,ScoresEntry!I18)","v":0},{"$f":"IF(ScoresEntry!$B18=\"\",0,ScoresEntry!J18)","v":0},{"$f":"IF(ScoresEntry!$B18=\"\",0,ScoresEntry!K18)","v":0},{"$f":"IF(ScoresEntry!$B18=\"\",0,ScoresEntry!L18)","v":0},0,0,"","","",{"$f":"IF(ScoresEntry!$B18=\"\",0,IF(ScoresEntry!M18=\"SNF\",ScoresEntry!$O$2*15,IF(ScoresEntry!M18=\"SDQ\",990,IF(ScoresEntry!M18=\"MDQ\",999,ScoresEntry!M18))))","v":0},{"$f":"IF(ScoresEntry!$B18=\"\",0,ScoresEntry!N18)","v":0},{"$f":"IF(ScoresEntry!$B18=\"\",0,ScoresEntry!O18)","v":0},{"$f":"IF(ScoresEntry!$B18=\"\",0,ScoresEntry!P18)","v":0},{"$f":"IF(ScoresEntry!$B18=\"\",0,ScoresEntry!Q18)","v":0},0,0,"","","",0,0,0,0,"",null,14,{"$f":"ScoresEntry!T18","v":0}]
[{"$f":"IF(ScoresEntry!A19=\"\",\"\",ScoresEntry!A19)","v":15},{"$f":"IF(ScoresEntry!$B19=\"\",\"\",ScoresEntry!$B19)","v":" "},{"$f":"IF(ShooterList!I18=0,\"\",ShooterList!I18)","v":""},{"$f":"IF(ScoresEntry!$B19=\"\",0,IF(ScoresEntry!C19=\"SNF\",ScoresEntry!$E$2*15,IF(ScoresEntry!C19=\"SDQ\",990,IF(ScoresEntry!C19=\"MDQ\",999,ScoresEntry!C19))))","v":0},{"$f":"IF(ScoresEntry!$B19=\"\",0,ScoresEntry!D19)","v":0},{"$f":"IF(ScoresEntry!$B19=\"\",0,ScoresEntry!E19)","v":0},{"$f":"IF(ScoresEntry!$B19=\"\",0,ScoresEntry!F19)","v":0},{"$f":"IF(ScoresEntry!$B19=\"\",0,ScoresEntry!G19)","v":0},0,0,"","","",{"$f":"IF(ScoresEntry!$B19=\"\",0,IF(ScoresEntry!H19=\"SNF\",ScoresEntry!$J$2*15,IF(ScoresEntry!H19=\"SDQ\",990,IF(ScoresEntry!H19=\"MDQ\",999,ScoresEntry!H19))))","v":0},{"$f":"IF(ScoresEntry!$B19=\"\",0,ScoresEntry!I19)","v":0},{"$f":"IF(ScoresEntry!$B19=\"\",0,ScoresEntry!J19)","v":0},{"$f":"IF(ScoresEntry!$B19=\"\",0,ScoresEntry!K19)","v":0},{"$f":"IF(ScoresEntry!$B19=\"\",0,ScoresEntry!L19)","v":0},0,0,"","","",{"$f":"IF(ScoresEntry!$B19=\"\",0,IF(ScoresEntry!M19=\"SNF\",ScoresEntry!$O$2*15,IF(ScoresEntry!M19=\"SDQ\",990,IF(ScoresEntry!M19=\"MDQ\",999,ScoresEntry!M19))))","v":0},{"$f":"IF(ScoresEntry!$B19=\"\",0,ScoresEntry!N19)","v":0},{"$f":"IF(ScoresEntry!$B19=\"\",0,ScoresEntry!O19)","v":0},{"$f":"IF(ScoresEntry!$B19=\"\",0,ScoresEntry!P19)","v":0},{"$f":"IF(ScoresEntry!$B19=\"\",0,ScoresEntry!Q19)","v":0},0,0,"","","",0,0,0,0,"",null,15,{"$f":"ScoresEntry!T19","v":0}]
[{"$f":"IF(ScoresEntry!A20=\"\",\"\",ScoresEntry!A20)","v":16},{"$f":"IF(ScoresEntry!$B20=\"\",\"\",ScoresEntry!$B20)","v":" "},{"$f":"IF(ShooterList!I19=0,\"\",ShooterList!I19)","v":""},{"$f":"IF(ScoresEntry!$B20=\"\",0,IF(ScoresEntry!C20=\"SNF\",ScoresEntry!$E$2*15,IF(ScoresEntry!C20=\"SDQ\",990,IF(ScoresEntry!C20=\"MDQ\",999,ScoresEntry!C20))))","v":0},{"$f":"IF(ScoresEntry!$B20=\"\",0,ScoresEntry!D20)","v":0},{"$f":"IF(ScoresEntry!$B20=\"\",0,ScoresEntry!E20)","v":0},{"$f":"IF(ScoresEntry!$B20=\"\",0,ScoresEntry!F20)","v":0},{"$f":"IF(ScoresEntry!$B20=\"\",0,ScoresEntry!G20)","v":0},0,0,"","","",{"$f":"IF(ScoresEntry!$B20=\"\",0,IF(ScoresEntry!H20=\"SNF\",ScoresEntry!$J$2*15,IF(ScoresEntry!H20=\"SDQ\",990,IF(ScoresEntry!H20=\"MDQ\",999,ScoresEntry!H20))))","v":0},{"$f":"IF(ScoresEntry!$B20=\"\",0,ScoresEntry!I20)","v":0},{"$f":"IF(ScoresEntry!$B20=\"\",0,ScoresEntry!J20)","v":0},{"$f":"IF(ScoresEntry!$B20=\"\",0,ScoresEntry!K20)","v":0},{"$f":"IF(ScoresEntry!$B20=\"\",0,ScoresEntry!L20)","v":0},0,0,"","","",{"$f":"IF(ScoresEntry!$B20=\"\",0,IF(ScoresEntry!M20=\"SNF\",ScoresEntry!$O$2*15,IF(ScoresEntry!M20=\"SDQ\",990,IF(ScoresEntry!M20=\"MDQ\",999,ScoresEntry!M20))))","v":0},{"$f":"IF(ScoresEntry!$B20=\"\",0,ScoresEntry!N20)","v":0},{"$f":"IF(ScoresEntry!$B20=\"\",0,ScoresEntry!O20)","v":0},{"$f":"IF(ScoresEntry!$B20=\"\",0,ScoresEntry!P20)","v":0},{"$f":"IF(ScoresEntry!$B20=\"\",0,ScoresEntry!Q20)","v":0},0,0,"","","",0,0,0,0,"",null,16,{"$f":"ScoresEntry!T20","v":0}]
[{"$f":"IF(ScoresEntry!A21=\"\",\"\",ScoresEntry!A21)","v":17},{"$f":"IF(ScoresEntry!$B21=\"\",\"\",ScoresEntry!$B21)","v":" "},{"$f":"IF(ShooterList!I20=0,\"\",ShooterList!I20)","v":""},{"$f":"IF(ScoresEntry!$B21=\"\",0,IF(ScoresEntry!C21=\"SNF\",ScoresEntry!$E$2*15,IF(ScoresEntry!C21=\"SDQ\",990,IF(ScoresEntry!C21=\"MDQ\",999,ScoresEntry!C21))))","v":0},{"$f":"IF(ScoresEntry!$B21=\"\",0,ScoresEntry!D21)","v":0},{"$f":"IF(ScoresEntry!$B21=\"\",0,ScoresEntry!E21)","v":0},{"$f":"IF(ScoresEntry!$B21=\"\",0,ScoresEntry!F21)","v":0},{"$f":"IF(ScoresEntry!$B21=\"\",0,ScoresEntry!G21)","v":0},0,0,"","","",{"$f":"IF(ScoresEntry!$B21=\"\",0,IF(ScoresEntry!H21=\"SNF\",ScoresEntry!$J$2*15,IF(ScoresEntry!H21=\"SDQ\",990,IF(ScoresEntry!H21=\"MDQ\",999,ScoresEntry!H21))))","v":0},{"$f":"IF(ScoresEntry!$B21=\"\",0,ScoresEntry!I21)","v":0},{"$f":"IF(ScoresEntry!$B21=\"\",0,ScoresEntry!J21)","v":0},{"$f":"IF(ScoresEntry!$B21=\"\",0,ScoresEntry!K21)","v":0},{"$f":"IF(ScoresEntry!$B21=\"\",0,ScoresEntry!L21)","v":0},0,0,"","","",{"$f":"IF(ScoresEntry!$B21=\"\",0,IF(ScoresEntry!M21=\"SNF\",ScoresEntry!$O$2*15,IF(ScoresEntry!M21=\"SDQ\",990,IF(ScoresEntry!M21=\"MDQ\",999,ScoresEntry!M21))))","v":0},{"$f":"IF(ScoresEntry!$B21=\"\",0,ScoresEntry!N21)","v":0},{"$f":"IF(ScoresEntry!$B21=\"\",0,ScoresEntry!O21)","v":0},{"$f":"IF(ScoresEntry!$B21=\"\",0,ScoresEntry!P21)","v":0},{"$f":"IF(ScoresEntry!$B21=\"\",0,ScoresEntry!Q21)","v":0},0,0,"","","",0,0,0,0,"",null,17,{"$f":"ScoresEntry!T21","v":0}]
[{"$f":"IF(ScoresEntry!A22=\"\",\"\",ScoresEntry!A22)","v":18},{"$f":"IF(ScoresEntry!$B22=\"\",\"\",ScoresEntry!$B22)","v":" "},{"$f":"IF(ShooterList!I21=0,\"\",ShooterList!I21)","v":""},{"$f":"IF(ScoresEntry!$B22=\"\",0,IF(ScoresEntry!C22=\"SNF\",ScoresEntry!$E$2*15,IF(ScoresEntry!C22=\"SDQ\",990,IF(ScoresEntry!C22=\"MDQ\",999,ScoresEntry!C22))))","v":0},{"$f":"IF(ScoresEntry!$B22=\"\",0,ScoresEntry!D22)","v":0},{"$f":"IF(ScoresEntry!$B22=\"\",0,ScoresEntry!E22)","v":0},{"$f":"IF(ScoresEntry!$B22=\"\",0,ScoresEntry!F22)","v":0},{"$f":"IF(ScoresEntry!$B22=\"\",0,ScoresEntry!G22)","v":0},0,0,"","","",{"$f":"IF(ScoresEntry!$B22=\"\",0,IF(ScoresEntry!H22=\"SNF\",ScoresEntry!$J$2*15,IF(ScoresEntry!H22=\"SDQ\",990,IF(ScoresEntry!H22=\"MDQ\",999,ScoresEntry!H22))))","v":0},{"$f":"IF(ScoresEntry!$B22=\"\",0,ScoresEntry!I22)","v":0},{"$f":"IF(ScoresEntry!$B22=\"\",0,ScoresEntry!J22)","v":0},{"$f":"IF(ScoresEntry!$B22=\"\",0,ScoresEntry!K22)","v":0},{"$f":"IF(ScoresEntry!$B22=\"\",0,ScoresEntry!L22)","v":0},0,0,"","","",{"$f":"IF(ScoresEntry!$B22=\"\",0,IF(ScoresEntry!M22=\"SNF\",ScoresEntry!$O$2*15,IF(ScoresEntry!M22=\"SDQ\",990,IF(ScoresEntry!M22=\"MDQ\",999,ScoresEntry!M22))))","v":0},{"$f":"IF(ScoresEntry!$B22=\"\",0,ScoresEntry!N22)","v":0},{"$f":"IF(ScoresEntry!$B22=\"\",0,ScoresEntry!O22)","v":0},{"$f":"IF(ScoresEntry!$B22=\"\",0,ScoresEntry!P22)","v":0},{"$f":"IF(ScoresEntry!$B22=\"\",0,ScoresEntry!Q22)","v":0},0,0,"","","",0,0,0,0,"",null,18,{"$f":"ScoresEntry!T22","v":0}]
[{"$f":"IF(ScoresEntry!A23=\"\",\"\",ScoresEntry!A23)","v":19},{"$f":"IF(ScoresEntry!$B23=\"\",\"\",ScoresEntry!$B23)","v":" "},{"$f":"IF(ShooterList!I22=0,\"\",ShooterList!I22)","v":""},{"$f":"IF(ScoresEntry!$B23=\"\",0,IF(ScoresEntry!C23=\"SNF\",ScoresEntry!$E$2*15,IF(ScoresEntry!C23=\"SDQ\",990,IF(ScoresEntry!C23=\"MDQ\",999,ScoresEntry!C23))))","v":0},{"$f":"IF(ScoresEntry!$B23=\"\",0,ScoresEntry!D23)","v":0},{"$f":"IF(ScoresEntry!$B23=\"\",0,ScoresEntry!E23)","v":0},{"$f":"IF(ScoresEntry!$B23=\"\",0,ScoresEntry!F23)","v":0},{"$f":"IF(ScoresEntry!$B23=\"\",0,ScoresEntry!G23)","v":0},0,0,"","","",{"$f":"IF(ScoresEntry!$B23=\"\",0,IF(ScoresEntry!H23=\"SNF\",ScoresEntry!$J$2*15,IF(ScoresEntry!H23=\"SDQ\",990,IF(ScoresEntry!H23=\"MDQ\",999,ScoresEntry!H23))))","v":0},{"$f":"IF(ScoresEntry!$B23=\"\",0,ScoresEntry!I23)","v":0},{"$f":"IF(ScoresEntry!$B23=\"\",0,ScoresEntry!J23)","v":0},{"$f":"IF(ScoresEntry!$B23=\"\",0,ScoresEntry!K23)","v":0},{"$f":"IF(ScoresEntry!$B23=\"\",0,ScoresEntry!L23)","v":0},0,0,"","","",{"$f":"IF(ScoresEntry!$B23=\"\",0,IF(ScoresEntry!M23=\"SNF\",ScoresEntry!$O$2*15,IF(ScoresEntry!M23=\"SDQ\",990,IF(ScoresEntry!M23=\"MDQ\",999,ScoresEntry!M23))))","v":0},{"$f":"IF(ScoresEntry!$B23=\"\",0,ScoresEntry!N23)","v":0},{"$f":"IF(ScoresEntry!$B23=\"\",0,ScoresEntry!O23)","v":0},{"$f":"IF(ScoresEntry!$B23=\"\",0,ScoresEntry!P23)","v":0},{"$f":"IF(ScoresEntry!$B23=\"\",0,ScoresEntry!Q23)","v":0},0,0,"","","",0,0,0,0,"",null,19,{"$f":"ScoresEntry!T23","v":0}]
[{"$f":"IF(ScoresEntry!A24=\"\",\"\",ScoresEntry!A24)","v":20},{"$f":"IF(ScoresEntry!$B24=\"\",\"\",ScoresEntry!$B24)","v":" "},{"$f":"IF(ShooterList!I23=0,\"\",ShooterList!I23)","v":""},{"$f":"IF(ScoresEntry!$B24=\"\",0,IF(ScoresEntry!C24=\"SNF\",ScoresEntry!$E$2*15,IF(ScoresEntry!C24=\"SDQ\",990,IF(ScoresEntry!C24=\"MDQ\",999,ScoresEntry!C24))))","v":0},{"$f":"IF(ScoresEntry!$B24=\"\",0,ScoresEntry!D24)","v":0},{"$f":"IF(ScoresEntry!$B24=\"\",0,ScoresEntry!E24)","v":0},{"$f":"IF(ScoresEntry!$B24=\"\",0,ScoresEntry!F24)","v":0},{"$f":"IF(ScoresEntry!$B24=\"\",0,ScoresEntry!G24)","v":0},0,0,"","","",{"$f":"IF(ScoresEntry!$B24=\"\",0,IF(ScoresEntry!H24=\"SNF\",ScoresEntry!$J$2*15,IF(ScoresEntry!H24=\"SDQ\",990,IF(ScoresEntry!H24=\"MDQ\",999,ScoresEntry!H24))))","v":0},{"$f":"IF(ScoresEntry!$B24=\"\",0,ScoresEntry!I24)","v":0},{"$f":"IF(ScoresEntry!$B24=\"\",0,ScoresEntry!J24)","v":0},{"$f":"IF(ScoresEntry!$B24=\"\",0,ScoresEntry!K24)","v":0},{"$f":"IF(ScoresEntry!$B24=\"\",0,ScoresEntry!L24)","v":0},0,0,"","","",{"$f":"IF(ScoresEntry!$B24=\"\",0,IF(ScoresEntry!M24=\"SNF\",ScoresEntry!$O$2*15,IF(ScoresEntry!M24=\"SDQ\",990,IF(ScoresEntry!M24=\"MDQ\",999,ScoresEntry!M24))))","v":0},{"$f":"IF(ScoresEntry!$B24=\"\",0,ScoresEntry!N24)","v":0},{"$f":"IF(ScoresEntry!$B24=\"\",0,ScoresEntry!O24)","v":0},{"$f":"IF(ScoresEntry!$B24=\"\",0,ScoresEntry!P24)","v":0},{"$f":"IF(ScoresEntry!$B24=\"\",0,ScoresEntry!Q24)","v":0},0,0,"","","",0,0,0,0,"",null,20,{"$f":"ScoresEntry!T24","v":0}]
[{"$f":"IF(ScoresEntry!A25=\"\",\"\",ScoresEntry!A25)","v":21},{"$f":"IF(ScoresEntry!$B25=\"\",\"\",ScoresEntry!$B25)","v":" "},{"$f":"IF(ShooterList!I24=0,\"\",ShooterList!I24)","v":""},{"$f":"IF(ScoresEntry!$B25=\"\",0,IF(ScoresEntry!C25=\"SNF\",ScoresEntry!$E$2*15,IF(ScoresEntry!C25=\"SDQ\",990,IF(ScoresEntry!C25=\"MDQ\",999,ScoresEntry!C25))))","v":0},{"$f":"IF(ScoresEntry!$B25=\"\",0,ScoresEntry!D25)","v":0},{"$f":"IF(ScoresEntry!$B25=\"\",0,ScoresEntry!E25)","v":0},{"$f":"IF(ScoresEntry!$B25=\"\",0,ScoresEntry!F25)","v":0},{"$f":"IF(ScoresEntry!$B25=\"\",0,ScoresEntry!G25)","v":0},0,0,"","","",{"$f":"IF(ScoresEntry!$B25=\"\",0,IF(ScoresEntry!H25=\"SNF\",ScoresEntry!$J$2*15,IF(ScoresEntry!H25=\"SDQ\",990,IF(ScoresEntry!H25=\"MDQ\",999,ScoresEntry!H25))))","v":0},{"$f":"IF(ScoresEntry!$B25=\"\",0,ScoresEntry!I25)","v":0},{"$f":"IF(ScoresEntry!$B25=\"\",0,ScoresEntry!J25)","v":0},{"$f":"IF(ScoresEntry!$B25=\"\",0,ScoresEntry!K25)","v":0},{"$f":"IF(ScoresEntry!$B25=\"\",0,ScoresEntry!L25)","v":0},0,0,"","","",{"$f":"IF(ScoresEntry!$B25=\"\",0,IF(ScoresEntry!M25=\"SNF\",ScoresEntry!$O$2*15,IF(ScoresEntry!M25=\"SDQ\",990,IF(ScoresEntry!M25=\"MDQ\",999,ScoresEntry!M25))))","v":0},{"$f":"IF(ScoresEntry!$B25=\"\",0,ScoresEntry!N25)","v":0},{"$f":"IF(ScoresEntry!$B25=\"\",0,ScoresEntry!O25)","v":0},{"$f":"IF(ScoresEntry!$B25=\"\",0,ScoresEntry!P25)","v":0},{"$f":"IF(ScoresEntry!$B25=\"\",0,ScoresEntry!Q25)","v":0},0,0,"","","",0,0,0,0,"",null,21,{"$f":"ScoresEntry!T25","v":0}]
[{"$f":"IF(ScoresEntry!A26=\"\",\"\",ScoresEntry!A26)","v":22},{"$f":"IF(ScoresEntry!$B26=\"\",\"\",ScoresEntry!$B26)","v":" "},{"$f":"IF(ShooterList!I25=0,\"\",ShooterList!I25)","v":""},{"$f":"IF(ScoresEntry!$B26=\"\",0,IF(ScoresEntry!C26=\"SNF\",ScoresEntry!$E$2*15,IF(ScoresEntry!C26=\"SDQ\",990,IF(ScoresEntry!C26=\"MDQ\",999,ScoresEntry!C26))))","v":0},{"$f":"IF(ScoresEntry!$B26=\"\",0,ScoresEntry!D26)","v":0},{"$f":"IF(ScoresEntry!$B26=\"\",0,ScoresEntry!E26)","v":0},{"$f":"IF(ScoresEntry!$B26=\"\",0,ScoresEntry!F26)","v":0},{"$f":"IF(ScoresEntry!$B26=\"\",0,ScoresEntry!G26)","v":0},0,0,"","","",{"$f":"IF(ScoresEntry!$B26=\"\",0,IF(ScoresEntry!H26=\"SNF\",ScoresEntry!$J$2*15,IF(ScoresEntry!H26=\"SDQ\",990,IF(ScoresEntry!H26=\"MDQ\",999,ScoresEntry!H26))))","v":0},{"$f":"IF(ScoresEntry!$B26=\"\",0,ScoresEntry!I26)","v":0},{"$f":"IF(ScoresEntry!$B26=\"\",0,ScoresEntry!J26)","v":0},{"$f":"IF(ScoresEntry!$B26=\"\",0,ScoresEntry!K26)","v":0},{"$f":"IF(ScoresEntry!$B26=\"\",0,ScoresEntry!L26)","v":0},0,0,"","","",{"$f":"IF(ScoresEntry!$B26=\"\",0,IF(ScoresEntry!M26=\"SNF\",ScoresEntry!$O$2*15,IF(ScoresEntry!M26=\"SDQ\",990,IF(ScoresEntry!M26=\"MDQ\",999,ScoresEntry!M26))))","v":0},{"$f":"IF(ScoresEntry!$B26=\"\",0,ScoresEntry!N26)","v":0},{"$f":"IF(ScoresEntry!$B26=\"\",0,ScoresEntry!O26)","v":0},{"$f":"IF(ScoresEntry!$B26=\"\",0,ScoresEntry!P26)","v":0},{"$f":"IF(ScoresEntry!$B26=\"\",0,ScoresEntry!Q26)","v":0},0,0,"","","",0,0,0,0,"",null,22,{"$f":"ScoresEntry!T26","v":0}]
[{"$f":"IF(ScoresEntry!A27=\"\",\"\",ScoresEntry!A27)","v":23},{"$f":"IF(ScoresEntry!$B27=\"\",\"\",ScoresEntry!$B27)","v":" "},{"$f":"IF(ShooterList!I26=0,\"\",ShooterList!I26)","v":""},{"$f":"IF(ScoresEntry!$B27=\"\",0,IF(ScoresEntry!C27=\"SNF\",ScoresEntry!$E$2*15,IF(ScoresEntry!C27=\"SDQ\",990,IF(ScoresEntry!C27=\"MDQ\",999,ScoresEntry!C27))))","v":0},{"$f":"IF(ScoresEntry!$B27=\"\",0,ScoresEntry!D27)","v":0},{"$f":"IF(ScoresEntry!$B27=\"\",0,ScoresEntry!E27)","v":0},{"$f":"IF(ScoresEntry!$B27=\"\",0,ScoresEntry!F27)","v":0},{"$f":"IF(ScoresEntry!$B27=\"\",0,ScoresEntry!G27)","v":0},0,0,"","","",{"$f":"IF(ScoresEntry!$B27=\"\",0,IF(ScoresEntry!H27=\"SNF\",ScoresEntry!$J$2*15,IF(ScoresEntry!H27=\"SDQ\",990,IF(ScoresEntry!H27=\"MDQ\",999,ScoresEntry!H27))))","v":0},{"$f":"IF(ScoresEntry!$B27=\"\",0,ScoresEntry!I27)","v":0},{"$f":"IF(ScoresEntry!$B27=\"\",0,ScoresEntry!J27)","v":0},{"$f":"IF(ScoresEntry!$B27=\"\",0,ScoresEntry!K27)","v":0},{"$f":"IF(ScoresEntry!$B27=\"\",0,ScoresEntry!L27)","v":0},0,0,"","","",{"$f":"IF(ScoresEntry!$B27=\"\",0,IF(ScoresEntry!M27=\"SNF\",ScoresEntry!$O$2*15,IF(ScoresEntry!M27=\"SDQ\",990,IF(ScoresEntry!M27=\"MDQ\",999,ScoresEntry!M27))))","v":0},{"$f":"IF(ScoresEntry!$B27=\"\",0,ScoresEntry!N27)","v":0},{"$f":"IF(ScoresEntry!$B27=\"\",0,ScoresEntry!O27)","v":0},{"$f":"IF(ScoresEntry!$B27=\"\",0,ScoresEntry!P27)","v":0},{"$f":"IF(ScoresEntry!$B27=\"\",0,ScoresEntry!Q27)","v":0},0,0,"","","",0,0,0,0,"",null,23,{"$f":"ScoresEntry!T27","v":0}]
[{"$f":"IF(ScoresEntry!A28=\"\",\"\",ScoresEntry!A28)","v":24},{"$f":"IF(ScoresEntry!$B28=\"\",\"\",ScoresEntry!$B28)","v":" "},{"$f":"IF(ShooterList!I27=0,\"\",ShooterList!I27)","v":""},{"$f":"IF(ScoresEntry!$B28=\"\",0,IF(ScoresEntry!C28=\"SNF\",ScoresEntry!$E$2*15,IF(ScoresEntry!C28=\"SDQ\",990,IF(ScoresEntry!C28=\"MDQ\",999,ScoresEntry!C28))))","v":0},{"$f":"IF(ScoresEntry!$B28=\"\",0,ScoresEntry!D28)","v":0},{"$f":"IF(ScoresEntry!$B28=\"\",0,ScoresEntry!E28)","v":0},{"$f":"IF(ScoresEntry!$B28=\"\",0,ScoresEntry!F28)","v":0},{"$f":"IF(ScoresEntry!$B28=\"\",0,ScoresEntry!G28)","v":0},0,0,"","","",{"$f":"IF(ScoresEntry!$B28=\"\",0,IF(ScoresEntry!H28=\"SNF\",ScoresEntry!$J$2*15,IF(ScoresEntry!H28=\"SDQ\",990,IF(ScoresEntry!H28=\"MDQ\",999,ScoresEntry!H28))))","v":0},{"$f":"IF(ScoresEntry!$B28=\"\",0,ScoresEntry!I28)","v":0},{"$f":"IF(ScoresEntry!$B28=\"\",0,ScoresEntry!J28)","v":0},{"$f":"IF(ScoresEntry!$B28=\"\",0,ScoresEntry!K28)","v":0},{"$f":"IF(ScoresEntry!$B28=\"\",0,ScoresEntry!L28)","v":0},0,0,"","","",{"$f":"IF(ScoresEntry!$B28=\"\",0,IF(ScoresEntry!M28=\"SNF\",ScoresEntry!$O$2*15,IF(ScoresEntry!M28=\"SDQ\",990,IF(ScoresEntry!M28=\"MDQ\",999,ScoresEntry!M28))))","v":0},{"$f":"IF(ScoresEntry!$B28=\"\",0,ScoresEntry!N28)","v":0},{"$f":"IF(ScoresEntry!$B28=\"\",0,ScoresEntry!O28)","v":0},{"$f":"IF(ScoresEntry!$B28=\"\",0,ScoresEntry!P28)","v":0},{"$f":"IF(ScoresEntry!$B28=\"\",0,ScoresEntry!Q28)","v":0},0,0,"","","",0,0,0,0,"",null,24,{"$f":"ScoresEntry!T28","v":0}]
[{"$f":"IF(ScoresEntry!A29=\"\",\"\",ScoresEntry!A29)","v":25},{"$f":"IF(ScoresEntry!$B29=\"\",\"\",ScoresEntry!$B29)","v":" "},{"$f":"IF(ShooterList!I28=0,\"\",ShooterList!I28)","v":""},{"$f":"IF(ScoresEntry!$B29=\"\",0,IF(ScoresEntry!C29=\"SNF\",ScoresEntry!$E$2*15,IF(ScoresEntry!C29=\"SDQ\",990,IF(ScoresEntry!C29=\"MDQ\",999,ScoresEntry!C29))))","v":0},{"$f":"IF(ScoresEntry!$B29=\"\",0,ScoresEntry!D29)","v":0},{"$f":"IF(ScoresEntry!$B29=\"\",0,ScoresEntry!E29)","v":0},{"$f":"IF(ScoresEntry!$B29=\"\",0,ScoresEntry!F29)","v":0},{"$f":"IF(ScoresEntry!$B29=\"\",0,ScoresEntry!G29)","v":0},0,0,"","","",{"$f":"IF(ScoresEntry!$B29=\"\",0,IF(ScoresEntry!H29=\"SNF\",ScoresEntry!$J$2*15,IF(ScoresEntry!H29=\"SDQ\",990,IF(ScoresEntry!H29=\"MDQ\",999,ScoresEntry!H29))))","v":0},{"$f":"IF(ScoresEntry!$B29=\"\",0,ScoresEntry!I29)","v":0},{"$f":"IF(ScoresEntry!$B29=\"\",0,ScoresEntry!J29)","v":0},{"$f":"IF(ScoresEntry!$B29=\"\",0,ScoresEntry!K29)","v":0},{"$f":"IF(ScoresEntry!$B29=\"\",0,ScoresEntry!L29)","v":0},0,0,"","","",{"$f":"IF(ScoresEntry!$B29=\"\",0,IF(ScoresEntry!M29=\"SNF\",ScoresEntry!$O$2*15,IF(ScoresEntry!M29=\"SDQ\",990,IF(ScoresEntry!M29=\"MDQ\",999,ScoresEntry!M29))))","v":0},{"$f":"IF(ScoresEntry!$B29=\"\",0,ScoresEntry!N29)","v":0},{"$f":"IF(ScoresEntry!$B29=\"\",0,ScoresEntry!O29)","v":0},{"$f":"IF(ScoresEntry!$B29=\"\",0,ScoresEntry!P29)","v":0},{"$f":"IF(ScoresEntry!$B29=\"\",0,ScoresEntry!Q29)","v":0},0,0,"","","",0,0,0,0,"",null,25,{"$f":"ScoresEntry!T29","v":0}]
[{"$f":"IF(ScoresEntry!A30=\"\",\"\",ScoresEntry!A30)","v":26},{"$f":"IF(ScoresEntry!$B30=\"\",\"\",ScoresEntry!$B30)","v":" "},{"$f":"IF(ShooterList!I29=0,\"\",ShooterList!I29)","v":""},{"$f":"IF(ScoresEntry!$B30=\"\",0,IF(ScoresEntry!C30=\"SNF\",ScoresEntry!$E$2*15,IF(ScoresEntry!C30=\"SDQ\",990,IF(ScoresEntry!C30=\"MDQ\",999,ScoresEntry!C30))))","v":0},{"$f":"IF(ScoresEntry!$B30=\"\",0,ScoresEntry!D30)","v":0},{"$f":"IF(ScoresEntry!$B30=\"\",0,ScoresEntry!E30)","v":0},{"$f":"IF(ScoresEntry!$B30=\"\",0,ScoresEntry!F30)","v":0},{"$f":"IF(ScoresEntry!$B30=\"\",0,ScoresEntry!G30)","v":0},0,0,"","","",{"$f":"IF(ScoresEntry!$B30=\"\",0,IF(ScoresEntry!H30=\"SNF\",ScoresEntry!$J$2*15,IF(ScoresEntry!H30=\"SDQ\",990,IF(ScoresEntry!H30=\"MDQ\",999,ScoresEntry!H30))))","v":0},{"$f":"IF(ScoresEntry!$B30=\"\",0,ScoresEntry!I30)","v":0},{"$f":"IF(ScoresEntry!$B30=\"\",0,ScoresEntry!J30)","v":0},{"$f":"IF(ScoresEntry!$B30=\"\",0,ScoresEntry!K30)","v":0},{"$f":"IF(ScoresEntry!$B30=\"\",0,ScoresEntry!L30)","v":0},0,0,"","","",{"$f":"IF(ScoresEntry!$B30=\"\",0,IF(ScoresEntry!M30=\"SNF\",ScoresEntry!$O$2*15,IF(ScoresEntry!M30=\"SDQ\",990,IF(ScoresEntry!M30=\"MDQ\",999,ScoresEntry!M30))))","v":0},{"$f":"IF(ScoresEntry!$B30=\"\",0,ScoresEntry!N30)","v":0},{"$f":"IF(ScoresEntry!$B30=\"\",0,ScoresEntry!O30)","v":0},{"$f":"IF(ScoresEntry!$B30=\"\",0,ScoresEntry!P30)","v":0},{"$f":"IF(ScoresEntry!$B30=\"\",0,ScoresEntry!Q30)","v":0},0,0,"","","",0,0,0,0,"",null,26,{"$f":"ScoresEntry!T30","v":0}]
[{"$f":"IF(ScoresEntry!A31=\"\",\"\",ScoresEntry!A31)","v":27},{"$f":"IF(ScoresEntry!$B31=\"\",\"\",ScoresEntry!$B31)","v":" "},{"$f":"IF(ShooterList!I30=0,\"\",ShooterList!I30)","v":""},{"$f":"IF(ScoresEntry!$B31=\"\",0,IF(ScoresEntry!C31=\"SNF\",ScoresEntry!$E$2*15,IF(ScoresEntry!C31=\"SDQ\",990,IF(ScoresEntry!C31=\"MDQ\",999,ScoresEntry!C31))))","v":0},{"$f":"IF(ScoresEntry!$B31=\"\",0,ScoresEntry!D31)","v":0},{"$f":"IF(ScoresEntry!$B31=\"\",0,ScoresEntry!E31)","v":0},{"$f":"IF(ScoresEntry!$B31=\"\",0,ScoresEntry!F31)","v":0},{"$f":"IF(ScoresEntry!$B31=\"\",0,ScoresEntry!G31)","v":0},0,0,"","","",{"$f":"IF(ScoresEntry!$B31=\"\",0,IF(ScoresEntry!H31=\"SNF\",ScoresEntry!$J$2*15,IF(ScoresEntry!H31=\"SDQ\",990,IF(ScoresEntry!H31=\"MDQ\",999,ScoresEntry!H31))))","v":0},{"$f":"IF(ScoresEntry!$B31=\"\",0,ScoresEntry!I31)","v":0},{"$f":"IF(ScoresEntry!$B31=\"\",0,ScoresEntry!J31)","v":0},{"$f":"IF(ScoresEntry!$B31=\"\",0,ScoresEntry!K31)","v":0},{"$f":"IF(ScoresEntry!$B31=\"\",0,ScoresEntry!L31)","v":0},0,0,"","","",{"$f":"IF(ScoresEntry!$B31=\"\",0,IF(ScoresEntry!M31=\"SNF\",ScoresEntry!$O$2*15,IF(ScoresEntry!M31=\"SDQ\",990,IF(ScoresEntry!M31=\"MDQ\",999,ScoresEntry!M31))))","v":0},{"$f":"IF(ScoresEntry!$B31=\"\",0,ScoresEntry!N31)","v":0},{"$f":"IF(ScoresEntry!$B31=\"\",0,ScoresEntry!O31)","v":0},{"$f":"IF(ScoresEntry!$B31=\"\",0,ScoresEntry!P31)","v":0},{"$f":"IF(ScoresEntry!$B31=\"\",0,ScoresEntry!Q31)","v":0},0,0,"","","",0,0,0,0,"",null,27,{"$f":"ScoresEntry!T31","v":0}]
[{"$f":"IF(ScoresEntry!A32=\"\",\"\",ScoresEntry!A32)","v":28},{"$f":"IF(ScoresEntry!$B32=\"\",\"\",ScoresEntry!$B32)","v":" "},{"$f":"IF(ShooterList!I31=0,\"\",ShooterList!I31)","v":""},{"$f":"IF(ScoresEntry!$B32=\"\",0,IF(ScoresEntry!C32=\"SNF\",ScoresEntry!$E$2*15,IF(ScoresEntry!C32=\"SDQ\",990,IF(ScoresEntry!C32=\"MDQ\",999,ScoresEntry!C32))))","v":0},{"$f":"IF(ScoresEntry!$B32=\"\",0,ScoresEntry!D32)","v":0},{"$f":"IF(ScoresEntry!$B32=\"\",0,ScoresEntry!E32)","v":0},{"$f":"IF(ScoresEntry!$B32=\"\",0,ScoresEntry!F32)","v":0},{"$f":"IF(ScoresEntry!$B32=\"\",0,ScoresEntry!G32)","v":0},0,0,"","","",{"$f":"IF(ScoresEntry!$B32=\"\",0,IF(ScoresEntry!H32=\"SNF\",ScoresEntry!$J$2*15,IF(ScoresEntry!H32=\"SDQ\",990,IF(ScoresEntry!H32=\"MDQ\",999,ScoresEntry!H32))))","v":0},{"$f":"IF(ScoresEntry!$B32=\"\",0,ScoresEntry!I32)","v":0},{"$f":"IF(ScoresEntry!$B32=\"\",0,ScoresEntry!J32)","v":0},{"$f":"IF(ScoresEntry!$B32=\"\",0,ScoresEntry!K32)","v":0},{"$f":"IF(ScoresEntry!$B32=\"\",0,ScoresEntry!L32)","v":0},0,0,"","","",{"$f":"IF(ScoresEntry!$B32=\"\",0,IF(ScoresEntry!M32=\"SNF\",ScoresEntry!$O$2*15,IF(ScoresEntry!M32=\"SDQ\",990,IF(ScoresEntry!M32=\"MDQ\",999,ScoresEntry!M32))))","v":0},{"$f":"IF(ScoresEntry!$B32=\"\",0,ScoresEntry!N32)","v":0},{"$f":"IF(ScoresEntry!$B32=\"\",0,ScoresEntry!O32)","v":0},{"$f":"IF(ScoresEntry!$B32=\"\",0,ScoresEntry!P32)","v":0},{"$f":"IF(ScoresEntry!$B32=\"\",0,ScoresEntry!Q32)","v":0},0,0,"","","",0,0,0,0,"",null,28,{"$f":"ScoresEntry!T32","v":0}]
[{"$f":"IF(ScoresEntry!A33=\"\",\"\",ScoresEntry!A33)","v":29},{"$f":"IF(ScoresEntry!$B33=\"\",\"\",ScoresEntry!$B33)","v":" "},{"$f":"IF(ShooterList!I32=0,\"\",ShooterList!I32)","v":""},{"$f":"IF(ScoresEntry!$B33=\"\",0,IF(ScoresEntry!C33=\"SNF\",ScoresEntry!$E$2*15,IF(ScoresEntry!C33=\"SDQ\",990,IF(ScoresEntry!C33=\"MDQ\",999,ScoresEntry!C33))))","v":0},{"$f":"IF(ScoresEntry!$B33=\"\",0,ScoresEntry!D33)","v":0},{"$f":"IF(ScoresEntry!$B33=\"\",0,ScoresEntry!E33)","v":0},{"$f":"IF(ScoresEntry!$B33=\"\",0,ScoresEntry!F33)","v":0},{"$f":"IF(ScoresEntry!$B33=\"\",0,ScoresEntry!G33)","v":0},0,0,"","","",{"$f":"IF(ScoresEntry!$B33=\"\",0,IF(ScoresEntry!H33=\"SNF\",ScoresEntry!$J$2*15,IF(ScoresEntry!H33=\"SDQ\",990,IF(ScoresEntry!H33=\"MDQ\",999,ScoresEntry!H33))))","v":0},{"$f":"IF(ScoresEntry!$B33=\"\",0,ScoresEntry!I33)","v":0},{"$f":"IF(ScoresEntry!$B33=\"\",0,ScoresEntry!J33)","v":0},{"$f":"IF(ScoresEntry!$B33=\"\",0,ScoresEntry!K33)","v":0},{"$f":"IF(ScoresEntry!$B33=\"\",0,ScoresEntry!L33)","v":0},0,0,"","","",{"$f":"IF(ScoresEntry!$B33=\"\",0,IF(ScoresEntry!M33=\"SNF\",ScoresEntry!$O$2*15,IF(ScoresEntry!M33=\"SDQ\",990,IF(ScoresEntry!M33=\"MDQ\",999,ScoresEntry!M33))))","v":0},{"$f":"IF(ScoresEntry!$B33=\"\",0,ScoresEntry!N33)","v":0},{"$f":"IF(ScoresEntry!$B33=\"\",0,ScoresEntry!O33)","v":0},{"$f":"IF(ScoresEntry!$B33=\"\",0,ScoresEntry!P33)","v":0},{"$f":"IF(ScoresEntry!$B33=\"\",0,ScoresEntry!Q33)","v":0},0,0,"","","",0,0,0,0,"",null,29,{"$f":"ScoresEntry!T33","v":0}]
[{"$f":"IF(ScoresEntry!A34=\"\",\"\",ScoresEntry!A34)","v":30},{"$f":"IF(ScoresEntry!$B34=\"\",\"\",ScoresEntry!$B34)","v":" "},{"$f":"IF(ShooterList!I33=0,\"\",ShooterList!I33)","v":""},{"$f":"IF(ScoresEntry!$B34=\"\",0,IF(ScoresEntry!C34=\"SNF\",ScoresEntry!$E$2*15,IF(ScoresEntry!C34=\"SDQ\",990,IF(ScoresEntry!C34=\"MDQ\",999,ScoresEntry!C34))))","v":0},{"$f":"IF(ScoresEntry!$B34=\"\",0,ScoresEntry!D34)","v":0},{"$f":"IF(ScoresEntry!$B34=\"\",0,ScoresEntry!E34)","v":0},{"$f":"IF(ScoresEntry!$B34=\"\",0,ScoresEntry!F34)","v":0},{"$f":"IF(ScoresEntry!$B34=\"\",0,ScoresEntry!G34)","v":0},0,0,"","","",{"$f":"IF(ScoresEntry!$B34=\"\",0,IF(ScoresEntry!H34=\"SNF\",ScoresEntry!$J$2*15,IF(ScoresEntry!H34=\"SDQ\",990,IF(ScoresEntry!H34=\"MDQ\",999,ScoresEntry!H34))))","v":0},{"$f":"IF(ScoresEntry!$B34=\"\",0,ScoresEntry!I34)","v":0},{"$f":"IF(ScoresEntry!$B34=\"\",0,ScoresEntry!J34)","v":0},{"$f":"IF(ScoresEntry!$B34=\"\",0,ScoresEntry!K34)","v":0},{"$f":"IF(ScoresEntry!$B34=\"\",0,ScoresEntry!L34)","v":0},0,0,"","","",{"$f":"IF(ScoresEntry!$B34=\"\",0,IF(ScoresEntry!M34=\"SNF\",ScoresEntry!$O$2*15,IF(ScoresEntry!M34=\"SDQ\",990,IF(ScoresEntry!M34=\"MDQ\",999,ScoresEntry!M34))))","v":0},{"$f":"IF(ScoresEntry!$B34=\"\",0,ScoresEntry!N34)","v":0},{"$f":"IF(ScoresEntry!$B34=\"\",0,ScoresEntry!O34)","v":0},{"$f":"IF(ScoresEntry!$B34=\"\",0,ScoresEntry!P34)","v":0},{"$f":"IF(ScoresEntry!$B34=\"\",0,ScoresEntry!Q34)","v":0},0,0,"","","",0,0,0,0,"",null,30,{"$f":"ScoresEntry!T34","v":0}]
[{"$f":"IF(ScoresEntry!A35=\"\",\"\",ScoresEntry!A35)","v":31},{"$f":"IF(ScoresEntry!$B35=\"\",\"\",ScoresEntry!$B35)","v":" "},{"$f":"IF(ShooterList!I34=0,\"\",ShooterList!I34)","v":""},{"$f":"IF(ScoresEntry!$B35=\"\",0,IF(ScoresEntry!C35=\"SNF\",ScoresEntry!$E$2*15,IF(ScoresEntry!C35=\"SDQ\",990,IF(ScoresEntry!C35=\"MDQ\",999,ScoresEntry!C35))))","v":0},{"$f":"IF(ScoresEntry!$B35=\"\",0,ScoresEntry!D35)","v":0},{"$f":"IF(ScoresEntry!$B35=\"\",0,ScoresEntry!E35)","v":0},{"$f":"IF(ScoresEntry!$B35=\"\",0,ScoresEntry!F35)","v":0},{"$f":"IF(ScoresEntry!$B35=\"\",0,ScoresEntry!G35)","v":0},0,0,"","","",{"$f":"IF(ScoresEntry!$B35=\"\",0,IF(ScoresEntry!H35=\"SNF\",ScoresEntry!$J$2*15,IF(ScoresEntry!H35=\"SDQ\",990,IF(ScoresEntry!H35=\"MDQ\",999,ScoresEntry!H35))))","v":0},{"$f":"IF(ScoresEntry!$B35=\"\",0,ScoresEntry!I35)","v":0},{"$f":"IF(ScoresEntry!$B35=\"\",0,ScoresEntry!J35)","v":0},{"$f":"IF(ScoresEntry!$B35=\"\",0,ScoresEntry!K35)","v":0},{"$f":"IF(ScoresEntry!$B35=\"\",0,ScoresEntry!L35)","v":0},0,0,"","","",{"$f":"IF(ScoresEntry!$B35=\"\",0,IF(ScoresEntry!M35=\"SNF\",ScoresEntry!$O$2*15,IF(ScoresEntry!M35=\"SDQ\",990,IF(ScoresEntry!M35=\"MDQ\",999,ScoresEntry!M35))))","v":0},{"$f":"IF(ScoresEntry!$B35=\"\",0,ScoresEntry!N35)","v":0},{"$f":"IF(ScoresEntry!$B35=\"\",0,ScoresEntry!O35)","v":0},{"$f":"IF(ScoresEntry!$B35=\"\",0,ScoresEntry!P35)","v":0},{"$f":"IF(ScoresEntry!$B35=\"\",0,ScoresEntry!Q35)","v":0},0,0,"","","",0,0,0,0,"",null,31,{"$f":"ScoresEntry!T35","v":0}]
[{"$f":"IF(ScoresEntry!A36=\"\",\"\",ScoresEntry!A36)","v":32},{"$f":"IF(ScoresEntry!$B36=\"\",\"\",ScoresEntry!$B36)","v":" "},{"$f":"IF(ShooterList!I35=0,\"\",ShooterList!I35)","v":""},{"$f":"IF(ScoresEntry!$B36=\"\",0,IF(ScoresEntry!C36=\"SNF\",ScoresEntry!$E$2*15,IF(ScoresEntry!C36=\"SDQ\",990,IF(ScoresEntry!C36=\"MDQ\",999,ScoresEntry!C36))))","v":0},{"$f":"IF(ScoresEntry!$B36=\"\",0,ScoresEntry!D36)","v":0},{"$f":"IF(ScoresEntry!$B36=\"\",0,ScoresEntry!E36)","v":0},{"$f":"IF(ScoresEntry!$B36=\"\",0,ScoresEntry!F36)","v":0},{"$f":"IF(ScoresEntry!$B36=\"\",0,ScoresEntry!G36)","v":0},0,0,"","","",{"$f":"IF(ScoresEntry!$B36=\"\",0,IF(ScoresEntry!H36=\"SNF\",ScoresEntry!$J$2*15,IF(ScoresEntry!H36=\"SDQ\",990,IF(ScoresEntry!H36=\"MDQ\",999,ScoresEntry!H36))))","v":0},{"$f":"IF(ScoresEntry!$B36=\"\",0,ScoresEntry!I36)","v":0},{"$f":"IF(ScoresEntry!$B36=\"\",0,ScoresEntry!J36)","v":0},{"$f":"IF(ScoresEntry!$B36=\"\",0,ScoresEntry!K36)","v":0},{"$f":"IF(ScoresEntry!$B36=\"\",0,ScoresEntry!L36)","v":0},0,0,"","","",{"$f":"IF(ScoresEntry!$B36=\"\",0,IF(ScoresEntry!M36=\"SNF\",ScoresEntry!$O$2*15,IF(ScoresEntry!M36=\"SDQ\",990,IF(ScoresEntry!M36=\"MDQ\",999,ScoresEntry!M36))))","v":0},{"$f":"IF(ScoresEntry!$B36=\"\",0,ScoresEntry!N36)","v":0},{"$f":"IF(ScoresEntry!$B36=\"\",0,ScoresEntry!O36)","v":0},{"$f":"IF(ScoresEntry!$B36=\"\",0,ScoresEntry!P36)","v":0},{"$f":"IF(ScoresEntry!$B36=\"\",0,ScoresEntry!Q36)","v":0},0,0,"","","",0,0,0,0,"",null,32,{"$f":"ScoresEntry!T36","v":0}]
[{"$f":"IF(ScoresEntry!A37=\"\",\"\",ScoresEntry!A37)","v":33},{"$f":"IF(ScoresEntry!$B37=\"\",\"\",ScoresEntry!$B37)","v":" "},{"$f":"IF(ShooterList!I36=0,\"\",ShooterList!I36)","v":""},{"$f":"IF(ScoresEntry!$B37=\"\",0,IF(ScoresEntry!C37=\"SNF\",ScoresEntry!$E$2*15,IF(ScoresEntry!C37=\"SDQ\",990,IF(ScoresEntry!C37=\"MDQ\",999,ScoresEntry!C37))))","v":0},{"$f":"IF(ScoresEntry!$B37=\"\",0,ScoresEntry!D37)","v":0},{"$f":"IF(ScoresEntry!$B37=\"\",0,ScoresEntry!E37)","v":0},{"$f":"IF(ScoresEntry!$B37=\"\",0,ScoresEntry!F37)","v":0},{"$f":"IF(ScoresEntry!$B37=\"\",0,ScoresEntry!G37)","v":0},0,0,"","","",{"$f":"IF(ScoresEntry!$B37=\"\",0,IF(ScoresEntry!H37=\"SNF\",ScoresEntry!$J$2*15,IF(ScoresEntry!H37=\"SDQ\",990,IF(ScoresEntry!H37=\"MDQ\",999,ScoresEntry!H37))))","v":0},{"$f":"IF(ScoresEntry!$B37=\"\",0,ScoresEntry!I37)","v":0},{"$f":"IF(ScoresEntry!$B37=\"\",0,ScoresEntry!J37)","v":0},{"$f":"IF(ScoresEntry!$B37=\"\",0,ScoresEntry!K37)","v":0},{"$f":"IF(ScoresEntry!$B37=\"\",0,ScoresEntry!L37)","v":0},0,0,"","","",{"$f":"IF(ScoresEntry!$B37=\"\",0,IF(ScoresEntry!M37=\"SNF\",ScoresEntry!$O$2*15,IF(ScoresEntry!M37=\"SDQ\",990,IF(ScoresEntry!M37=\"MDQ\",999,ScoresEntry!M37))))","v":0},{"$f":"IF(ScoresEntry!$B37=\"\",0,ScoresEntry!N37)","v":0},{"$f":"IF(ScoresEntry!$B37=\"\",0,ScoresEntry!O37)","v":0},{"$f":"IF(ScoresEntry!$B37=\"\",0,ScoresEntry!P37)","v":0},{"$f":"IF(ScoresEntry!$B37=\"\",0,ScoresEntry!Q37)","v":0},0,0,"","","",0,0,0,0,"",null,33,{"$f":"ScoresEntry!T37","v":0}]
[{"$f":"IF(ScoresEntry!A38=\"\",\"\",ScoresEntry!A38)","v":34},{"$f":"IF(ScoresEntry!$B38=\"\",\"\",ScoresEntry!$B38)","v":" "},{"$f":"IF(ShooterList!I37=0,\"\",ShooterList!I37)","v":""},{"$f":"IF(ScoresEntry!$B38=\"\",0,IF(ScoresEntry!C38=\"SNF\",ScoresEntry!$E$2*15,IF(ScoresEntry!C38=\"SDQ\",990,IF(ScoresEntry!C38=\"MDQ\",999,ScoresEntry!C38))))","v":0},{"$f":"IF(ScoresEntry!$B38=\"\",0,ScoresEntry!D38)","v":0},{"$f":"IF(ScoresEntry!$B38=\"\",0,ScoresEntry!E38)","v":0},{"$f":"IF(ScoresEntry!$B38=\"\",0,ScoresEntry!F38)","v":0},{"$f":"IF(ScoresEntry!$B38=\"\",0,ScoresEntry!G38)","v":0},0,0,"","","",{"$f":"IF(ScoresEntry!$B38=\"\",0,IF(ScoresEntry!H38=\"SNF\",ScoresEntry!$J$2*15,IF(ScoresEntry!H38=\"SDQ\",990,IF(ScoresEntry!H38=\"MDQ\",999,ScoresEntry!H38))))","v":0},{"$f":"IF(ScoresEntry!$B38=\"\",0,ScoresEntry!I38)","v":0},{"$f":"IF(ScoresEntry!$B38=\"\",0,ScoresEntry!J38)","v":0},{"$f":"IF(ScoresEntry!$B38=\"\",0,ScoresEntry!K38)","v":0},{"$f":"IF(ScoresEntry!$B38=\"\",0,ScoresEntry!L38)","v":0},0,0,"","","",{"$f":"IF(ScoresEntry!$B38=\"\",0,IF(ScoresEntry!M38=\"SNF\",ScoresEntry!$O$2*15,IF(ScoresEntry!M38=\"SDQ\",990,IF(ScoresEntry!M38=\"MDQ\",999,ScoresEntry!M38))))","v":0},{"$f":"IF(ScoresEntry!$B38=\"\",0,ScoresEntry!N38)","v":0},{"$f":"IF(ScoresEntry!$B38=\"\",0,ScoresEntry!O38)","v":0},{"$f":"IF(ScoresEntry!$B38=\"\",0,ScoresEntry!P38)","v":0},{"$f":"IF(ScoresEntry!$B38=\"\",0,ScoresEntry!Q38)","v":0},0,0,"","","",0,0,0,0,"",null,34,{"$f":"ScoresEntry!T38","v":0}]
[{"$f":"IF(ScoresEntry!A39=\"\",\"\",ScoresEntry!A39)","v":35},{"$f":"IF(ScoresEntry!$B39=\"\",\"\",ScoresEntry!$B39)","v":" "},{"$f":"IF(ShooterList!I38=0,\"\",ShooterList!I38)","v":""},{"$f":"IF(ScoresEntry!$B39=\"\",0,IF(ScoresEntry!C39=\"SNF\",ScoresEntry!$E$2*15,IF(ScoresEntry!C39=\"SDQ\",990,IF(ScoresEntry!C39=\"MDQ\",999,ScoresEntry!C39))))","v":0},{"$f":"IF(ScoresEntry!$B39=\"\",0,ScoresEntry!D39)","v":0},{"$f":"IF(ScoresEntry!$B39=\"\",0,ScoresEntry!E39)","v":0},{"$f":"IF(ScoresEntry!$B39=\"\",0,ScoresEntry!F39)","v":0},{"$f":"IF(ScoresEntry!$B39=\"\",0,ScoresEntry!G39)","v":0},0,0,"","","",{"$f":"IF(ScoresEntry!$B39=\"\",0,IF(ScoresEntry!H39=\"SNF\",ScoresEntry!$J$2*15,IF(ScoresEntry!H39=\"SDQ\",990,IF(ScoresEntry!H39=\"MDQ\",999,ScoresEntry!H39))))","v":0},{"$f":"IF(ScoresEntry!$B39=\"\",0,ScoresEntry!I39)","v":0},{"$f":"IF(ScoresEntry!$B39=\"\",0,ScoresEntry!J39)","v":0},{"$f":"IF(ScoresEntry!$B39=\"\",0,ScoresEntry!K39)","v":0},{"$f":"IF(ScoresEntry!$B39=\"\",0,ScoresEntry!L39)","v":0},0,0,"","","",{"$f":"IF(ScoresEntry!$B39=\"\",0,IF(ScoresEntry!M39=\"SNF\",ScoresEntry!$O$2*15,IF(ScoresEntry!M39=\"SDQ\",990,IF(ScoresEntry!M39=\"MDQ\",999,ScoresEntry!M39))))","v":0},{"$f":"IF(ScoresEntry!$B39=\"\",0,ScoresEntry!N39)","v":0},{"$f":"IF(ScoresEntry!$B39=\"\",0,ScoresEntry!O39)","v":0},{"$f":"IF(ScoresEntry!$B39=\"\",0,ScoresEntry!P39)","v":0},{"$f":"IF(ScoresEntry!$B39=\"\",0,ScoresEntry!Q39)","v":0},0,0,"","","",0,0,0,0,"",null,35,{"$f":"ScoresEntry!T39","v":0}]
[{"$f":"IF(ScoresEntry!A40=\"\",\"\",ScoresEntry!A40)","v":36},{"$f":"IF(ScoresEntry!$B40=\"\",\"\",ScoresEntry!$B40)","v":" "},{"$f":"IF(ShooterList!I39=0,\"\",ShooterList!I39)","v":""},{"$f":"IF(ScoresEntry!$B40=\"\",0,IF(ScoresEntry!C40=\"SNF\",ScoresEntry!$E$2*15,IF(ScoresEntry!C40=\"SDQ\",990,IF(ScoresEntry!C40=\"MDQ\",999,ScoresEntry!C40))))","v":0},{"$f":"IF(ScoresEntry!$B40=\"\",0,ScoresEntry!D40)","v":0},{"$f":"IF(ScoresEntry!$B40=\"\",0,ScoresEntry!E40)","v":0},{"$f":"IF(ScoresEntry!$B40=\"\",0,ScoresEntry!F40)","v":0},{"$f":"IF(ScoresEntry!$B40=\"\",0,ScoresEntry!G40)","v":0},0,0,"","","",{"$f":"IF(ScoresEntry!$B40=\"\",0,IF(ScoresEntry!H40=\"SNF\",ScoresEntry!$J$2*15,IF(ScoresEntry!H40=\"SDQ\",990,IF(ScoresEntry!H40=\"MDQ\",999,ScoresEntry!H40))))","v":0},{"$f":"IF(ScoresEntry!$B40=\"\",0,ScoresEntry!I40)","v":0},{"$f":"IF(ScoresEntry!$B40=\"\",0,ScoresEntry!J40)","v":0},{"$f":"IF(ScoresEntry!$B40=\"\",0,ScoresEntry!K40)","v":0},{"$f":"IF(ScoresEntry!$B40=\"\",0,ScoresEntry!L40)","v":0},0,0,"","","",{"$f":"IF(ScoresEntry!$B40=\"\",0,IF(ScoresEntry!M40=\"SNF\",ScoresEntry!$O$2*15,IF(ScoresEntry!M40=\"SDQ\",990,IF(ScoresEntry!M40=\"MDQ\",999,ScoresEntry!M40))))","v":0},{"$f":"IF(ScoresEntry!$B40=\"\",0,ScoresEntry!N40)","v":0},{"$f":"IF(ScoresEntry!$B40=\"\",0,ScoresEntry!O40)","v":0},{"$f":"IF(ScoresEntry!$B40=\"\",0,ScoresEntry!P40)","v":0},{"$f":"IF(ScoresEntry!$B40=\"\",0,ScoresEntry!Q40)","v":0},0,0,"","","",0,0,0,0,"",null,36,{"$f":"ScoresEntry!T40","v":0}]
[{"$f":"IF(ScoresEntry!A41=\"\",\"\",ScoresEntry!A41)","v":37},{"$f":"IF(ScoresEntry!$B41=\"\",\"\",ScoresEntry!$B41)","v":" "},{"$f":"IF(ShooterList!I40=0,\"\",ShooterList!I40)","v":""},{"$f":"IF(ScoresEntry!$B41=\"\",0,IF(ScoresEntry!C41=\"SNF\",ScoresEntry!$E$2*15,IF(ScoresEntry!C41=\"SDQ\",990,IF(ScoresEntry!C41=\"MDQ\",999,ScoresEntry!C41))))","v":0},{"$f":"IF(ScoresEntry!$B41=\"\",0,ScoresEntry!D41)","v":0},{"$f":"IF(ScoresEntry!$B41=\"\",0,ScoresEntry!E41)","v":0},{"$f":"IF(ScoresEntry!$B41=\"\",0,ScoresEntry!F41)","v":0},{"$f":"IF(ScoresEntry!$B41=\"\",0,ScoresEntry!G41)","v":0},0,0,"","","",{"$f":"IF(ScoresEntry!$B41=\"\",0,IF(ScoresEntry!H41=\"SNF\",ScoresEntry!$J$2*15,IF(ScoresEntry!H41=\"SDQ\",990,IF(ScoresEntry!H41=\"MDQ\",999,ScoresEntry!H41))))","v":0},{"$f":"IF(ScoresEntry!$B41=\"\",0,ScoresEntry!I41)","v":0},{"$f":"IF(ScoresEntry!$B41=\"\",0,ScoresEntry!J41)","v":0},{"$f":"IF(ScoresEntry!$B41=\"\",0,ScoresEntry!K41)","v":0},{"$f":"IF(ScoresEntry!$B41=\"\",0,ScoresEntry!L41)","v":0},0,0,"","","",{"$f":"IF(ScoresEntry!$B41=\"\",0,IF(ScoresEntry!M41=\"SNF\",ScoresEntry!$O$2*15,IF(ScoresEntry!M41=\"SDQ\",990,IF(ScoresEntry!M41=\"MDQ\",999,ScoresEntry!M41))))","v":0},{"$f":"IF(ScoresEntry!$B41=\"\",0,ScoresEntry!N41)","v":0},{"$f":"IF(ScoresEntry!$B41=\"\",0,ScoresEntry!O41)","v":0},{"$f":"IF(ScoresEntry!$B41=\"\",0,ScoresEntry!P41)","v":0},{"$f":"IF(ScoresEntry!$B41=\"\",0,ScoresEntry!Q41)","v":0},0,0,"","","",0,0,0,0,"",null,37,{"$f":"ScoresEntry!T41","v":0}]
[{"$f":"IF(ScoresEntry!A42=\"\",\"\",ScoresEntry!A42)","v":38},{"$f":"IF(ScoresEntry!$B42=\"\",\"\",ScoresEntry!$B42)","v":" "},{"$f":"IF(ShooterList!I41=0,\"\",ShooterList!I41)","v":""},{"$f":"IF(ScoresEntry!$B42=\"\",0,IF(ScoresEntry!C42=\"SNF\",ScoresEntry!$E$2*15,IF(ScoresEntry!C42=\"SDQ\",990,IF(ScoresEntry!C42=\"MDQ\",999,ScoresEntry!C42))))","v":0},{"$f":"IF(ScoresEntry!$B42=\"\",0,ScoresEntry!D42)","v":0},{"$f":"IF(ScoresEntry!$B42=\"\",0,ScoresEntry!E42)","v":0},{"$f":"IF(ScoresEntry!$B42=\"\",0,ScoresEntry!F42)","v":0},{"$f":"IF(ScoresEntry!$B42=\"\",0,ScoresEntry!G42)","v":0},0,0,"","","",{"$f":"IF(ScoresEntry!$B42=\"\",0,IF(ScoresEntry!H42=\"SNF\",ScoresEntry!$J$2*15,IF(ScoresEntry!H42=\"SDQ\",990,IF(ScoresEntry!H42=\"MDQ\",999,ScoresEntry!H42))))","v":0},{"$f":"IF(ScoresEntry!$B42=\"\",0,ScoresEntry!I42)","v":0},{"$f":"IF(ScoresEntry!$B42=\"\",0,ScoresEntry!J42)","v":0},{"$f":"IF(ScoresEntry!$B42=\"\",0,ScoresEntry!K42)","v":0},{"$f":"IF(ScoresEntry!$B42=\"\",0,ScoresEntry!L42)","v":0},0,0,"","","",{"$f":"IF(ScoresEntry!$B42=\"\",0,IF(ScoresEntry!M42=\"SNF\",ScoresEntry!$O$2*15,IF(ScoresEntry!M42=\"SDQ\",990,IF(ScoresEntry!M42=\"MDQ\",999,ScoresEntry!M42))))","v":0},{"$f":"IF(ScoresEntry!$B42=\"\",0,ScoresEntry!N42)","v":0},{"$f":"IF(ScoresEntry!$B42=\"\",0,ScoresEntry!O42)","v":0},{"$f":"IF(ScoresEntry!$B42=\"\",0,ScoresEntry!P42)","v":0},{"$f":"IF(ScoresEntry!$B42=\"\",0,ScoresEntry!Q42)","v":0},0,0,"","","",0,0,0,0,"",null,38,{"$f":"ScoresEntry!T42","v":0}]
[{"$f":"IF(ScoresEntry!A43=\"\",\"\",ScoresEntry!A43)","v":39},{"$f":"IF(ScoresEntry!$B43=\"\",\"\",ScoresEntry!$B43)","v":" "},{"$f":"IF(ShooterList!I42=0,\"\",ShooterList!I42)","v":""},{"$f":"IF(ScoresEntry!$B43=\"\",0,IF(ScoresEntry!C43=\"SNF\",ScoresEntry!$E$2*15,IF(ScoresEntry!C43=\"SDQ\",990,IF(ScoresEntry!C43=\"MDQ\",999,ScoresEntry!C43))))","v":0},{"$f":"IF(ScoresEntry!$B43=\"\",0,ScoresEntry!D43)","v":0},{"$f":"IF(ScoresEntry!$B43=\"\",0,ScoresEntry!E43)","v":0},{"$f":"IF(ScoresEntry!$B43=\"\",0,ScoresEntry!F43)","v":0},{"$f":"IF(ScoresEntry!$B43=\"\",0,ScoresEntry!G43)","v":0},0,0,"","","",{"$f":"IF(ScoresEntry!$B43=\"\",0,IF(ScoresEntry!H43=\"SNF\",ScoresEntry!$J$2*15,IF(ScoresEntry!H43=\"SDQ\",990,IF(ScoresEntry!H43=\"MDQ\",999,ScoresEntry!H43))))","v":0},{"$f":"IF(ScoresEntry!$B43=\"\",0,ScoresEntry!I43)","v":0},{"$f":"IF(ScoresEntry!$B43=\"\",0,ScoresEntry!J43)","v":0},{"$f":"IF(ScoresEntry!$B43=\"\",0,ScoresEntry!K43)","v":0},{"$f":"IF(ScoresEntry!$B43=\"\",0,ScoresEntry!L43)","v":0},0,0,"","","",{"$f":"IF(ScoresEntry!$B43=\"\",0,IF(ScoresEntry!M43=\"SNF\",ScoresEntry!$O$2*15,IF(ScoresEntry!M43=\"SDQ\",990,IF(ScoresEntry!M43=\"MDQ\",999,ScoresEntry!M43))))","v":0},{"$f":"IF(ScoresEntry!$B43=\"\",0,ScoresEntry!N43)","v":0},{"$f":"IF(ScoresEntry!$B43=\"\",0,ScoresEntry!O43)","v":0},{"$f":"IF(ScoresEntry!$B43=\"\",0,ScoresEntry!P43)","v":0},{"$f":"IF(ScoresEntry!$B43=\"\",0,ScoresEntry!Q43)","v":0},0,0,"","","",0,0,0,0,"",null,39,{"$f":"ScoresEntry!T43","v":0}]
[{"$f":"IF(ScoresEntry!A44=\"\",\"\",ScoresEntry!A44)","v":40},{"$f":"IF(ScoresEntry!$B44=\"\",\"\",ScoresEntry!$B44)","v":" "},{"$f":"IF(ShooterList!I43=0,\"\",ShooterList!I43)","v":""},{"$f":"IF(ScoresEntry!$B44=\"\",0,IF(ScoresEntry!C44=\"SNF\",ScoresEntry!$E$2*15,IF(ScoresEntry!C44=\"SDQ\",990,IF(ScoresEntry!C44=\"MDQ\",999,ScoresEntry!C44))))","v":0},{"$f":"IF(ScoresEntry!$B44=\"\",0,ScoresEntry!D44)","v":0},{"$f":"IF(ScoresEntry!$B44=\"\",0,ScoresEntry!E44)","v":0},{"$f":"IF(ScoresEntry!$B44=\"\",0,ScoresEntry!F44)","v":0},{"$f":"IF(ScoresEntry!$B44=\"\",0,ScoresEntry!G44)","v":0},0,0,"","","",{"$f":"IF(ScoresEntry!$B44=\"\",0,IF(ScoresEntry!H44=\"SNF\",ScoresEntry!$J$2*15,IF(ScoresEntry!H44=\"SDQ\",990,IF(ScoresEntry!H44=\"MDQ\",999,ScoresEntry!H44))))","v":0},{"$f":"IF(ScoresEntry!$B44=\"\",0,ScoresEntry!I44)","v":0},{"$f":"IF(ScoresEntry!$B44=\"\",0,ScoresEntry!J44)","v":0},{"$f":"IF(ScoresEntry!$B44=\"\",0,ScoresEntry!K44)","v":0},{"$f":"IF(ScoresEntry!$B44=\"\",0,ScoresEntry!L44)","v":0},0,0,"","","",{"$f":"IF(ScoresEntry!$B44=\"\",0,IF(ScoresEntry!M44=\"SNF\",ScoresEntry!$O$2*15,IF(ScoresEntry!M44=\"SDQ\",990,IF(ScoresEntry!M44=\"MDQ\",999,ScoresEntry!M44))))","v":0},{"$f":"IF(ScoresEntry!$B44=\"\",0,ScoresEntry!N44)","v":0},{"$f":"IF(ScoresEntry!$B44=\"\",0,ScoresEntry!O44)","v":0},{"$f":"IF(ScoresEntry!$B44=\"\",0,ScoresEntry!P44)","v":0},{"$f":"IF(ScoresEntry!$B44=\"\",0,ScoresEntry!Q44)","v":0},0,0,"","","",0,0,0,0,"",null,40,{"$f":"ScoresEntry!T44","v":0}]
[{"$f":"IF(ScoresEntry!A45=\"\",\"\",ScoresEntry!A45)","v":41},{"$f":"IF(ScoresEntry!$B45=\"\",\"\",ScoresEntry!$B45)","v":" "},{"$f":"IF(ShooterList!I44=0,\"\",ShooterList!I44)","v":""},{"$f":"IF(ScoresEntry!$B45=\"\",0,IF(ScoresEntry!C45=\"SNF\",ScoresEntry!$E$2*15,IF(ScoresEntry!C45=\"SDQ\",990,IF(ScoresEntry!C45=\"MDQ\",999,ScoresEntry!C45))))","v":0},{"$f":"IF(ScoresEntry!$B45=\"\",0,ScoresEntry!D45)","v":0},{"$f":"IF(ScoresEntry!$B45=\"\",0,ScoresEntry!E45)","v":0},{"$f":"IF(ScoresEntry!$B45=\"\",0,ScoresEntry!F45)","v":0},{"$f":"IF(ScoresEntry!$B45=\"\",0,ScoresEntry!G45)","v":0},0,0,"","","",{"$f":"IF(ScoresEntry!$B45=\"\",0,IF(ScoresEntry!H45=\"SNF\",ScoresEntry!$J$2*15,IF(ScoresEntry!H45=\"SDQ\",990,IF(ScoresEntry!H45=\"MDQ\",999,ScoresEntry!H45))))","v":0},{"$f":"IF(ScoresEntry!$B45=\"\",0,ScoresEntry!I45)","v":0},{"$f":"IF(ScoresEntry!$B45=\"\",0,ScoresEntry!J45)","v":0},{"$f":"IF(ScoresEntry!$B45=\"\",0,ScoresEntry!K45)","v":0},{"$f":"IF(ScoresEntry!$B45=\"\",0,ScoresEntry!L45)","v":0},0,0,"","","",{"$f":"IF(ScoresEntry!$B45=\"\",0,IF(ScoresEntry!M45=\"SNF\",ScoresEntry!$O$2*15,IF(ScoresEntry!M45=\"SDQ\",990,IF(ScoresEntry!M45=\"MDQ\",999,ScoresEntry!M45))))","v":0},{"$f":"IF(ScoresEntry!$B45=\"\",0,ScoresEntry!N45)","v":0},{"$f":"IF(ScoresEntry!$B45=\"\",0,ScoresEntry!O45)","v":0},{"$f":"IF(ScoresEntry!$B45=\"\",0,ScoresEntry!P45)","v":0},{"$f":"IF(ScoresEntry!$B45=\"\",0,ScoresEntry!Q45)","v":0},0,0,"","","",0,0,0,0,"",null,41,{"$f":"ScoresEntry!T45","v":0}]
[{"$f":"IF(ScoresEntry!A46=\"\",\"\",ScoresEntry!A46)","v":42},{"$f":"IF(ScoresEntry!$B46=\"\",\"\",ScoresEntry!$B46)","v":" "},{"$f":"IF(ShooterList!I45=0,\"\",ShooterList!I45)","v":""},{"$f":"IF(ScoresEntry!$B46=\"\",0,IF(ScoresEntry!C46=\"SNF\",ScoresEntry!$E$2*15,IF(ScoresEntry!C46=\"SDQ\",990,IF(ScoresEntry!C46=\"MDQ\",999,ScoresEntry!C46))))","v":0},{"$f":"IF(ScoresEntry!$B46=\"\",0,ScoresEntry!D46)","v":0},{"$f":"IF(ScoresEntry!$B46=\"\",0,ScoresEntry!E46)","v":0},{"$f":"IF(ScoresEntry!$B46=\"\",0,ScoresEntry!F46)","v":0},{"$f":"IF(ScoresEntry!$B46=\"\",0,ScoresEntry!G46)","v":0},0,0,"","","",{"$f":"IF(ScoresEntry!$B46=\"\",0,IF(ScoresEntry!H46=\"SNF\",ScoresEntry!$J$2*15,IF(ScoresEntry!H46=\"SDQ\",990,IF(ScoresEntry!H46=\"MDQ\",999,ScoresEntry!H46))))","v":0},{"$f":"IF(ScoresEntry!$B46=\"\",0,ScoresEntry!I46)","v":0},{"$f":"IF(ScoresEntry!$B46=\"\",0,ScoresEntry!J46)","v":0},{"$f":"IF(ScoresEntry!$B46=\"\",0,ScoresEntry!K46)","v":0},{"$f":"IF(ScoresEntry!$B46=\"\",0,ScoresEntry!L46)","v":0},0,0,"","","",{"$f":"IF(ScoresEntry!$B46=\"\",0,IF(ScoresEntry!M46=\"SNF\",ScoresEntry!$O$2*15,IF(ScoresEntry!M46=\"SDQ\",990,IF(ScoresEntry!M46=\"MDQ\",999,ScoresEntry!M46))))","v":0},{"$f":"IF(ScoresEntry!$B46=\"\",0,ScoresEntry!N46)","v":0},{"$f":"IF(ScoresEntry!$B46=\"\",0,ScoresEntry!O46)","v":0},{"$f":"IF(ScoresEntry!$B46=\"\",0,ScoresEntry!P46)","v":0},{"$f":"IF(ScoresEntry!$B46=\"\",0,ScoresEntry!Q46)","v":0},0,0,"","","",0,0,0,0,"",null,42,{"$f":"ScoresEntry!T46","v":0}]

{"sheet":"HTML","index":4,"n_rows":91,"n_cols":45,"rows_kept":91,"cut":false,"hidden":false,"merged":[[1,2,1,18],[1,24,1,44],[47,2,47,22],[47,24,47,36]]}
[null,null,{"$f":"ShooterList!G2","v":"DATE"}]
[null,null,"STAGE 1",null,null,null,null,null,null,null,null,null,null,null,null,null,null,null,null,null,null,null,null,null,"STAGE 2"]
[null,null,null,"SHOOTER",null,"TIME",null,"MISS",null,"F2N",null,"F2E",null,"PROC",null,"NET",null,"RANK",null,"TRANK",null,"TPTS",null,null,null,null,null,"TIME",null,"MISS",null,"F2N",null,"F2E",null,"PROC",null,"NET",null,"RANK"]
[1,null,"<tr align=\"center\"><td><strong>",{"$f":"SORT!B5","v":" "},"</strong></td><td>",{"$f":"SORT!D5","v":0},"</td><td>",{"$f":"SORT!E5","v":0},"</td><td>",{"$f":"SORT!F5","v":0},"</td><td>",{"$f":"SORT!G5","v":0},"</td><td>",{"$f":"SORT!H5","v":0},"</td><td><strong>",{"$f":"SORT!I5","v":0},"</strong></td><td><strong>",{"$f":"SORT!J5","v":0},"</strong></td><td>",{"$f":"SORT!L5","v":""},"</td><td>",{"$f":"SORT!M5","v":""},"</td></tr>",null,"<tr align=\"center\"><td><strong>",{"$f":"SORT!B5","v":" "},"</strong></td><td>",{"$f":"SORT!N5","v":0},"</td><td>",{"$f":"SORT!O5","v":0},"</td><td>",{"$f":"SORT!P5","v":0},"</td><td>",{"$f":"SORT!Q5","v":0},"</td><td>",{"$f":"SORT!R5","v":0},"</td><td><strong>",{"$f":"SORT!S5","v":0},"</strong></td><td><strong>",{"$f":"SORT!T5","v":0},"</strong></td><td>",{"$f":"SORT!V5","v":""},"</td><td>",{"$f":"SORT!W5","v":""},"</td></tr>"]
[2,null,"<tr align=\"center\"><td><strong>",{"$f":"SORT!B6","v":" "},"</strong></td><td>",{"$f":"SORT!D6","v":0},"</td><td>",{"$f":"SORT!E6","v":0},"</td><td>",{"$f":"SORT!F6","v":0},"</td><td>",{"$f":"SORT!G6","v":0},"</td><td>",{"$f":"SORT!H6","v":0},"</td><td><strong>",{"$f":"SORT!I6","v":0},"</strong></td><td><strong>",{"$f":"SORT!J6","v":0},"</strong></td><td>",{"$f":"SORT!L6","v":""},"</td><td>",{"$f":"SORT!M6","v":""},"</td></tr>",null,"<tr align=\"center\"><td><strong>",{"$f":"SORT!B6","v":" "},"</strong></td><td>",{"$f":"SORT!N6","v":0},"</td><td>",{"$f":"SORT!O6","v":0},"</td><td>",{"$f":"SORT!P6","v":0},"</td><td>",{"$f":"SORT!Q6","v":0},"</td><td>",{"$f":"SORT!R6","v":0},"</td><td><strong>",{"$f":"SORT!S6","v":0},"</strong></td><td><strong>",{"$f":"SORT!T6","v":0},"</strong></td><td>",{"$f":"SORT!V6","v":""},"</td><td>",{"$f":"SORT!W6","v":""},"</td></tr>"]
[3,null,"<tr align=\"center\"><td><strong>",{"$f":"SORT!B7","v":" "},"</strong></td><td>",{"$f":"SORT!D7","v":0},"</td><td>",{"$f":"SORT!E7","v":0},"</td><td>",{"$f":"SORT!F7","v":0},"</td><td>",{"$f":"SORT!G7","v":0},"</td><td>",{"$f":"SORT!H7","v":0},"</td><td><strong>",{"$f":"SORT!I7","v":0},"</strong></td><td><strong>",{"$f":"SORT!J7","v":0},"</strong></td><td>",{"$f":"SORT!L7","v":""},"</td><td>",{"$f":"SORT!M7","v":""},"</td></tr>",null,"<tr align=\"center\"><td><strong>",{"$f":"SORT!B7","v":" "},"</strong></td><td>",{"$f":"SORT!N7","v":0},"</td><td>",{"$f":"SORT!O7","v":0},"</td><td>",{"$f":"SORT!P7","v":0},"</td><td>",{"$f":"SORT!Q7","v":0},"</td><td>",{"$f":"SORT!R7","v":0},"</td><td><strong>",{"$f":"SORT!S7","v":0},"</strong></td><td><strong>",{"$f":"SORT!T7","v":0},"</strong></td><td>",{"$f":"SORT!V7","v":""},"</td><td>",{"$f":"SORT!W7","v":""},"</td></tr>"]
[4,null,"<tr align=\"center\"><td><strong>",{"$f":"SORT!B8","v":" "},"</strong></td><td>",{"$f":"SORT!D8","v":0},"</td><td>",{"$f":"SORT!E8","v":0},"</td><td>",{"$f":"SORT!F8","v":0},"</td><td>",{"$f":"SORT!G8","v":0},"</td><td>",{"$f":"SORT!H8","v":0},"</td><td><strong>",{"$f":"SORT!I8","v":0},"</strong></td><td><strong>",{"$f":"SORT!J8","v":0},"</strong></td><td>",{"$f":"SORT!L8","v":""},"</td><td>",{"$f":"SORT!M8","v":""},"</td></tr>",null,"<tr align=\"center\"><td><strong>",{"$f":"SORT!B8","v":" "},"</strong></td><td>",{"$f":"SORT!N8","v":0},"</td><td>",{"$f":"SORT!O8","v":0},"</td><td>",{"$f":"SORT!P8","v":0},"</td><td>",{"$f":"SORT!Q8","v":0},"</td><td>",{"$f":"SORT!R8","v":0},"</td><td><strong>",{"$f":"SORT!S8","v":0},"</strong></td><td><strong>",{"$f":"SORT!T8","v":0},"</strong></td><td>",{"$f":"SORT!V8","v":""},"</td><td>",{"$f":"SORT!W8","v":""},"</td></tr>"]
[5,null,"<tr align=\"center\"><td><strong>",{"$f":"SORT!B9","v":" "},"</strong></td><td>",{"$f":"SORT!D9","v":0},"</td><td>",{"$f":"SORT!E9","v":0},"</td><td>",{"$f":"SORT!F9","v":0},"</td><td>",{"$f":"SORT!G9","v":0},"</td><td>",{"$f":"SORT!H9","v":0},"</td><td><strong>",{"$f":"SORT!I9","v":0},"</strong></td><td><strong>",{"$f":"SORT!J9","v":0},"</strong></td><td>",{"$f":"SORT!L9","v":""},"</td><td>",{"$f":"SORT!M9","v":""},"</td></tr>",null,"<tr align=\"center\"><td><strong>",{"$f":"SORT!B9","v":" "},"</strong></td><td>",{"$f":"SORT!N9","v":0},"</td><td>",{"$f":"SORT!O9","v":0},"</td><td>",{"$f":"SORT!P9","v":0},"</td><td>",{"$f":"SORT!Q9","v":0},"</td><td>",{"$f":"SORT!R9","v":0},"</td><td><strong>",{"$f":"SORT!S9","v":0},"</strong></td><td><strong>",{"$f":"SORT!T9","v":0},"</strong></td><td>",{"$f":"SORT!V9","v":""},"</td><td>",{"$f":"SORT!W9","v":""},"</td></tr>"]
[6,null,"<tr align=\"center\"><td><strong>",{"$f":"SORT!B10","v":" "},"</strong></td><td>",{"$f":"SORT!D10","v":0},"</td><td>",{"$f":"SORT!E10","v":0},"</td><td>",{"$f":"SORT!F10","v":0},"</td><td>",{"$f":"SORT!G10","v":0},"</td><td>",{"$f":"SORT!H10","v":0},"</td><td><strong>",{"$f":"SORT!I10","v":0},"</strong></td><td><strong>",{"$f":"SORT!J10","v":0},"</strong></td><td>",{"$f":"SORT!L10","v":""},"</td><td>",{"$f":"SORT!M10","v":""},"</td></tr>",null,"<tr align=\"center\"><td><strong>",{"$f":"SORT!B10","v":" "},"</strong></td><td>",{"$f":"SORT!N10","v":0},"</td><td>",{"$f":"SORT!O10","v":0},"</td><td>",{"$f":"SORT!P10","v":0},"</td><td>",{"$f":"SORT!Q10","v":0},"</td><td>",{"$f":"SORT!R10","v":0},"</td><td><strong>",{"$f":"SORT!S10","v":0},"</strong></td><td><strong>",{"$f":"SORT!T10","v":0},"</strong></td><td>",{"$f":"SORT!V10","v":""},"</td><td>",{"$f":"SORT!W10","v":""},"</td></tr>"]
[7,null,"<tr align=\"center\"><td><strong>",{"$f":"SORT!B11","v":" "},"</strong></td><td>",{"$f":"SORT!D11","v":0},"</td><td>",{"$f":"SORT!E11","v":0},"</td><td>",{"$f":"SORT!F11","v":0},"</td><td>",{"$f":"SORT!G11","v":0},"</td><td>",{"$f":"SORT!H11","v":0},"</td><td><strong>",{"$f":"SORT!I11","v":0},"</strong></td><td><strong>",{"$f":"SORT!J11","v":0},"</strong></td><td>",{"$f":"SORT!L11","v":""},"</td><td>",{"$f":"SORT!M11","v":""},"</td></tr>",null,"<tr align=\"center\"><td><strong>",{"$f":"SORT!B11","v":" "},"</strong></td><td>",{"$f":"SORT!N11","v":0},"</td><td>",{"$f":"SORT!O11","v":0},"</td><td>",{"$f":"SORT!P11","v":0},"</td><td>",{"$f":"SORT!Q11","v":0},"</td><td>",{"$f":"SORT!R11","v":0},"</td><td><strong>",{"$f":"SORT!S11","v":0},"</strong></td><td><strong>",{"$f":"SORT!T11","v":0},"</strong></td><td>",{"$f":"SORT!V11","v":""},"</td><td>",{"$f":"SORT!W11","v":""},"</td></tr>"]
[8,null,"<tr align=\"center\"><td><strong>",{"$f":"SORT!B12","v":" "},"</strong></td><td>",{"$f":"SORT!D12","v":0},"</td><td>",{"$f":"SORT!E12","v":0},"</td><td>",{"$f":"SORT!F12","v":0},"</td><td>",{"$f":"SORT!G12","v":0},"</td><td>",{"$f":"SORT!H12","v":0},"</td><td><strong>",{"$f":"SORT!I12","v":0},"</strong></td><td><strong>",{"$f":"SORT!J12","v":0},"</strong></td><td>",{"$f":"SORT!L12","v":""},"</td><td>",{"$f":"SORT!M12","v":""},"</td></tr>",null,"<tr align=\"center\"><td><strong>",{"$f":"SORT!B12","v":" "},"</strong></td><td>",{"$f":"SORT!N12","v":0},"</td><td>",{"$f":"SORT!O12","v":0},"</td><td>",{"$f":"SORT!P12","v":0},"</td><td>",{"$f":"SORT!Q12","v":0},"</td><td>",{"$f":"SORT!R12","v":0},"</td><td><strong>",{"$f":"SORT!S12","v":0},"</strong></td><td><strong>",{"$f":"SORT!T12","v":0},"</strong></td><td>",{"$f":"SORT!V12","v":""},"</td><td>",{"$f":"SORT!W12","v":""},"</td></tr>"]
[9,null,"<tr align=\"center\"><td><strong>",{"$f":"SORT!B13","v":" "},"</strong></td><td>",{"$f":"SORT!D13","v":0},"</td><td>",{"$f":"SORT!E13","v":0},"</td><td>",{"$f":"SORT!F13","v":0},"</td><td>",{"$f":"SORT!G13","v":0},"</td><td>",{"$f":"SORT!H13","v":0},"</td><td><strong>",{"$f":"SORT!I13","v":0},"</strong></td><td><strong>",{"$f":"SORT!J13","v":0},"</strong></td><td>",{"$f":"SORT!L13","v":""},"</td><td>",{"$f":"SORT!M13","v":""},"</td></tr>",null,"<tr align=\"center\"><td><strong>",{"$f":"SORT!B13","v":" "},"</strong></td><td>",{"$f":"SORT!N13","v":0},"</td><td>",{"$f":"SORT!O13","v":0},"</td><td>",{"$f":"SORT!P13","v":0},"</td><td>",{"$f":"SORT!Q13","v":0},"</td><td>",{"$f":"SORT!R13","v":0},"</td><td><strong>",{"$f":"SORT!S13","v":0},"</strong></td><td><strong>",{"$f":"SORT!T13","v":0},"</strong></td><td>",{"$f":"SORT!V13","v":""},"</td><td>",{"$f":"SORT!W13","v":""},"</td></tr>"]
[10,null,"<tr align=\"center\"><td><strong>",{"$f":"SORT!B14","v":" "},"</strong></td><td>",{"$f":"SORT!D14","v":0},"</td><td>",{"$f":"SORT!E14","v":0},"</td><td>",{"$f":"SORT!F14","v":0},"</td><td>",{"$f":"SORT!G14","v":0},"</td><td>",{"$f":"SORT!H14","v":0},"</td><td><strong>",{"$f":"SORT!I14","v":0},"</strong></td><td><strong>",{"$f":"SORT!J14","v":0},"</strong></td><td>",{"$f":"SORT!L14","v":""},"</td><td>",{"$f":"SORT!M14","v":""},"</td></tr>",null,"<tr align=\"center\"><td><strong>",{"$f":"SORT!B14","v":" "},"</strong></td><td>",{"$f":"SORT!N14","v":0},"</td><td>",{"$f":"SORT!O14","v":0},"</td><td>",{"$f":"SORT!P14","v":0},"</td><td>",{"$f":"SORT!Q14","v":0},"</td><td>",{"$f":"SORT!R14","v":0},"</td><td><strong>",{"$f":"SORT!S14","v":0},"</strong></td><td><strong>",{"$f":"SORT!T14","v":0},"</strong></td><td>",{"$f":"SORT!V14","v":""},"</td><td>",{"$f":"SORT!W14","v":""},"</td></tr>"]
[11,null,"<tr align=\"center\"><td><strong>",{"$f":"SORT!B15","v":" "},"</strong></td><td>",{"$f":"SORT!D15","v":0},"</td><td>",{"$f":"SORT!E15","v":0},"</td><td>",{"$f":"SORT!F15","v":0},"</td><td>",{"$f":"SORT!G15","v":0},"</td><td>",{"$f":"SORT!H15","v":0},"</td><td><strong>",{"$f":"SORT!I15","v":0},"</strong></td><td><strong>",{"$f":"SORT!J15","v":0},"</strong></td><td>",{"$f":"SORT!L15","v":""},"</td><td>",{"$f":"SORT!M15","v":""},"</td></tr>",null,"<tr align=\"center\"><td><strong>",{"$f":"SORT!B15","v":" "},"</strong></td><td>",{"$f":"SORT!N15","v":0},"</td><td>",{"$f":"SORT!O15","v":0},"</td><td>",{"$f":"SORT!P15","v":0},"</td><td>",{"$f":"SORT!Q15","v":0},"</td><td>",{"$f":"SORT!R15","v":0},"</td><td><strong>",{"$f":"SORT!S15","v":0},"</strong></td><td><strong>",{"$f":"SORT!T15","v":0},"</strong></td><td>",{"$f":"SORT!V15","v":""},"</td><td>",{"$f":"SORT!W15","v":""},"</td></tr>"]
[12,null,"<tr align=\"center\"><td><strong>",{"$f":"SORT!B16","v":" "},"</strong></td><td>",{"$f":"SORT!D16","v":0},"</td><td>",{"$f":"SORT!E16","v":0},"</td><td>",{"$f":"SORT!F16","v":0},"</td><td>",{"$f":"SORT!G16","v":0},"</td><td>",{"$f":"SORT!H16","v":0},"</td><td><strong>",{"$f":"SORT!I16","v":0},"</strong></td><td><strong>",{"$f":"SORT!J16","v":0},"</strong></td><td>",{"$f":"SORT!L16","v":""},"</td><td>",{"$f":"SORT!M16","v":""},"</td></tr>",null,"<tr align=\"center\"><td><strong>",{"$f":"SORT!B16","v":" "},"</strong></td><td>",{"$f":"SORT!N16","v":0},"</td><td>",{"$f":"SORT!O16","v":0},"</td><td>",{"$f":"SORT!P16","v":0},"</td><td>",{"$f":"SORT!Q16","v":0},"</td><td>",{"$f":"SORT!R16","v":0},"</td><td><strong>",{"$f":"SORT!S16","v":0},"</strong></td><td><strong>",{"$f":"SORT!T16","v":0},"</strong></td><td>",{"$f":"SORT!V16","v":""},"</td><td>",{"$f":"SORT!W16","v":""},"</td></tr>"]
[13,null,"<tr align=\"center\"><td><strong>",{"$f":"SORT!B17","v":" "},"</strong></td><td>",{"$f":"SORT!D17","v":0},"</td><td>",{"$f":"SORT!E17","v":0},"</td><td>",{"$f":"SORT!F17","v":0},"</td><td>",{"$f":"SORT!G17","v":0},"</td><td>",{"$f":"SORT!H17","v":0},"</td><td><strong>",{"$f":"SORT!I17","v":0},"</strong></td><td><strong>",{"$f":"SORT!J17","v":0},"</strong></td><td>",{"$f":"SORT!L17","v":""},"</td><td>",{"$f":"SORT!M17","v":""},"</td></tr>",null,"<tr align=\"center\"><td><strong>",{"$f":"SORT!B17","v":" "},"</strong></td><td>",{"$f":"SORT!N17","v":0},"</td><td>",{"$f":"SORT!O17","v":0},"</td><td>",{"$f":"SORT!P17","v":0},"</td><td>",{"$f":"SORT!Q17","v":0},"</td><td>",{"$f":"SORT!R17","v":0},"</td><td><strong>",{"$f":"SORT!S17","v":0},"</strong></td><td><strong>",{"$f":"SORT!T17","v":0},"</strong></td><td>",{"$f":"SORT!V17","v":""},"</td><td>",{"$f":"SORT!W17","v":""},"</td></tr>"]
[14,null,"<tr align=\"center\"><td><strong>",{"$f":"SORT!B18","v":" "},"</strong></td><td>",{"$f":"SORT!D18","v":0},"</td><td>",{"$f":"SORT!E18","v":0},"</td><td>",{"$f":"SORT!F18","v":0},"</td><td>",{"$f":"SORT!G18","v":0},"</td><td>",{"$f":"SORT!H18","v":0},"</td><td><strong>",{"$f":"SORT!I18","v":0},"</strong></td><td><strong>",{"$f":"SORT!J18","v":0},"</strong></td><td>",{"$f":"SORT!L18","v":""},"</td><td>",{"$f":"SORT!M18","v":""},"</td></tr>",null,"<tr align=\"center\"><td><strong>",{"$f":"SORT!B18","v":" "},"</strong></td><td>",{"$f":"SORT!N18","v":0},"</td><td>",{"$f":"SORT!O18","v":0},"</td><td>",{"$f":"SORT!P18","v":0},"</td><td>",{"$f":"SORT!Q18","v":0},"</td><td>",{"$f":"SORT!R18","v":0},"</td><td><strong>",{"$f":"SORT!S18","v":0},"</strong></td><td><strong>",{"$f":"SORT!T18","v":0},"</strong></td><td>",{"$f":"SORT!V18","v":""},"</td><td>",{"$f":"SORT!W18","v":""},"</td></tr>"]
[15,null,"<tr align=\"center\"><td><strong>",{"$f":"SORT!B19","v":" "},"</strong></td><td>",{"$f":"SORT!D19","v":0},"</td><td>",{"$f":"SORT!E19","v":0},"</td><td>",{"$f":"SORT!F19","v":0},"</td><td>",{"$f":"SORT!G19","v":0},"</td><td>",{"$f":"SORT!H19","v":0},"</td><td><strong>",{"$f":"SORT!I19","v":0},"</strong></td><td><strong>",{"$f":"SORT!J19","v":0},"</strong></td><td>",{"$f":"SORT!L19","v":""},"</td><td>",{"$f":"SORT!M19","v":""},"</td></tr>",null,"<tr align=\"center\"><td><strong>",{"$f":"SORT!B19","v":" "},"</strong></td><td>",{"$f":"SORT!N19","v":0},"</td><td>",{"$f":"SORT!O19","v":0},"</td><td>",{"$f":"SORT!P19","v":0},"</td><td>",{"$f":"SORT!Q19","v":0},"</td><td>",{"$f":"SORT!R19","v":0},"</td><td><strong>",{"$f":"SORT!S19","v":0},"</strong></td><td><strong>",{"$f":"SORT!T19","v":0},"</strong></td><td>",{"$f":"SORT!V19","v":""},"</td><td>",{"$f":"SORT!W19","v":""},"</td></tr>"]
[16,null,"<tr align=\"center\"><td><strong>",{"$f":"SORT!B20","v":" "},"</strong></td><td>",{"$f":"SORT!D20","v":0},"</td><td>",{"$f":"SORT!E20","v":0},"</td><td>",{"$f":"SORT!F20","v":0},"</td><td>",{"$f":"SORT!G20","v":0},"</td><td>",{"$f":"SORT!H20","v":0},"</td><td><strong>",{"$f":"SORT!I20","v":0},"</strong></td><td><strong>",{"$f":"SORT!J20","v":0},"</strong></td><td>",{"$f":"SORT!L20","v":""},"</td><td>",{"$f":"SORT!M20","v":""},"</td></tr>",null,"<tr align=\"center\"><td><strong>",{"$f":"SORT!B20","v":" "},"</strong></td><td>",{"$f":"SORT!N20","v":0},"</td><td>",{"$f":"SORT!O20","v":0},"</td><td>",{"$f":"SORT!P20","v":0},"</td><td>",{"$f":"SORT!Q20","v":0},"</td><td>",{"$f":"SORT!R20","v":0},"</td><td><strong>",{"$f":"SORT!S20","v":0},"</strong></td><td><strong>",{"$f":"SORT!T20","v":0},"</strong></td><td>",{"$f":"SORT!V20","v":""},"</td><td>",{"$f":"SORT!W20","v":""},"</td></tr>"]
[17,null,"<tr align=\"center\"><td><strong>",{"$f":"SORT!B21","v":" "},"</strong></td><td>",{"$f":"SORT!D21","v":0},"</td><td>",{"$f":"SORT!E21","v":0},"</td><td>",{"$f":"SORT!F21","v":0},"</td><td>",{"$f":"SORT!G21","v":0},"</td><td>",{"$f":"SORT!H21","v":0},"</td><td><strong>",{"$f":"SORT!I21","v":0},"</strong></td><td><strong>",{"$f":"SORT!J21","v":0},"</strong></td><td>",{"$f":"SORT!L21","v":""},"</td><td>",{"$f":"SORT!M21","v":""},"</td></tr>",null,"<tr align=\"center\"><td><strong>",{"$f":"SORT!B21","v":" "},"</strong></td><td>",{"$f":"SORT!N21","v":0},"</td><td>",{"$f":"SORT!O21","v":0},"</td><td>",{"$f":"SORT!P21","v":0},"</td><td>",{"$f":"SORT!Q21","v":0},"</td><td>",{"$f":"SORT!R21","v":0},"</td><td><strong>",{"$f":"SORT!S21","v":0},"</strong></td><td><strong>",{"$f":"SORT!T21","v":0},"</strong></td><td>",{"$f":"SORT!V21","v":""},"</td><td>",{"$f":"SORT!W21","v":""},"</td></tr>"]
[18,null,"<tr align=\"center\"><td><strong>",{"$f":"SORT!B22","v":" "},"</strong></td><td>",{"$f":"SORT!D22","v":0},"</td><td>",{"$f":"SORT!E22","v":0},"</td><td>",{"$f":"SORT!F22","v":0},"</td><td>",{"$f":"SORT!G22","v":0},"</td><td>",{"$f":"SORT!H22","v":0},"</td><td><strong>",{"$f":"SORT!I22","v":0},"</strong></td><td><strong>",{"$f":"SORT!J22","v":0},"</strong></td><td>",{"$f":"SORT!L22","v":""},"</td><td>",{"$f":"SORT!M22","v":""},"</td></tr>",null,"<tr align=\"center\"><td><strong>",{"$f":"SORT!B22","v":" "},"</strong></td><td>",{"$f":"SORT!N22","v":0},"</td><td>",{"$f":"SORT!O22","v":0},"</td><td>",{"$f":"SORT!P22","v":0},"</td><td>",{"$f":"SORT!Q22","v":0},"</td><td>",{"$f":"SORT!R22","v":0},"</td><td><strong>",{"$f":"SORT!S22","v":0},"</strong></td><td><strong>",{"$f":"SORT!T22","v":0},"</strong></td><td>",{"$f":"SORT!V22","v":""},"</td><td>",{"$f":"SORT!W22","v":""},"</td></tr>"]
[19,null,"<tr align=\"center\"><td><strong>",{"$f":"SORT!B23","v":" "},"</strong></td><td>",{"$f":"SORT!D23","v":0},"</td><td>",{"$f":"SORT!E23","v":0},"</td><td>",{"$f":"SORT!F23","v":0},"</td><td>",{"$f":"SORT!G23","v":0},"</td><td>",{"$f":"SORT!H23","v":0},"</td><td><strong>",{"$f":"SORT!I23","v":0},"</strong></td><td><strong>",{"$f":"SORT!J23","v":0},"</strong></td><td>",{"$f":"SORT!L23","v":""},"</td><td>",{"$f":"SORT!M23","v":""},"</td></tr>",null,"<tr align=\"center\"><td><strong>",{"$f":"SORT!B23","v":" "},"</strong></td><td>",{"$f":"SORT!N23","v":0},"</td><td>",{"$f":"SORT!O23","v":0},"</td><td>",{"$f":"SORT!P23","v":0},"</td><td>",{"$f":"SORT!Q23","v":0},"</td><td>",{"$f":"SORT!R23","v":0},"</td><td><strong>",{"$f":"SORT!S23","v":0},"</strong></td><td><strong>",{"$f":"SORT!T23","v":0},"</strong></td><td>",{"$f":"SORT!V23","v":""},"</td><td>",{"$f":"SORT!W23","v":""},"</td></tr>"]
[20,null,"<tr align=\"center\"><td><strong>",{"$f":"SORT!B24","v":" "},"</strong></td><td>",{"$f":"SORT!D24","v":0},"</td><td>",{"$f":"SORT!E24","v":0},"</td><td>",{"$f":"SORT!F24","v":0},"</td><td>",{"$f":"SORT!G24","v":0},"</td><td>",{"$f":"SORT!H24","v":0},"</td><td><strong>",{"$f":"SORT!I24","v":0},"</strong></td><td><strong>",{"$f":"SORT!J24","v":0},"</strong></td><td>",{"$f":"SORT!L24","v":""},"</td><td>",{"$f":"SORT!M24","v":""},"</td></tr>",null,"<tr align=\"center\"><td><strong>",{"$f":"SORT!B24","v":" "},"</strong></td><td>",{"$f":"SORT!N24","v":0},"</td><td>",{"$f":"SORT!O24","v":0},"</td><td>",{"$f":"SORT!P24","v":0},"</td><td>",{"$f":"SORT!Q24","v":0},"</td><td>",{"$f":"SORT!R24","v":0},"</td><td><strong>",{"$f":"SORT!S24","v":0},"</strong></td><td><strong>",{"$f":"SORT!T24","v":0},"</strong></td><td>",{"$f":"SORT!V24","v":""},"</td><td>",{"$f":"SORT!W24","v":""},"</td></tr>"]
[21,null,"<tr align=\"center\"><td><strong>",{"$f":"SORT!B25","v":" "},"</strong></td><td>",{"$f":"SORT!D25","v":0},"</td><td>",{"$f":"SORT!E25","v":0},"</td><td>",{"$f":"SORT!F25","v":0},"</td><td>",{"$f":"SORT!G25","v":0},"</td><td>",{"$f":"SORT!H25","v":0},"</td><td><strong>",{"$f":"SORT!I25","v":0},"</strong></td><td><strong>",{"$f":"SORT!J25","v":0},"</strong></td><td>",{"$f":"SORT!L25","v":""},"</td><td>",{"$f":"SORT!M25","v":""},"</td></tr>",null,"<tr align=\"center\"><td><strong>",{"$f":"SORT!B25","v":" "},"</strong></td><td>",{"$f":"SORT!N25","v":0},"</td><td>",{"$f":"SORT!O25","v":0},"</td><td>",{"$f":"SORT!P25","v":0},"</td><td>",{"$f":"SORT!Q25","v":0},"</td><td>",{"$f":"SORT!R25","v":0},"</td><td><strong>",{"$f":"SORT!S25","v":0},"</strong></td><td><strong>",{"$f":"SORT!T25","v":0},"</strong></td><td>",{"$f":"SORT!V25","v":""},"</td><td>",{"$f":"SORT!W25","v":""},"</td></tr>"]
[22,null,"<tr align=\"center\"><td><strong>",{"$f":"SORT!B26","v":" "},"</strong></td><td>",{"$f":"SORT!D26","v":0},"</td><td>",{"$f":"SORT!E26","v":0},"</td><td>",{"$f":"SORT!F26","v":0},"</td><td>",{"$f":"SORT!G26","v":0},"</td><td>",{"$f":"SORT!H26","v":0},"</td><td><strong>",{"$f":"SORT!I26","v":0},"</strong></td><td><strong>",{"$f":"SORT!J26","v":0},"</strong></td><td>",{"$f":"SORT!L26","v":""},"</td><td>",{"$f":"SORT!M26","v":""},"</td></tr>",null,"<tr align=\"center\"><td><strong>",{"$f":"SORT!B26","v":" "},"</strong></td><td>",{"$f":"SORT!N26","v":0},"</td><td>",{"$f":"SORT!O26","v":0},"</td><td>",{"$f":"SORT!P26","v":0},"</td><td>",{"$f":"SORT!Q26","v":0},"</td><td>",{"$f":"SORT!R26","v":0},"</td><td><strong>",{"$f":"SORT!S26","v":0},"</strong></td><td><strong>",{"$f":"SORT!T26","v":0},"</strong></td><td>",{"$f":"SORT!V26","v":""},"</td><td>",{"$f":"SORT!W26","v":""},"</td></tr>"]
[23,null,"<tr align=\"center\"><td><strong>",{"$f":"SORT!B27","v":" "},"</strong></td><td>",{"$f":"SORT!D27","v":0},"</td><td>",{"$f":"SORT!E27","v":0},"</td><td>",{"$f":"SORT!F27","v":0},"</td><td>",{"$f":"SORT!G27","v":0},"</td><td>",{"$f":"SORT!H27","v":0},"</td><td><strong>",{"$f":"SORT!I27","v":0},"</strong></td><td><strong>",{"$f":"SORT!J27","v":0},"</strong></td><td>",{"$f":"SORT!L27","v":""},"</td><td>",{"$f":"SORT!M27","v":""},"</td></tr>",null,"<tr align=\"center\"><td><strong>",{"$f":"SORT!B27","v":" "},"</strong></td><td>",{"$f":"SORT!N27","v":0},"</td><td>",{"$f":"SORT!O27","v":0},"</td><td>",{"$f":"SORT!P27","v":0},"</td><td>",{"$f":"SORT!Q27","v":0},"</td><td>",{"$f":"SORT!R27","v":0},"</td><td><strong>",{"$f":"SORT!S27","v":0},"</strong></td><td><strong>",{"$f":"SORT!T27","v":0},"</strong></td><td>",{"$f":"SORT!V27","v":""},"</td><td>",{"$f":"SORT!W27","v":""},"</td></tr>"]
[24,null,"<tr align=\"center\"><td><strong>",{"$f":"SORT!B28","v":" "},"</strong></td><td>",{"$f":"SORT!D28","v":0},"</td><td>",{"$f":"SORT!E28","v":0},"</td><td>",{"$f":"SORT!F28","v":0},"</td><td>",{"$f":"SORT!G28","v":0},"</td><td>",{"$f":"SORT!H28","v":0},"</td><td><strong>",{"$f":"SORT!I28","v":0},"</strong></td><td><strong>",{"$f":"SORT!J28","v":0},"</strong></td><td>",{"$f":"SORT!L28","v":""},"</td><td>",{"$f":"SORT!M28","v":""},"</td></tr>",null,"<tr align=\"center\"><td><strong>",{"$f":"SORT!B28","v":" "},"</strong></td><td>",{"$f":"SORT!N28","v":0},"</td><td>",{"$f":"SORT!O28","v":0},"</td><td>",{"$f":"SORT!P28","v":0},"</td><td>",{"$f":"SORT!Q28","v":0},"</td><td>",{"$f":"SORT!R28","v":0},"</td><td><strong>",{"$f":"SORT!S28","v":0},"</strong></td><td><strong>",{"$f":"SORT!T28","v":0},"</strong></td><td>",{"$f":"SORT!V28","v":""},"</td><td>",{"$f":"SORT!W28","v":""},"</td></tr>"]
[25,null,"<tr align=\"center\"><td><strong>",{"$f":"SORT!B29","v":" "},"</strong></td><td>",{"$f":"SORT!D29","v":0},"</td><td>",{"$f":"SORT!E29","v":0},"</td><td>",{"$f":"SORT!F29","v":0},"</td><td>",{"$f":"SORT!G29","v":0},"</td><td>",{"$f":"SORT!H29","v":0},"</td><td><strong>",{"$f":"SORT!I29","v":0},"</strong></td><td><strong>",{"$f":"SORT!J29","v":0},"</strong></td><td>",{"$f":"SORT!L29","v":""},"</td><td>",{"$f":"SORT!M29","v":""},"</td></tr>",null,"<tr align=\"center\"><td><strong>",{"$f":"SORT!B29","v":" "},"</strong></td><td>",{"$f":"SORT!N29","v":0},"</td><td>",{"$f":"SORT!O29","v":0},"</td><td>",{"$f":"SORT!P29","v":0},"</td><td>",{"$f":"SORT!Q29","v":0},"</td><td>",{"$f":"SORT!R29","v":0},"</td><td><strong>",{"$f":"SORT!S29","v":0},"</strong></td><td><strong>",{"$f":"SORT!T29","v":0},"</strong></td><td>",{"$f":"SORT!V29","v":""},"</td><td>",{"$f":"SORT!W29","v":""},"</td></tr>"]
[26,null,"<tr align=\"center\"><td><strong>",{"$f":"SORT!B30","v":" "},"</strong></td><td>",{"$f":"SORT!D30","v":0},"</td><td>",{"$f":"SORT!E30","v":0},"</td><td>",{"$f":"SORT!F30","v":0},"</td><td>",{"$f":"SORT!G30","v":0},"</td><td>",{"$f":"SORT!H30","v":0},"</td><td><strong>",{"$f":"SORT!I30","v":0},"</strong></td><td><strong>",{"$f":"SORT!J30","v":0},"</strong></td><td>",{"$f":"SORT!L30","v":""},"</td><td>",{"$f":"SORT!M30","v":""},"</td></tr>",null,"<tr align=\"center\"><td><strong>",{"$f":"SORT!B30","v":" "},"</strong></td><td>",{"$f":"SORT!N30","v":0},"</td><td>",{"$f":"SORT!O30","v":0},"</td><td>",{"$f":"SORT!P30","v":0},"</td><td>",{"$f":"SORT!Q30","v":0},"</td><td>",{"$f":"SORT!R30","v":0},"</td><td><strong>",{"$f":"SORT!S30","v":0},"</strong></td><td><strong>",{"$f":"SORT!T30","v":0},"</strong></td><td>",{"$f":"SORT!V30","v":""},"</td><td>",{"$f":"SORT!W30","v":""},"</td></tr>"]
[27,null,"<tr align=\"center\"><td><strong>",{"$f":"SORT!B31","v":" "},"</strong></td><td>",{"$f":"SORT!D31","v":0},"</td><td>",{"$f":"SORT!E31","v":0},"</td><td>",{"$f":"SORT!F31","v":0},"</td><td>",{"$f":"SORT!G31","v":0},"</td><td>",{"$f":"SORT!H31","v":0},"</td><td><strong>",{"$f":"SORT!I31","v":0},"</strong></td><td><strong>",{"$f":"SORT!J31","v":0},"</strong></td><td>",{"$f":"SORT!L31","v":""},"</td><td>",{"$f":"SORT!M31","v":""},"</td></tr>",null,"<tr align=\"center\"><td><strong>",{"$f":"SORT!B31","v":" "},"</strong></td><td>",{"$f":"SORT!N31","v":0},"</td><td>",{"$f":"SORT!O31","v":0},"</td><td>",{"$f":"SORT!P31","v":0},"</td><td>",{"$f":"SORT!Q31","v":0},"</td><td>",{"$f":"SORT!R31","v":0},"</td><td><strong>",{"$f":"SORT!S31","v":0},"</strong></td><td><strong>",{"$f":"SORT!T31","v":0},"</strong></td><td>",{"$f":"SORT!V31","v":""},"</td><td>",{"$f":"SORT!W31","v":""},"</td></tr>"]
[28,null,"<tr align=\"center\"><td><strong>",{"$f":"SORT!B32","v":" "},"</strong></td><td>",{"$f":"SORT!D32","v":0},"</td><td>",{"$f":"SORT!E32","v":0},"</td><td>",{"$f":"SORT!F32","v":0},"</td><td>",{"$f":"SORT!G32","v":0},"</td><td>",{"$f":"SORT!H32","v":0},"</td><td><strong>",{"$f":"SORT!I32","v":0},"</strong></td><td><strong>",{"$f":"SORT!J32","v":0},"</strong></td><td>",{"$f":"SORT!L32","v":""},"</td><td>",{"$f":"SORT!M32","v":""},"</td></tr>",null,"<tr align=\"center\"><td><strong>",{"$f":"SORT!B32","v":" "},"</strong></td><td>",{"$f":"SORT!N32","v":0},"</td><td>",{"$f":"SORT!O32","v":0},"</td><td>",{"$f":"SORT!P32","v":0},"</td><td>",{"$f":"SORT!Q32","v":0},"</td><td>",{"$f":"SORT!R32","v":0},"</td><td><strong>",{"$f":"SORT!S32","v":0},"</strong></td><td><strong>",{"$f":"SORT!T32","v":0},"</strong></td><td>",{"$f":"SORT!V32","v":""},"</td><td>",{"$f":"SORT!W32","v":""},"</td></tr>"]
[29,null,"<tr align=\"center\"><td><strong>",{"$f":"SORT!B33","v":" "},"</strong></td><td>",{"$f":"SORT!D33","v":0},"</td><td>",{"$f":"SORT!E33","v":0},"</td><td>",{"$f":"SORT!F33","v":0},"</td><td>",{"$f":"SORT!G33","v":0},"</td><td>",{"$f":"SORT!H33","v":0},"</td><td><strong>",{"$f":"SORT!I33","v":0},"</strong></td><td><strong>",{"$f":"SORT!J33","v":0},"</strong></td><td>",{"$f":"SORT!L33","v":""},"</td><td>",{"$f":"SORT!M33","v":""},"</td></tr>",null,"<tr align=\"center\"><td><strong>",{"$f":"SORT!B33","v":" "},"</strong></td><td>",{"$f":"SORT!N33","v":0},"</td><td>",{"$f":"SORT!O33","v":0},"</td><td>",{"$f":"SORT!P33","v":0},"</td><td>",{"$f":"SORT!Q33","v":0},"</td><td>",{"$f":"SORT!R33","v":0},"</td><td><strong>",{"$f":"SORT!S33","v":0},"</strong></td><td><strong>",{"$f":"SORT!T33","v":0},"</strong></td><td>",{"$f":"SORT!V33","v":""},"</td><td>",{"$f":"SORT!W33","v":""},"</td></tr>"]
[30,null,"<tr align=\"center\"><td><strong>",{"$f":"SORT!B34","v":" "},"</strong></td><td>",{"$f":"SORT!D34","v":0},"</td><td>",{"$f":"SORT!E34","v":0},"</td><td>",{"$f":"SORT!F34","v":0},"</td><td>",{"$f":"SORT!G34","v":0},"</td><td>",{"$f":"SORT!H34","v":0},"</td><td><strong>",{"$f":"SORT!I34","v":0},"</strong></td><td><strong>",{"$f":"SORT!J34","v":0},"</strong></td><td>",{"$f":"SORT!L34","v":""},"</td><td>",{"$f":"SORT!M34","v":""},"</td></tr>",null,"<tr align=\"center\"><td><strong>",{"$f":"SORT!B34","v":" "},"</strong></td><td>",{"$f":"SORT!N34","v":0},"</td><td>",{"$f":"SORT!O34","v":0},"</td><td>",{"$f":"SORT!P34","v":0},"</td><td>",{"$f":"SORT!Q34","v":0},"</td><td>",{"$f":"SORT!R34","v":0},"</td><td><strong>",{"$f":"SORT!S34","v":0},"</strong></td><td><strong>",{"$f":"SORT!T34","v":0},"</strong></td><td>",{"$f":"SORT!V34","v":""},"</td><td>",{"$f":"SORT!W34","v":""},"</td></tr>"]
[31,null,"<tr align=\"center\"><td><strong>",{"$f":"SORT!B35","v":" "},"</strong></td><td>",{"$f":"SORT!D35","v":0},"</td><td>",{"$f":"SORT!E35","v":0},"</td><td>",{"$f":"SORT!F35","v":0},"</td><td>",{"$f":"SORT!G35","v":0},"</td><td>",{"$f":"SORT!H35","v":0},"</td><td><strong>",{"$f":"SORT!I35","v":0},"</strong></td><td><strong>",{"$f":"SORT!J35","v":0},"</strong></td><td>",{"$f":"SORT!L35","v":""},"</td><td>",{"$f":"SORT!M35","v":""},"</td></tr>",null,"<tr align=\"center\"><td><strong>",{"$f":"SORT!B35","v":" "},"</strong></td><td>",{"$f":"SORT!N35","v":0},"</td><td>",{"$f":"SORT!O35","v":0},"</td><td>",{"$f":"SORT!P35","v":0},"</td><td>",{"$f":"SORT!Q35","v":0},"</td><td>",{"$f":"SORT!R35","v":0},"</td><td><strong>",{"$f":"SORT!S35","v":0},"</strong></td><td><strong>",{"$f":"SORT!T35","v":0},"</strong></td><td>",{"$f":"SORT!V35","v":""},"</td><td>",{"$f":"SORT!W35","v":""},"</td></tr>"]
[32,null,"<tr align=\"center\"><td><strong>",{"$f":"SORT!B36","v":" "},"</strong></td><td>",{"$f":"SORT!D36","v":0},"</td><td>",{"$f":"SORT!E36","v":0},"</td><td>",{"$f":"SORT!F36","v":0},"</td><td>",{"$f":"SORT!G36","v":0},"</td><td>",{"$f":"SORT!H36","v":0},"</td><td><strong>",{"$f":"SORT!I36","v":0},"</strong></td><td><strong>",{"$f":"SORT!J36","v":0},"</strong></td><td>",{"$f":"SORT!L36","v":""},"</td><td>",{"$f":"SORT!M36","v":""},"</td></tr>",null,"<tr align=\"center\"><td><strong>",{"$f":"SORT!B36","v":" "},"</strong></td><td>",{"$f":"SORT!N36","v":0},"</td><td>",{"$f":"SORT!O36","v":0},"</td><td>",{"$f":"SORT!P36","v":0},"</td><td>",{"$f":"SORT!Q36","v":0},"</td><td>",{"$f":"SORT!R36","v":0},"</td><td><strong>",{"$f":"SORT!S36","v":0},"</strong></td><td><strong>",{"$f":"SORT!T36","v":0},"</strong></td><td>",{"$f":"SORT!V36","v":""},"</td><td>",{"$f":"SORT!W36","v":""},"</td></tr>"]
[33,null,"<tr align=\"center\"><td><strong>",{"$f":"SORT!B37","v":" "},"</strong></td><td>",{"$f":"SORT!D37","v":0},"</td><td>",{"$f":"SORT!E37","v":0},"</td><td>",{"$f":"SORT!F37","v":0},"</td><td>",{"$f":"SORT!G37","v":0},"</td><td>",{"$f":"SORT!H37","v":0},"</td><td><strong>",{"$f":"SORT!I37","v":0},"</strong></td><td><strong>",{"$f":"SORT!J37","v":0},"</strong></td><td>",{"$f":"SORT!L37","v":""},"</td><td>",{"$f":"SORT!M37","v":""},"</td></tr>",null,"<tr align=\"center\"><td><strong>",{"$f":"SORT!B37","v":" "},"</strong></td><td>",{"$f":"SORT!N37","v":0},"</td><td>",{"$f":"SORT!O37","v":0},"</td><td>",{"$f":"SORT!P37","v":0},"</td><td>",{"$f":"SORT!Q37","v":0},"</td><td>",{"$f":"SORT!R37","v":0},"</td><td><strong>",{"$f":"SORT!S37","v":0},"</strong></td><td><strong>",{"$f":"SORT!T37","v":0},"</strong></td><td>",{"$f":"SORT!V37","v":""},"</td><td>",{"$f":"SORT!W37","v":""},"</td></tr>"]
[34,null,"<tr align=\"center\"><td><strong>",{"$f":"SORT!B38","v":" "},"</strong></td><td>",{"$f":"SORT!D38","v":0},"</td><td>",{"$f":"SORT!E38","v":0},"</td><td>",{"$f":"SORT!F38","v":0},"</td><td>",{"$f":"SORT!G38","v":0},"</td><td>",{"$f":"SORT!H38","v":0},"</td><td><strong>",{"$f":"SORT!I38","v":0},"</strong></td><td><strong>",{"$f":"SORT!J38","v":0},"</strong></td><td>",{"$f":"SORT!L38","v":""},"</td><td>",{"$f":"SORT!M38","v":""},"</td></tr>",null,"<tr align=\"center\"><td><strong>",{"$f":"SORT!B38","v":" "},"</strong></td><td>",{"$f":"SORT!N38","v":0},"</td><td>",{"$f":"SORT!O38","v":0},"</td><td>",{"$f":"SORT!P38","v":0},"</td><td>",{"$f":"SORT!Q38","v":0},"</td><td>",{"$f":"SORT!R38","v":0},"</td><td><strong>",{"$f":"SORT!S38","v":0},"</strong></td><td><strong>",{"$f":"SORT!T38","v":0},"</strong></td><td>",{"$f":"SORT!V38","v":""},"</td><td>",{"$f":"SORT!W38","v":""},"</td></tr>"]
[35,null,"<tr align=\"center\"><td><strong>",{"$f":"SORT!B39","v":" "},"</strong></td><td>",{"$f":"SORT!D39","v":0},"</td><td>",{"$f":"SORT!E39","v":0},"</td><td>",{"$f":"SORT!F39","v":0},"</td><td>",{"$f":"SORT!G39","v":0},"</td><td>",{"$f":"SORT!H39","v":0},"</td><td><strong>",{"$f":"SORT!I39","v":0},"</strong></td><td><strong>",{"$f":"SORT!J39","v":0},"</strong></td><td>",{"$f":"SORT!L39","v":""},"</td><td>",{"$f":"SORT!M39","v":""},"</td></tr>",null,"<tr align=\"center\"><td><strong>",{"$f":"SORT!B39","v":" "},"</strong></td><td>",{"$f":"SORT!N39","v":0},"</td><td>",{"$f":"SORT!O39","v":0},"</td><td>",{"$f":"SORT!P39","v":0},"</td><td>",{"$f":"SORT!Q39","v":0},"</td><td>",{"$f":"SORT!R39","v":0},"</td><td><strong>",{"$f":"SORT!S39","v":0},"</strong></td><td><strong>",{"$f":"SORT!T39","v":0},"</strong></td><td>",{"$f":"SORT!V39","v":""},"</td><td>",{"$f":"SORT!W39","v":""},"</td></tr>"]
[36,null,"<tr align=\"center\"><td><strong>",{"$f":"SORT!B40","v":" "},"</strong></td><td>",{"$f":"SORT!D40","v":0},"</td><td>",{"$f":"SORT!E40","v":0},"</td><td>",{"$f":"SORT!F40","v":0},"</td><td>",{"$f":"SORT!G40","v":0},"</td><td>",{"$f":"SORT!H40","v":0},"</td><td><strong>",{"$f":"SORT!I40","v":0},"</strong></td><td><strong>",{"$f":"SORT!J40","v":0},"</strong></td><td>",{"$f":"SORT!L40","v":""},"</td><td>",{"$f":"SORT!M40","v":""},"</td></tr>",null,"<tr align=\"center\"><td><strong>",{"$f":"SORT!B40","v":" "},"</strong></td><td>",{"$f":"SORT!N40","v":0},"</td><td>",{"$f":"SORT!O40","v":0},"</td><td>",{"$f":"SORT!P40","v":0},"</td><td>",{"$f":"SORT!Q40","v":0},"</td><td>",{"$f":"SORT!R40","v":0},"</td><td><strong>",{"$f":"SORT!S40","v":0},"</strong></td><td><strong>",{"$f":"SORT!T40","v":0},"</strong></td><td>",{"$f":"SORT!V40","v":""},"</td><td>",{"$f":"SORT!W40","v":""},"</td></tr>"]
[37,null,"<tr align=\"center\"><td><strong>",{"$f":"SORT!B41","v":" "},"</strong></td><td>",{"$f":"SORT!D41","v":0},"</td><td>",{"$f":"SORT!E41","v":0},"</td><td>",{"$f":"SORT!F41","v":0},"</td><td>",{"$f":"SORT!G41","v":0},"</td><td>",{"$f":"SORT!H41","v":0},"</td><td><strong>",{"$f":"SORT!I41","v":0},"</strong></td><td><strong>",{"$f":"SORT!J41","v":0},"</strong></td><td>",{"$f":"SORT!L41","v":""},"</td><td>",{"$f":"SORT!M41","v":""},"</td></tr>",null,"<tr align=\"center\"><td><strong>",{"$f":"SORT!B41","v":" "},"</strong></td><td>",{"$f":"SORT!N41","v":0},"</td><td>",{"$f":"SORT!O41","v":0},"</td><td>",{"$f":"SORT!P41","v":0},"</td><td>",{"$f":"SORT!Q41","v":0},"</td><td>",{"$f":"SORT!R41","v":0},"</td><td><strong>",{"$f":"SORT!S41","v":0},"</strong></td><td><strong>",{"$f":"SORT!T41","v":0},"</strong></td><td>",{"$f":"SORT!V41","v":""},"</td><td>",{"$f":"SORT!W41","v":""},"</td></tr>"]
[38,null,"<tr align=\"center\"><td><strong>",{"$f":"SORT!B42","v":" "},"</strong></td><td>",{"$f":"SORT!D42","v":0},"</td><td>",{"$f":"SORT!E42","v":0},"</td><td>",{"$f":"SORT!F42","v":0},"</td><td>",{"$f":"SORT!G42","v":0},"</td><td>",{"$f":"SORT!H42","v":0},"</td><td><strong>",{"$f":"SORT!I42","v":0},"</strong></td><td><strong>",{"$f":"SORT!J42","v":0},"</strong></td><td>",{"$f":"SORT!L42","v":""},"</td><td>",{"$f":"SORT!M42","v":""},"</td></tr>",null,"<tr align=\"center\"><td><strong>",{"$f":"SORT!B42","v":" "},"</strong></td><td>",{"$f":"SORT!N42","v":0},"</td><td>",{"$f":"SORT!O42","v":0},"</td><td>",{"$f":"SORT!P42","v":0},"</td><td>",{"$f":"SORT!Q42","v":0},"</td><td>",{"$f":"SORT!R42","v":0},"</td><td><strong>",{"$f":"SORT!S42","v":0},"</strong></td><td><strong>",{"$f":"SORT!T42","v":0},"</strong></td><td>",{"$f":"SORT!V42","v":""},"</td><td>",{"$f":"SORT!W42","v":""},"</td></tr>"]
[39,null,"<tr align=\"center\"><td><strong>",{"$f":"SORT!B43","v":" "},"</strong></td><td>",{"$f":"SORT!D43","v":0},"</td><td>",{"$f":"SORT!E43","v":0},"</td><td>",{"$f":"SORT!F43","v":0},"</td><td>",{"$f":"SORT!G43","v":0},"</td><td>",{"$f":"SORT!H43","v":0},"</td><td><strong>",{"$f":"SORT!I43","v":0},"</strong></td><td><strong>",{"$f":"SORT!J43","v":0},"</strong></td><td>",{"$f":"SORT!L43","v":""},"</td><td>",{"$f":"SORT!M43","v":""},"</td></tr>",null,"<tr align=\"center\"><td><strong>",{"$f":"SORT!B43","v":" "},"</strong></td><td>",{"$f":"SORT!N43","v":0},"</td><td>",{"$f":"SORT!O43","v":0},"</td><td>",{"$f":"SORT!P43","v":0},"</td><td>",{"$f":"SORT!Q43","v":0},"</td><td>",{"$f":"SORT!R43","v":0},"</td><td><strong>",{"$f":"SORT!S43","v":0},"</strong></td><td><strong>",{"$f":"SORT!T43","v":0},"</strong></td><td>",{"$f":"SORT!V43","v":""},"</td><td>",{"$f":"SORT!W43","v":""},"</td></tr>"]
[40,null,"<tr align=\"center\"><td><strong>",{"$f":"SORT!B44","v":" "},"</strong></td><td>",{"$f":"SORT!D44","v":0},"</td><td>",{"$f":"SORT!E44","v":0},"</td><td>",{"$f":"SORT!F44","v":0},"</td><td>",{"$f":"SORT!G44","v":0},"</td><td>",{"$f":"SORT!H44","v":0},"</td><td><strong>",{"$f":"SORT!I44","v":0},"</strong></td><td><strong>",{"$f":"SORT!J44","v":0},"</strong></td><td>",{"$f":"SORT!L44","v":""},"</td><td>",{"$f":"SORT!M44","v":""},"</td></tr>",null,"<tr align=\"center\"><td><strong>",{"$f":"SORT!B44","v":" "},"</strong></td><td>",{"$f":"SORT!N44","v":0},"</td><td>",{"$f":"SORT!O44","v":0},"</td><td>",{"$f":"SORT!P44","v":0},"</td><td>",{"$f":"SORT!Q44","v":0},"</td><td>",{"$f":"SORT!R44","v":0},"</td><td><strong>",{"$f":"SORT!S44","v":0},"</strong></td><td><strong>",{"$f":"SORT!T44","v":0},"</strong></td><td>",{"$f":"SORT!V44","v":""},"</td><td>",{"$f":"SORT!W44","v":""},"</td></tr>"]
[41,null,"<tr align=\"center\"><td><strong>",{"$f":"SORT!B45","v":" "},"</strong></td><td>",{"$f":"SORT!D45","v":0},"</td><td>",{"$f":"SORT!E45","v":0},"</td><td>",{"$f":"SORT!F45","v":0},"</td><td>",{"$f":"SORT!G45","v":0},"</td><td>",{"$f":"SORT!H45","v":0},"</td><td><strong>",{"$f":"SORT!I45","v":0},"</strong></td><td><strong>",{"$f":"SORT!J45","v":0},"</strong></td><td>",{"$f":"SORT!L45","v":""},"</td><td>",{"$f":"SORT!M45","v":""},"</td></tr>",null,"<tr align=\"center\"><td><strong>",{"$f":"SORT!B45","v":" "},"</strong></td><td>",{"$f":"SORT!N45","v":0},"</td><td>",{"$f":"SORT!O45","v":0},"</td><td>",{"$f":"SORT!P45","v":0},"</td><td>",{"$f":"SORT!Q45","v":0},"</td><td>",{"$f":"SORT!R45","v":0},"</td><td><strong>",{"$f":"SORT!S45","v":0},"</strong></td><td><strong>",{"$f":"SORT!T45","v":0},"</strong></td><td>",{"$f":"SORT!V45","v":""},"</td><td>",{"$f":"SORT!W45","v":""},"</td></tr>"]
[42,null,"<tr align=\"center\"><td><strong>",{"$f":"SORT!B46","v":" "},"</strong></td><td>",{"$f":"SORT!D46","v":0},"</td><td>",{"$f":"SORT!E46","v":0},"</td><td>",{"$f":"SORT!F46","v":0},"</td><td>",{"$f":"SORT!G46","v":0},"</td><td>",{"$f":"SORT!H46","v":0},"</td><td><strong>",{"$f":"SORT!I46","v":0},"</strong></td><td><strong>",{"$f":"SORT!J46","v":0},"</strong></td><td>",{"$f":"SORT!L46","v":""},"</td><td>",{"$f":"SORT!M46","v":""},"</td></tr>",null,"<tr align=\"center\"><td><strong>",{"$f":"SORT!B46","v":" "},"</strong></td><td>",{"$f":"SORT!N46","v":0},"</td><td>",{"$f":"SORT!O46","v":0},"</td><td>",{"$f":"SORT!P46","v":0},"</td><td>",{"$f":"SORT!Q46","v":0},"</td><td>",{"$f":"SORT!R46","v":0},"</td><td><strong>",{"$f":"SORT!S46","v":0},"</strong></td><td><strong>",{"$f":"SORT!T46","v":0},"</strong></td><td>",{"$f":"SORT!V46","v":""},"</td><td>",{"$f":"SORT!W46","v":""},"</td></tr>"]
[]
[]
[null,null,"STAGE 3",null,null,null,null,null,null,null,null,null,null,null,null,null,null,null,null,null,null,null,null,null,"OVERALL"]
[null,null,null,"SHOOTER",null,"TIME",null,"MISS",null,"F2N",null,"F2E",null,"PROC",null,"NET",null,"RANK"]
[1,null,"<tr align=\"center\"><td><strong>",{"$f":"SORT!B5","v":" "},"</strong></td><td>",{"$f":"SORT!X5","v":0},"</td><td>",{"$f":"SORT!Y5","v":0},"</td><td>",{"$f":"SORT!Z5","v":0},"</td><td>",{"$f":"SORT!AA5","v":0},"</td><td>",{"$f":"SORT!AB5","v":0},"</td><td><strong>",{"$f":"SORT!AC5","v":0},"</strong></td><td><strong>",{"$f":"SORT!AD5","v":0},"</strong></td><td>",{"$f":"SORT!AF5","v":""},"</td><td>",{"$f":"SORT!AG5","v":""},"</td></tr>",null,"<tr align=\"center\"><td><strong>",{"$f":"SORT!B5","v":" "},"</strong></td><td>",{"$f":"SORT!AH5","v":0},"</td><td>",{"$f":"SORT!AI5","v":0},"</td><td><strong>",{"$f":"SORT!AJ5","v":0},"</strong></td><td><strong>",{"$f":"SORT!AK5","v":0},"</strong></td><td>",{"$f":"SORT!AL5","v":""},"</td></tr>"]
[2,null,"<tr align=\"center\"><td><strong>",{"$f":"SORT!B6","v":" "},"</strong></td><td>",{"$f":"SORT!X6","v":0},"</td><td>",{"$f":"SORT!Y6","v":0},"</td><td>",{"$f":"SORT!Z6","v":0},"</td><td>",{"$f":"SORT!AA6","v":0},"</td><td>",{"$f":"SORT!AB6","v":0},"</td><td><strong>",{"$f":"SORT!AC6","v":0},"</strong></td><td><strong>",{"$f":"SORT!AD6","v":0},"</strong></td><td>",{"$f":"SORT!AF6","v":""},"</td><td>",{"$f":"SORT!AG6","v":""},"</td></tr>",null,"<tr align=\"center\"><td><strong>",{"$f":"SORT!B6","v":" "},"</strong></td><td>",{"$f":"SORT!AH6","v":0},"</td><td>",{"$f":"SORT!AI6","v":0},"</td><td><strong>",{"$f":"SORT!AJ6","v":0},"</strong></td><td><strong>",{"$f":"SORT!AK6","v":0},"</strong></td><td>",{"$f":"SORT!AL6","v":""},"</td></tr>"]
[3,null,"<tr align=\"center\"><td><strong>",{"$f":"SORT!B7","v":" "},"</strong></td><td>",{"$f":"SORT!X7","v":0},"</td><td>",{"$f":"SORT!Y7","v":0},"</td><td>",{"$f":"SORT!Z7","v":0},"</td><td>",{"$f":"SORT!AA7","v":0},"</td><td>",{"$f":"SORT!AB7","v":0},"</td><td><strong>",{"$f":"SORT!AC7","v":0},"</strong></td><td><strong>",{"$f":"SORT!AD7","v":0},"</strong></td><td>",{"$f":"SORT!AF7","v":""},"</td><td>",{"$f":"SORT!AG7","v":""},"</td></tr>",null,"<tr align=\"center\"><td><strong>",{"$f":"SORT!B7","v":" "},"</strong></td><td>",{"$f":"SORT!AH7","v":0},"</td><td>",{"$f":"SORT!AI7","v":0},"</td><td><strong>",{"$f":"SORT!AJ7","v":0},"</strong></td><td><strong>",{"$f":"SORT!AK7","v":0},"</strong></td><td>",{"$f":"SORT!AL7","v":""},"</td></tr>"]
[4,null,"<tr align=\"center\"><td><strong>",{"$f":"SORT!B8","v":" "},"</strong></td><td>",{"$f":"SORT!X8","v":0},"</td><td>",{"$f":"SORT!Y8","v":0},"</td><td>",{"$f":"SORT!Z8","v":0},"</td><td>",{"$f":"SORT!AA8","v":0},"</td><td>",{"$f":"SORT!AB8","v":0},"</td><td><strong>",{"$f":"SORT!AC8","v":0},"</strong></td><td><strong>",{"$f":"SORT!AD8","v":0},"</strong></td><td>",{"$f":"SORT!AF8","v":""},"</td><td>",{"$f":"SORT!AG8","v":""},"</td></tr>",null,"<tr align=\"center\"><td><strong>",{"$f":"SORT!B8","v":" "},"</strong></td><td>",{"$f":"SORT!AH8","v":0},"</td><td>",{"$f":"SORT!AI8","v":0},"</td><td><strong>",{"$f":"SORT!AJ8","v":0},"</strong></td><td><strong>",{"$f":"SORT!AK8","v":0},"</strong></td><td>",{"$f":"SORT!AL8","v":""},"</td></tr>"]
[5,null,"<tr align=\"center\"><td><strong>",{"$f":"SORT!B9","v":" "},"</strong></td><td>",{"$f":"SORT!X9","v":0},"</td><td>",{"$f":"SORT!Y9","v":0},"</td><td>",{"$f":"SORT!Z9","v":0},"</td><td>",{"$f":"SORT!AA9","v":0},"</td><td>",{"$f":"SORT!AB9","v":0},"</td><td><strong>",{"$f":"SORT!AC9","v":0},"</strong></td><td><strong>",{"$f":"SORT!AD9","v":0},"</strong></td><td>",{"$f":"SORT!AF9","v":""},"</td><td>",{"$f":"SORT!AG9","v":""},"</td></tr>",null,"<tr align=\"center\"><td><strong>",{"$f":"SORT!B9","v":" "},"</strong></td><td>",{"$f":"SORT!AH9","v":0},"</td><td>",{"$f":"SORT!AI9","v":0},"</td><td><strong>",{"$f":"SORT!AJ9","v":0},"</strong></td><td><strong>",{"$f":"SORT!AK9","v":0},"</strong></td><td>",{"$f":"SORT!AL9","v":""},"</td></tr>"]
[6,null,"<tr align=\"center\"><td><strong>",{"$f":"SORT!B10","v":" "},"</strong></td><td>",{"$f":"SORT!X10","v":0},"</td><td>",{"$f":"SORT!Y10","v":0},"</td><td>",{"$f":"SORT!Z10","v":0},"</td><td>",{"$f":"SORT!AA10","v":0},"</td><td>",{"$f":"SORT!AB10","v":0},"</td><td><strong>",{"$f":"SORT!AC10","v":0},"</strong></td><td><strong>",{"$f":"SORT!AD10","v":0},"</strong></td><td>",{"$f":"SORT!AF10","v":""},"</td><td>",{"$f":"SORT!AG10","v":""},"</td></tr>",null,"<tr align=\"center\"><td><strong>",{"$f":"SORT!B10","v":" "},"</strong></td><td>",{"$f":"SORT!AH10","v":0},"</td><td>",{"$f":"SORT!AI10","v":0},"</td><td><strong>",{"$f":"SORT!AJ10","v":0},"</strong></td><td><strong>",{"$f":"SORT!AK10","v":0},"</strong></td><td>",{"$f":"SORT!AL10","v":""},"</td></tr>"]
[7,null,"<tr align=\"center\"><td><strong>",{"$f":"SORT!B11","v":" "},"</strong></td><td>",{"$f":"SORT!X11","v":0},"</td><td>",{"$f":"SORT!Y11","v":0},"</td><td>",{"$f":"SORT!Z11","v":0},"</td><td>",{"$f":"SORT!AA11","v":0},"</td><td>",{"$f":"SORT!AB11","v":0},"</td><td><strong>",{"$f":"SORT!AC11","v":0},"</strong></td><td><strong>",{"$f":"SORT!AD11","v":0},"</strong></td><td>",{"$f":"SORT!AF11","v":""},"</td><td>",{"$f":"SORT!AG11","v":""},"</td></tr>",null,"<tr align=\"center\"><td><strong>",{"$f":"SORT!B11","v":" "},"</strong></td><td>",{"$f":"SORT!AH11","v":0},"</td><td>",{"$f":"SORT!AI11","v":0},"</td><td><strong>",{"$f":"SORT!AJ11","v":0},"</strong></td><td><strong>",{"$f":"SORT!AK11","v":0},"</strong></td><td>",{"$f":"SORT!AL11","v":""},"</td></tr>"]
[8,null,"<tr align=\"center\"><td><strong>",{"$f":"SORT!B12","v":" "},"</strong></td><td>",{"$f":"SORT!X12","v":0},"</td><td>",{"$f":"SORT!Y12","v":0},"</td><td>",{"$f":"SORT!Z12","v":0},"</td><td>",{"$f":"SORT!AA12","v":0},"</td><td>",{"$f":"SORT!AB12","v":0},"</td><td><strong>",{"$f":"SORT!AC12","v":0},"</strong></td><td><strong>",{"$f":"SORT!AD12","v":0},"</strong></td><td>",{"$f":"SORT!AF12","v":""},"</td><td>",{"$f":"SORT!AG12","v":""},"</td></tr>",null,"<tr align=\"center\"><td><strong>",{"$f":"SORT!B12","v":" "},"</strong></td><td>",{"$f":"SORT!AH12","v":0},"</td><td>",{"$f":"SORT!AI12","v":0},"</td><td><strong>",{"$f":"SORT!AJ12","v":0},"</strong></td><td><strong>",{"$f":"SORT!AK12","v":0},"</strong></td><td>",{"$f":"SORT!AL12","v":""},"</td></tr>"]
[9,null,"<tr align=\"center\"><td><strong>",{"$f":"SORT!B13","v":" "},"</strong></td><td>",{"$f":"SORT!X13","v":0},"</td><td>",{"$f":"SORT!Y13","v":0},"</td><td>",{"$f":"SORT!Z13","v":0},"</td><td>",{"$f":"SORT!AA13","v":0},"</td><td>",{"$f":"SORT!AB13","v":0},"</td><td><strong>",{"$f":"SORT!AC13","v":0},"</strong></td><td><strong>",{"$f":"SORT!AD13","v":0},"</strong></td><td>",{"$f":"SORT!AF13","v":""},"</td><td>",{"$f":"SORT!AG13","v":""},"</td></tr>",null,"<tr align=\"center\"><td><strong>",{"$f":"SORT!B13","v":" "},"</strong></td><td>",{"$f":"SORT!AH13","v":0},"</td><td>",{"$f":"SORT!AI13","v":0},"</td><td><strong>",{"$f":"SORT!AJ13","v":0},"</strong></td><td><strong>",{"$f":"SORT!AK13","v":0},"</strong></td><td>",{"$f":"SORT!AL13","v":""},"</td></tr>"]
[10,null,"<tr align=\"center\"><td><strong>",{"$f":"SORT!B14","v":" "},"</strong></td><td>",{"$f":"SORT!X14","v":0},"</td><td>",{"$f":"SORT!Y14","v":0},"</td><td>",{"$f":"SORT!Z14","v":0},"</td><td>",{"$f":"SORT!AA14","v":0},"</td><td>",{"$f":"SORT!AB14","v":0},"</td><td><strong>",{"$f":"SORT!AC14","v":0},"</strong></td><td><strong>",{"$f":"SORT!AD14","v":0},"</strong></td><td>",{"$f":"SORT!AF14","v":""},"</td><td>",{"$f":"SORT!AG14","v":""},"</td></tr>",null,"<tr align=\"center\"><td><strong>",{"$f":"SORT!B14","v":" "},"</strong></td><td>",{"$f":"SORT!AH14","v":0},"</td><td>",{"$f":"SORT!AI14","v":0},"</td><td><strong>",{"$f":"SORT!AJ14","v":0},"</strong></td><td><strong>",{"$f":"SORT!AK14","v":0},"</strong></td><td>",{"$f":"SORT!AL14","v":""},"</td></tr>"]
[11,null,"<tr align=\"center\"><td><strong>",{"$f":"SORT!B15","v":" "},"</strong></td><td>",{"$f":"SORT!X15","v":0},"</td><td>",{"$f":"SORT!Y15","v":0},"</td><td>",{"$f":"SORT!Z15","v":0},"</td><td>",{"$f":"SORT!AA15","v":0},"</td><td>",{"$f":"SORT!AB15","v":0},"</td><td><strong>",{"$f":"SORT!AC15","v":0},"</strong></td><td><strong>",{"$f":"SORT!AD15","v":0},"</strong></td><td>",{"$f":"SORT!AF15","v":""},"</td><td>",{"$f":"SORT!AG15","v":""},"</td></tr>",null,"<tr align=\"center\"><td><strong>",{"$f":"SORT!B15","v":" "},"</strong></td><td>",{"$f":"SORT!AH15","v":0},"</td><td>",{"$f":"SORT!AI15","v":0},"</td><td><strong>",{"$f":"SORT!AJ15","v":0},"</strong></td><td><strong>",{"$f":"SORT!AK15","v":0},"</strong></td><td>",{"$f":"SORT!AL15","v":""},"</td></tr>"]
[12,null,"<tr align=\"center\"><td><strong>",{"$f":"SORT!B16","v":" "},"</strong></td><td>",{"$f":"SORT!X16","v":0},"</td><td>",{"$f":"SORT!Y16","v":0},"</td><td>",{"$f":"SORT!Z16","v":0},"</td><td>",{"$f":"SORT!AA16","v":0},"</td><td>",{"$f":"SORT!AB16","v":0},"</td><td><strong>",{"$f":"SORT!AC16","v":0},"</strong></td><td><strong>",{"$f":"SORT!AD16","v":0},"</strong></td><td>",{"$f":"SORT!AF16","v":""},"</td><td>",{"$f":"SORT!AG16","v":""},"</td></tr>",null,"<tr align=\"center\"><td><strong>",{"$f":"SORT!B16","v":" "},"</strong></td><td>",{"$f":"SORT!AH16","v":0},"</td><td>",{"$f":"SORT!AI16","v":0},"</td><td><strong>",{"$f":"SORT!AJ16","v":0},"</strong></td><td><strong>",{"$f":"SORT!AK16","v":0},"</strong></td><td>",{"$f":"SORT!AL16","v":""},"</td></tr>"]
[13,null,"<tr align=\"center\"><td><strong>",{"$f":"SORT!B17","v":" "},"</strong></td><td>",{"$f":"SORT!X17","v":0},"</td><td>",{"$f":"SORT!Y17","v":0},"</td><td>",{"$f":"SORT!Z17","v":0},"</td><td>",{"$f":"SORT!AA17","v":0},"</td><td>",{"$f":"SORT!AB17","v":0},"</td><td><strong>",{"$f":"SORT!AC17","v":0},"</strong></td><td><strong>",{"$f":"SORT!AD17","v":0},"</strong></td><td>",{"$f":"SORT!AF17","v":""},"</td><td>",{"$f":"SORT!AG17","v":""},"</td></tr>",null,"<tr align=\"center\"><td><strong>",{"$f":"SORT!B17","v":" "},"</strong></td><td>",{"$f":"SORT!AH17","v":0},"</td><td>",{"$f":"SORT!AI17","v":0},"</td><td><strong>",{"$f":"SORT!AJ17","v":0},"</strong></td><td><strong>",{"$f":"SORT!AK17","v":0},"</strong></td><td>",{"$f":"SORT!AL17","v":""},"</td></tr>"]
[14,null,"<tr align=\"center\"><td><strong>",{"$f":"SORT!B18","v":" "},"</strong></td><td>",{"$f":"SORT!X18","v":0},"</td><td>",{"$f":"SORT!Y18","v":0},"</td><td>",{"$f":"SORT!Z18","v":0},"</td><td>",{"$f":"SORT!AA18","v":0},"</td><td>",{"$f":"SORT!AB18","v":0},"</td><td><strong>",{"$f":"SORT!AC18","v":0},"</strong></td><td><strong>",{"$f":"SORT!AD18","v":0},"</strong></td><td>",{"$f":"SORT!AF18","v":""},"</td><td>",{"$f":"SORT!AG18","v":""},"</td></tr>",null,"<tr align=\"center\"><td><strong>",{"$f":"SORT!B18","v":" "},"</strong></td><td>",{"$f":"SORT!AH18","v":0},"</td><td>",{"$f":"SORT!AI18","v":0},"</td><td><strong>",{"$f":"SORT!AJ18","v":0},"</strong></td><td><strong>",{"$f":"SORT!AK18","v":0},"</strong></td><td>",{"$f":"SORT!AL18","v":""},"</td></tr>"]
[15,null,"<tr align=\"center\"><td><strong>",{"$f":"SORT!B19","v":" "},"</strong></td><td>",{"$f":"SORT!X19","v":0},"</td><td>",{"$f":"SORT!Y19","v":0},"</td><td>",{"$f":"SORT!Z19","v":0},"</td><td>",{"$f":"SORT!AA19","v":0},"</td><td>",{"$f":"SORT!AB19","v":0},"</td><td><strong>",{"$f":"SORT!AC19","v":0},"</strong></td><td><strong>",{"$f":"SORT!AD19","v":0},"</strong></td><td>",{"$f":"SORT!AF19","v":""},"</td><td>",{"$f":"SORT!AG19","v":""},"</td></tr>",null,"<tr align=\"center\"><td><strong>",{"$f":"SORT!B19","v":" "},"</strong></td><td>",{"$f":"SORT!AH19","v":0},"</td><td>",{"$f":"SORT!AI19","v":0},"</td><td><strong>",{"$f":"SORT!AJ19","v":0},"</strong></td><td><strong>",{"$f":"SORT!AK19","v":0},"</strong></td><td>",{"$f":"SORT!AL19","v":""},"</td></tr>"]
[16,null,"<tr align=\"center\"><td><strong>",{"$f":"SORT!B20","v":" "},"</strong></td><td>",{"$f":"SORT!X20","v":0},"</td><td>",{"$f":"SORT!Y20","v":0},"</td><td>",{"$f":"SORT!Z20","v":0},"</td><td>",{"$f":"SORT!AA20","v":0},"</td><td>",{"$f":"SORT!AB20","v":0},"</td><td><strong>",{"$f":"SORT!AC20","v":0},"</strong></td><td><strong>",{"$f":"SORT!AD20","v":0},"</strong></td><td>",{"$f":"SORT!AF20","v":""},"</td><td>",{"$f":"SORT!AG20","v":""},"</td></tr>",null,"<tr align=\"center\"><td><strong>",{"$f":"SORT!B20","v":" "},"</strong></td><td>",{"$f":"SORT!AH20","v":0},"</td><td>",{"$f":"SORT!AI20","v":0},"</td><td><strong>",{"$f":"SORT!AJ20","v":0},"</strong></td><td><strong>",{"$f":"SORT!AK20","v":0},"</strong></td><td>",{"$f":"SORT!AL20","v":""},"</td></tr>"]
[17,null,"<tr align=\"center\"><td><strong>",{"$f":"SORT!B21","v":" "},"</strong></td><td>",{"$f":"SORT!X21","v":0},"</td><td>",{"$f":"SORT!Y21","v":0},"</td><td>",{"$f":"SORT!Z21","v":0},"</td><td>",{"$f":"SORT!AA21","v":0},"</td><td>",{"$f":"SORT!AB21","v":0},"</td><td><strong>",{"$f":"SORT!AC21","v":0},"</strong></td><td><strong>",{"$f":"SORT!AD21","v":0},"</strong></td><td>",{"$f":"SORT!AF21","v":""},"</td><td>",{"$f":"SORT!AG21","v":""},"</td></tr>",null,"<tr align=\"center\"><td><strong>",{"$f":"SORT!B21","v":" "},"</strong></td><td>",{"$f":"SORT!AH21","v":0},"</td><td>",{"$f":"SORT!AI21","v":0},"</td><td><strong>",{"$f":"SORT!AJ21","v":0},"</strong></td><td><strong>",{"$f":"SORT!AK21","v":0},"</strong></td><td>",{"$f":"SORT!AL21","v":""},"</td></tr>"]
[18,null,"<tr align=\"center\"><td><strong>",{"$f":"SORT!B22","v":" "},"</strong></td><td>",{"$f":"SORT!X22","v":0},"</td><td>",{"$f":"SORT!Y22","v":0},"</td><td>",{"$f":"SORT!Z22","v":0},"</td><td>",{"$f":"SORT!AA22","v":0},"</td><td>",{"$f":"SORT!AB22","v":0},"</td><td><strong>",{"$f":"SORT!AC22","v":0},"</strong></td><td><strong>",{"$f":"SORT!AD22","v":0},"</strong></td><td>",{"$f":"SORT!AF22","v":""},"</td><td>",{"$f":"SORT!AG22","v":""},"</td></tr>",null,"<tr align=\"center\"><td><strong>",{"$f":"SORT!B22","v":" "},"</strong></td><td>",{"$f":"SORT!AH22","v":0},"</td><td>",{"$f":"SORT!AI22","v":0},"</td><td><strong>",{"$f":"SORT!AJ22","v":0},"</strong></td><td><strong>",{"$f":"SORT!AK22","v":0},"</strong></td><td>",{"$f":"SORT!AL22","v":""},"</td></tr>"]
[19,null,"<tr align=\"center\"><td><strong>",{"$f":"SORT!B23","v":" "},"</strong></td><td>",{"$f":"SORT!X23","v":0},"</td><td>",{"$f":"SORT!Y23","v":0},"</td><td>",{"$f":"SORT!Z23","v":0},"</td><td>",{"$f":"SORT!AA23","v":0},"</td><td>",{"$f":"SORT!AB23","v":0},"</td><td><strong>",{"$f":"SORT!AC23","v":0},"</strong></td><td><strong>",{"$f":"SORT!AD23","v":0},"</strong></td><td>",{"$f":"SORT!AF23","v":""},"</td><td>",{"$f":"SORT!AG23","v":""},"</td></tr>",null,"<tr align=\"center\"><td><strong>",{"$f":"SORT!B23","v":" "},"</strong></td><td>",{"$f":"SORT!AH23","v":0},"</td><td>",{"$f":"SORT!AI23","v":0},"</td><td><strong>",{"$f":"SORT!AJ23","v":0},"</strong></td><td><strong>",{"$f":"SORT!AK23","v":0},"</strong></td><td>",{"$f":"SORT!AL23","v":""},"</td></tr>"]
[20,null,"<tr align=\"center\"><td><strong>",{"$f":"SORT!B24","v":" "},"</strong></td><td>",{"$f":"SORT!X24","v":0},"</td><td>",{"$f":"SORT!Y24","v":0},"</td><td>",{"$f":"SORT!Z24","v":0},"</td><td>",{"$f":"SORT!AA24","v":0},"</td><td>",{"$f":"SORT!AB24","v":0},"</td><td><strong>",{"$f":"SORT!AC24","v":0},"</strong></td><td><strong>",{"$f":"SORT!AD24","v":0},"</strong></td><td>",{"$f":"SORT!AF24","v":""},"</td><td>",{"$f":"SORT!AG24","v":""},"</td></tr>",null,"<tr align=\"center\"><td><strong>",{"$f":"SORT!B24","v":" "},"</strong></td><td>",{"$f":"SORT!AH24","v":0},"</td><td>",{"$f":"SORT!AI24","v":0},"</td><td><strong>",{"$f":"SORT!AJ24","v":0},"</strong></td><td><strong>",{"$f":"SORT!AK24","v":0},"</strong></td><td>",{"$f":"SORT!AL24","v":""},"</td></tr>"]
[21,null,"<tr align=\"center\"><td><strong>",{"$f":"SORT!B25","v":" "},"</strong></td><td>",{"$f":"SORT!X25","v":0},"</td><td>",{"$f":"SORT!Y25","v":0},"</td><td>",{"$f":"SORT!Z25","v":0},"</td><td>",{"$f":"SORT!AA25","v":0},"</td><td>",{"$f":"SORT!AB25","v":0},"</td><td><strong>",{"$f":"SORT!AC25","v":0},"</strong></td><td><strong>",{"$f":"SORT!AD25","v":0},"</strong></td><td>",{"$f":"SORT!AF25","v":""},"</td><td>",{"$f":"SORT!AG25","v":""},"</td></tr>",null,"<tr align=\"center\"><td><strong>",{"$f":"SORT!B25","v":" "},"</strong></td><td>",{"$f":"SORT!AH25","v":0},"</td><td>",{"$f":"SORT!AI25","v":0},"</td><td><strong>",{"$f":"SORT!AJ25","v":0},"</strong></td><td><strong>",{"$f":"SORT!AK25","v":0},"</strong></td><td>",{"$f":"SORT!AL25","v":""},"</td></tr>"]
[22,null,"<tr align=\"center\"><td><strong>",{"$f":"SORT!B26","v":" "},"</strong></td><td>",{"$f":"SORT!X26","v":0},"</td><td>",{"$f":"SORT!Y26","v":0},"</td><td>",{"$f":"SORT!Z26","v":0},"</td><td>",{"$f":"SORT!AA26","v":0},"</td><td>",{"$f":"SORT!AB26","v":0},"</td><td><strong>",{"$f":"SORT!AC26","v":0},"</strong></td><td><strong>",{"$f":"SORT!AD26","v":0},"</strong></td><td>",{"$f":"SORT!AF26","v":""},"</td><td>",{"$f":"SORT!AG26","v":""},"</td></tr>",null,"<tr align=\"center\"><td><strong>",{"$f":"SORT!B26","v":" "},"</strong></td><td>",{"$f":"SORT!AH26","v":0},"</td><td>",{"$f":"SORT!AI26","v":0},"</td><td><strong>",{"$f":"SORT!AJ26","v":0},"</strong></td><td><strong>",{"$f":"SORT!AK26","v":0},"</strong></td><td>",{"$f":"SORT!AL26","v":""},"</td></tr>"]
[23,null,"<tr align=\"center\"><td><strong>",{"$f":"SORT!B27","v":" "},"</strong></td><td>",{"$f":"SORT!X27","v":0},"</td><td>",{"$f":"SORT!Y27","v":0},"</td><td>",{"$f":"SORT!Z27","v":0},"</td><td>",{"$f":"SORT!AA27","v":0},"</td><td>",{"$f":"SORT!AB27","v":0},"</td><td><strong>",{"$f":"SORT!AC27","v":0},"</strong></td><td><strong>",{"$f":"SORT!AD27","v":0},"</strong></td><td>",{"$f":"SORT!AF27","v":""},"</td><td>",{"$f":"SORT!AG27","v":""},"</td></tr>",null,"<tr align=\"center\"><td><strong>",{"$f":"SORT!B27","v":" "},"</strong></td><td>",{"$f":"SORT!AH27","v":0},"</td><td>",{"$f":"SORT!AI27","v":0},"</td><td><strong>",{"$f":"SORT!AJ27","v":0},"</strong></td><td><strong>",{"$f":"SORT!AK27","v":0},"</strong></td><td>",{"$f":"SORT!AL27","v":""},"</td></tr>"]
[24,null,"<tr align=\"center\"><td><strong>",{"$f":"SORT!B28","v":" "},"</strong></td><td>",{"$f":"SORT!X28","v":0},"</td><td>",{"$f":"SORT!Y28","v":0},"</td><td>",{"$f":"SORT!Z28","v":0},"</td><td>",{"$f":"SORT!AA28","v":0},"</td><td>",{"$f":"SORT!AB28","v":0},"</td><td><strong>",{"$f":"SORT!AC28","v":0},"</strong></td><td><strong>",{"$f":"SORT!AD28","v":0},"</strong></td><td>",{"$f":"SORT!AF28","v":""},"</td><td>",{"$f":"SORT!AG28","v":""},"</td></tr>",null,"<tr align=\"center\"><td><strong>",{"$f":"SORT!B28","v":" "},"</strong></td><td>",{"$f":"SORT!AH28","v":0},"</td><td>",{"$f":"SORT!AI28","v":0},"</td><td><strong>",{"$f":"SORT!AJ28","v":0},"</strong></td><td><strong>",{"$f":"SORT!AK28","v":0},"</strong></td><td>",{"$f":"SORT!AL28","v":""},"</td></tr>"]
[25,null,"<tr align=\"center\"><td><strong>",{"$f":"SORT!B29","v":" "},"</strong></td><td>",{"$f":"SORT!X29","v":0},"</td><td>",{"$f":"SORT!Y29","v":0},"</td><td>",{"$f":"SORT!Z29","v":0},"</td><td>",{"$f":"SORT!AA29","v":0},"</td><td>",{"$f":"SORT!AB29","v":0},"</td><td><strong>",{"$f":"SORT!AC29","v":0},"</strong></td><td><strong>",{"$f":"SORT!AD29","v":0},"</strong></td><td>",{"$f":"SORT!AF29","v":""},"</td><td>",{"$f":"SORT!AG29","v":""},"</td></tr>",null,"<tr align=\"center\"><td><strong>",{"$f":"SORT!B29","v":" "},"</strong></td><td>",{"$f":"SORT!AH29","v":0},"</td><td>",{"$f":"SORT!AI29","v":0},"</td><td><strong>",{"$f":"SORT!AJ29","v":0},"</strong></td><td><strong>",{"$f":"SORT!AK29","v":0},"</strong></td><td>",{"$f":"SORT!AL29","v":""},"</td></tr>"]
[26,null,"<tr align=\"center\"><td><strong>",{"$f":"SORT!B30","v":" "},"</strong></td><td>",{"$f":"SORT!X30","v":0},"</td><td>",{"$f":"SORT!Y30","v":0},"</td><td>",{"$f":"SORT!Z30","v":0},"</td><td>",{"$f":"SORT!AA30","v":0},"</td><td>",{"$f":"SORT!AB30","v":0},"</td><td><strong>",{"$f":"SORT!AC30","v":0},"</strong></td><td><strong>",{"$f":"SORT!AD30","v":0},"</strong></td><td>",{"$f":"SORT!AF30","v":""},"</td><td>",{"$f":"SORT!AG30","v":""},"</td></tr>",null,"<tr align=\"center\"><td><strong>",{"$f":"SORT!B30","v":" "},"</strong></td><td>",{"$f":"SORT!AH30","v":0},"</td><td>",{"$f":"SORT!AI30","v":0},"</td><td><strong>",{"$f":"SORT!AJ30","v":0},"</strong></td><td><strong>",{"$f":"SORT!AK30","v":0},"</strong></td><td>",{"$f":"SORT!AL30","v":""},"</td></tr>"]
[27,null,"<tr align=\"center\"><td><strong>",{"$f":"SORT!B31","v":" "},"</strong></td><td>",{"$f":"SORT!X31","v":0},"</td><td>",{"$f":"SORT!Y31","v":0},"</td><td>",{"$f":"SORT!Z31","v":0},"</td><td>",{"$f":"SORT!AA31","v":0},"</td><td>",{"$f":"SORT!AB31","v":0},"</td><td><strong>",{"$f":"SORT!AC31","v":0},"</strong></td><td><strong>",{"$f":"SORT!AD31","v":0},"</strong></td><td>",{"$f":"SORT!AF31","v":""},"</td><td>",{"$f":"SORT!AG31","v":""},"</td></tr>",null,"<tr align=\"center\"><td><strong>",{"$f":"SORT!B31","v":" "},"</strong></td><td>",{"$f":"SORT!AH31","v":0},"</td><td>",{"$f":"SORT!AI31","v":0},"</td><td><strong>",{"$f":"SORT!AJ31","v":0},"</strong></td><td><strong>",{"$f":"SORT!AK31","v":0},"</strong></td><td>",{"$f":"SORT!AL31","v":""},"</td></tr>"]
[28,null,"<tr align=\"center\"><td><strong>",{"$f":"SORT!B32","v":" "},"</strong></td><td>",{"$f":"SORT!X32","v":0},"</td><td>",{"$f":"SORT!Y32","v":0},"</td><td>",{"$f":"SORT!Z32","v":0},"</td><td>",{"$f":"SORT!AA32","v":0},"</td><td>",{"$f":"SORT!AB32","v":0},"</td><td><strong>",{"$f":"SORT!AC32","v":0},"</strong></td><td><strong>",{"$f":"SORT!AD32","v":0},"</strong></td><td>",{"$f":"SORT!AF32","v":""},"</td><td>",{"$f":"SORT!AG32","v":""},"</td></tr>",null,"<tr align=\"center\"><td><strong>",{"$f":"SORT!B32","v":" "},"</strong></td><td>",{"$f":"SORT!AH32","v":0},"</td><td>",{"$f":"SORT!AI32","v":0},"</td><td><strong>",{"$f":"SORT!AJ32","v":0},"</strong></td><td><strong>",{"$f":"SORT!AK32","v":0},"</strong></td><td>",{"$f":"SORT!AL32","v":""},"</td></tr>"]
[29,null,"<tr align=\"center\"><td><strong>",{"$f":"SORT!B33","v":" "},"</strong></td><td>",{"$f":"SORT!X33","v":0},"</td><td>",{"$f":"SORT!Y33","v":0},"</td><td>",{"$f":"SORT!Z33","v":0},"</td><td>",{"$f":"SORT!AA33","v":0},"</td><td>",{"$f":"SORT!AB33","v":0},"</td><td><strong>",{"$f":"SORT!AC33","v":0},"</strong></td><td><strong>",{"$f":"SORT!AD33","v":0},"</strong></td><td>",{"$f":"SORT!AF33","v":""},"</td><td>",{"$f":"SORT!AG33","v":""},"</td></tr>",null,"<tr align=\"center\"><td><strong>",{"$f":"SORT!B33","v":" "},"</strong></td><td>",{"$f":"SORT!AH33","v":0},"</td><td>",{"$f":"SORT!AI33","v":0},"</td><td><strong>",{"$f":"SORT!AJ33","v":0},"</strong></td><td><strong>",{"$f":"SORT!AK33","v":0},"</strong></td><td>",{"$f":"SORT!AL33","v":""},"</td></tr>"]
[30,null,"<tr align=\"center\"><td><strong>",{"$f":"SORT!B34","v":" "},"</strong></td><td>",{"$f":"SORT!X34","v":0},"</td><td>",{"$f":"SORT!Y34","v":0},"</td><td>",{"$f":"SORT!Z34","v":0},"</td><td>",{"$f":"SORT!AA34","v":0},"</td><td>",{"$f":"SORT!AB34","v":0},"</td><td><strong>",{"$f":"SORT!AC34","v":0},"</strong></td><td><strong>",{"$f":"SORT!AD34","v":0},"</strong></td><td>",{"$f":"SORT!AF34","v":""},"</td><td>",{"$f":"SORT!AG34","v":""},"</td></tr>",null,"<tr align=\"center\"><td><strong>",{"$f":"SORT!B34","v":" "},"</strong></td><td>",{"$f":"SORT!AH34","v":0},"</td><td>",{"$f":"SORT!AI34","v":0},"</td><td><strong>",{"$f":"SORT!AJ34","v":0},"</strong></td><td><strong>",{"$f":"SORT!AK34","v":0},"</strong></td><td>",{"$f":"SORT!AL34","v":""},"</td></tr>"]
[31,null,"<tr align=\"center\"><td><strong>",{"$f":"SORT!B35","v":" "},"</strong></td><td>",{"$f":"SORT!X35","v":0},"</td><td>",{"$f":"SORT!Y35","v":0},"</td><td>",{"$f":"SORT!Z35","v":0},"</td><td>",{"$f":"SORT!AA35","v":0},"</td><td>",{"$f":"SORT!AB35","v":0},"</td><td><strong>",{"$f":"SORT!AC35","v":0},"</strong></td><td><strong>",{"$f":"SORT!AD35","v":0},"</strong></td><td>",{"$f":"SORT!AF35","v":""},"</td><td>",{"$f":"SORT!AG35","v":""},"</td></tr>",null,"<tr align=\"center\"><td><strong>",{"$f":"SORT!B35","v":" "},"</strong></td><td>",{"$f":"SORT!AH35","v":0},"</td><td>",{"$f":"SORT!AI35","v":0},"</td><td><strong>",{"$f":"SORT!AJ35","v":0},"</strong></td><td><strong>",{"$f":"SORT!AK35","v":0},"</strong></td><td>",{"$f":"SORT!AL35","v":""},"</td></tr>"]
[32,null,"<tr align=\"center\"><td><strong>",{"$f":"SORT!B36","v":" "},"</strong></td><td>",{"$f":"SORT!X36","v":0},"</td><td>",{"$f":"SORT!Y36","v":0},"</td><td>",{"$f":"SORT!Z36","v":0},"</td><td>",{"$f":"SORT!AA36","v":0},"</td><td>",{"$f":"SORT!AB36","v":0},"</td><td><strong>",{"$f":"SORT!AC36","v":0},"</strong></td><td><strong>",{"$f":"SORT!AD36","v":0},"</strong></td><td>",{"$f":"SORT!AF36","v":""},"</td><td>",{"$f":"SORT!AG36","v":""},"</td></tr>",null,"<tr align=\"center\"><td><strong>",{"$f":"SORT!B36","v":" "},"</strong></td><td>",{"$f":"SORT!AH36","v":0},"</td><td>",{"$f":"SORT!AI36","v":0},"</td><td><strong>",{"$f":"SORT!AJ36","v":0},"</strong></td><td><strong>",{"$f":"SORT!AK36","v":0},"</strong></td><td>",{"$f":"SORT!AL36","v":""},"</td></tr>"]
[33,null,"<tr align=\"center\"><td><strong>",{"$f":"SORT!B37","v":" "},"</strong></td><td>",{"$f":"SORT!X37","v":0},"</td><td>",{"$f":"SORT!Y37","v":0},"</td><td>",{"$f":"SORT!Z37","v":0},"</td><td>",{"$f":"SORT!AA37","v":0},"</td><td>",{"$f":"SORT!AB37","v":0},"</td><td><strong>",{"$f":"SORT!AC37","v":0},"</strong></td><td><strong>",{"$f":"SORT!AD37","v":0},"</strong></td><td>",{"$f":"SORT!AF37","v":""},"</td><td>",{"$f":"SORT!AG37","v":""},"</td></tr>",null,"<tr align=\"center\"><td><strong>",{"$f":"SORT!B37","v":" "},"</strong></td><td>",{"$f":"SORT!AH37","v":0},"</td><td>",{"$f":"SORT!AI37","v":0},"</td><td><strong>",{"$f":"SORT!AJ37","v":0},"</strong></td><td><strong>",{"$f":"SORT!AK37","v":0},"</strong></td><td>",{"$f":"SORT!AL37","v":""},"</td></tr>"]
[34,null,"<tr align=\"center\"><td><strong>",{"$f":"SORT!B38","v":" "},"</strong></td><td>",{"$f":"SORT!X38","v":0},"</td><td>",{"$f":"SORT!Y38","v":0},"</td><td>",{"$f":"SORT!Z38","v":0},"</td><td>",{"$f":"SORT!AA38","v":0},"</td><td>",{"$f":"SORT!AB38","v":0},"</td><td><strong>",{"$f":"SORT!AC38","v":0},"</strong></td><td><strong>",{"$f":"SORT!AD38","v":0},"</strong></td><td>",{"$f":"SORT!AF38","v":""},"</td><td>",{"$f":"SORT!AG38","v":""},"</td></tr>",null,"<tr align=\"center\"><td><strong>",{"$f":"SORT!B38","v":" "},"</strong></td><td>",{"$f":"SORT!AH38","v":0},"</td><td>",{"$f":"SORT!AI38","v":0},"</td><td><strong>",{"$f":"SORT!AJ38","v":0},"</strong></td><td><strong>",{"$f":"SORT!AK38","v":0},"</strong></td><td>",{"$f":"SORT!AL38","v":""},"</td></tr>"]
[35,null,"<tr align=\"center\"><td><strong>",{"$f":"SORT!B39","v":" "},"</strong></td><td>",{"$f":"SORT!X39","v":0},"</td><td>",{"$f":"SORT!Y39","v":0},"</td><td>",{"$f":"SORT!Z39","v":0},"</td><td>",{"$f":"SORT!AA39","v":0},"</td><td>",{"$f":"SORT!AB39","v":0},"</td><td><strong>",{"$f":"SORT!AC39","v":0},"</strong></td><td><strong>",{"$f":"SORT!AD39","v":0},"</strong></td><td>",{"$f":"SORT!AF39","v":""},"</td><td>",{"$f":"SORT!AG39","v":""},"</td></tr>",null,"<tr align=\"center\"><td><strong>",{"$f":"SORT!B39","v":" "},"</strong></td><td>",{"$f":"SORT!AH39","v":0},"</td><td>",{"$f":"SORT!AI39","v":0},"</td><td><strong>",{"$f":"SORT!AJ39","v":0},"</strong></td><td><strong>",{"$f":"SORT!AK39","v":0},"</strong></td><td>",{"$f":"SORT!AL39","v":""},"</td></tr>"]
[36,null,"<tr align=\"center\"><td><strong>",{"$f":"SORT!B40","v":" "},"</strong></td><td>",{"$f":"SORT!X40","v":0},"</td><td>",{"$f":"SORT!Y40","v":0},"</td><td>",{"$f":"SORT!Z40","v":0},"</td><td>",{"$f":"SORT!AA40","v":0},"</td><td>",{"$f":"SORT!AB40","v":0},"</td><td><strong>",{"$f":"SORT!AC40","v":0},"</strong></td><td><strong>",{"$f":"SORT!AD40","v":0},"</strong></td><td>",{"$f":"SORT!AF40","v":""},"</td><td>",{"$f":"SORT!AG40","v":""},"</td></tr>",null,"<tr align=\"center\"><td><strong>",{"$f":"SORT!B40","v":" "},"</strong></td><td>",{"$f":"SORT!AH40","v":0},"</td><td>",{"$f":"SORT!AI40","v":0},"</td><td><strong>",{"$f":"SORT!AJ40","v":0},"</strong></td><td><strong>",{"$f":"SORT!AK40","v":0},"</strong></td><td>",{"$f":"SORT!AL40","v":""},"</td></tr>"]
[37,null,"<tr align=\"center\"><td><strong>",{"$f":"SORT!B41","v":" "},"</strong></td><td>",{"$f":"SORT!X41","v":0},"</td><td>",{"$f":"SORT!Y41","v":0},"</td><td>",{"$f":"SORT!Z41","v":0},"</td><td>",{"$f":"SORT!AA41","v":0},"</td><td>",{"$f":"SORT!AB41","v":0},"</td><td><strong>",{"$f":"SORT!AC41","v":0},"</strong></td><td><strong>",{"$f":"SORT!AD41","v":0},"</strong></td><td>",{"$f":"SORT!AF41","v":""},"</td><td>",{"$f":"SORT!AG41","v":""},"</td></tr>",null,"<tr align=\"center\"><td><strong>",{"$f":"SORT!B41","v":" "},"</strong></td><td>",{"$f":"SORT!AH41","v":0},"</td><td>",{"$f":"SORT!AI41","v":0},"</td><td><strong>",{"$f":"SORT!AJ41","v":0},"</strong></td><td><strong>",{"$f":"SORT!AK41","v":0},"</strong></td><td>",{"$f":"SORT!AL41","v":""},"</td></tr>"]
[38,null,"<tr align=\"center\"><td><strong>",{"$f":"SORT!B42","v":" "},"</strong></td><td>",{"$f":"SORT!X42","v":0},"</td><td>",{"$f":"SORT!Y42","v":0},"</td><td>",{"$f":"SORT!Z42","v":0},"</td><td>",{"$f":"SORT!AA42","v":0},"</td><td>",{"$f":"SORT!AB42","v":0},"</td><td><strong>",{"$f":"SORT!AC42","v":0},"</strong></td><td><strong>",{"$f":"SORT!AD42","v":0},"</strong></td><td>",{"$f":"SORT!AF42","v":""},"</td><td>",{"$f":"SORT!AG42","v":""},"</td></tr>",null,"<tr align=\"center\"><td><strong>",{"$f":"SORT!B42","v":" "},"</strong></td><td>",{"$f":"SORT!AH42","v":0},"</td><td>",{"$f":"SORT!AI42","v":0},"</td><td><strong>",{"$f":"SORT!AJ42","v":0},"</strong></td><td><strong>",{"$f":"SORT!AK42","v":0},"</strong></td><td>",{"$f":"SORT!AL42","v":""},"</td></tr>"]
[39,null,"<tr align=\"center\"><td><strong>",{"$f":"SORT!B43","v":" "},"</strong></td><td>",{"$f":"SORT!X43","v":0},"</td><td>",{"$f":"SORT!Y43","v":0},"</td><td>",{"$f":"SORT!Z43","v":0},"</td><td>",{"$f":"SORT!AA43","v":0},"</td><td>",{"$f":"SORT!AB43","v":0},"</td><td><strong>",{"$f":"SORT!AC43","v":0},"</strong></td><td><strong>",{"$f":"SORT!AD43","v":0},"</strong></td><td>",{"$f":"SORT!AF43","v":""},"</td><td>",{"$f":"SORT!AG43","v":""},"</td></tr>",null,"<tr align=\"center\"><td><strong>",{"$f":"SORT!B43","v":" "},"</strong></td><td>",{"$f":"SORT!AH43","v":0},"</td><td>",{"$f":"SORT!AI43","v":0},"</td><td><strong>",{"$f":"SORT!AJ43","v":0},"</strong></td><td><strong>",{"$f":"SORT!AK43","v":0},"</strong></td><td>",{"$f":"SORT!AL43","v":""},"</td></tr>"]
[40,null,"<tr align=\"center\"><td><strong>",{"$f":"SORT!B44","v":" "},"</strong></td><td>",{"$f":"SORT!X44","v":0},"</td><td>",{"$f":"SORT!Y44","v":0},"</td><td>",{"$f":"SORT!Z44","v":0},"</td><td>",{"$f":"SORT!AA44","v":0},"</td><td>",{"$f":"SORT!AB44","v":0},"</td><td><strong>",{"$f":"SORT!AC44","v":0},"</strong></td><td><strong>",{"$f":"SORT!AD44","v":0},"</strong></td><td>",{"$f":"SORT!AF44","v":""},"</td><td>",{"$f":"SORT!AG44","v":""},"</td></tr>",null,"<tr align=\"center\"><td><strong>",{"$f":"SORT!B44","v":" "},"</strong></td><td>",{"$f":"SORT!AH44","v":0},"</td><td>",{"$f":"SORT!AI44","v":0},"</td><td><strong>",{"$f":"SORT!AJ44","v":0},"</strong></td><td><strong>",{"$f":"SORT!AK44","v":0},"</strong></td><td>",{"$f":"SORT!AL44","v":""},"</td></tr>"]
[41,null,"<tr align=\"center\"><td><strong>",{"$f":"SORT!B45","v":" "},"</strong></td><td>",{"$f":"SORT!X45","v":0},"</td><td>",{"$f":"SORT!Y45","v":0},"</td><td>",{"$f":"SORT!Z45","v":0},"</td><td>",{"$f":"SORT!AA45","v":0},"</td><td>",{"$f":"SORT!AB45","v":0},"</td><td><strong>",{"$f":"SORT!AC45","v":0},"</strong></td><td><strong>",{"$f":"SORT!AD45","v":0},"</strong></td><td>",{"$f":"SORT!AF45","v":""},"</td><td>",{"$f":"SORT!AG45","v":""},"</td></tr>",null,"<tr align=\"center\"><td><strong>",{"$f":"SORT!B45","v":" "},"</strong></td><td>",{"$f":"SORT!AH45","v":0},"</td><td>",{"$f":"SORT!AI45","v":0},"</td><td><strong>",{"$f":"SORT!AJ45","v":0},"</strong></td><td><strong>",{"$f":"SORT!AK45","v":0},"</strong></td><td>",{"$f":"SORT!AL45","v":""},"</td></tr>"]
[42,null,"<tr align=\"center\"><td><strong>",{"$f":"SORT!B46","v":" "},"</strong></td><td>",{"$f":"SORT!X46","v":0},"</td><td>",{"$f":"SORT!Y46","v":0},"</td><td>",{"$f":"SORT!Z46","v":0},"</td><td>",{"$f":"SORT!AA46","v":0},"</td><td>",{"$f":"SORT!AB46","v":0},"</td><td><strong>",{"$f":"SORT!AC46","v":0},"</strong></td><td><strong>",{"$f":"SORT!AD46","v":0},"</strong></td><td>",{"$f":"SORT!AF46","v":""},"</td><td>",{"$f":"SORT!AG46","v":""},"</td></tr>",null,"<tr align=\"center\"><td><strong>",{"$f":"SORT!B46","v":" "},"</strong></td><td>",{"$f":"SORT!AH46","v":0},"</td><td>",{"$f":"SORT!AI46","v":0},"</td><td><strong>",{"$f":"SORT!AJ46","v":0},"</strong></td><td><strong>",{"$f":"SORT!AK46","v":0},"</strong></td><td>",{"$f":"SORT!AL46","v":""},"</td></tr>"]

{"sheet":"Squad1","index":5,"n_rows":17,"n_cols":19,"rows_kept":17,"cut":false,"hidden":false,"merged":[[0,1,0,3],[0,16,0,18],[1,8,1,12],[1,14,1,18],[1,2,1,6]]}
[null,"Squad 1",null,null,null,null,null,null,null,null,null,null,null,null,null,null,{"$f":"ShooterList!G2","v":"DATE"}]
[null,null,"Stage 1",null,null,null,null,null,"Stage 2",null,null,null,null,null,"Stage 3"]
[null,"SHOOTER","TIME","MISS","FAILURE TO NEUTRALIZE","TARGET NOT ENGAGED","PROCEDURAL",null,"TIME","MISS","FAILURE TO NEUTRALIZE","TARGET NOT ENGAGED","PROCEDURAL",null,"TIME","MISS","FAILURE TO NEUTRALIZE","TARGET NOT ENGAGED","PROCEDURAL"]
[1,{"$f":"IF(Squads!$R3=\"\",\"\",Squads!$R3)","v":""}]
[2,{"$f":"IF(Squads!$R4=\"\",\"\",Squads!$R4)","v":""}]
[3,{"$f":"IF(Squads!$R5=\"\",\"\",Squads!$R5)","v":""}]
[4,{"$f":"IF(Squads!$R6=\"\",\"\",Squads!$R6)","v":""}]
[5,{"$f":"IF(Squads!$R7=\"\",\"\",Squads!$R7)","v":""}]
[6,{"$f":"IF(Squads!$R8=\"\",\"\",Squads!$R8)","v":""}]
[7,{"$f":"IF(Squads!$R9=\"\",\"\",Squads!$R9)","v":""}]
[8,{"$f":"IF(Squads!$R10=\"\",\"\",Squads!$R10)","v":""}]
[9,{"$f":"IF(Squads!$R11=\"\",\"\",Squads!$R11)","v":""}]
[10,{"$f":"IF(Squads!$R12=\"\",\"\",Squads!$R12)","v":""}]
[11,{"$f":"IF(Squads!$R13=\"\",\"\",Squads!$R13)","v":""}]
[12,{"$f":"IF(Squads!$R14=\"\",\"\",Squads!$R14)","v":""}]
[13,{"$f":"IF(Squads!$R15=\"\",\"\",Squads!$R15)","v":""}]
[14,{"$f":"IF(Squads!$R16=\"\",\"\",Squads!$R16)","v":""}]

{"sheet":"Squad2","index":6,"n_rows":17,"n_cols":19,"rows_kept":17,"cut":false,"hidden":false,"merged":[[0,1,0,3],[0,16,0,18],[1,8,1,12],[1,14,1,18],[1,2,1,6]]}
[null,"Squad 2",null,null,null,null,null,null,null,null,null,null,null,null,null,null,{"$f":"ShooterList!G2","v":"DATE"}]
[null,null,"Stage 1",null,null,null,null,null,"Stage 2",null,null,null,null,null,"Stage 3"]
[null,"SHOOTER","TIME","MISS","FAILURE TO NEUTRALIZE","TARGET NOT ENGAGED","PROCEDURAL",null,"TIME","MISS","FAILURE TO NEUTRALIZE","TARGET NOT ENGAGED","PROCEDURAL",null,"TIME","MISS","FAILURE TO NEUTRALIZE","TARGET NOT ENGAGED","PROCEDURAL"]
[1,{"$f":"IF(Squads!$S3=\"\",\"\",Squads!$S3)","v":""}]
[2,{"$f":"IF(Squads!$S4=\"\",\"\",Squads!$S4)","v":""}]
[3,{"$f":"IF(Squads!$S5=\"\",\"\",Squads!$S5)","v":""}]
[4,{"$f":"IF(Squads!$S6=\"\",\"\",Squads!$S6)","v":""}]
[5,{"$f":"IF(Squads!$S7=\"\",\"\",Squads!$S7)","v":""}]
[6,{"$f":"IF(Squads!$S8=\"\",\"\",Squads!$S8)","v":""}]
[7,{"$f":"IF(Squads!$S9=\"\",\"\",Squads!$S9)","v":""}]
[8,{"$f":"IF(Squads!$S10=\"\",\"\",Squads!$S10)","v":""}]
[9,{"$f":"IF(Squads!$S11=\"\",\"\",Squads!$S11)","v":""}]
[10,{"$f":"IF(Squads!$S12=\"\",\"\",Squads!$S12)","v":""}]
[11,{"$f":"IF(Squads!$S13=\"\",\"\",Squads!$S13)","v":""}]
[12,{"$f":"IF(Squads!$S14=\"\",\"\",Squads!$S14)","v":""}]
[13,{"$f":"IF(Squads!$S15=\"\",\"\",Squads!$S15)","v":""}]
[14,{"$f":"IF(Squads!$S16=\"\",\"\",Squads!$S16)","v":""}]

{"sheet":"Squad3","index":7,"n_rows":17,"n_cols":19,"rows_kept":17,"cut":false,"hidden":false,"merged":[[0,1,0,3],[0,16,0,18],[1,8,1,12],[1,14,1,18],[1,2,1,6]]}
[null,"Squad 3",null,null,null,null,null,null,null,null,null,null,null,null,null,null,{"$f":"ShooterList!G2","v":"DATE"}]
[null,null,"Stage 1",null,null,null,null,null,"Stage 2",null,null,null,null,null,"Stage 3"]
[null,"SHOOTER","TIME","MISS","FAILURE TO NEUTRALIZE","TARGET NOT ENGAGED","PROCEDURAL",null,"TIME","MISS","FAILURE TO NEUTRALIZE","TARGET NOT ENGAGED","PROCEDURAL",null,"TIME","MISS","FAILURE TO NEUTRALIZE","TARGET NOT ENGAGED","PROCEDURAL"]
[1,{"$f":"IF(Squads!$T3=\"\",\"\",Squads!$T3)","v":""}]
[2,{"$f":"IF(Squads!$T4=\"\",\"\",Squads!$T4)","v":""}]
[3,{"$f":"IF(Squads!$T5=\"\",\"\",Squads!$T5)","v":""}]
[4,{"$f":"IF(Squads!$T6=\"\",\"\",Squads!$T6)","v":""}]
[5,{"$f":"IF(Squads!$T7=\"\",\"\",Squads!$T7)","v":""}]
[6,{"$f":"IF(Squads!$T8=\"\",\"\",Squads!$T8)","v":""}]
[7,{"$f":"IF(Squads!$T9=\"\",\"\",Squads!$T9)","v":""}]
[8,{"$f":"IF(Squads!$T10=\"\",\"\",Squads!$T10)","v":""}]
[9,{"$f":"IF(Squads!$T11=\"\",\"\",Squads!$T11)","v":""}]
[10,{"$f":"IF(Squads!$T12=\"\",\"\",Squads!$T12)","v":""}]
[11,{"$f":"IF(Squads!$T13=\"\",\"\",Squads!$T13)","v":""}]
[12,{"$f":"IF(Squads!$T14=\"\",\"\",Squads!$T14)","v":""}]
[13,{"$f":"IF(Squads!$T15=\"\",\"\",Squads!$T15)","v":""}]
[14,{"$f":"IF(Squads!$T16=\"\",\"\",Squads!$T16)","v":""}]