{"text_format":"1","workbook":"xlsx","n_sheets":5,"sheets":["22 Pistol","22 Rifle","SortSheet","for HTML","Lists"],"not_rendered":{"charts":0,"images":0,"macros":1,"external_links":1,"defined_names":13,"comments":0,"pivot_tables":2},"unopened":[],"bounds":{"document_bytes":16777216,"sheet_cells":100000,"rows_first":2000,"rows_last":500,"rows_between":2000,"halvings":0,"cell_chars":16384,"cell_head_chars":4096},"cells_cut":0,"cells_raw":0,"read":"whole","date_system":"1900"}

{"sheet":"22 Pistol","index":0,"n_rows":43,"n_cols":24,"rows_kept":43,"cut":false,"hidden":false,"merged":[[0,23,0,24],[0,20,0,21],[1,8,1,13],[1,14,1,19],[0,5,0,6],[0,7,0,16],[1,5,1,7]]}
[null,null,".22 Pistol",null,{"$f":"SUM($E$5:$E$43)","v":0},"DATE",null,"Country Pond Fish & Game Club\n.22 RIMFIRE Pin Shoot",null,null,null,null,null,null,null,null,null,null,null,null,"2017-05-29T07:26:39",null,null,"=LastSaved()"]
[null,null,null,null,null,"GUN",null,null,"RELAY 1",null,null,null,null,null,"RELAY 2"]
[]
[null,null,"NAME","CPF&G #","PAID","MANUFACTURER","MODEL","SIGHTS","LN1","SCORE1","LN2","SCORE2","LN3","SCORE3","LN4","SCORE4","LN5","SCORE5","LN6","SCORE6","TOTAL","SHOOTOFF"]
[1,null,null,null,null,null,null,null,1,null,2,null,3,null,1,null,2,null,3,null,{"$f":"IF($C5=\"\",0,IF(J5+L5+N5+P5+R5+T5=0,\"\",J5+L5+N5+P5+R5+T5))","v":0},null,null,{"$f":"IFERROR(VLOOKUP(C5,#REF!,1,0),\"\")","v":""}]
[2,null,null,null,null,null,null,null,2,null,3,null,1,null,2,null,3,null,1,null,0,null,null,{"$f":"IFERROR(VLOOKUP(C6,#REF!,1,0),\"\")","v":""}]
[3,null,null,null,null,null,null,null,3,null,1,null,2,null,3,null,1,null,2,null,0,null,null,{"$f":"IFERROR(VLOOKUP(C7,#REF!,1,0),\"\")","v":""}]
[4,null,null,null,null,null,null,null,1,null,2,null,3,null,1,null,2,null,3,null,0,null,null,{"$f":"IFERROR(VLOOKUP(C8,#REF!,1,0),\"\")","v":""}]
[5,null,null,null,null,null,null,null,2,null,3,null,1,null,2,null,3,null,1,null,0,null,null,{"$f":"IFERROR(VLOOKUP(C9,#REF!,1,0),\"\")","v":""}]
[6,null,null,null,null,null,null,null,3,null,1,null,2,null,3,null,1,null,2,null,0,null,null,{"$f":"IFERROR(VLOOKUP(C10,#REF!,1,0),\"\")","v":""}]
[7,null,null,null,null,null,null,null,1,null,2,null,3,null,1,null,2,null,3,null,0,null,null,{"$f":"IFERROR(VLOOKUP(C11,#REF!,1,0),\"\")","v":""}]
[8,null,null,null,null,null,null,null,2,null,3,null,1,null,2,null,3,null,1,null,0,null,null,{"$f":"IFERROR(VLOOKUP(C12,#REF!,1,0),\"\")","v":""}]
[9,null,null,null,null,null,null,null,3,null,1,null,2,null,3,null,1,null,2,null,0,null,null,{"$f":"IFERROR(VLOOKUP(C13,#REF!,1,0),\"\")","v":""}]
[10,null,null,null,null,null,null,null,1,null,2,null,3,null,1,null,2,null,3,null,0,null,null,{"$f":"IFERROR(VLOOKUP(C14,#REF!,1,0),\"\")","v":""}]
[11,null,null,null,null,null,null,null,2,null,3,null,1,null,2,null,3,null,1,null,{"$f":"IF($C15=\"\",0,IF(J15+L15+N15+P15+R15+T15=0,\"\",J15+L15+N15+P15+R15+T15))","v":0},null,null,{"$f":"IFERROR(VLOOKUP(C15,#REF!,1,0),\"\")","v":""}]
[12,null,null,null,null,null,null,null,3,null,1,null,2,null,3,null,1,null,2,null,0,null,null,{"$f":"IFERROR(VLOOKUP(C16,#REF!,1,0),\"\")","v":""}]
[13,null,null,null,null,null,null,null,1,null,2,null,3,null,1,null,2,null,3,null,0,null,null,{"$f":"IFERROR(VLOOKUP(C17,#REF!,1,0),\"\")","v":""}]
[14,null,null,null,null,null,null,null,2,null,3,null,1,null,2,null,3,null,1,null,0,null,null,{"$f":"IFERROR(VLOOKUP(C18,#REF!,1,0),\"\")","v":""}]
[15,null,null,null,null,null,null,null,3,null,1,null,2,null,3,null,1,null,2,null,0,null,null,{"$f":"IFERROR(VLOOKUP(C19,#REF!,1,0),\"\")","v":""}]
[16,null,null,null,null,null,null,null,1,null,2,null,3,null,1,null,2,null,3,null,0,null,null,{"$f":"IFERROR(VLOOKUP(C20,#REF!,1,0),\"\")","v":""}]
[17,null,null,null,null,null,null,null,2,null,3,null,1,null,2,null,3,null,1,null,0,null,null,{"$f":"IFERROR(VLOOKUP(C21,#REF!,1,0),\"\")","v":""}]
[18,null,null,null,null,null,null,null,3,null,1,null,2,null,3,null,1,null,2,null,0]
[19,null,null,null,null,null,null,null,1,null,2,null,3,null,1,null,2,null,3,null,0]
[20,null,null,null,null,null,null,null,2,null,3,null,1,null,2,null,3,null,1,null,0]
[21,null,null,null,null,null,null,null,3,null,1,null,2,null,3,null,1,null,2,null,0]
[22,null,null,null,null,null,null,null,1,null,2,null,3,null,1,null,2,null,3,null,0]
[23,null,null,null,null,null,null,null,2,null,3,null,1,null,2,null,3,null,1,null,0]
[24,null,null,null,null,null,null,null,3,null,1,null,2,null,3,null,1,null,2,null,0]
[25,null,null,null,null,null,null,null,1,null,2,null,3,null,1,null,2,null,3,null,0]
[26,null,null,null,null,null,null,null,2,null,3,null,1,null,2,null,3,null,1,null,0]
[27,null,null,null,null,null,null,null,3,null,1,null,2,null,3,null,1,null,2,null,0]
[28,null,null,null,null,null,null,null,1,null,2,null,3,null,1,null,2,null,3,null,0]
[29,null,null,null,null,null,null,null,2,null,3,null,1,null,2,null,3,null,1,null,0]
[30,null,null,null,null,null,null,null,3,null,1,null,2,null,3,null,1,null,2,null,0]
[31,null,null,null,null,null,null,null,1,null,2,null,3,null,1,null,2,null,3,null,0]
[32,null,null,null,null,null,null,null,2,null,3,null,1,null,2,null,3,null,1,null,0]
[33,null,null,null,null,null,null,null,3,null,1,null,2,null,3,null,1,null,2,null,0]
[34,null,null,null,null,null,null,null,1,null,2,null,3,null,1,null,2,null,3,null,0]
[35,null,null,null,null,null,null,null,2,null,3,null,1,null,2,null,3,null,1,null,0]
[36,null,null,null,null,null,null,null,3,null,1,null,2,null,3,null,1,null,2,null,0]
[37,null,null,null,null,null,null,null,1,null,2,null,3,null,1,null,2,null,3,null,0]
[38,null,null,null,null,null,null,null,2,null,3,null,1,null,2,null,3,null,1,null,0]
[39,null,null,null,null,null,null,null,3,null,1,null,2,null,3,null,1,null,2,null,0]

{"sheet":"22 Rifle","index":1,"n_rows":43,"n_cols":24,"rows_kept":43,"cut":false,"hidden":false,"merged":[[1,5,1,6],[1,8,1,13],[1,14,1,19],[0,5,0,6],[0,7,0,20]]}
[null,null,".22 Rifle",null,{"$f":"SUM($E$5:$E$43)","v":0},{"$f":"'22 Pistol'!F1:G1","v":"DATE"},null,"Country Pond Fish & Game Club\n.22 Rimfire Pin Shoot"]
[null,null,null,null,null,"GUN",null,null,"RELAY 1",null,null,null,null,null,"RELAY 2"]
[]
[null,null,"NAME","CPF&G #","PAID","MANUFACTURER","MODEL","SIGHTS","LN","SCORE","LN2","SCORE3","LN4","SCORE5","LN6","SCORE7","LN8","SCORE9","LN10","SCORE11","TOTAL","SHOOTOFF"]
[1,null,null,null,null,null,null,null,1,null,2,null,3,null,1,null,2,null,3,null,{"$f":"IF($C5=\"\",0,IF(J5+L5+N5+P5+R5+T5=0,\"\",J5+L5+N5+P5+R5+T5))","v":0},null,null,{"$f":"IFERROR(VLOOKUP(C5,#REF!,1,0),\"\")","v":""}]
[2,null,null,null,null,null,null,null,2,null,3,null,1,null,2,null,3,null,1,null,0,null,null,{"$f":"IFERROR(VLOOKUP(C6,#REF!,1,0),\"\")","v":""}]
[3,null,null,null,null,null,null,null,3,null,1,null,2,null,3,null,1,null,2,null,0,null,null,{"$f":"IFERROR(VLOOKUP(C7,#REF!,1,0),\"\")","v":""}]
[4,null,null,null,null,null,null,null,1,null,2,null,3,null,1,null,2,null,3,null,0,null,null,{"$f":"IFERROR(VLOOKUP(C8,#REF!,1,0),\"\")","v":""}]
[5,null,null,null,null,null,null,null,2,null,3,null,1,null,2,null,3,null,1,null,0,null,null,{"$f":"IFERROR(VLOOKUP(C9,#REF!,1,0),\"\")","v":""}]
[6,null,null,null,null,null,null,null,3,null,1,null,2,null,3,null,1,null,2,null,0,null,null,{"$f":"IFERROR(VLOOKUP(C10,#REF!,1,0),\"\")","v":""}]
[7,null,null,null,null,null,null,null,1,null,2,null,3,null,1,null,2,null,3,null,0,null,null,{"$f":"IFERROR(VLOOKUP(C11,#REF!,1,0),\"\")","v":""}]
[8,null,null,null,null,null,null,null,2,null,3,null,1,null,2,null,3,null,1,null,0]
[9,null,null,null,null,null,null,null,3,null,1,null,2,null,3,null,1,null,2,null,0]
[10,null,null,null,null,null,null,null,1,null,2,null,3,null,1,null,2,null,3,null,0]
[11,null,null,null,null,null,null,null,2,null,3,null,1,null,2,null,3,null,1,null,0]
[12,null,null,null,null,null,null,null,3,null,1,null,2,null,3,null,1,null,2,null,0]
[13,null,null,null,null,null,null,null,1,null,2,null,3,null,1,null,2,null,3,null,0]
[14,null,null,null,null,null,null,null,2,null,3,null,1,null,2,null,3,null,1,null,0]
[15,null,null,null,null,null,null,null,3,null,1,null,2,null,3,null,1,null,2,null,0]
[16,null,null,null,null,null,null,null,1,null,2,null,3,null,1,null,2,null,3,null,0]
[17,null,null,null,null,null,null,null,2,null,3,null,1,null,2,null,3,null,1,null,0]
[18,null,null,null,null,null,null,null,3,null,1,null,2,null,3,null,1,null,2,null,0]
[19,null,null,null,null,null,null,null,1,null,2,null,3,null,1,null,2,null,3,null,0]
[20,null,null,null,null,null,null,null,2,null,3,null,1,null,2,null,3,null,1,null,0]
[21,null,null,null,null,null,null,null,3,null,1,null,2,null,3,null,1,null,2,null,0]
[22,null,null,null,null,null,null,null,1,null,2,null,3,null,1,null,2,null,3,null,0]
[23,null,null,null,null,null,null,null,2,null,3,null,1,null,2,null,3,null,1,null,0]
[24,null,null,null,null,null,null,null,3,null,1,null,2,null,3,null,1,null,2,null,0]
[25,null,null,null,null,null,null,null,1,null,2,null,3,null,1,null,2,null,3,null,0]
[26,null,null,null,null,null,null,null,2,null,3,null,1,null,2,null,3,null,1,null,0]
[27,null,null,null,null,null,null,null,3,null,1,null,2,null,3,null,1,null,2,null,0]
[28,null,null,null,null,null,null,null,1,null,2,null,3,null,1,null,2,null,3,null,0]
[29,null,null,null,null,null,null,null,2,null,3,null,1,null,2,null,3,null,1,null,0]
[30,null,null,null,null,null,null,null,3,null,1,null,2,null,3,null,1,null,2,null,0]
[31,null,null,null,null,null,null,null,1,null,2,null,3,null,1,null,2,null,3,null,0]
[32,null,null,null,null,null,null,null,2,null,3,null,1,null,2,null,3,null,1,null,0]
[33,null,null,null,null,null,null,null,3,null,1,null,2,null,3,null,1,null,2,null,0]
[34,null,null,null,null,null,null,null,1,null,2,null,3,null,1,null,2,null,3,null,0]
[35,null,null,null,null,null,null,null,2,null,3,null,1,null,2,null,3,null,1,null,0]
[36,null,null,null,null,null,null,null,3,null,1,null,2,null,3,null,1,null,2,null,0]
[37,null,null,null,null,null,null,null,1,null,2,null,3,null,1,null,2,null,3,null,0]
[38,null,null,null,null,null,null,null,2,null,3,null,1,null,2,null,3,null,1,null,0]
[39,null,null,null,null,null,null,null,3,null,1,null,2,null,3,null,1,null,2,null,0]

{"sheet":"SortSheet","index":2,"n_rows":43,"n_cols":29,"rows_kept":43,"cut":false,"hidden":true,"merged":[[1,1,1,13],[1,16,1,28],[2,18,2,20],[2,21,2,23],[2,24,2,26],[2,3,2,5],[2,6,2,8],[2,9,2,11]]}
[null,"To SORT SCORES, first sort SHOOTOFF column: SMALL to LARGE, then SCORE column: LARGE to SMALL."]
[null,"PISTOL",null,null,null,null,null,null,null,null,null,null,null,null,null,null,"RIFLE"]
[null,null,null,"GUN",null,null,"RELAY 1",null,null,"RELAY 2",null,null,null,null,null,null,null,null,"GUN",null,null,"RELAY 1",null,null,"RELAY 2"]
["#","SHOOTER","CPF&G #","MFR","MODEL","SIGHTS","1","2","3","12","23","34","SCORE","SHOOT\nOFF",null,"#","SHOOTER","CPF&G #","MFR","MODEL","SIGHTS","1","2","3","12","23","34","SCORE","SHOOT\nOFF"]
[1,{"$f":"IF('22 Pistol'!$C5=\"\",\"\",'22 Pistol'!C5)","v":""},{"$f":"IF('22 Pistol'!$D5=\"\",\"\",'22 Pistol'!D5)","v":""},{"$f":"IF('22 Pistol'!$C5=\"\",\"\",'22 Pistol'!F5)","v":""},{"$f":"IF('22 Pistol'!$C5=\"\",\"\",'22 Pistol'!G5)","v":""},{"$f":"IF('22 Pistol'!$C5=\"\",\"\",'22 Pistol'!H5)","v":""},{"$f":"IF('22 Pistol'!$C5=\"\",\"\",'22 Pistol'!J5)","v":""},{"$f":"IF('22 Pistol'!$C5=\"\",\"\",'22 Pistol'!L5)","v":""},{"$f":"IF('22 Pistol'!$C5=\"\",\"\",'22 Pistol'!N5)","v":""},{"$f":"IF('22 Pistol'!$C5=\"\",\"\",'22 Pistol'!P5)","v":""},{"$f":"IF('22 Pistol'!$C5=\"\",\"\",'22 Pistol'!R5)","v":""},{"$f":"IF('22 Pistol'!$C5=\"\",\"\",'22 Pistol'!T5)","v":""},{"$f":"IF('22 Pistol'!$C5=\"\",0,'22 Pistol'!U5)","v":0},{"$f":"IF('22 Pistol'!$C5=\"\",0,'22 Pistol'!V5)","v":0},null,1,{"$f":"IF('22 Rifle'!$C5=\"\",\"\",'22 Rifle'!C5)","v":""},{"$f":"IF('22 Rifle'!$D5=\"\",\"\",'22 Rifle'!D5)","v":""},{"$f":"IF('22 Rifle'!$C5=\"\",\"\",'22 Rifle'!F5)","v":""},{"$f":"IF('22 Rifle'!$C5=\"\",\"\",'22 Rifle'!G5)","v":""},{"$f":"IF('22 Rifle'!$C5=\"\",\"\",'22 Rifle'!H5)","v":""},{"$f":"IF('22 Rifle'!$C5=\"\",\"\",'22 Rifle'!J5)","v":""},{"$f":"IF('22 Rifle'!$C5=\"\",\"\",'22 Rifle'!L5)","v":""},{"$f":"IF('22 Rifle'!$C5=\"\",\"\",'22 Rifle'!N5)","v":""},{"$f":"IF('22 Rifle'!$C5=\"\",\"\",'22 Rifle'!P5)","v":""},{"$f":"IF('22 Rifle'!$C5=\"\",\"\",'22 Rifle'!R5)","v":""},{"$f":"IF('22 Rifle'!$C5=\"\",\"\",'22 Rifle'!T5)","v":""},{"$f":"IF('22 Rifle'!$C5=\"\",0,'22 Rifle'!U5)","v":0},{"$f":"IF('22 Rifle'!$C5=\"\",0,'22 Rifle'!V5)","v":0}]
[2,{"$f":"IF('22 Pistol'!$C6=\"\",\"\",'22 Pistol'!C6)","v":""},{"$f":"IF('22 Pistol'!$D6=\"\",\"\",'22 Pistol'!D6)","v":""},{"$f":"IF('22 Pistol'!$C6=\"\",\"\",'22 Pistol'!F6)","v":""},{"$f":"IF('22 Pistol'!$C6=\"\",\"\",'22 Pistol'!G6)","v":""},{"$f":"IF('22 Pistol'!$C6=\"\",\"\",'22 Pistol'!H6)","v":""},{"$f":"IF('22 Pistol'!$C6=\"\",\"\",'22 Pistol'!J6)","v":""},{"$f":"IF('22 Pistol'!$C6=\"\",\"\",'22 Pistol'!L6)","v":""},{"$f":"IF('22 Pistol'!$C6=\"\",\"\",'22 Pistol'!N6)","v":""},{"$f":"IF('22 Pistol'!$C6=\"\",\"\",'22 Pistol'!P6)","v":""},{"$f":"IF('22 Pistol'!$C6=\"\",\"\",'22 Pistol'!R6)","v":""},{"$f":"IF('22 Pistol'!$C6=\"\",\"\",'22 Pistol'!T6)","v":""},{"$f":"IF($B6=\"\",0,'22 Pistol'!U6)","v":0},{"$f":"IF('22 Pistol'!$C6=\"\",0,'22 Pistol'!V6)","v":0},null,2,{"$f":"IF('22 Rifle'!$C6=\"\",\"\",'22 Rifle'!C6)","v":""},{"$f":"IF('22 Rifle'!$D6=\"\",\"\",'22 Rifle'!D6)","v":""},{"$f":"IF('22 Rifle'!$C6=\"\",\"\",'22 Rifle'!F6)","v":""},{"$f":"IF('22 Rifle'!$C6=\"\",\"\",'22 Rifle'!G6)","v":""},{"$f":"IF('22 Rifle'!$C6=\"\",\"\",'22 Rifle'!H6)","v":""},{"$f":"IF('22 Rifle'!$C6=\"\",\"\",'22 Rifle'!J6)","v":""},{"$f":"IF('22 Rifle'!$C6=\"\",\"\",'22 Rifle'!L6)","v":""},{"$f":"IF('22 Rifle'!$C6=\"\",\"\",'22 Rifle'!N6)","v":""},{"$f":"IF('22 Rifle'!$C6=\"\",\"\",'22 Rifle'!P6)","v":""},{"$f":"IF('22 Rifle'!$C6=\"\",\"\",'22 Rifle'!R6)","v":""},{"$f":"IF('22 Rifle'!$C6=\"\",\"\",'22 Rifle'!T6)","v":""},{"$f":"IF('22 Rifle'!$C6=\"\",0,'22 Rifle'!U6)","v":0},{"$f":"IF('22 Rifle'!$C6=\"\",0,'22 Rifle'!V6)","v":0}]
[3,{"$f":"IF('22 Pistol'!$C7=\"\",\"\",'22 Pistol'!C7)","v":""},{"$f":"IF('22 Pistol'!$D7=\"\",\"\",'22 Pistol'!D7)","v":""},{"$f":"IF('22 Pistol'!$C7=\"\",\"\",'22 Pistol'!F7)","v":""},{"$f":"IF('22 Pistol'!$C7=\"\",\"\",'22 Pistol'!G7)","v":""},{"$f":"IF('22 Pistol'!$C7=\"\",\"\",'22 Pistol'!H7)","v":""},{"$f":"IF('22 Pistol'!$C7=\"\",\"\",'22 Pistol'!J7)","v":""},{"$f":"IF('22 Pistol'!$C7=\"\",\"\",'22 Pistol'!L7)","v":""},{"$f":"IF('22 Pistol'!$C7=\"\",\"\",'22 Pistol'!N7)","v":""},{"$f":"IF('22 Pistol'!$C7=\"\",\"\",'22 Pistol'!P7)","v":""},{"$f":"IF('22 Pistol'!$C7=\"\",\"\",'22 Pistol'!R7)","v":""},{"$f":"IF('22 Pistol'!$C7=\"\",\"\",'22 Pistol'!T7)","v":""},{"$f":"IF($B7=\"\",0,'22 Pistol'!U7)","v":0},{"$f":"IF('22 Pistol'!$C7=\"\",0,'22 Pistol'!V7)","v":0},null,3,{"$f":"IF('22 Rifle'!$C7=\"\",\"\",'22 Rifle'!C7)","v":""},{"$f":"IF('22 Rifle'!$D7=\"\",\"\",'22 Rifle'!D7)","v":""},{"$f":"IF('22 Rifle'!$C7=\"\",\"\",'22 Rifle'!F7)","v":""},{"$f":"IF('22 Rifle'!$C7=\"\",\"\",'22 Rifle'!G7)","v":""},{"$f":"IF('22 Rifle'!$C7=\"\",\"\",'22 Rifle'!H7)","v":""},{"$f":"IF('22 Rifle'!$C7=\"\",\"\",'22 Rifle'!J7)","v":""},{"$f":"IF('22 Rifle'!$C7=\"\",\"\",'22 Rifle'!L7)","v":""},{"$f":"IF('22 Rifle'!$C7=\"\",\"\",'22 Rifle'!N7)","v":""},{"$f":"IF('22 Rifle'!$C7=\"\",\"\",'22 Rifle'!P7)","v":""},{"$f":"IF('22 Rifle'!$C7=\"\",\"\",'22 Rifle'!R7)","v":""},{"$f":"IF('22 Rifle'!$C7=\"\",\"\",'22 Rifle'!T7)","v":""},{"$f":"IF('22 Rifle'!$C7=\"\",0,'22 Rifle'!U7)","v":0},{"$f":"IF('22 Rifle'!$C7=\"\",0,'22 Rifle'!V7)","v":0}]
[4,{"$f":"IF('22 Pistol'!$C8=\"\",\"\",'22 Pistol'!C8)","v":""},{"$f":"IF('22 Pistol'!$D8=\"\",\"\",'22 Pistol'!D8)","v":""},{"$f":"IF('22 Pistol'!$C8=\"\",\"\",'22 Pistol'!F8)","v":""},{"$f":"IF('22 Pistol'!$C8=\"\",\"\",'22 Pistol'!G8)","v":""},{"$f":"IF('22 Pistol'!$C8=\"\",\"\",'22 Pistol'!H8)","v":""},{"$f":"IF('22 Pistol'!$C8=\"\",\"\",'22 Pistol'!J8)","v":""},{"$f":"IF('22 Pistol'!$C8=\"\",\"\",'22 Pistol'!L8)","v":""},{"$f":"IF('22 Pistol'!$C8=\"\",\"\",'22 Pistol'!N8)","v":""},{"$f":"IF('22 Pistol'!$C8=\"\",\"\",'22 Pistol'!P8)","v":""},{"$f":"IF('22 Pistol'!$C8=\"\",\"\",'22 Pistol'!R8)","v":""},{"$f":"IF('22 Pistol'!$C8=\"\",\"\",'22 Pistol'!T8)","v":""},{"$f":"IF($B8=\"\",0,'22 Pistol'!U8)","v":0},{"$f":"IF('22 Pistol'!$C8=\"\",0,'22 Pistol'!V8)","v":0},null,4,{"$f":"IF('22 Rifle'!$C8=\"\",\"\",'22 Rifle'!C8)","v":""},{"$f":"IF('22 Rifle'!$D8=\"\",\"\",'22 Rifle'!D8)","v":""},{"$f":"IF('22 Rifle'!$C8=\"\",\"\",'22 Rifle'!F8)","v":""},{"$f":"IF('22 Rifle'!$C8=\"\",\"\",'22 Rifle'!G8)","v":""},{"$f":"IF('22 Rifle'!$C8=\"\",\"\",'22 Rifle'!H8)","v":""},{"$f":"IF('22 Rifle'!$C8=\"\",\"\",'22 Rifle'!J8)","v":""},{"$f":"IF('22 Rifle'!$C8=\"\",\"\",'22 Rifle'!L8)","v":""},{"$f":"IF('22 Rifle'!$C8=\"\",\"\",'22 Rifle'!N8)","v":""},{"$f":"IF('22 Rifle'!$C8=\"\",\"\",'22 Rifle'!P8)","v":""},{"$f":"IF('22 Rifle'!$C8=\"\",\"\",'22 Rifle'!R8)","v":""},{"$f":"IF('22 Rifle'!$C8=\"\",\"\",'22 Rifle'!T8)","v":""},{"$f":"IF('22 Rifle'!$C8=\"\",0,'22 Rifle'!U8)","v":0},{"$f":"IF('22 Rifle'!$C8=\"\",0,'22 Rifle'!V8)","v":0}]
[5,{"$f":"IF('22 Pistol'!$C9=\"\",\"\",'22 Pistol'!C9)","v":""},{"$f":"IF('22 Pistol'!$D9=\"\",\"\",'22 Pistol'!D9)","v":""},{"$f":"IF('22 Pistol'!$C9=\"\",\"\",'22 Pistol'!F9)","v":""},{"$f":"IF('22 Pistol'!$C9=\"\",\"\",'22 Pistol'!G9)","v":""},{"$f":"IF('22 Pistol'!$C9=\"\",\"\",'22 Pistol'!H9)","v":""},{"$f":"IF('22 Pistol'!$C9=\"\",\"\",'22 Pistol'!J9)","v":""},{"$f":"IF('22 Pistol'!$C9=\"\",\"\",'22 Pistol'!L9)","v":""},{"$f":"IF('22 Pistol'!$C9=\"\",\"\",'22 Pistol'!N9)","v":""},{"$f":"IF('22 Pistol'!$C9=\"\",\"\",'22 Pistol'!P9)","v":""},{"$f":"IF('22 Pistol'!$C9=\"\",\"\",'22 Pistol'!R9)","v":""},{"$f":"IF('22 Pistol'!$C9=\"\",\"\",'22 Pistol'!T9)","v":""},{"$f":"IF($B9=\"\",0,'22 Pistol'!U9)","v":0},{"$f":"IF('22 Pistol'!$C9=\"\",0,'22 Pistol'!V9)","v":0},null,5,{"$f":"IF('22 Rifle'!$C9=\"\",\"\",'22 Rifle'!C9)","v":""},{"$f":"IF('22 Rifle'!$D9=\"\",\"\",'22 Rifle'!D9)","v":""},{"$f":"IF('22 Rifle'!$C9=\"\",\"\",'22 Rifle'!F9)","v":""},{"$f":"IF('22 Rifle'!$C9=\"\",\"\",'22 Rifle'!G9)","v":""},{"$f":"IF('22 Rifle'!$C9=\"\",\"\",'22 Rifle'!H9)","v":""},{"$f":"IF('22 Rifle'!$C9=\"\",\"\",'22 Rifle'!J9)","v":""},{"$f":"IF('22 Rifle'!$C9=\"\",\"\",'22 Rifle'!L9)","v":""},{"$f":"IF('22 Rifle'!$C9=\"\",\"\",'22 Rifle'!N9)","v":""},{"$f":"IF('22 Rifle'!$C9=\"\",\"\",'22 Rifle'!P9)","v":""},{"$f":"IF('22 Rifle'!$C9=\"\",\"\",'22 Rifle'!R9)","v":""},{"$f":"IF('22 Rifle'!$C9=\"\",\"\",'22 Rifle'!T9)","v":""},{"$f":"IF('22 Rifle'!$C9=\"\",0,'22 Rifle'!U9)","v":0},{"$f":"IF('22 Rifle'!$C9=\"\",0,'22 Rifle'!V9)","v":0}]
[6,{"$f":"IF('22 Pistol'!$C10=\"\",\"\",'22 Pistol'!C10)","v":""},{"$f":"IF('22 Pistol'!$D10=\"\",\"\",'22 Pistol'!D10)","v":""},{"$f":"IF('22 Pistol'!$C10=\"\",\"\",'22 Pistol'!F10)","v":""},{"$f":"IF('22 Pistol'!$C10=\"\",\"\",'22 Pistol'!G10)","v":""},{"$f":"IF('22 Pistol'!$C10=\"\",\"\",'22 Pistol'!H10)","v":""},{"$f":"IF('22 Pistol'!$C10=\"\",\"\",'22 Pistol'!J10)","v":""},{"$f":"IF('22 Pistol'!$C10=\"\",\"\",'22 Pistol'!L10)","v":""},{"$f":"IF('22 Pistol'!$C10=\"\",\"\",'22 Pistol'!N10)","v":""},{"$f":"IF('22 Pistol'!$C10=\"\",\"\",'22 Pistol'!P10)","v":""},{"$f":"IF('22 Pistol'!$C10=\"\",\"\",'22 Pistol'!R10)","v":""},{"$f":"IF('22 Pistol'!$C10=\"\",\"\",'22 Pistol'!T10)","v":""},{"$f":"IF($B10=\"\",0,'22 Pistol'!U10)","v":0},{"$f":"IF('22 Pistol'!$C10=\"\",0,'22 Pistol'!V10)","v":0},null,6,{"$f":"IF('22 Rifle'!$C10=\"\",\"\",'22 Rifle'!C10)","v":""},{"$f":"IF('22 Rifle'!$D10=\"\",\"\",'22 Rifle'!D10)","v":""},{"$f":"IF('22 Rifle'!$C10=\"\",\"\",'22 Rifle'!F10)","v":""},{"$f":"IF('22 Rifle'!$C10=\"\",\"\",'22 Rifle'!G10)","v":""},{"$f":"IF('22 Rifle'!$C10=\"\",\"\",'22 Rifle'!H10)","v":""},{"$f":"IF('22 Rifle'!$C10=\"\",\"\",'22 Rifle'!J10)","v":""},{"$f":"IF('22 Rifle'!$C10=\"\",\"\",'22 Rifle'!L10)","v":""},{"$f":"IF('22 Rifle'!$C10=\"\",\"\",'22 Rifle'!N10)","v":""},{"$f":"IF('22 Rifle'!$C10=\"\",\"\",'22 Rifle'!P10)","v":""},{"$f":"IF('22 Rifle'!$C10=\"\",\"\",'22 Rifle'!R10)","v":""},{"$f":"IF('22 Rifle'!$C10=\"\",\"\",'22 Rifle'!T10)","v":""},{"$f":"IF('22 Rifle'!$C10=\"\",0,'22 Rifle'!U10)","v":0},{"$f":"IF('22 Rifle'!$C10=\"\",0,'22 Rifle'!V10)","v":0}]
[7,{"$f":"IF('22 Pistol'!$C11=\"\",\"\",'22 Pistol'!C11)","v":""},{"$f":"IF('22 Pistol'!$D11=\"\",\"\",'22 Pistol'!D11)","v":""},{"$f":"IF('22 Pistol'!$C11=\"\",\"\",'22 Pistol'!F11)","v":""},{"$f":"IF('22 Pistol'!$C11=\"\",\"\",'22 Pistol'!G11)","v":""},{"$f":"IF('22 Pistol'!$C11=\"\",\"\",'22 Pistol'!H11)","v":""},{"$f":"IF('22 Pistol'!$C11=\"\",\"\",'22 Pistol'!J11)","v":""},{"$f":"IF('22 Pistol'!$C11=\"\",\"\",'22 Pistol'!L11)","v":""},{"$f":"IF('22 Pistol'!$C11=\"\",\"\",'22 Pistol'!N11)","v":""},{"$f":"IF('22 Pistol'!$C11=\"\",\"\",'22 Pistol'!P11)","v":""},{"$f":"IF('22 Pistol'!$C11=\"\",\"\",'22 Pistol'!R11)","v":""},{"$f":"IF('22 Pistol'!$C11=\"\",\"\",'22 Pistol'!T11)","v":""},{"$f":"IF($B11=\"\",0,'22 Pistol'!U11)","v":0},{"$f":"IF('22 Pistol'!$C11=\"\",0,'22 Pistol'!V11)","v":0},null,7,{"$f":"IF('22 Rifle'!$C11=\"\",\"\",'22 Rifle'!C11)","v":""},{"$f":"IF('22 Rifle'!$D11=\"\",\"\",'22 Rifle'!D11)","v":""},{"$f":"IF('22 Rifle'!$C11=\"\",\"\",'22 Rifle'!F11)","v":""},{"$f":"IF('22 Rifle'!$C11=\"\",\"\",'22 Rifle'!G11)","v":""},{"$f":"IF('22 Rifle'!$C11=\"\",\"\",'22 Rifle'!H11)","v":""},{"$f":"IF('22 Rifle'!$C11=\"\",\"\",'22 Rifle'!J11)","v":""},{"$f":"IF('22 Rifle'!$C11=\"\",\"\",'22 Rifle'!L11)","v":""},{"$f":"IF('22 Rifle'!$C11=\"\",\"\",'22 Rifle'!N11)","v":""},{"$f":"IF('22 Rifle'!$C11=\"\",\"\",'22 Rifle'!P11)","v":""},{"$f":"IF('22 Rifle'!$C11=\"\",\"\",'22 Rifle'!R11)","v":""},{"$f":"IF('22 Rifle'!$C11=\"\",\"\",'22 Rifle'!T11)","v":""},{"$f":"IF('22 Rifle'!$C11=\"\",0,'22 Rifle'!U11)","v":0},{"$f":"IF('22 Rifle'!$C11=\"\",0,'22 Rifle'!V11)","v":0}]
[8,{"$f":"IF('22 Pistol'!$C12=\"\",\"\",'22 Pistol'!C12)","v":""},{"$f":"IF('22 Pistol'!$D12=\"\",\"\",'22 Pistol'!D12)","v":""},{"$f":"IF('22 Pistol'!$C12=\"\",\"\",'22 Pistol'!F12)","v":""},{"$f":"IF('22 Pistol'!$C12=\"\",\"\",'22 Pistol'!G12)","v":""},{"$f":"IF('22 Pistol'!$C12=\"\",\"\",'22 Pistol'!H12)","v":""},{"$f":"IF('22 Pistol'!$C12=\"\",\"\",'22 Pistol'!J12)","v":""},{"$f":"IF('22 Pistol'!$C12=\"\",\"\",'22 Pistol'!L12)","v":""},{"$f":"IF('22 Pistol'!$C12=\"\",\"\",'22 Pistol'!N12)","v":""},{"$f":"IF('22 Pistol'!$C12=\"\",\"\",'22 Pistol'!P12)","v":""},{"$f":"IF('22 Pistol'!$C12=\"\",\"\",'22 Pistol'!R12)","v":""},{"$f":"IF('22 Pistol'!$C12=\"\",\"\",'22 Pistol'!T12)","v":""},{"$f":"IF($B12=\"\",0,'22 Pistol'!U12)","v":0},{"$f":"IF('22 Pistol'!$C12=\"\",0,'22 Pistol'!V12)","v":0},null,8,{"$f":"IF('22 Rifle'!$C12=\"\",\"\",'22 Rifle'!C12)","v":""},{"$f":"IF('22 Rifle'!$D12=\"\",\"\",'22 Rifle'!D12)","v":""},{"$f":"IF('22 Rifle'!$C12=\"\",\"\",'22 Rifle'!F12)","v":""},{"$f":"IF('22 Rifle'!$C12=\"\",\"\",'22 Rifle'!G12)","v":""},{"$f":"IF('22 Rifle'!$C12=\"\",\"\",'22 Rifle'!H12)","v":""},{"$f":"IF('22 Rifle'!$C12=\"\",\"\",'22 Rifle'!J12)","v":""},{"$f":"IF('22 Rifle'!$C12=\"\",\"\",'22 Rifle'!L12)","v":""},{"$f":"IF('22 Rifle'!$C12=\"\",\"\",'22 Rifle'!N12)","v":""},{"$f":"IF('22 Rifle'!$C12=\"\",\"\",'22 Rifle'!P12)","v":""},{"$f":"IF('22 Rifle'!$C12=\"\",\"\",'22 Rifle'!R12)","v":""},{"$f":"IF('22 Rifle'!$C12=\"\",\"\",'22 Rifle'!T12)","v":""},{"$f":"IF('22 Rifle'!$C12=\"\",0,'22 Rifle'!U12)","v":0},{"$f":"IF('22 Rifle'!$C12=\"\",0,'22 Rifle'!V12)","v":0}]
[9,{"$f":"IF('22 Pistol'!$C13=\"\",\"\",'22 Pistol'!C13)","v":""},{"$f":"IF('22 Pistol'!$D13=\"\",\"\",'22 Pistol'!D13)","v":""},{"$f":"IF('22 Pistol'!$C13=\"\",\"\",'22 Pistol'!F13)","v":""},{"$f":"IF('22 Pistol'!$C13=\"\",\"\",'22 Pistol'!G13)","v":""},{"$f":"IF('22 Pistol'!$C13=\"\",\"\",'22 Pistol'!H13)","v":""},{"$f":"IF('22 Pistol'!$C13=\"\",\"\",'22 Pistol'!J13)","v":""},{"$f":"IF('22 Pistol'!$C13=\"\",\"\",'22 Pistol'!L13)","v":""},{"$f":"IF('22 Pistol'!$C13=\"\",\"\",'22 Pistol'!N13)","v":""},{"$f":"IF('22 Pistol'!$C13=\"\",\"\",'22 Pistol'!P13)","v":""},{"$f":"IF('22 Pistol'!$C13=\"\",\"\",'22 Pistol'!R13)","v":""},{"$f":"IF('22 Pistol'!$C13=\"\",\"\",'22 Pistol'!T13)","v":""},{"$f":"IF($B13=\"\",0,'22 Pistol'!U13)","v":0},{"$f":"IF('22 Pistol'!$C13=\"\",0,'22 Pistol'!V13)","v":0},null,9,{"$f":"IF('22 Rifle'!$C13=\"\",\"\",'22 Rifle'!C13)","v":""},{"$f":"IF('22 Rifle'!$D13=\"\",\"\",'22 Rifle'!D13)","v":""},{"$f":"IF('22 Rifle'!$C13=\"\",\"\",'22 Rifle'!F13)","v":""},{"$f":"IF('22 Rifle'!$C13=\"\",\"\",'22 Rifle'!G13)","v":""},{"$f":"IF('22 Rifle'!$C13=\"\",\"\",'22 Rifle'!H13)","v":""},{"$f":"IF('22 Rifle'!$C13=\"\",\"\",'22 Rifle'!J13)","v":""},{"$f":"IF('22 Rifle'!$C13=\"\",\"\",'22 Rifle'!L13)","v":""},{"$f":"IF('22 Rifle'!$C13=\"\",\"\",'22 Rifle'!N13)","v":""},{"$f":"IF('22 Rifle'!$C13=\"\",\"\",'22 Rifle'!P13)","v":""},{"$f":"IF('22 Rifle'!$C13=\"\",\"\",'22 Rifle'!R13)","v":""},{"$f":"IF('22 Rifle'!$C13=\"\",\"\",'22 Rifle'!T13)","v":""},{"$f":"IF('22 Rifle'!$C13=\"\",0,'22 Rifle'!U13)","v":0},{"$f":"IF('22 Rifle'!$C13=\"\",0,'22 Rifle'!V13)","v":0}]
[10,{"$f":"IF('22 Pistol'!$C14=\"\",\"\",'22 Pistol'!C14)","v":""},{"$f":"IF('22 Pistol'!$D14=\"\",\"\",'22 Pistol'!D14)","v":""},{"$f":"IF('22 Pistol'!$C14=\"\",\"\",'22 Pistol'!F14)","v":""},{"$f":"IF('22 Pistol'!$C14=\"\",\"\",'22 Pistol'!G14)","v":""},{"$f":"IF('22 Pistol'!$C14=\"\",\"\",'22 Pistol'!H14)","v":""},{"$f":"IF('22 Pistol'!$C14=\"\",\"\",'22 Pistol'!J14)","v":""},{"$f":"IF('22 Pistol'!$C14=\"\",\"\",'22 Pistol'!L14)","v":""},{"$f":"IF('22 Pistol'!$C14=\"\",\"\",'22 Pistol'!N14)","v":""},{"$f":"IF('22 Pistol'!$C14=\"\",\"\",'22 Pistol'!P14)","v":""},{"$f":"IF('22 Pistol'!$C14=\"\",\"\",'22 Pistol'!R14)","v":""},{"$f":"IF('22 Pistol'!$C14=\"\",\"\",'22 Pistol'!T14)","v":""},{"$f":"IF($B14=\"\",0,'22 Pistol'!U14)","v":0},{"$f":"IF('22 Pistol'!$C14=\"\",0,'22 Pistol'!V14)","v":0},null,10,{"$f":"IF('22 Rifle'!$C14=\"\",\"\",'22 Rifle'!C14)","v":""},{"$f":"IF('22 Rifle'!$D14=\"\",\"\",'22 Rifle'!D14)","v":""},{"$f":"IF('22 Rifle'!$C14=\"\",\"\",'22 Rifle'!F14)","v":""},{"$f":"IF('22 Rifle'!$C14=\"\",\"\",'22 Rifle'!G14)","v":""},{"$f":"IF('22 Rifle'!$C14=\"\",\"\",'22 Rifle'!H14)","v":""},{"$f":"IF('22 Rifle'!$C14=\"\",\"\",'22 Rifle'!J14)","v":""},{"$f":"IF('22 Rifle'!$C14=\"\",\"\",'22 Rifle'!L14)","v":""},{"$f":"IF('22 Rifle'!$C14=\"\",\"\",'22 Rifle'!N14)","v":""},{"$f":"IF('22 Rifle'!$C14=\"\",\"\",'22 Rifle'!P14)","v":""},{"$f":"IF('22 Rifle'!$C14=\"\",\"\",'22 Rifle'!R14)","v":""},{"$f":"IF('22 Rifle'!$C14=\"\",\"\",'22 Rifle'!T14)","v":""},{"$f":"IF('22 Rifle'!$C14=\"\",0,'22 Rifle'!U14)","v":0},{"$f":"IF('22 Rifle'!$C14=\"\",0,'22 Rifle'!V14)","v":0}]
[11,{"$f":"IF('22 Pistol'!$C15=\"\",\"\",'22 Pistol'!C15)","v":""},{"$f":"IF('22 Pistol'!$D15=\"\",\"\",'22 Pistol'!D15)","v":""},{"$f":"IF('22 Pistol'!$C15=\"\",\"\",'22 Pistol'!F15)","v":""},{"$f":"IF('22 Pistol'!$C15=\"\",\"\",'22 Pistol'!G15)","v":""},{"$f":"IF('22 Pistol'!$C15=\"\",\"\",'22 Pistol'!H15)","v":""},{"$f":"IF('22 Pistol'!$C15=\"\",\"\",'22 Pistol'!J15)","v":""},{"$f":"IF('22 Pistol'!$C15=\"\",\"\",'22 Pistol'!L15)","v":""},{"$f":"IF('22 Pistol'!$C15=\"\",\"\",'22 Pistol'!N15)","v":""},{"$f":"IF('22 Pistol'!$C15=\"\",\"\",'22 Pistol'!P15)","v":""},{"$f":"IF('22 Pistol'!$C15=\"\",\"\",'22 Pistol'!R15)","v":""},{"$f":"IF('22 Pistol'!$C15=\"\",\"\",'22 Pistol'!T15)","v":""},{"$f":"IF($B15=\"\",0,'22 Pistol'!U15)","v":0},{"$f":"IF('22 Pistol'!$C15=\"\",0,'22 Pistol'!V15)","v":0},null,11,{"$f":"IF('22 Rifle'!$C15=\"\",\"\",'22 Rifle'!C15)","v":""},{"$f":"IF('22 Rifle'!$D15=\"\",\"\",'22 Rifle'!D15)","v":""},{"$f":"IF('22 Rifle'!$C15=\"\",\"\",'22 Rifle'!F15)","v":""},{"$f":"IF('22 Rifle'!$C15=\"\",\"\",'22 Rifle'!G15)","v":""},{"$f":"IF('22 Rifle'!$C15=\"\",\"\",'22 Rifle'!H15)","v":""},{"$f":"IF('22 Rifle'!$C15=\"\",\"\",'22 Rifle'!J15)","v":""},{"$f":"IF('22 Rifle'!$C15=\"\",\"\",'22 Rifle'!L15)","v":""},{"$f":"IF('22 Rifle'!$C15=\"\",\"\",'22 Rifle'!N15)","v":""},{"$f":"IF('22 Rifle'!$C15=\"\",\"\",'22 Rifle'!P15)","v":""},{"$f":"IF('22 Rifle'!$C15=\"\",\"\",'22 Rifle'!R15)","v":""},{"$f":"IF('22 Rifle'!$C15=\"\",\"\",'22 Rifle'!T15)","v":""},{"$f":"IF('22 Rifle'!$C15=\"\",0,'22 Rifle'!U15)","v":0},{"$f":"IF('22 Rifle'!$C15=\"\",0,'22 Rifle'!V15)","v":0}]
[12,{"$f":"IF('22 Pistol'!$C16=\"\",\"\",'22 Pistol'!C16)","v":""},{"$f":"IF('22 Pistol'!$D16=\"\",\"\",'22 Pistol'!D16)","v":""},{"$f":"IF('22 Pistol'!$C16=\"\",\"\",'22 Pistol'!F16)","v":""},{"$f":"IF('22 Pistol'!$C16=\"\",\"\",'22 Pistol'!G16)","v":""},{"$f":"IF('22 Pistol'!$C16=\"\",\"\",'22 Pistol'!H16)","v":""},{"$f":"IF('22 Pistol'!$C16=\"\",\"\",'22 Pistol'!J16)","v":""},{"$f":"IF('22 Pistol'!$C16=\"\",\"\",'22 Pistol'!L16)","v":""},{"$f":"IF('22 Pistol'!$C16=\"\",\"\",'22 Pistol'!N16)","v":""},{"$f":"IF('22 Pistol'!$C16=\"\",\"\",'22 Pistol'!P16)","v":""},{"$f":"IF('22 Pistol'!$C16=\"\",\"\",'22 Pistol'!R16)","v":""},{"$f":"IF('22 Pistol'!$C16=\"\",\"\",'22 Pistol'!T16)","v":""},{"$f":"IF($B16=\"\",0,'22 Pistol'!U16)","v":0},{"$f":"IF('22 Pistol'!$C16=\"\",0,'22 Pistol'!V16)","v":0},null,12,{"$f":"IF('22 Rifle'!$C16=\"\",\"\",'22 Rifle'!C16)","v":""},{"$f":"IF('22 Rifle'!$D16=\"\",\"\",'22 Rifle'!D16)","v":""},{"$f":"IF('22 Rifle'!$C16=\"\",\"\",'22 Rifle'!F16)","v":""},{"$f":"IF('22 Rifle'!$C16=\"\",\"\",'22 Rifle'!G16)","v":""},{"$f":"IF('22 Rifle'!$C16=\"\",\"\",'22 Rifle'!H16)","v":""},{"$f":"IF('22 Rifle'!$C16=\"\",\"\",'22 Rifle'!J16)","v":""},{"$f":"IF('22 Rifle'!$C16=\"\",\"\",'22 Rifle'!L16)","v":""},{"$f":"IF('22 Rifle'!$C16=\"\",\"\",'22 Rifle'!N16)","v":""},{"$f":"IF('22 Rifle'!$C16=\"\",\"\",'22 Rifle'!P16)","v":""},{"$f":"IF('22 Rifle'!$C16=\"\",\"\",'22 Rifle'!R16)","v":""},{"$f":"IF('22 Rifle'!$C16=\"\",\"\",'22 Rifle'!T16)","v":""},{"$f":"IF('22 Rifle'!$C16=\"\",0,'22 Rifle'!U16)","v":0},{"$f":"IF('22 Rifle'!$C16=\"\",0,'22 Rifle'!V16)","v":0}]
[13,{"$f":"IF('22 Pistol'!$C17=\"\",\"\",'22 Pistol'!C17)","v":""},{"$f":"IF('22 Pistol'!$D17=\"\",\"\",'22 Pistol'!D17)","v":""},{"$f":"IF('22 Pistol'!$C17=\"\",\"\",'22 Pistol'!F17)","v":""},{"$f":"IF('22 Pistol'!$C17=\"\",\"\",'22 Pistol'!G17)","v":""},{"$f":"IF('22 Pistol'!$C17=\"\",\"\",'22 Pistol'!H17)","v":""},{"$f":"IF('22 Pistol'!$C17=\"\",\"\",'22 Pistol'!J17)","v":""},{"$f":"IF('22 Pistol'!$C17=\"\",\"\",'22 Pistol'!L17)","v":""},{"$f":"IF('22 Pistol'!$C17=\"\",\"\",'22 Pistol'!N17)","v":""},{"$f":"IF('22 Pistol'!$C17=\"\",\"\",'22 Pistol'!P17)","v":""},{"$f":"IF('22 Pistol'!$C17=\"\",\"\",'22 Pistol'!R17)","v":""},{"$f":"IF('22 Pistol'!$C17=\"\",\"\",'22 Pistol'!T17)","v":""},{"$f":"IF($B17=\"\",0,'22 Pistol'!U17)","v":0},{"$f":"IF('22 Pistol'!$C17=\"\",0,'22 Pistol'!V17)","v":0},null,13,{"$f":"IF('22 Rifle'!$C17=\"\",\"\",'22 Rifle'!C17)","v":""},{"$f":"IF('22 Rifle'!$D17=\"\",\"\",'22 Rifle'!D17)","v":""},{"$f":"IF('22 Rifle'!$C17=\"\",\"\",'22 Rifle'!F17)","v":""},{"$f":"IF('22 Rifle'!$C17=\"\",\"\",'22 Rifle'!G17)","v":""},{"$f":"IF('22 Rifle'!$C17=\"\",\"\",'22 Rifle'!H17)","v":""},{"$f":"IF('22 Rifle'!$C17=\"\",\"\",'22 Rifle'!J17)","v":""},{"$f":"IF('22 Rifle'!$C17=\"\",\"\",'22 Rifle'!L17)","v":""},{"$f":"IF('22 Rifle'!$C17=\"\",\"\",'22 Rifle'!N17)","v":""},{"$f":"IF('22 Rifle'!$C17=\"\",\"\",'22 Rifle'!P17)","v":""},{"$f":"IF('22 Rifle'!$C17=\"\",\"\",'22 Rifle'!R17)","v":""},{"$f":"IF('22 Rifle'!$C17=\"\",\"\",'22 Rifle'!T17)","v":""},{"$f":"IF('22 Rifle'!$C17=\"\",0,'22 Rifle'!U17)","v":0},{"$f":"IF('22 Rifle'!$C17=\"\",0,'22 Rifle'!V17)","v":0}]
[14,{"$f":"IF('22 Pistol'!$C18=\"\",\"\",'22 Pistol'!C18)","v":""},{"$f":"IF('22 Pistol'!$D18=\"\",\"\",'22 Pistol'!D18)","v":""},{"$f":"IF('22 Pistol'!$C18=\"\",\"\",'22 Pistol'!F18)","v":""},{"$f":"IF('22 Pistol'!$C18=\"\",\"\",'22 Pistol'!G18)","v":""},{"$f":"IF('22 Pistol'!$C18=\"\",\"\",'22 Pistol'!H18)","v":""},{"$f":"IF('22 Pistol'!$C18=\"\",\"\",'22 Pistol'!J18)","v":""},{"$f":"IF('22 Pistol'!$C18=\"\",\"\",'22 Pistol'!L18)","v":""},{"$f":"IF('22 Pistol'!$C18=\"\",\"\",'22 Pistol'!N18)","v":""},{"$f":"IF('22 Pistol'!$C18=\"\",\"\",'22 Pistol'!P18)","v":""},{"$f":"IF('22 Pistol'!$C18=\"\",\"\",'22 Pistol'!R18)","v":""},{"$f":"IF('22 Pistol'!$C18=\"\",\"\",'22 Pistol'!T18)","v":""},{"$f":"IF($B18=\"\",0,'22 Pistol'!U18)","v":0},{"$f":"IF('22 Pistol'!$C18=\"\",0,'22 Pistol'!V18)","v":0},null,14,{"$f":"IF('22 Rifle'!$C18=\"\",\"\",'22 Rifle'!C18)","v":""},{"$f":"IF('22 Rifle'!$D18=\"\",\"\",'22 Rifle'!D18)","v":""},{"$f":"IF('22 Rifle'!$C18=\"\",\"\",'22 Rifle'!F18)","v":""},{"$f":"IF('22 Rifle'!$C18=\"\",\"\",'22 Rifle'!G18)","v":""},{"$f":"IF('22 Rifle'!$C18=\"\",\"\",'22 Rifle'!H18)","v":""},{"$f":"IF('22 Rifle'!$C18=\"\",\"\",'22 Rifle'!J18)","v":""},{"$f":"IF('22 Rifle'!$C18=\"\",\"\",'22 Rifle'!L18)","v":""},{"$f":"IF('22 Rifle'!$C18=\"\",\"\",'22 Rifle'!N18)","v":""},{"$f":"IF('22 Rifle'!$C18=\"\",\"\",'22 Rifle'!P18)","v":""},{"$f":"IF('22 Rifle'!$C18=\"\",\"\",'22 Rifle'!R18)","v":""},{"$f":"IF('22 Rifle'!$C18=\"\",\"\",'22 Rifle'!T18)","v":""},{"$f":"IF('22 Rifle'!$C18=\"\",0,'22 Rifle'!U18)","v":0},{"$f":"IF('22 Rifle'!$C18=\"\",0,'22 Rifle'!V18)","v":0}]
[15,{"$f":"IF('22 Pistol'!$C19=\"\",\"\",'22 Pistol'!C19)","v":""},{"$f":"IF('22 Pistol'!$D19=\"\",\"\",'22 Pistol'!D19)","v":""},{"$f":"IF('22 Pistol'!$C19=\"\",\"\",'22 Pistol'!F19)","v":""},{"$f":"IF('22 Pistol'!$C19=\"\",\"\",'22 Pistol'!G19)","v":""},{"$f":"IF('22 Pistol'!$C19=\"\",\"\",'22 Pistol'!H19)","v":""},{"$f":"IF('22 Pistol'!$C19=\"\",\"\",'22 Pistol'!J19)","v":""},{"$f":"IF('22 Pistol'!$C19=\"\",\"\",'22 Pistol'!L19)","v":""},{"$f":"IF('22 Pistol'!$C19=\"\",\"\",'22 Pistol'!N19)","v":""},{"$f":"IF('22 Pistol'!$C19=\"\",\"\",'22 Pistol'!P19)","v":""},{"$f":"IF('22 Pistol'!$C19=\"\",\"\",'22 Pistol'!R19)","v":""},{"$f":"IF('22 Pistol'!$C19=\"\",\"\",'22 Pistol'!T19)","v":""},{"$f":"IF($B19=\"\",0,'22 Pistol'!U19)","v":0},{"$f":"IF('22 Pistol'!$C19=\"\",0,'22 Pistol'!V19)","v":0},null,15,{"$f":"IF('22 Rifle'!$C19=\"\",\"\",'22 Rifle'!C19)","v":""},{"$f":"IF('22 Rifle'!$D19=\"\",\"\",'22 Rifle'!D19)","v":""},{"$f":"IF('22 Rifle'!$C19=\"\",\"\",'22 Rifle'!F19)","v":""},{"$f":"IF('22 Rifle'!$C19=\"\",\"\",'22 Rifle'!G19)","v":""},{"$f":"IF('22 Rifle'!$C19=\"\",\"\",'22 Rifle'!H19)","v":""},{"$f":"IF('22 Rifle'!$C19=\"\",\"\",'22 Rifle'!J19)","v":""},{"$f":"IF('22 Rifle'!$C19=\"\",\"\",'22 Rifle'!L19)","v":""},{"$f":"IF('22 Rifle'!$C19=\"\",\"\",'22 Rifle'!N19)","v":""},{"$f":"IF('22 Rifle'!$C19=\"\",\"\",'22 Rifle'!P19)","v":""},{"$f":"IF('22 Rifle'!$C19=\"\",\"\",'22 Rifle'!R19)","v":""},{"$f":"IF('22 Rifle'!$C19=\"\",\"\",'22 Rifle'!T19)","v":""},{"$f":"IF('22 Rifle'!$C19=\"\",0,'22 Rifle'!U19)","v":0},{"$f":"IF('22 Rifle'!$C19=\"\",0,'22 Rifle'!V19)","v":0}]
[16,{"$f":"IF('22 Pistol'!$C20=\"\",\"\",'22 Pistol'!C20)","v":""},{"$f":"IF('22 Pistol'!$D20=\"\",\"\",'22 Pistol'!D20)","v":""},{"$f":"IF('22 Pistol'!$C20=\"\",\"\",'22 Pistol'!F20)","v":""},{"$f":"IF('22 Pistol'!$C20=\"\",\"\",'22 Pistol'!G20)","v":""},{"$f":"IF('22 Pistol'!$C20=\"\",\"\",'22 Pistol'!H20)","v":""},{"$f":"IF('22 Pistol'!$C20=\"\",\"\",'22 Pistol'!J20)","v":""},{"$f":"IF('22 Pistol'!$C20=\"\",\"\",'22 Pistol'!L20)","v":""},{"$f":"IF('22 Pistol'!$C20=\"\",\"\",'22 Pistol'!N20)","v":""},{"$f":"IF('22 Pistol'!$C20=\"\",\"\",'22 Pistol'!P20)","v":""},{"$f":"IF('22 Pistol'!$C20=\"\",\"\",'22 Pistol'!R20)","v":""},{"$f":"IF('22 Pistol'!$C20=\"\",\"\",'22 Pistol'!T20)","v":""},{"$f":"IF($B20=\"\",0,'22 Pistol'!U20)","v":0},{"$f":"IF('22 Pistol'!$C20=\"\",0,'22 Pistol'!V20)","v":0},null,16,{"$f":"IF('22 Rifle'!$C20=\"\",\"\",'22 Rifle'!C20)","v":""},{"$f":"IF('22 Rifle'!$D20=\"\",\"\",'22 Rifle'!D20)","v":""},{"$f":"IF('22 Rifle'!$C20=\"\",\"\",'22 Rifle'!F20)","v":""},{"$f":"IF('22 Rifle'!$C20=\"\",\"\",'22 Rifle'!G20)","v":""},{"$f":"IF('22 Rifle'!$C20=\"\",\"\",'22 Rifle'!H20)","v":""},{"$f":"IF('22 Rifle'!$C20=\"\",\"\",'22 Rifle'!J20)","v":""},{"$f":"IF('22 Rifle'!$C20=\"\",\"\",'22 Rifle'!L20)","v":""},{"$f":"IF('22 Rifle'!$C20=\"\",\"\",'22 Rifle'!N20)","v":""},{"$f":"IF('22 Rifle'!$C20=\"\",\"\",'22 Rifle'!P20)","v":""},{"$f":"IF('22 Rifle'!$C20=\"\",\"\",'22 Rifle'!R20)","v":""},{"$f":"IF('22 Rifle'!$C20=\"\",\"\",'22 Rifle'!T20)","v":""},{"$f":"IF('22 Rifle'!$C20=\"\",0,'22 Rifle'!U20)","v":0},{"$f":"IF('22 Rifle'!$C20=\"\",0,'22 Rifle'!V20)","v":0}]
[17,{"$f":"IF('22 Pistol'!$C21=\"\",\"\",'22 Pistol'!C21)","v":""},{"$f":"IF('22 Pistol'!$D21=\"\",\"\",'22 Pistol'!D21)","v":""},{"$f":"IF('22 Pistol'!$C21=\"\",\"\",'22 Pistol'!F21)","v":""},{"$f":"IF('22 Pistol'!$C21=\"\",\"\",'22 Pistol'!G21)","v":""},{"$f":"IF('22 Pistol'!$C21=\"\",\"\",'22 Pistol'!H21)","v":""},{"$f":"IF('22 Pistol'!$C21=\"\",\"\",'22 Pistol'!J21)","v":""},{"$f":"IF('22 Pistol'!$C21=\"\",\"\",'22 Pistol'!L21)","v":""},{"$f":"IF('22 Pistol'!$C21=\"\",\"\",'22 Pistol'!N21)","v":""},{"$f":"IF('22 Pistol'!$C21=\"\",\"\",'22 Pistol'!P21)","v":""},{"$f":"IF('22 Pistol'!$C21=\"\",\"\",'22 Pistol'!R21)","v":""},{"$f":"IF('22 Pistol'!$C21=\"\",\"\",'22 Pistol'!T21)","v":""},{"$f":"IF($B21=\"\",0,'22 Pistol'!U21)","v":0},{"$f":"IF('22 Pistol'!$C21=\"\",0,'22 Pistol'!V21)","v":0},null,17,{"$f":"IF('22 Rifle'!$C21=\"\",\"\",'22 Rifle'!C21)","v":""},{"$f":"IF('22 Rifle'!$D21=\"\",\"\",'22 Rifle'!D21)","v":""},{"$f":"IF('22 Rifle'!$C21=\"\",\"\",'22 Rifle'!F21)","v":""},{"$f":"IF('22 Rifle'!$C21=\"\",\"\",'22 Rifle'!G21)","v":""},{"$f":"IF('22 Rifle'!$C21=\"\",\"\",'22 Rifle'!H21)","v":""},{"$f":"IF('22 Rifle'!$C21=\"\",\"\",'22 Rifle'!J21)","v":""},{"$f":"IF('22 Rifle'!$C21=\"\",\"\",'22 Rifle'!L21)","v":""},{"$f":"IF('22 Rifle'!$C21=\"\",\"\",'22 Rifle'!N21)","v":""},{"$f":"IF('22 Rifle'!$C21=\"\",\"\",'22 Rifle'!P21)","v":""},{"$f":"IF('22 Rifle'!$C21=\"\",\"\",'22 Rifle'!R21)","v":""},{"$f":"IF('22 Rifle'!$C21=\"\",\"\",'22 Rifle'!T21)","v":""},{"$f":"IF('22 Rifle'!$C21=\"\",0,'22 Rifle'!U21)","v":0},{"$f":"IF('22 Rifle'!$C21=\"\",0,'22 Rifle'!V21)","v":0}]
[18,{"$f":"IF('22 Pistol'!$C22=\"\",\"\",'22 Pistol'!C22)","v":""},{"$f":"IF('22 Pistol'!$D22=\"\",\"\",'22 Pistol'!D22)","v":""},{"$f":"IF('22 Pistol'!$C22=\"\",\"\",'22 Pistol'!F22)","v":""},{"$f":"IF('22 Pistol'!$C22=\"\",\"\",'22 Pistol'!G22)","v":""},{"$f":"IF('22 Pistol'!$C22=\"\",\"\",'22 Pistol'!H22)","v":""},{"$f":"IF('22 Pistol'!$C22=\"\",\"\",'22 Pistol'!J22)","v":""},{"$f":"IF('22 Pistol'!$C22=\"\",\"\",'22 Pistol'!L22)","v":""},{"$f":"IF('22 Pistol'!$C22=\"\",\"\",'22 Pistol'!N22)","v":""},{"$f":"IF('22 Pistol'!$C22=\"\",\"\",'22 Pistol'!P22)","v":""},{"$f":"IF('22 Pistol'!$C22=\"\",\"\",'22 Pistol'!R22)","v":""},{"$f":"IF('22 Pistol'!$C22=\"\",\"\",'22 Pistol'!T22)","v":""},{"$f":"IF($B22=\"\",0,'22 Pistol'!U22)","v":0},{"$f":"IF('22 Pistol'!$C22=\"\",0,'22 Pistol'!V22)","v":0},null,18,{"$f":"IF('22 Rifle'!$C22=\"\",\"\",'22 Rifle'!C22)","v":""},{"$f":"IF('22 Rifle'!$D22=\"\",\"\",'22 Rifle'!D22)","v":""},{"$f":"IF('22 Rifle'!$C22=\"\",\"\",'22 Rifle'!F22)","v":""},{"$f":"IF('22 Rifle'!$C22=\"\",\"\",'22 Rifle'!G22)","v":""},{"$f":"IF('22 Rifle'!$C22=\"\",\"\",'22 Rifle'!H22)","v":""},{"$f":"IF('22 Rifle'!$C22=\"\",\"\",'22 Rifle'!J22)","v":""},{"$f":"IF('22 Rifle'!$C22=\"\",\"\",'22 Rifle'!L22)","v":""},{"$f":"IF('22 Rifle'!$C22=\"\",\"\",'22 Rifle'!N22)","v":""},{"$f":"IF('22 Rifle'!$C22=\"\",\"\",'22 Rifle'!P22)","v":""},{"$f":"IF('22 Rifle'!$C22=\"\",\"\",'22 Rifle'!R22)","v":""},{"$f":"IF('22 Rifle'!$C22=\"\",\"\",'22 Rifle'!T22)","v":""},{"$f":"IF('22 Rifle'!$C22=\"\",0,'22 Rifle'!U22)","v":0},{"$f":"IF('22 Rifle'!$C22=\"\",0,'22 Rifle'!V22)","v":0}]
[19,{"$f":"IF('22 Pistol'!$C23=\"\",\"\",'22 Pistol'!C23)","v":""},{"$f":"IF('22 Pistol'!$D23=\"\",\"\",'22 Pistol'!D23)","v":""},{"$f":"IF('22 Pistol'!$C23=\"\",\"\",'22 Pistol'!F23)","v":""},{"$f":"IF('22 Pistol'!$C23=\"\",\"\",'22 Pistol'!G23)","v":""},{"$f":"IF('22 Pistol'!$C23=\"\",\"\",'22 Pistol'!H23)","v":""},{"$f":"IF('22 Pistol'!$C23=\"\",\"\",'22 Pistol'!J23)","v":""},{"$f":"IF('22 Pistol'!$C23=\"\",\"\",'22 Pistol'!L23)","v":""},{"$f":"IF('22 Pistol'!$C23=\"\",\"\",'22 Pistol'!N23)","v":""},{"$f":"IF('22 Pistol'!$C23=\"\",\"\",'22 Pistol'!P23)","v":""},{"$f":"IF('22 Pistol'!$C23=\"\",\"\",'22 Pistol'!R23)","v":""},{"$f":"IF('22 Pistol'!$C23=\"\",\"\",'22 Pistol'!T23)","v":""},{"$f":"IF($B23=\"\",0,'22 Pistol'!U23)","v":0},{"$f":"IF('22 Pistol'!$C23=\"\",0,'22 Pistol'!V23)","v":0},null,19,{"$f":"IF('22 Rifle'!$C23=\"\",\"\",'22 Rifle'!C23)","v":""},{"$f":"IF('22 Rifle'!$D23=\"\",\"\",'22 Rifle'!D23)","v":""},{"$f":"IF('22 Rifle'!$C23=\"\",\"\",'22 Rifle'!F23)","v":""},{"$f":"IF('22 Rifle'!$C23=\"\",\"\",'22 Rifle'!G23)","v":""},{"$f":"IF('22 Rifle'!$C23=\"\",\"\",'22 Rifle'!H23)","v":""},{"$f":"IF('22 Rifle'!$C23=\"\",\"\",'22 Rifle'!J23)","v":""},{"$f":"IF('22 Rifle'!$C23=\"\",\"\",'22 Rifle'!L23)","v":""},{"$f":"IF('22 Rifle'!$C23=\"\",\"\",'22 Rifle'!N23)","v":""},{"$f":"IF('22 Rifle'!$C23=\"\",\"\",'22 Rifle'!P23)","v":""},{"$f":"IF('22 Rifle'!$C23=\"\",\"\",'22 Rifle'!R23)","v":""},{"$f":"IF('22 Rifle'!$C23=\"\",\"\",'22 Rifle'!T23)","v":""},{"$f":"IF('22 Rifle'!$C23=\"\",0,'22 Rifle'!U23)","v":0},{"$f":"IF('22 Rifle'!$C23=\"\",0,'22 Rifle'!V23)","v":0}]
[20,{"$f":"IF('22 Pistol'!$C24=\"\",\"\",'22 Pistol'!C24)","v":""},{"$f":"IF('22 Pistol'!$D24=\"\",\"\",'22 Pistol'!D24)","v":""},{"$f":"IF('22 Pistol'!$C24=\"\",\"\",'22 Pistol'!F24)","v":""},{"$f":"IF('22 Pistol'!$C24=\"\",\"\",'22 Pistol'!G24)","v":""},{"$f":"IF('22 Pistol'!$C24=\"\",\"\",'22 Pistol'!H24)","v":""},{"$f":"IF('22 Pistol'!$C24=\"\",\"\",'22 Pistol'!J24)","v":""},{"$f":"IF('22 Pistol'!$C24=\"\",\"\",'22 Pistol'!L24)","v":""},{"$f":"IF('22 Pistol'!$C24=\"\",\"\",'22 Pistol'!N24)","v":""},{"$f":"IF('22 Pistol'!$C24=\"\",\"\",'22 Pistol'!P24)","v":""},{"$f":"IF('22 Pistol'!$C24=\"\",\"\",'22 Pistol'!R24)","v":""},{"$f":"IF('22 Pistol'!$C24=\"\",\"\",'22 Pistol'!T24)","v":""},{"$f":"IF($B24=\"\",0,'22 Pistol'!U24)","v":0},{"$f":"IF('22 Pistol'!$C24=\"\",0,'22 Pistol'!V24)","v":0},null,20,{"$f":"IF('22 Rifle'!$C24=\"\",\"\",'22 Rifle'!C24)","v":""},{"$f":"IF('22 Rifle'!$D24=\"\",\"\",'22 Rifle'!D24)","v":""},{"$f":"IF('22 Rifle'!$C24=\"\",\"\",'22 Rifle'!F24)","v":""},{"$f":"IF('22 Rifle'!$C24=\"\",\"\",'22 Rifle'!G24)","v":""},{"$f":"IF('22 Rifle'!$C24=\"\",\"\",'22 Rifle'!H24)","v":""},{"$f":"IF('22 Rifle'!$C24=\"\",\"\",'22 Rifle'!J24)","v":""},{"$f":"IF('22 Rifle'!$C24=\"\",\"\",'22 Rifle'!L24)","v":""},{"$f":"IF('22 Rifle'!$C24=\"\",\"\",'22 Rifle'!N24)","v":""},{"$f":"IF('22 Rifle'!$C24=\"\",\"\",'22 Rifle'!P24)","v":""},{"$f":"IF('22 Rifle'!$C24=\"\",\"\",'22 Rifle'!R24)","v":""},{"$f":"IF('22 Rifle'!$C24=\"\",\"\",'22 Rifle'!T24)","v":""},{"$f":"IF('22 Rifle'!$C24=\"\",0,'22 Rifle'!U24)","v":0},{"$f":"IF('22 Rifle'!$C24=\"\",0,'22 Rifle'!V24)","v":0}]
[21,{"$f":"IF('22 Pistol'!$C25=\"\",\"\",'22 Pistol'!C25)","v":""},{"$f":"IF('22 Pistol'!$D25=\"\",\"\",'22 Pistol'!D25)","v":""},{"$f":"IF('22 Pistol'!$C25=\"\",\"\",'22 Pistol'!F25)","v":""},{"$f":"IF('22 Pistol'!$C25=\"\",\"\",'22 Pistol'!G25)","v":""},{"$f":"IF('22 Pistol'!$C25=\"\",\"\",'22 Pistol'!H25)","v":""},{"$f":"IF('22 Pistol'!$C25=\"\",\"\",'22 Pistol'!J25)","v":""},{"$f":"IF('22 Pistol'!$C25=\"\",\"\",'22 Pistol'!L25)","v":""},{"$f":"IF('22 Pistol'!$C25=\"\",\"\",'22 Pistol'!N25)","v":""},{"$f":"IF('22 Pistol'!$C25=\"\",\"\",'22 Pistol'!P25)","v":""},{"$f":"IF('22 Pistol'!$C25=\"\",\"\",'22 Pistol'!R25)","v":""},{"$f":"IF('22 Pistol'!$C25=\"\",\"\",'22 Pistol'!T25)","v":""},{"$f":"IF($B25=\"\",0,'22 Pistol'!U25)","v":0},{"$f":"IF('22 Pistol'!$C25=\"\",0,'22 Pistol'!V25)","v":0},null,21,{"$f":"IF('22 Rifle'!$C25=\"\",\"\",'22 Rifle'!C25)","v":""},{"$f":"IF('22 Rifle'!$D25=\"\",\"\",'22 Rifle'!D25)","v":""},{"$f":"IF('22 Rifle'!$C25=\"\",\"\",'22 Rifle'!F25)","v":""},{"$f":"IF('22 Rifle'!$C25=\"\",\"\",'22 Rifle'!G25)","v":""},{"$f":"IF('22 Rifle'!$C25=\"\",\"\",'22 Rifle'!H25)","v":""},{"$f":"IF('22 Rifle'!$C25=\"\",\"\",'22 Rifle'!J25)","v":""},{"$f":"IF('22 Rifle'!$C25=\"\",\"\",'22 Rifle'!L25)","v":""},{"$f":"IF('22 Rifle'!$C25=\"\",\"\",'22 Rifle'!N25)","v":""},{"$f":"IF('22 Rifle'!$C25=\"\",\"\",'22 Rifle'!P25)","v":""},{"$f":"IF('22 Rifle'!$C25=\"\",\"\",'22 Rifle'!R25)","v":""},{"$f":"IF('22 Rifle'!$C25=\"\",\"\",'22 Rifle'!T25)","v":""},{"$f":"IF('22 Rifle'!$C25=\"\",0,'22 Rifle'!U25)","v":0},{"$f":"IF('22 Rifle'!$C25=\"\",0,'22 Rifle'!V25)","v":0}]
[22,{"$f":"IF('22 Pistol'!$C26=\"\",\"\",'22 Pistol'!C26)","v":""},{"$f":"IF('22 Pistol'!$D26=\"\",\"\",'22 Pistol'!D26)","v":""},{"$f":"IF('22 Pistol'!$C26=\"\",\"\",'22 Pistol'!F26)","v":""},{"$f":"IF('22 Pistol'!$C26=\"\",\"\",'22 Pistol'!G26)","v":""},{"$f":"IF('22 Pistol'!$C26=\"\",\"\",'22 Pistol'!H26)","v":""},{"$f":"IF('22 Pistol'!$C26=\"\",\"\",'22 Pistol'!J26)","v":""},{"$f":"IF('22 Pistol'!$C26=\"\",\"\",'22 Pistol'!L26)","v":""},{"$f":"IF('22 Pistol'!$C26=\"\",\"\",'22 Pistol'!N26)","v":""},{"$f":"IF('22 Pistol'!$C26=\"\",\"\",'22 Pistol'!P26)","v":""},{"$f":"IF('22 Pistol'!$C26=\"\",\"\",'22 Pistol'!R26)","v":""},{"$f":"IF('22 Pistol'!$C26=\"\",\"\",'22 Pistol'!T26)","v":""},{"$f":"IF($B26=\"\",0,'22 Pistol'!U26)","v":0},{"$f":"IF('22 Pistol'!$C26=\"\",0,'22 Pistol'!V26)","v":0},null,22,{"$f":"IF('22 Rifle'!$C26=\"\",\"\",'22 Rifle'!C26)","v":""},{"$f":"IF('22 Rifle'!$D26=\"\",\"\",'22 Rifle'!D26)","v":""},{"$f":"IF('22 Rifle'!$C26=\"\",\"\",'22 Rifle'!F26)","v":""},{"$f":"IF('22 Rifle'!$C26=\"\",\"\",'22 Rifle'!G26)","v":""},{"$f":"IF('22 Rifle'!$C26=\"\",\"\",'22 Rifle'!H26)","v":""},{"$f":"IF('22 Rifle'!$C26=\"\",\"\",'22 Rifle'!J26)","v":""},{"$f":"IF('22 Rifle'!$C26=\"\",\"\",'22 Rifle'!L26)","v":""},{"$f":"IF('22 Rifle'!$C26=\"\",\"\",'22 Rifle'!N26)","v":""},{"$f":"IF('22 Rifle'!$C26=\"\",\"\",'22 Rifle'!P26)","v":""},{"$f":"IF('22 Rifle'!$C26=\"\",\"\",'22 Rifle'!R26)","v":""},{"$f":"IF('22 Rifle'!$C26=\"\",\"\",'22 Rifle'!T26)","v":""},{"$f":"IF('22 Rifle'!$C26=\"\",0,'22 Rifle'!U26)","v":0},{"$f":"IF('22 Rifle'!$C26=\"\",0,'22 Rifle'!V26)","v":0}]
[23,{"$f":"IF('22 Pistol'!$C27=\"\",\"\",'22 Pistol'!C27)","v":""},{"$f":"IF('22 Pistol'!$D27=\"\",\"\",'22 Pistol'!D27)","v":""},{"$f":"IF('22 Pistol'!$C27=\"\",\"\",'22 Pistol'!F27)","v":""},{"$f":"IF('22 Pistol'!$C27=\"\",\"\",'22 Pistol'!G27)","v":""},{"$f":"IF('22 Pistol'!$C27=\"\",\"\",'22 Pistol'!H27)","v":""},{"$f":"IF('22 Pistol'!$C27=\"\",\"\",'22 Pistol'!J27)","v":""},{"$f":"IF('22 Pistol'!$C27=\"\",\"\",'22 Pistol'!L27)","v":""},{"$f":"IF('22 Pistol'!$C27=\"\",\"\",'22 Pistol'!N27)","v":""},{"$f":"IF('22 Pistol'!$C27=\"\",\"\",'22 Pistol'!P27)","v":""},{"$f":"IF('22 Pistol'!$C27=\"\",\"\",'22 Pistol'!R27)","v":""},{"$f":"IF('22 Pistol'!$C27=\"\",\"\",'22 Pistol'!T27)","v":""},{"$f":"IF($B27=\"\",0,'22 Pistol'!U27)","v":0},{"$f":"IF('22 Pistol'!$C27=\"\",0,'22 Pistol'!V27)","v":0},null,23,{"$f":"IF('22 Rifle'!$C27=\"\",\"\",'22 Rifle'!C27)","v":""},{"$f":"IF('22 Rifle'!$D27=\"\",\"\",'22 Rifle'!D27)","v":""},{"$f":"IF('22 Rifle'!$C27=\"\",\"\",'22 Rifle'!F27)","v":""},{"$f":"IF('22 Rifle'!$C27=\"\",\"\",'22 Rifle'!G27)","v":""},{"$f":"IF('22 Rifle'!$C27=\"\",\"\",'22 Rifle'!H27)","v":""},{"$f":"IF('22 Rifle'!$C27=\"\",\"\",'22 Rifle'!J27)","v":""},{"$f":"IF('22 Rifle'!$C27=\"\",\"\",'22 Rifle'!L27)","v":""},{"$f":"IF('22 Rifle'!$C27=\"\",\"\",'22 Rifle'!N27)","v":""},{"$f":"IF('22 Rifle'!$C27=\"\",\"\",'22 Rifle'!P27)","v":""},{"$f":"IF('22 Rifle'!$C27=\"\",\"\",'22 Rifle'!R27)","v":""},{"$f":"IF('22 Rifle'!$C27=\"\",\"\",'22 Rifle'!T27)","v":""},{"$f":"IF('22 Rifle'!$C27=\"\",0,'22 Rifle'!U27)","v":0},{"$f":"IF('22 Rifle'!$C27=\"\",0,'22 Rifle'!V27)","v":0}]
[24,{"$f":"IF('22 Pistol'!$C28=\"\",\"\",'22 Pistol'!C28)","v":""},{"$f":"IF('22 Pistol'!$D28=\"\",\"\",'22 Pistol'!D28)","v":""},{"$f":"IF('22 Pistol'!$C28=\"\",\"\",'22 Pistol'!F28)","v":""},{"$f":"IF('22 Pistol'!$C28=\"\",\"\",'22 Pistol'!G28)","v":""},{"$f":"IF('22 Pistol'!$C28=\"\",\"\",'22 Pistol'!H28)","v":""},{"$f":"IF('22 Pistol'!$C28=\"\",\"\",'22 Pistol'!J28)","v":""},{"$f":"IF('22 Pistol'!$C28=\"\",\"\",'22 Pistol'!L28)","v":""},{"$f":"IF('22 Pistol'!$C28=\"\",\"\",'22 Pistol'!N28)","v":""},{"$f":"IF('22 Pistol'!$C28=\"\",\"\",'22 Pistol'!P28)","v":""},{"$f":"IF('22 Pistol'!$C28=\"\",\"\",'22 Pistol'!R28)","v":""},{"$f":"IF('22 Pistol'!$C28=\"\",\"\",'22 Pistol'!T28)","v":""},{"$f":"IF($B28=\"\",0,'22 Pistol'!U28)","v":0},{"$f":"IF('22 Pistol'!$C28=\"\",0,'22 Pistol'!V28)","v":0},null,24,{"$f":"IF('22 Rifle'!$C28=\"\",\"\",'22 Rifle'!C28)","v":""},{"$f":"IF('22 Rifle'!$D28=\"\",\"\",'22 Rifle'!D28)","v":""},{"$f":"IF('22 Rifle'!$C28=\"\",\"\",'22 Rifle'!F28)","v":""},{"$f":"IF('22 Rifle'!$C28=\"\",\"\",'22 Rifle'!G28)","v":""},{"$f":"IF('22 Rifle'!$C28=\"\",\"\",'22 Rifle'!H28)","v":""},{"$f":"IF('22 Rifle'!$C28=\"\",\"\",'22 Rifle'!J28)","v":""},{"$f":"IF('22 Rifle'!$C28=\"\",\"\",'22 Rifle'!L28)","v":""},{"$f":"IF('22 Rifle'!$C28=\"\",\"\",'22 Rifle'!N28)","v":""},{"$f":"IF('22 Rifle'!$C28=\"\",\"\",'22 Rifle'!P28)","v":""},{"$f":"IF('22 Rifle'!$C28=\"\",\"\",'22 Rifle'!R28)","v":""},{"$f":"IF('22 Rifle'!$C28=\"\",\"\",'22 Rifle'!T28)","v":""},{"$f":"IF('22 Rifle'!$C28=\"\",0,'22 Rifle'!U28)","v":0},{"$f":"IF('22 Rifle'!$C28=\"\",0,'22 Rifle'!V28)","v":0}]
[25,{"$f":"IF('22 Pistol'!$C29=\"\",\"\",'22 Pistol'!C29)","v":""},{"$f":"IF('22 Pistol'!$D29=\"\",\"\",'22 Pistol'!D29)","v":""},{"$f":"IF('22 Pistol'!$C29=\"\",\"\",'22 Pistol'!F29)","v":""},{"$f":"IF('22 Pistol'!$C29=\"\",\"\",'22 Pistol'!G29)","v":""},{"$f":"IF('22 Pistol'!$C29=\"\",\"\",'22 Pistol'!H29)","v":""},{"$f":"IF('22 Pistol'!$C29=\"\",\"\",'22 Pistol'!J29)","v":""},{"$f":"IF('22 Pistol'!$C29=\"\",\"\",'22 Pistol'!L29)","v":""},{"$f":"IF('22 Pistol'!$C29=\"\",\"\",'22 Pistol'!N29)","v":""},{"$f":"IF('22 Pistol'!$C29=\"\",\"\",'22 Pistol'!P29)","v":""},{"$f":"IF('22 Pistol'!$C29=\"\",\"\",'22 Pistol'!R29)","v":""},{"$f":"IF('22 Pistol'!$C29=\"\",\"\",'22 Pistol'!T29)","v":""},{"$f":"IF($B29=\"\",0,'22 Pistol'!U29)","v":0},{"$f":"IF('22 Pistol'!$C29=\"\",0,'22 Pistol'!V29)","v":0},null,25,{"$f":"IF('22 Rifle'!$C29=\"\",\"\",'22 Rifle'!C29)","v":""},{"$f":"IF('22 Rifle'!$D29=\"\",\"\",'22 Rifle'!D29)","v":""},{"$f":"IF('22 Rifle'!$C29=\"\",\"\",'22 Rifle'!F29)","v":""},{"$f":"IF('22 Rifle'!$C29=\"\",\"\",'22 Rifle'!G29)","v":""},{"$f":"IF('22 Rifle'!$C29=\"\",\"\",'22 Rifle'!H29)","v":""},{"$f":"IF('22 Rifle'!$C29=\"\",\"\",'22 Rifle'!J29)","v":""},{"$f":"IF('22 Rifle'!$C29=\"\",\"\",'22 Rifle'!L29)","v":""},{"$f":"IF('22 Rifle'!$C29=\"\",\"\",'22 Rifle'!N29)","v":""},{"$f":"IF('22 Rifle'!$C29=\"\",\"\",'22 Rifle'!P29)","v":""},{"$f":"IF('22 Rifle'!$C29=\"\",\"\",'22 Rifle'!R29)","v":""},{"$f":"IF('22 Rifle'!$C29=\"\",\"\",'22 Rifle'!T29)","v":""},{"$f":"IF('22 Rifle'!$C29=\"\",0,'22 Rifle'!U29)","v":0},{"$f":"IF('22 Rifle'!$C29=\"\",0,'22 Rifle'!V29)","v":0}]
[26,{"$f":"IF('22 Pistol'!$C30=\"\",\"\",'22 Pistol'!C30)","v":""},{"$f":"IF('22 Pistol'!$D30=\"\",\"\",'22 Pistol'!D30)","v":""},{"$f":"IF('22 Pistol'!$C30=\"\",\"\",'22 Pistol'!F30)","v":""},{"$f":"IF('22 Pistol'!$C30=\"\",\"\",'22 Pistol'!G30)","v":""},{"$f":"IF('22 Pistol'!$C30=\"\",\"\",'22 Pistol'!H30)","v":""},{"$f":"IF('22 Pistol'!$C30=\"\",\"\",'22 Pistol'!J30)","v":""},{"$f":"IF('22 Pistol'!$C30=\"\",\"\",'22 Pistol'!L30)","v":""},{"$f":"IF('22 Pistol'!$C30=\"\",\"\",'22 Pistol'!N30)","v":""},{"$f":"IF('22 Pistol'!$C30=\"\",\"\",'22 Pistol'!P30)","v":""},{"$f":"IF('22 Pistol'!$C30=\"\",\"\",'22 Pistol'!R30)","v":""},{"$f":"IF('22 Pistol'!$C30=\"\",\"\",'22 Pistol'!T30)","v":""},{"$f":"IF($B30=\"\",0,'22 Pistol'!U30)","v":0},{"$f":"IF('22 Pistol'!$C30=\"\",0,'22 Pistol'!V30)","v":0},null,26,{"$f":"IF('22 Rifle'!$C30=\"\",\"\",'22 Rifle'!C30)","v":""},{"$f":"IF('22 Rifle'!$D30=\"\",\"\",'22 Rifle'!D30)","v":""},{"$f":"IF('22 Rifle'!$C30=\"\",\"\",'22 Rifle'!F30)","v":""},{"$f":"IF('22 Rifle'!$C30=\"\",\"\",'22 Rifle'!G30)","v":""},{"$f":"IF('22 Rifle'!$C30=\"\",\"\",'22 Rifle'!H30)","v":""},{"$f":"IF('22 Rifle'!$C30=\"\",\"\",'22 Rifle'!J30)","v":""},{"$f":"IF('22 Rifle'!$C30=\"\",\"\",'22 Rifle'!L30)","v":""},{"$f":"IF('22 Rifle'!$C30=\"\",\"\",'22 Rifle'!N30)","v":""},{"$f":"IF('22 Rifle'!$C30=\"\",\"\",'22 Rifle'!P30)","v":""},{"$f":"IF('22 Rifle'!$C30=\"\",\"\",'22 Rifle'!R30)","v":""},{"$f":"IF('22 Rifle'!$C30=\"\",\"\",'22 Rifle'!T30)","v":""},{"$f":"IF('22 Rifle'!$C30=\"\",0,'22 Rifle'!U30)","v":0},{"$f":"IF('22 Rifle'!$C30=\"\",0,'22 Rifle'!V30)","v":0}]
[27,{"$f":"IF('22 Pistol'!$C31=\"\",\"\",'22 Pistol'!C31)","v":""},{"$f":"IF('22 Pistol'!$D31=\"\",\"\",'22 Pistol'!D31)","v":""},{"$f":"IF('22 Pistol'!$C31=\"\",\"\",'22 Pistol'!F31)","v":""},{"$f":"IF('22 Pistol'!$C31=\"\",\"\",'22 Pistol'!G31)","v":""},{"$f":"IF('22 Pistol'!$C31=\"\",\"\",'22 Pistol'!H31)","v":""},{"$f":"IF('22 Pistol'!$C31=\"\",\"\",'22 Pistol'!J31)","v":""},{"$f":"IF('22 Pistol'!$C31=\"\",\"\",'22 Pistol'!L31)","v":""},{"$f":"IF('22 Pistol'!$C31=\"\",\"\",'22 Pistol'!N31)","v":""},{"$f":"IF('22 Pistol'!$C31=\"\",\"\",'22 Pistol'!P31)","v":""},{"$f":"IF('22 Pistol'!$C31=\"\",\"\",'22 Pistol'!R31)","v":""},{"$f":"IF('22 Pistol'!$C31=\"\",\"\",'22 Pistol'!T31)","v":""},{"$f":"IF($B31=\"\",0,'22 Pistol'!U31)","v":0},{"$f":"IF('22 Pistol'!$C31=\"\",0,'22 Pistol'!V31)","v":0},null,27,{"$f":"IF('22 Rifle'!$C31=\"\",\"\",'22 Rifle'!C31)","v":""},{"$f":"IF('22 Rifle'!$D31=\"\",\"\",'22 Rifle'!D31)","v":""},{"$f":"IF('22 Rifle'!$C31=\"\",\"\",'22 Rifle'!F31)","v":""},{"$f":"IF('22 Rifle'!$C31=\"\",\"\",'22 Rifle'!G31)","v":""},{"$f":"IF('22 Rifle'!$C31=\"\",\"\",'22 Rifle'!H31)","v":""},{"$f":"IF('22 Rifle'!$C31=\"\",\"\",'22 Rifle'!J31)","v":""},{"$f":"IF('22 Rifle'!$C31=\"\",\"\",'22 Rifle'!L31)","v":""},{"$f":"IF('22 Rifle'!$C31=\"\",\"\",'22 Rifle'!N31)","v":""},{"$f":"IF('22 Rifle'!$C31=\"\",\"\",'22 Rifle'!P31)","v":""},{"$f":"IF('22 Rifle'!$C31=\"\",\"\",'22 Rifle'!R31)","v":""},{"$f":"IF('22 Rifle'!$C31=\"\",\"\",'22 Rifle'!T31)","v":""},{"$f":"IF('22 Rifle'!$C31=\"\",0,'22 Rifle'!U31)","v":0},{"$f":"IF('22 Rifle'!$C31=\"\",0,'22 Rifle'!V31)","v":0}]
[28,{"$f":"IF('22 Pistol'!$C32=\"\",\"\",'22 Pistol'!C32)","v":""},{"$f":"IF('22 Pistol'!$D32=\"\",\"\",'22 Pistol'!D32)","v":""},{"$f":"IF('22 Pistol'!$C32=\"\",\"\",'22 Pistol'!F32)","v":""},{"$f":"IF('22 Pistol'!$C32=\"\",\"\",'22 Pistol'!G32)","v":""},{"$f":"IF('22 Pistol'!$C32=\"\",\"\",'22 Pistol'!H32)","v":""},{"$f":"IF('22 Pistol'!$C32=\"\",\"\",'22 Pistol'!J32)","v":""},{"$f":"IF('22 Pistol'!$C32=\"\",\"\",'22 Pistol'!L32)","v":""},{"$f":"IF('22 Pistol'!$C32=\"\",\"\",'22 Pistol'!N32)","v":""},{"$f":"IF('22 Pistol'!$C32=\"\",\"\",'22 Pistol'!P32)","v":""},{"$f":"IF('22 Pistol'!$C32=\"\",\"\",'22 Pistol'!R32)","v":""},{"$f":"IF('22 Pistol'!$C32=\"\",\"\",'22 Pistol'!T32)","v":""},{"$f":"IF($B32=\"\",0,'22 Pistol'!U32)","v":0},{"$f":"IF('22 Pistol'!$C32=\"\",0,'22 Pistol'!V32)","v":0},null,28,{"$f":"IF('22 Rifle'!$C32=\"\",\"\",'22 Rifle'!C32)","v":""},{"$f":"IF('22 Rifle'!$D32=\"\",\"\",'22 Rifle'!D32)","v":""},{"$f":"IF('22 Rifle'!$C32=\"\",\"\",'22 Rifle'!F32)","v":""},{"$f":"IF('22 Rifle'!$C32=\"\",\"\",'22 Rifle'!G32)","v":""},{"$f":"IF('22 Rifle'!$C32=\"\",\"\",'22 Rifle'!H32)","v":""},{"$f":"IF('22 Rifle'!$C32=\"\",\"\",'22 Rifle'!J32)","v":""},{"$f":"IF('22 Rifle'!$C32=\"\",\"\",'22 Rifle'!L32)","v":""},{"$f":"IF('22 Rifle'!$C32=\"\",\"\",'22 Rifle'!N32)","v":""},{"$f":"IF('22 Rifle'!$C32=\"\",\"\",'22 Rifle'!P32)","v":""},{"$f":"IF('22 Rifle'!$C32=\"\",\"\",'22 Rifle'!R32)","v":""},{"$f":"IF('22 Rifle'!$C32=\"\",\"\",'22 Rifle'!T32)","v":""},{"$f":"IF('22 Rifle'!$C32=\"\",0,'22 Rifle'!U32)","v":0},{"$f":"IF('22 Rifle'!$C32=\"\",0,'22 Rifle'!V32)","v":0}]
[29,{"$f":"IF('22 Pistol'!$C33=\"\",\"\",'22 Pistol'!C33)","v":""},{"$f":"IF('22 Pistol'!$D33=\"\",\"\",'22 Pistol'!D33)","v":""},{"$f":"IF('22 Pistol'!$C33=\"\",\"\",'22 Pistol'!F33)","v":""},{"$f":"IF('22 Pistol'!$C33=\"\",\"\",'22 Pistol'!G33)","v":""},{"$f":"IF('22 Pistol'!$C33=\"\",\"\",'22 Pistol'!H33)","v":""},{"$f":"IF('22 Pistol'!$C33=\"\",\"\",'22 Pistol'!J33)","v":""},{"$f":"IF('22 Pistol'!$C33=\"\",\"\",'22 Pistol'!L33)","v":""},{"$f":"IF('22 Pistol'!$C33=\"\",\"\",'22 Pistol'!N33)","v":""},{"$f":"IF('22 Pistol'!$C33=\"\",\"\",'22 Pistol'!P33)","v":""},{"$f":"IF('22 Pistol'!$C33=\"\",\"\",'22 Pistol'!R33)","v":""},{"$f":"IF('22 Pistol'!$C33=\"\",\"\",'22 Pistol'!T33)","v":""},{"$f":"IF($B33=\"\",0,'22 Pistol'!U33)","v":0},{"$f":"IF('22 Pistol'!$C33=\"\",0,'22 Pistol'!V33)","v":0},null,29,{"$f":"IF('22 Rifle'!$C33=\"\",\"\",'22 Rifle'!C33)","v":""},{"$f":"IF('22 Rifle'!$D33=\"\",\"\",'22 Rifle'!D33)","v":""},{"$f":"IF('22 Rifle'!$C33=\"\",\"\",'22 Rifle'!F33)","v":""},{"$f":"IF('22 Rifle'!$C33=\"\",\"\",'22 Rifle'!G33)","v":""},{"$f":"IF('22 Rifle'!$C33=\"\",\"\",'22 Rifle'!H33)","v":""},{"$f":"IF('22 Rifle'!$C33=\"\",\"\",'22 Rifle'!J33)","v":""},{"$f":"IF('22 Rifle'!$C33=\"\",\"\",'22 Rifle'!L33)","v":""},{"$f":"IF('22 Rifle'!$C33=\"\",\"\",'22 Rifle'!N33)","v":""},{"$f":"IF('22 Rifle'!$C33=\"\",\"\",'22 Rifle'!P33)","v":""},{"$f":"IF('22 Rifle'!$C33=\"\",\"\",'22 Rifle'!R33)","v":""},{"$f":"IF('22 Rifle'!$C33=\"\",\"\",'22 Rifle'!T33)","v":""},{"$f":"IF('22 Rifle'!$C33=\"\",0,'22 Rifle'!U33)","v":0},{"$f":"IF('22 Rifle'!$C33=\"\",0,'22 Rifle'!V33)","v":0}]
[30,{"$f":"IF('22 Pistol'!$C34=\"\",\"\",'22 Pistol'!C34)","v":""},{"$f":"IF('22 Pistol'!$D34=\"\",\"\",'22 Pistol'!D34)","v":""},{"$f":"IF('22 Pistol'!$C34=\"\",\"\",'22 Pistol'!F34)","v":""},{"$f":"IF('22 Pistol'!$C34=\"\",\"\",'22 Pistol'!G34)","v":""},{"$f":"IF('22 Pistol'!$C34=\"\",\"\",'22 Pistol'!H34)","v":""},{"$f":"IF('22 Pistol'!$C34=\"\",\"\",'22 Pistol'!J34)","v":""},{"$f":"IF('22 Pistol'!$C34=\"\",\"\",'22 Pistol'!L34)","v":""},{"$f":"IF('22 Pistol'!$C34=\"\",\"\",'22 Pistol'!N34)","v":""},{"$f":"IF('22 Pistol'!$C34=\"\",\"\",'22 Pistol'!P34)","v":""},{"$f":"IF('22 Pistol'!$C34=\"\",\"\",'22 Pistol'!R34)","v":""},{"$f":"IF('22 Pistol'!$C34=\"\",\"\",'22 Pistol'!T34)","v":""},{"$f":"IF($B34=\"\",0,'22 Pistol'!U34)","v":0},{"$f":"IF('22 Pistol'!$C34=\"\",0,'22 Pistol'!V34)","v":0},null,30,{"$f":"IF('22 Rifle'!$C34=\"\",\"\",'22 Rifle'!C34)","v":""},{"$f":"IF('22 Rifle'!$D34=\"\",\"\",'22 Rifle'!D34)","v":""},{"$f":"IF('22 Rifle'!$C34=\"\",\"\",'22 Rifle'!F34)","v":""},{"$f":"IF('22 Rifle'!$C34=\"\",\"\",'22 Rifle'!G34)","v":""},{"$f":"IF('22 Rifle'!$C34=\"\",\"\",'22 Rifle'!H34)","v":""},{"$f":"IF('22 Rifle'!$C34=\"\",\"\",'22 Rifle'!J34)","v":""},{"$f":"IF('22 Rifle'!$C34=\"\",\"\",'22 Rifle'!L34)","v":""},{"$f":"IF('22 Rifle'!$C34=\"\",\"\",'22 Rifle'!N34)","v":""},{"$f":"IF('22 Rifle'!$C34=\"\",\"\",'22 Rifle'!P34)","v":""},{"$f":"IF('22 Rifle'!$C34=\"\",\"\",'22 Rifle'!R34)","v":""},{"$f":"IF('22 Rifle'!$C34=\"\",\"\",'22 Rifle'!T34)","v":""},{"$f":"IF('22 Rifle'!$C34=\"\",0,'22 Rifle'!U34)","v":0},{"$f":"IF('22 Rifle'!$C34=\"\",0,'22 Rifle'!V34)","v":0}]
[31,{"$f":"IF('22 Pistol'!$C35=\"\",\"\",'22 Pistol'!C35)","v":""},{"$f":"IF('22 Pistol'!$D35=\"\",\"\",'22 Pistol'!D35)","v":""},{"$f":"IF('22 Pistol'!$C35=\"\",\"\",'22 Pistol'!F35)","v":""},{"$f":"IF('22 Pistol'!$C35=\"\",\"\",'22 Pistol'!G35)","v":""},{"$f":"IF('22 Pistol'!$C35=\"\",\"\",'22 Pistol'!H35)","v":""},{"$f":"IF('22 Pistol'!$C35=\"\",\"\",'22 Pistol'!J35)","v":""},{"$f":"IF('22 Pistol'!$C35=\"\",\"\",'22 Pistol'!L35)","v":""},{"$f":"IF('22 Pistol'!$C35=\"\",\"\",'22 Pistol'!N35)","v":""},{"$f":"IF('22 Pistol'!$C35=\"\",\"\",'22 Pistol'!P35)","v":""},{"$f":"IF('22 Pistol'!$C35=\"\",\"\",'22 Pistol'!R35)","v":""},{"$f":"IF('22 Pistol'!$C35=\"\",\"\",'22 Pistol'!T35)","v":""},{"$f":"IF($B35=\"\",0,'22 Pistol'!U35)","v":0},{"$f":"IF('22 Pistol'!$C35=\"\",0,'22 Pistol'!V35)","v":0},null,31,{"$f":"IF('22 Rifle'!$C35=\"\",\"\",'22 Rifle'!C35)","v":""},{"$f":"IF('22 Rifle'!$D35=\"\",\"\",'22 Rifle'!D35)","v":""},{"$f":"IF('22 Rifle'!$C35=\"\",\"\",'22 Rifle'!F35)","v":""},{"$f":"IF('22 Rifle'!$C35=\"\",\"\",'22 Rifle'!G35)","v":""},{"$f":"IF('22 Rifle'!$C35=\"\",\"\",'22 Rifle'!H35)","v":""},{"$f":"IF('22 Rifle'!$C35=\"\",\"\",'22 Rifle'!J35)","v":""},{"$f":"IF('22 Rifle'!$C35=\"\",\"\",'22 Rifle'!L35)","v":""},{"$f":"IF('22 Rifle'!$C35=\"\",\"\",'22 Rifle'!N35)","v":""},{"$f":"IF('22 Rifle'!$C35=\"\",\"\",'22 Rifle'!P35)","v":""},{"$f":"IF('22 Rifle'!$C35=\"\",\"\",'22 Rifle'!R35)","v":""},{"$f":"IF('22 Rifle'!$C35=\"\",\"\",'22 Rifle'!T35)","v":""},{"$f":"IF('22 Rifle'!$C35=\"\",0,'22 Rifle'!U35)","v":0},{"$f":"IF('22 Rifle'!$C35=\"\",0,'22 Rifle'!V35)","v":0}]
[32,{"$f":"IF('22 Pistol'!$C36=\"\",\"\",'22 Pistol'!C36)","v":""},{"$f":"IF('22 Pistol'!$D36=\"\",\"\",'22 Pistol'!D36)","v":""},{"$f":"IF('22 Pistol'!$C36=\"\",\"\",'22 Pistol'!F36)","v":""},{"$f":"IF('22 Pistol'!$C36=\"\",\"\",'22 Pistol'!G36)","v":""},{"$f":"IF('22 Pistol'!$C36=\"\",\"\",'22 Pistol'!H36)","v":""},{"$f":"IF('22 Pistol'!$C36=\"\",\"\",'22 Pistol'!J36)","v":""},{"$f":"IF('22 Pistol'!$C36=\"\",\"\",'22 Pistol'!L36)","v":""},{"$f":"IF('22 Pistol'!$C36=\"\",\"\",'22 Pistol'!N36)","v":""},{"$f":"IF('22 Pistol'!$C36=\"\",\"\",'22 Pistol'!P36)","v":""},{"$f":"IF('22 Pistol'!$C36=\"\",\"\",'22 Pistol'!R36)","v":""},{"$f":"IF('22 Pistol'!$C36=\"\",\"\",'22 Pistol'!T36)","v":""},{"$f":"IF($B36=\"\",0,'22 Pistol'!U36)","v":0},{"$f":"IF('22 Pistol'!$C36=\"\",0,'22 Pistol'!V36)","v":0},null,32,{"$f":"IF('22 Rifle'!$C36=\"\",\"\",'22 Rifle'!C36)","v":""},{"$f":"IF('22 Rifle'!$D36=\"\",\"\",'22 Rifle'!D36)","v":""},{"$f":"IF('22 Rifle'!$C36=\"\",\"\",'22 Rifle'!F36)","v":""},{"$f":"IF('22 Rifle'!$C36=\"\",\"\",'22 Rifle'!G36)","v":""},{"$f":"IF('22 Rifle'!$C36=\"\",\"\",'22 Rifle'!H36)","v":""},{"$f":"IF('22 Rifle'!$C36=\"\",\"\",'22 Rifle'!J36)","v":""},{"$f":"IF('22 Rifle'!$C36=\"\",\"\",'22 Rifle'!L36)","v":""},{"$f":"IF('22 Rifle'!$C36=\"\",\"\",'22 Rifle'!N36)","v":""},{"$f":"IF('22 Rifle'!$C36=\"\",\"\",'22 Rifle'!P36)","v":""},{"$f":"IF('22 Rifle'!$C36=\"\",\"\",'22 Rifle'!R36)","v":""},{"$f":"IF('22 Rifle'!$C36=\"\",\"\",'22 Rifle'!T36)","v":""},{"$f":"IF('22 Rifle'!$C36=\"\",0,'22 Rifle'!U36)","v":0},{"$f":"IF('22 Rifle'!$C36=\"\",0,'22 Rifle'!V36)","v":0}]
[33,{"$f":"IF('22 Pistol'!$C37=\"\",\"\",'22 Pistol'!C37)","v":""},{"$f":"IF('22 Pistol'!$D37=\"\",\"\",'22 Pistol'!D37)","v":""},{"$f":"IF('22 Pistol'!$C37=\"\",\"\",'22 Pistol'!F37)","v":""},{"$f":"IF('22 Pistol'!$C37=\"\",\"\",'22 Pistol'!G37)","v":""},{"$f":"IF('22 Pistol'!$C37=\"\",\"\",'22 Pistol'!H37)","v":""},{"$f":"IF('22 Pistol'!$C37=\"\",\"\",'22 Pistol'!J37)","v":""},{"$f":"IF('22 Pistol'!$C37=\"\",\"\",'22 Pistol'!L37)","v":""},{"$f":"IF('22 Pistol'!$C37=\"\",\"\",'22 Pistol'!N37)","v":""},{"$f":"IF('22 Pistol'!$C37=\"\",\"\",'22 Pistol'!P37)","v":""},{"$f":"IF('22 Pistol'!$C37=\"\",\"\",'22 Pistol'!R37)","v":""},{"$f":"IF('22 Pistol'!$C37=\"\",\"\",'22 Pistol'!T37)","v":""},{"$f":"IF($B37=\"\",0,'22 Pistol'!U37)","v":0},{"$f":"IF('22 Pistol'!$C37=\"\",0,'22 Pistol'!V37)","v":0},null,33,{"$f":"IF('22 Rifle'!$C37=\"\",\"\",'22 Rifle'!C37)","v":""},{"$f":"IF('22 Rifle'!$D37=\"\",\"\",'22 Rifle'!D37)","v":""},{"$f":"IF('22 Rifle'!$C37=\"\",\"\",'22 Rifle'!F37)","v":""},{"$f":"IF('22 Rifle'!$C37=\"\",\"\",'22 Rifle'!G37)","v":""},{"$f":"IF('22 Rifle'!$C37=\"\",\"\",'22 Rifle'!H37)","v":""},{"$f":"IF('22 Rifle'!$C37=\"\",\"\",'22 Rifle'!J37)","v":""},{"$f":"IF('22 Rifle'!$C37=\"\",\"\",'22 Rifle'!L37)","v":""},{"$f":"IF('22 Rifle'!$C37=\"\",\"\",'22 Rifle'!N37)","v":""},{"$f":"IF('22 Rifle'!$C37=\"\",\"\",'22 Rifle'!P37)","v":""},{"$f":"IF('22 Rifle'!$C37=\"\",\"\",'22 Rifle'!R37)","v":""},{"$f":"IF('22 Rifle'!$C37=\"\",\"\",'22 Rifle'!T37)","v":""},{"$f":"IF('22 Rifle'!$C37=\"\",0,'22 Rifle'!U37)","v":0},{"$f":"IF('22 Rifle'!$C37=\"\",0,'22 Rifle'!V37)","v":0}]
[34,{"$f":"IF('22 Pistol'!$C38=\"\",\"\",'22 Pistol'!C38)","v":""},{"$f":"IF('22 Pistol'!$D38=\"\",\"\",'22 Pistol'!D38)","v":""},{"$f":"IF('22 Pistol'!$C38=\"\",\"\",'22 Pistol'!F38)","v":""},{"$f":"IF('22 Pistol'!$C38=\"\",\"\",'22 Pistol'!G38)","v":""},{"$f":"IF('22 Pistol'!$C38=\"\",\"\",'22 Pistol'!H38)","v":""},{"$f":"IF('22 Pistol'!$C38=\"\",\"\",'22 Pistol'!J38)","v":""},{"$f":"IF('22 Pistol'!$C38=\"\",\"\",'22 Pistol'!L38)","v":""},{"$f":"IF('22 Pistol'!$C38=\"\",\"\",'22 Pistol'!N38)","v":""},{"$f":"IF('22 Pistol'!$C38=\"\",\"\",'22 Pistol'!P38)","v":""},{"$f":"IF('22 Pistol'!$C38=\"\",\"\",'22 Pistol'!R38)","v":""},{"$f":"IF('22 Pistol'!$C38=\"\",\"\",'22 Pistol'!T38)","v":""},{"$f":"IF($B38=\"\",0,'22 Pistol'!U38)","v":0},{"$f":"IF('22 Pistol'!$C38=\"\",0,'22 Pistol'!V38)","v":0},null,34,{"$f":"IF('22 Rifle'!$C38=\"\",\"\",'22 Rifle'!C38)","v":""},{"$f":"IF('22 Rifle'!$D38=\"\",\"\",'22 Rifle'!D38)","v":""},{"$f":"IF('22 Rifle'!$C38=\"\",\"\",'22 Rifle'!F38)","v":""},{"$f":"IF('22 Rifle'!$C38=\"\",\"\",'22 Rifle'!G38)","v":""},{"$f":"IF('22 Rifle'!$C38=\"\",\"\",'22 Rifle'!H38)","v":""},{"$f":"IF('22 Rifle'!$C38=\"\",\"\",'22 Rifle'!J38)","v":""},{"$f":"IF('22 Rifle'!$C38=\"\",\"\",'22 Rifle'!L38)","v":""},{"$f":"IF('22 Rifle'!$C38=\"\",\"\",'22 Rifle'!N38)","v":""},{"$f":"IF('22 Rifle'!$C38=\"\",\"\",'22 Rifle'!P38)","v":""},{"$f":"IF('22 Rifle'!$C38=\"\",\"\",'22 Rifle'!R38)","v":""},{"$f":"IF('22 Rifle'!$C38=\"\",\"\",'22 Rifle'!T38)","v":""},{"$f":"IF('22 Rifle'!$C38=\"\",0,'22 Rifle'!U38)","v":0},{"$f":"IF('22 Rifle'!$C38=\"\",0,'22 Rifle'!V38)","v":0}]
[35,{"$f":"IF('22 Pistol'!$C39=\"\",\"\",'22 Pistol'!C39)","v":""},{"$f":"IF('22 Pistol'!$D39=\"\",\"\",'22 Pistol'!D39)","v":""},{"$f":"IF('22 Pistol'!$C39=\"\",\"\",'22 Pistol'!F39)","v":""},{"$f":"IF('22 Pistol'!$C39=\"\",\"\",'22 Pistol'!G39)","v":""},{"$f":"IF('22 Pistol'!$C39=\"\",\"\",'22 Pistol'!H39)","v":""},{"$f":"IF('22 Pistol'!$C39=\"\",\"\",'22 Pistol'!J39)","v":""},{"$f":"IF('22 Pistol'!$C39=\"\",\"\",'22 Pistol'!L39)","v":""},{"$f":"IF('22 Pistol'!$C39=\"\",\"\",'22 Pistol'!N39)","v":""},{"$f":"IF('22 Pistol'!$C39=\"\",\"\",'22 Pistol'!P39)","v":""},{"$f":"IF('22 Pistol'!$C39=\"\",\"\",'22 Pistol'!R39)","v":""},{"$f":"IF('22 Pistol'!$C39=\"\",\"\",'22 Pistol'!T39)","v":""},{"$f":"IF($B39=\"\",0,'22 Pistol'!U39)","v":0},{"$f":"IF('22 Pistol'!$C39=\"\",0,'22 Pistol'!V39)","v":0},null,35,{"$f":"IF('22 Rifle'!$C39=\"\",\"\",'22 Rifle'!C39)","v":""},{"$f":"IF('22 Rifle'!$D39=\"\",\"\",'22 Rifle'!D39)","v":""},{"$f":"IF('22 Rifle'!$C39=\"\",\"\",'22 Rifle'!F39)","v":""},{"$f":"IF('22 Rifle'!$C39=\"\",\"\",'22 Rifle'!G39)","v":""},{"$f":"IF('22 Rifle'!$C39=\"\",\"\",'22 Rifle'!H39)","v":""},{"$f":"IF('22 Rifle'!$C39=\"\",\"\",'22 Rifle'!J39)","v":""},{"$f":"IF('22 Rifle'!$C39=\"\",\"\",'22 Rifle'!L39)","v":""},{"$f":"IF('22 Rifle'!$C39=\"\",\"\",'22 Rifle'!N39)","v":""},{"$f":"IF('22 Rifle'!$C39=\"\",\"\",'22 Rifle'!P39)","v":""},{"$f":"IF('22 Rifle'!$C39=\"\",\"\",'22 Rifle'!R39)","v":""},{"$f":"IF('22 Rifle'!$C39=\"\",\"\",'22 Rifle'!T39)","v":""},{"$f":"IF('22 Rifle'!$C39=\"\",0,'22 Rifle'!U39)","v":0},{"$f":"IF('22 Rifle'!$C39=\"\",0,'22 Rifle'!V39)","v":0}]
[36,{"$f":"IF('22 Pistol'!$C40=\"\",\"\",'22 Pistol'!C40)","v":""},{"$f":"IF('22 Pistol'!$D40=\"\",\"\",'22 Pistol'!D40)","v":""},{"$f":"IF('22 Pistol'!$C40=\"\",\"\",'22 Pistol'!F40)","v":""},{"$f":"IF('22 Pistol'!$C40=\"\",\"\",'22 Pistol'!G40)","v":""},{"$f":"IF('22 Pistol'!$C40=\"\",\"\",'22 Pistol'!H40)","v":""},{"$f":"IF('22 Pistol'!$C40=\"\",\"\",'22 Pistol'!J40)","v":""},{"$f":"IF('22 Pistol'!$C40=\"\",\"\",'22 Pistol'!L40)","v":""},{"$f":"IF('22 Pistol'!$C40=\"\",\"\",'22 Pistol'!N40)","v":""},{"$f":"IF('22 Pistol'!$C40=\"\",\"\",'22 Pistol'!P40)","v":""},{"$f":"IF('22 Pistol'!$C40=\"\",\"\",'22 Pistol'!R40)","v":""},{"$f":"IF('22 Pistol'!$C40=\"\",\"\",'22 Pistol'!T40)","v":""},{"$f":"IF($B40=\"\",0,'22 Pistol'!U40)","v":0},{"$f":"IF('22 Pistol'!$C40=\"\",0,'22 Pistol'!V40)","v":0},null,36,{"$f":"IF('22 Rifle'!$C40=\"\",\"\",'22 Rifle'!C40)","v":""},{"$f":"IF('22 Rifle'!$D40=\"\",\"\",'22 Rifle'!D40)","v":""},{"$f":"IF('22 Rifle'!$C40=\"\",\"\",'22 Rifle'!F40)","v":""},{"$f":"IF('22 Rifle'!$C40=\"\",\"\",'22 Rifle'!G40)","v":""},{"$f":"IF('22 Rifle'!$C40=\"\",\"\",'22 Rifle'!H40)","v":""},{"$f":"IF('22 Rifle'!$C40=\"\",\"\",'22 Rifle'!J40)","v":""},{"$f":"IF('22 Rifle'!$C40=\"\",\"\",'22 Rifle'!L40)","v":""},{"$f":"IF('22 Rifle'!$C40=\"\",\"\",'22 Rifle'!N40)","v":""},{"$f":"IF('22 Rifle'!$C40=\"\",\"\",'22 Rifle'!P40)","v":""},{"$f":"IF('22 Rifle'!$C40=\"\",\"\",'22 Rifle'!R40)","v":""},{"$f":"IF('22 Rifle'!$C40=\"\",\"\",'22 Rifle'!T40)","v":""},{"$f":"IF('22 Rifle'!$C40=\"\",0,'22 Rifle'!U40)","v":0},{"$f":"IF('22 Rifle'!$C40=\"\",0,'22 Rifle'!V40)","v":0}]
[37,{"$f":"IF('22 Pistol'!$C41=\"\",\"\",'22 Pistol'!C41)","v":""},{"$f":"IF('22 Pistol'!$D41=\"\",\"\",'22 Pistol'!D41)","v":""},{"$f":"IF('22 Pistol'!$C41=\"\",\"\",'22 Pistol'!F41)","v":""},{"$f":"IF('22 Pistol'!$C41=\"\",\"\",'22 Pistol'!G41)","v":""},{"$f":"IF('22 Pistol'!$C41=\"\",\"\",'22 Pistol'!H41)","v":""},{"$f":"IF('22 Pistol'!$C41=\"\",\"\",'22 Pistol'!J41)","v":""},{"$f":"IF('22 Pistol'!$C41=\"\",\"\",'22 Pistol'!L41)","v":""},{"$f":"IF('22 Pistol'!$C41=\"\",\"\",'22 Pistol'!N41)","v":""},{"$f":"IF('22 Pistol'!$C41=\"\",\"\",'22 Pistol'!P41)","v":""},{"$f":"IF('22 Pistol'!$C41=\"\",\"\",'22 Pistol'!R41)","v":""},{"$f":"IF('22 Pistol'!$C41=\"\",\"\",'22 Pistol'!T41)","v":""},{"$f":"IF($B41=\"\",0,'22 Pistol'!U41)","v":0},{"$f":"IF('22 Pistol'!$C41=\"\",0,'22 Pistol'!V41)","v":0},null,37,{"$f":"IF('22 Rifle'!$C41=\"\",\"\",'22 Rifle'!C41)","v":""},{"$f":"IF('22 Rifle'!$D41=\"\",\"\",'22 Rifle'!D41)","v":""},{"$f":"IF('22 Rifle'!$C41=\"\",\"\",'22 Rifle'!F41)","v":""},{"$f":"IF('22 Rifle'!$C41=\"\",\"\",'22 Rifle'!G41)","v":""},{"$f":"IF('22 Rifle'!$C41=\"\",\"\",'22 Rifle'!H41)","v":""},{"$f":"IF('22 Rifle'!$C41=\"\",\"\",'22 Rifle'!J41)","v":""},{"$f":"IF('22 Rifle'!$C41=\"\",\"\",'22 Rifle'!L41)","v":""},{"$f":"IF('22 Rifle'!$C41=\"\",\"\",'22 Rifle'!N41)","v":""},{"$f":"IF('22 Rifle'!$C41=\"\",\"\",'22 Rifle'!P41)","v":""},{"$f":"IF('22 Rifle'!$C41=\"\",\"\",'22 Rifle'!R41)","v":""},{"$f":"IF('22 Rifle'!$C41=\"\",\"\",'22 Rifle'!T41)","v":""},{"$f":"IF('22 Rifle'!$C41=\"\",0,'22 Rifle'!U41)","v":0},{"$f":"IF('22 Rifle'!$C41=\"\",0,'22 Rifle'!V41)","v":0}]
[38,{"$f":"IF('22 Pistol'!$C42=\"\",\"\",'22 Pistol'!C42)","v":""},{"$f":"IF('22 Pistol'!$D42=\"\",\"\",'22 Pistol'!D42)","v":""},{"$f":"IF('22 Pistol'!$C42=\"\",\"\",'22 Pistol'!F42)","v":""},{"$f":"IF('22 Pistol'!$C42=\"\",\"\",'22 Pistol'!G42)","v":""},{"$f":"IF('22 Pistol'!$C42=\"\",\"\",'22 Pistol'!H42)","v":""},{"$f":"IF('22 Pistol'!$C42=\"\",\"\",'22 Pistol'!J42)","v":""},{"$f":"IF('22 Pistol'!$C42=\"\",\"\",'22 Pistol'!L42)","v":""},{"$f":"IF('22 Pistol'!$C42=\"\",\"\",'22 Pistol'!N42)","v":""},{"$f":"IF('22 Pistol'!$C42=\"\",\"\",'22 Pistol'!P42)","v":""},{"$f":"IF('22 Pistol'!$C42=\"\",\"\",'22 Pistol'!R42)","v":""},{"$f":"IF('22 Pistol'!$C42=\"\",\"\",'22 Pistol'!T42)","v":""},{"$f":"IF($B42=\"\",0,'22 Pistol'!U42)","v":0},{"$f":"IF('22 Pistol'!$C42=\"\",0,'22 Pistol'!V42)","v":0},null,38,{"$f":"IF('22 Rifle'!$C42=\"\",\"\",'22 Rifle'!C42)","v":""},{"$f":"IF('22 Rifle'!$D42=\"\",\"\",'22 Rifle'!D42)","v":""},{"$f":"IF('22 Rifle'!$C42=\"\",\"\",'22 Rifle'!F42)","v":""},{"$f":"IF('22 Rifle'!$C42=\"\",\"\",'22 Rifle'!G42)","v":""},{"$f":"IF('22 Rifle'!$C42=\"\",\"\",'22 Rifle'!H42)","v":""},{"$f":"IF('22 Rifle'!$C42=\"\",\"\",'22 Rifle'!J42)","v":""},{"$f":"IF('22 Rifle'!$C42=\"\",\"\",'22 Rifle'!L42)","v":""},{"$f":"IF('22 Rifle'!$C42=\"\",\"\",'22 Rifle'!N42)","v":""},{"$f":"IF('22 Rifle'!$C42=\"\",\"\",'22 Rifle'!P42)","v":""},{"$f":"IF('22 Rifle'!$C42=\"\",\"\",'22 Rifle'!R42)","v":""},{"$f":"IF('22 Rifle'!$C42=\"\",\"\",'22 Rifle'!T42)","v":""},{"$f":"IF('22 Rifle'!$C42=\"\",0,'22 Rifle'!U42)","v":0},{"$f":"IF('22 Rifle'!$C42=\"\",0,'22 Rifle'!V42)","v":0}]
[39,{"$f":"IF('22 Pistol'!$C43=\"\",\"\",'22 Pistol'!C43)","v":""},{"$f":"IF('22 Pistol'!$D43=\"\",\"\",'22 Pistol'!D43)","v":""},{"$f":"IF('22 Pistol'!$C43=\"\",\"\",'22 Pistol'!F43)","v":""},{"$f":"IF('22 Pistol'!$C43=\"\",\"\",'22 Pistol'!G43)","v":""},{"$f":"IF('22 Pistol'!$C43=\"\",\"\",'22 Pistol'!H43)","v":""},{"$f":"IF('22 Pistol'!$C43=\"\",\"\",'22 Pistol'!J43)","v":""},{"$f":"IF('22 Pistol'!$C43=\"\",\"\",'22 Pistol'!L43)","v":""},{"$f":"IF('22 Pistol'!$C43=\"\",\"\",'22 Pistol'!N43)","v":""},{"$f":"IF('22 Pistol'!$C43=\"\",\"\",'22 Pistol'!P43)","v":""},{"$f":"IF('22 Pistol'!$C43=\"\",\"\",'22 Pistol'!R43)","v":""},{"$f":"IF('22 Pistol'!$C43=\"\",\"\",'22 Pistol'!T43)","v":""},{"$f":"IF($B43=\"\",0,'22 Pistol'!U43)","v":0},{"$f":"IF('22 Pistol'!$C43=\"\",0,'22 Pistol'!V43)","v":0},null,39,{"$f":"IF('22 Rifle'!$C43=\"\",\"\",'22 Rifle'!C43)","v":""},{"$f":"IF('22 Rifle'!$D43=\"\",\"\",'22 Rifle'!D43)","v":""},{"$f":"IF('22 Rifle'!$C43=\"\",\"\",'22 Rifle'!F43)","v":""},{"$f":"IF('22 Rifle'!$C43=\"\",\"\",'22 Rifle'!G43)","v":""},{"$f":"IF('22 Rifle'!$C43=\"\",\"\",'22 Rifle'!H43)","v":""},{"$f":"IF('22 Rifle'!$C43=\"\",\"\",'22 Rifle'!J43)","v":""},{"$f":"IF('22 Rifle'!$C43=\"\",\"\",'22 Rifle'!L43)","v":""},{"$f":"IF('22 Rifle'!$C43=\"\",\"\",'22 Rifle'!N43)","v":""},{"$f":"IF('22 Rifle'!$C43=\"\",\"\",'22 Rifle'!P43)","v":""},{"$f":"IF('22 Rifle'!$C43=\"\",\"\",'22 Rifle'!R43)","v":""},{"$f":"IF('22 Rifle'!$C43=\"\",\"\",'22 Rifle'!T43)","v":""},{"$f":"IF('22 Rifle'!$C43=\"\",0,'22 Rifle'!U43)","v":0},{"$f":"IF('22 Rifle'!$C43=\"\",0,'22 Rifle'!V43)","v":0}]

{"sheet":"for HTML","index":3,"n_rows":64,"n_cols":21,"rows_kept":64,"cut":false,"hidden":true,"merged":[]}
[{"$f":"'22 Pistol'!F1","v":"DATE"},"NAME",null,"GUN",null,1,null,2,null,3,null,4,null,5,null,6,null,"TTL",null,null,"SO"]
["22 PISTOL"]
["<tr align=\"center\">###<td class=\"Bld\">",{"$f":"IF(SortSheet!B5=\"\",\"\",SortSheet!B5)","v":""},"</td>###<td>",{"$f":"IF(SortSheet!$B5=\"\",\"\",CONCATENATE(SortSheet!$D5,\" \",SortSheet!$E5,\", \",SortSheet!$F5))","v":""},{"$f":"IF(F3=6,\"</td>###<td class='ClnPos'>\",\"</td>###<td>\")","v":"</td>###<td>"},{"$f":"IF(SortSheet!G5=\"\",\"\",SortSheet!G5)","v":""},{"$f":"IF(H3=6,\"</td><td class='ClnPos'>\",\"</td><td>\")","v":"</td><td>"},{"$f":"IF(SortSheet!H5=\"\",\"\",SortSheet!H5)","v":""},{"$f":"IF(J3=6,\"</td><td class='ClnPos'>\",\"</td><td>\")","v":"</td><td>"},{"$f":"IF(SortSheet!I5=\"\",\"\",SortSheet!I5)","v":""},{"$f":"IF(L3=6,\"</td><td class='ClnPos'>\",\"</td><td>\")","v":"</td><td>"},{"$f":"IF(SortSheet!J5=\"\",\"\",SortSheet!J5)","v":""},{"$f":"IF(N3=6,\"</td><td class='ClnPos'>\",\"</td><td>\")","v":"</td><td>"},{"$f":"IF(SortSheet!K5=\"\",\"\",SortSheet!K5)","v":""},{"$f":"IF(P3=6,\"</td><td class='ClnPos'>\",\"</td><td>\")","v":"</td><td>"},{"$f":"IF(SortSheet!L5=\"\",\"\",SortSheet!L5)","v":""},{"$f":"IF(R3=36,\"</td><td class='ClnMatch'>\",\"</td><td class='Bld'>\")","v":"</td><td class='Bld'>"},{"$f":"IF(SortSheet!M5=0,\"\",SortSheet!M5)","v":""},"</td>###<td class='Bld'>",{"$f":"IF(SortSheet!N5=0,\"\",SortSheet!N5)","v":""},"</td>###</tr>"]
["<tr align=\"center\">###<td class=\"Bld\">",{"$f":"IF(SortSheet!B6=\"\",\"\",SortSheet!B6)","v":""},"</td>###<td>",{"$f":"IF(SortSheet!$B6=\"\",\"\",CONCATENATE(SortSheet!$D6,\" \",SortSheet!$E6,\", \",SortSheet!$F6))","v":""},"</td>###<td>",{"$f":"IF(SortSheet!G6=\"\",\"\",SortSheet!G6)","v":""},"</td><td>",{"$f":"IF(SortSheet!H6=\"\",\"\",SortSheet!H6)","v":""},"</td><td>",{"$f":"IF(SortSheet!I6=\"\",\"\",SortSheet!I6)","v":""},"</td><td>",{"$f":"IF(SortSheet!J6=\"\",\"\",SortSheet!J6)","v":""},"</td><td>",{"$f":"IF(SortSheet!K6=\"\",\"\",SortSheet!K6)","v":""},"</td><td>",{"$f":"IF(SortSheet!L6=\"\",\"\",SortSheet!L6)","v":""},"</td><td class='Bld'>",{"$f":"IF(SortSheet!M6=0,\"\",SortSheet!M6)","v":""},"</td>###<td class='Bld'>",{"$f":"IF(SortSheet!N6=0,\"\",SortSheet!N6)","v":""},"</td>###</tr>"]
["<tr align=\"center\">###<td class=\"Bld\">",{"$f":"IF(SortSheet!B7=\"\",\"\",SortSheet!B7)","v":""},"</td>###<td>",{"$f":"IF(SortSheet!$B7=\"\",\"\",CONCATENATE(SortSheet!$D7,\" \",SortSheet!$E7,\", \",SortSheet!$F7))","v":""},"</td>###<td>",{"$f":"IF(SortSheet!G7=\"\",\"\",SortSheet!G7)","v":""},"</td><td>",{"$f":"IF(SortSheet!H7=\"\",\"\",SortSheet!H7)","v":""},"</td><td>",{"$f":"IF(SortSheet!I7=\"\",\"\",SortSheet!I7)","v":""},"</td><td>",{"$f":"IF(SortSheet!J7=\"\",\"\",SortSheet!J7)","v":""},"</td><td>",{"$f":"IF(SortSheet!K7=\"\",\"\",SortSheet!K7)","v":""},"</td><td>",{"$f":"IF(SortSheet!L7=\"\",\"\",SortSheet!L7)","v":""},"</td><td class='Bld'>",{"$f":"IF(SortSheet!M7=0,\"\",SortSheet!M7)","v":""},"</td>###<td class='Bld'>",{"$f":"IF(SortSheet!N7=0,\"\",SortSheet!N7)","v":""},"</td>###</tr>"]
["<tr align=\"center\">###<td class=\"Bld\">",{"$f":"IF(SortSheet!B8=\"\",\"\",SortSheet!B8)","v":""},"</td>###<td>",{"$f":"IF(SortSheet!$B8=\"\",\"\",CONCATENATE(SortSheet!$D8,\" \",SortSheet!$E8,\", \",SortSheet!$F8))","v":""},"</td>###<td>",{"$f":"IF(SortSheet!G8=\"\",\"\",SortSheet!G8)","v":""},"</td><td>",{"$f":"IF(SortSheet!H8=\"\",\"\",SortSheet!H8)","v":""},"</td><td>",{"$f":"IF(SortSheet!I8=\"\",\"\",SortSheet!I8)","v":""},"</td><td>",{"$f":"IF(SortSheet!J8=\"\",\"\",SortSheet!J8)","v":""},"</td><td>",{"$f":"IF(SortSheet!K8=\"\",\"\",SortSheet!K8)","v":""},"</td><td>",{"$f":"IF(SortSheet!L8=\"\",\"\",SortSheet!L8)","v":""},"</td><td class='Bld'>",{"$f":"IF(SortSheet!M8=0,\"\",SortSheet!M8)","v":""},"</td>###<td class='Bld'>",{"$f":"IF(SortSheet!N8=0,\"\",SortSheet!N8)","v":""},"</td>###</tr>"]
["<tr align=\"center\">###<td class=\"Bld\">",{"$f":"IF(SortSheet!B9=\"\",\"\",SortSheet!B9)","v":""},"</td>###<td>",{"$f":"IF(SortSheet!$B9=\"\",\"\",CONCATENATE(SortSheet!$D9,\" \",SortSheet!$E9,\", \",SortSheet!$F9))","v":""},"</td>###<td>",{"$f":"IF(SortSheet!G9=\"\",\"\",SortSheet!G9)","v":""},"</td><td>",{"$f":"IF(SortSheet!H9=\"\",\"\",SortSheet!H9)","v":""},"</td><td>",{"$f":"IF(SortSheet!I9=\"\",\"\",SortSheet!I9)","v":""},"</td><td>",{"$f":"IF(SortSheet!J9=\"\",\"\",SortSheet!J9)","v":""},"</td><td>",{"$f":"IF(SortSheet!K9=\"\",\"\",SortSheet!K9)","v":""},"</td><td>",{"$f":"IF(SortSheet!L9=\"\",\"\",SortSheet!L9)","v":""},"</td><td class='Bld'>",{"$f":"IF(SortSheet!M9=0,\"\",SortSheet!M9)","v":""},"</td>###<td class='Bld'>",{"$f":"IF(SortSheet!N9=0,\"\",SortSheet!N9)","v":""},"</td>###</tr>"]
["<tr align=\"center\">###<td class=\"Bld\">",{"$f":"IF(SortSheet!B10=\"\",\"\",SortSheet!B10)","v":""},"</td>###<td>",{"$f":"IF(SortSheet!$B10=\"\",\"\",CONCATENATE(SortSheet!$D10,\" \",SortSheet!$E10,\", \",SortSheet!$F10))","v":""},"</td>###<td>",{"$f":"IF(SortSheet!G10=\"\",\"\",SortSheet!G10)","v":""},"</td><td>",{"$f":"IF(SortSheet!H10=\"\",\"\",SortSheet!H10)","v":""},"</td><td>",{"$f":"IF(SortSheet!I10=\"\",\"\",SortSheet!I10)","v":""},"</td><td>",{"$f":"IF(SortSheet!J10=\"\",\"\",SortSheet!J10)","v":""},"</td><td>",{"$f":"IF(SortSheet!K10=\"\",\"\",SortSheet!K10)","v":""},"</td><td>",{"$f":"IF(SortSheet!L10=\"\",\"\",SortSheet!L10)","v":""},"</td><td class='Bld'>",{"$f":"IF(SortSheet!M10=0,\"\",SortSheet!M10)","v":""},"</td>###<td class='Bld'>",{"$f":"IF(SortSheet!N10=0,\"\",SortSheet!N10)","v":""},"</td>###</tr>"]
["<tr align=\"center\">###<td class=\"Bld\">",{"$f":"IF(SortSheet!B11=\"\",\"\",SortSheet!B11)","v":""},"</td>###<td>",{"$f":"IF(SortSheet!$B11=\"\",\"\",CONCATENATE(SortSheet!$D11,\" \",SortSheet!$E11,\", \",SortSheet!$F11))","v":""},"</td>###<td>",{"$f":"IF(SortSheet!G11=\"\",\"\",SortSheet!G11)","v":""},"</td><td>",{"$f":"IF(SortSheet!H11=\"\",\"\",SortSheet!H11)","v":""},"</td><td>",{"$f":"IF(SortSheet!I11=\"\",\"\",SortSheet!I11)","v":""},"</td><td>",{"$f":"IF(SortSheet!J11=\"\",\"\",SortSheet!J11)","v":""},"</td><td>",{"$f":"IF(SortSheet!K11=\"\",\"\",SortSheet!K11)","v":""},"</td><td>",{"$f":"IF(SortSheet!L11=\"\",\"\",SortSheet!L11)","v":""},"</td><td class='Bld'>",{"$f":"IF(SortSheet!M11=0,\"\",SortSheet!M11)","v":""},"</td>###<td class='Bld'>",{"$f":"IF(SortSheet!N11=0,\"\",SortSheet!N11)","v":""},"</td>###</tr>"]
["<tr align=\"center\">###<td class=\"Bld\">",{"$f":"IF(SortSheet!B12=\"\",\"\",SortSheet!B12)","v":""},"</td>###<td>",{"$f":"IF(SortSheet!$B12=\"\",\"\",CONCATENATE(SortSheet!$D12,\" \",SortSheet!$E12,\", \",SortSheet!$F12))","v":""},"</td>###<td>",{"$f":"IF(SortSheet!G12=\"\",\"\",SortSheet!G12)","v":""},"</td><td>",{"$f":"IF(SortSheet!H12=\"\",\"\",SortSheet!H12)","v":""},"</td><td>",{"$f":"IF(SortSheet!I12=\"\",\"\",SortSheet!I12)","v":""},"</td><td>",{"$f":"IF(SortSheet!J12=\"\",\"\",SortSheet!J12)","v":""},"</td><td>",{"$f":"IF(SortSheet!K12=\"\",\"\",SortSheet!K12)","v":""},"</td><td>",{"$f":"IF(SortSheet!L12=\"\",\"\",SortSheet!L12)","v":""},"</td><td class='Bld'>",{"$f":"IF(SortSheet!M12=0,\"\",SortSheet!M12)","v":""},"</td>###<td class='Bld'>",{"$f":"IF(SortSheet!N12=0,\"\",SortSheet!N12)","v":""},"</td>###</tr>"]
["<tr align=\"center\">###<td class=\"Bld\">",{"$f":"IF(SortSheet!B13=\"\",\"\",SortSheet!B13)","v":""},"</td>###<td>",{"$f":"IF(SortSheet!$B13=\"\",\"\",CONCATENATE(SortSheet!$D13,\" \",SortSheet!$E13,\", \",SortSheet!$F13))","v":""},"</td>###<td>",{"$f":"IF(SortSheet!G13=\"\",\"\",SortSheet!G13)","v":""},"</td><td>",{"$f":"IF(SortSheet!H13=\"\",\"\",SortSheet!H13)","v":""},"</td><td>",{"$f":"IF(SortSheet!I13=\"\",\"\",SortSheet!I13)","v":""},"</td><td>",{"$f":"IF(SortSheet!J13=\"\",\"\",SortSheet!J13)","v":""},"</td><td>",{"$f":"IF(SortSheet!K13=\"\",\"\",SortSheet!K13)","v":""},"</td><td>",{"$f":"IF(SortSheet!L13=\"\",\"\",SortSheet!L13)","v":""},"</td><td class='Bld'>",{"$f":"IF(SortSheet!M13=0,\"\",SortSheet!M13)","v":""},"</td>###<td class='Bld'>",{"$f":"IF(SortSheet!N13=0,\"\",SortSheet!N13)","v":""},"</td>###</tr>"]
["<tr align=\"center\">###<td class=\"Bld\">",{"$f":"IF(SortSheet!B14=\"\",\"\",SortSheet!B14)","v":""},"</td>###<td>",{"$f":"IF(SortSheet!$B14=\"\",\"\",CONCATENATE(SortSheet!$D14,\" \",SortSheet!$E14,\", \",SortSheet!$F14))","v":""},"</td>###<td>",{"$f":"IF(SortSheet!G14=\"\",\"\",SortSheet!G14)","v":""},"</td><td>",{"$f":"IF(SortSheet!H14=\"\",\"\",SortSheet!H14)","v":""},"</td><td>",{"$f":"IF(SortSheet!I14=\"\",\"\",SortSheet!I14)","v":""},"</td><td>",{"$f":"IF(SortSheet!J14=\"\",\"\",SortSheet!J14)","v":""},"</td><td>",{"$f":"IF(SortSheet!K14=\"\",\"\",SortSheet!K14)","v":""},"</td><td>",{"$f":"IF(SortSheet!L14=\"\",\"\",SortSheet!L14)","v":""},"</td><td class='Bld'>",{"$f":"IF(SortSheet!M14=0,\"\",SortSheet!M14)","v":""},"</td>###<td class='Bld'>",{"$f":"IF(SortSheet!N14=0,\"\",SortSheet!N14)","v":""},"</td>###</tr>"]
["<tr align=\"center\">###<td class=\"Bld\">",{"$f":"IF(SortSheet!B15=\"\",\"\",SortSheet!B15)","v":""},"</td>###<td>",{"$f":"IF(SortSheet!$B15=\"\",\"\",CONCATENATE(SortSheet!$D15,\" \",SortSheet!$E15,\", \",SortSheet!$F15))","v":""},"</td>###<td>",{"$f":"IF(SortSheet!G15=\"\",\"\",SortSheet!G15)","v":""},"</td><td>",{"$f":"IF(SortSheet!H15=\"\",\"\",SortSheet!H15)","v":""},"</td><td>",{"$f":"IF(SortSheet!I15=\"\",\"\",SortSheet!I15)","v":""},"</td><td>",{"$f":"IF(SortSheet!J15=\"\",\"\",SortSheet!J15)","v":""},"</td><td>",{"$f":"IF(SortSheet!K15=\"\",\"\",SortSheet!K15)","v":""},"</td><td>",{"$f":"IF(SortSheet!L15=\"\",\"\",SortSheet!L15)","v":""},"</td><td class='Bld'>",{"$f":"IF(SortSheet!M15=0,\"\",SortSheet!M15)","v":""},"</td>###<td class='Bld'>",{"$f":"IF(SortSheet!N15=0,\"\",SortSheet!N15)","v":""},"</td>###</tr>"]
["<tr align=\"center\">###<td class=\"Bld\">",{"$f":"IF(SortSheet!B16=\"\",\"\",SortSheet!B16)","v":""},"</td>###<td>",{"$f":"IF(SortSheet!$B16=\"\",\"\",CONCATENATE(SortSheet!$D16,\" \",SortSheet!$E16,\", \",SortSheet!$F16))","v":""},"</td>###<td>",{"$f":"IF(SortSheet!G16=\"\",\"\",SortSheet!G16)","v":""},"</td><td>",{"$f":"IF(SortSheet!H16=\"\",\"\",SortSheet!H16)","v":""},"</td><td>",{"$f":"IF(SortSheet!I16=\"\",\"\",SortSheet!I16)","v":""},"</td><td>",{"$f":"IF(SortSheet!J16=\"\",\"\",SortSheet!J16)","v":""},"</td><td>",{"$f":"IF(SortSheet!K16=\"\",\"\",SortSheet!K16)","v":""},"</td><td>",{"$f":"IF(SortSheet!L16=\"\",\"\",SortSheet!L16)","v":""},"</td><td class='Bld'>",{"$f":"IF(SortSheet!M16=0,\"\",SortSheet!M16)","v":""},"</td>###<td class='Bld'>",{"$f":"IF(SortSheet!N16=0,\"\",SortSheet!N16)","v":""},"</td>###</tr>"]
["<tr align=\"center\">###<td class=\"Bld\">",{"$f":"IF(SortSheet!B17=\"\",\"\",SortSheet!B17)","v":""},"</td>###<td>",{"$f":"IF(SortSheet!$B17=\"\",\"\",CONCATENATE(SortSheet!$D17,\" \",SortSheet!$E17,\", \",SortSheet!$F17))","v":""},"</td>###<td>",{"$f":"IF(SortSheet!G17=\"\",\"\",SortSheet!G17)","v":""},"</td><td>",{"$f":"IF(SortSheet!H17=\"\",\"\",SortSheet!H17)","v":""},"</td><td>",{"$f":"IF(SortSheet!I17=\"\",\"\",SortSheet!I17)","v":""},"</td><td>",{"$f":"IF(SortSheet!J17=\"\",\"\",SortSheet!J17)","v":""},"</td><td>",{"$f":"IF(SortSheet!K17=\"\",\"\",SortSheet!K17)","v":""},"</td><td>",{"$f":"IF(SortSheet!L17=\"\",\"\",SortSheet!L17)","v":""},"</td><td class='Bld'>",{"$f":"IF(SortSheet!M17=0,\"\",SortSheet!M17)","v":""},"</td>###<td class='Bld'>",{"$f":"IF(SortSheet!N17=0,\"\",SortSheet!N17)","v":""},"</td>###</tr>"]
["<tr align=\"center\">###<td class=\"Bld\">",{"$f":"IF(SortSheet!B18=\"\",\"\",SortSheet!B18)","v":""},"</td>###<td>",{"$f":"IF(SortSheet!$B18=\"\",\"\",CONCATENATE(SortSheet!$D18,\" \",SortSheet!$E18,\", \",SortSheet!$F18))","v":""},"</td>###<td>",{"$f":"IF(SortSheet!G18=\"\",\"\",SortSheet!G18)","v":""},"</td><td>",{"$f":"IF(SortSheet!H18=\"\",\"\",SortSheet!H18)","v":""},"</td><td>",{"$f":"IF(SortSheet!I18=\"\",\"\",SortSheet!I18)","v":""},"</td><td>",{"$f":"IF(SortSheet!J18=\"\",\"\",SortSheet!J18)","v":""},"</td><td>",{"$f":"IF(SortSheet!K18=\"\",\"\",SortSheet!K18)","v":""},"</td><td>",{"$f":"IF(SortSheet!L18=\"\",\"\",SortSheet!L18)","v":""},"</td><td class='Bld'>",{"$f":"IF(SortSheet!M18=0,\"\",SortSheet!M18)","v":""},"</td>###<td class='Bld'>",{"$f":"IF(SortSheet!N18=0,\"\",SortSheet!N18)","v":""},"</td>###</tr>"]
["<tr align=\"center\">###<td class=\"Bld\">",{"$f":"IF(SortSheet!B19=\"\",\"\",SortSheet!B19)","v":""},"</td>###<td>",{"$f":"IF(SortSheet!$B19=\"\",\"\",CONCATENATE(SortSheet!$D19,\" \",SortSheet!$E19,\", \",SortSheet!$F19))","v":""},"</td>###<td>",{"$f":"IF(SortSheet!G19=\"\",\"\",SortSheet!G19)","v":""},"</td><td>",{"$f":"IF(SortSheet!H19=\"\",\"\",SortSheet!H19)","v":""},"</td><td>",{"$f":"IF(SortSheet!I19=\"\",\"\",SortSheet!I19)","v":""},"</td><td>",{"$f":"IF(SortSheet!J19=\"\",\"\",SortSheet!J19)","v":""},"</td><td>",{"$f":"IF(SortSheet!K19=\"\",\"\",SortSheet!K19)","v":""},"</td><td>",{"$f":"IF(SortSheet!L19=\"\",\"\",SortSheet!L19)","v":""},"</td><td class='Bld'>",{"$f":"IF(SortSheet!M19=0,\"\",SortSheet!M19)","v":""},"</td>###<td class='Bld'>",{"$f":"IF(SortSheet!N19=0,\"\",SortSheet!N19)","v":""},"</td>###</tr>"]
["<tr align=\"center\">###<td class=\"Bld\">",{"$f":"IF(SortSheet!B20=\"\",\"\",SortSheet!B20)","v":""},"</td>###<td>",{"$f":"IF(SortSheet!$B20=\"\",\"\",CONCATENATE(SortSheet!$D20,\" \",SortSheet!$E20,\", \",SortSheet!$F20))","v":""},"</td>###<td>",{"$f":"IF(SortSheet!G20=\"\",\"\",SortSheet!G20)","v":""},"</td><td>",{"$f":"IF(SortSheet!H20=\"\",\"\",SortSheet!H20)","v":""},"</td><td>",{"$f":"IF(SortSheet!I20=\"\",\"\",SortSheet!I20)","v":""},"</td><td>",{"$f":"IF(SortSheet!J20=\"\",\"\",SortSheet!J20)","v":""},"</td><td>",{"$f":"IF(SortSheet!K20=\"\",\"\",SortSheet!K20)","v":""},"</td><td>",{"$f":"IF(SortSheet!L20=\"\",\"\",SortSheet!L20)","v":""},"</td><td class='Bld'>",{"$f":"IF(SortSheet!M20=0,\"\",SortSheet!M20)","v":""},"</td>###<td class='Bld'>",{"$f":"IF(SortSheet!N20=0,\"\",SortSheet!N20)","v":""},"</td>###</tr>"]
["<tr align=\"center\">###<td class=\"Bld\">",{"$f":"IF(SortSheet!B21=\"\",\"\",SortSheet!B21)","v":""},"</td>###<td>",{"$f":"IF(SortSheet!$B21=\"\",\"\",CONCATENATE(SortSheet!$D21,\" \",SortSheet!$E21,\", \",SortSheet!$F21))","v":""},"</td>###<td>",{"$f":"IF(SortSheet!G21=\"\",\"\",SortSheet!G21)","v":""},"</td><td>",{"$f":"IF(SortSheet!H21=\"\",\"\",SortSheet!H21)","v":""},"</td><td>",{"$f":"IF(SortSheet!I21=\"\",\"\",SortSheet!I21)","v":""},"</td><td>",{"$f":"IF(SortSheet!J21=\"\",\"\",SortSheet!J21)","v":""},"</td><td>",{"$f":"IF(SortSheet!K21=\"\",\"\",SortSheet!K21)","v":""},"</td><td>",{"$f":"IF(SortSheet!L21=\"\",\"\",SortSheet!L21)","v":""},"</td><td class='Bld'>",{"$f":"IF(SortSheet!M21=0,\"\",SortSheet!M21)","v":""},"</td>###<td class='Bld'>",{"$f":"IF(SortSheet!N21=0,\"\",SortSheet!N21)","v":""},"</td>###</tr>"]
["<tr align=\"center\">###<td class=\"Bld\">",{"$f":"IF(SortSheet!B22=\"\",\"\",SortSheet!B22)","v":""},"</td>###<td>",{"$f":"IF(SortSheet!$B22=\"\",\"\",CONCATENATE(SortSheet!$D22,\" \",SortSheet!$E22,\", \",SortSheet!$F22))","v":""},"</td>###<td>",{"$f":"IF(SortSheet!G22=\"\",\"\",SortSheet!G22)","v":""},"</td><td>",{"$f":"IF(SortSheet!H22=\"\",\"\",SortSheet!H22)","v":""},"</td><td>",{"$f":"IF(SortSheet!I22=\"\",\"\",SortSheet!I22)","v":""},"</td><td>",{"$f":"IF(SortSheet!J22=\"\",\"\",SortSheet!J22)","v":""},"</td><td>",{"$f":"IF(SortSheet!K22=\"\",\"\",SortSheet!K22)","v":""},"</td><td>",{"$f":"IF(SortSheet!L22=\"\",\"\",SortSheet!L22)","v":""},"</td><td class='Bld'>",{"$f":"IF(SortSheet!M22=0,\"\",SortSheet!M22)","v":""},"</td>###<td class='Bld'>",{"$f":"IF(SortSheet!N22=0,\"\",SortSheet!N22)","v":""},"</td>###</tr>"]
["<tr align=\"center\">###<td class=\"Bld\">",{"$f":"IF(SortSheet!B23=\"\",\"\",SortSheet!B23)","v":""},"</td>###<td>",{"$f":"IF(SortSheet!$B23=\"\",\"\",CONCATENATE(SortSheet!$D23,\" \",SortSheet!$E23,\", \",SortSheet!$F23))","v":""},"</td>###<td>",{"$f":"IF(SortSheet!G23=\"\",\"\",SortSheet!G23)","v":""},"</td><td>",{"$f":"IF(SortSheet!H23=\"\",\"\",SortSheet!H23)","v":""},"</td><td>",{"$f":"IF(SortSheet!I23=\"\",\"\",SortSheet!I23)","v":""},"</td><td>",{"$f":"IF(SortSheet!J23=\"\",\"\",SortSheet!J23)","v":""},"</td><td>",{"$f":"IF(SortSheet!K23=\"\",\"\",SortSheet!K23)","v":""},"</td><td>",{"$f":"IF(SortSheet!L23=\"\",\"\",SortSheet!L23)","v":""},"</td><td class='Bld'>",{"$f":"IF(SortSheet!M23=0,\"\",SortSheet!M23)","v":""},"</td>###<td class='Bld'>",{"$f":"IF(SortSheet!N23=0,\"\",SortSheet!N23)","v":""},"</td>###</tr>"]
["<tr align=\"center\">###<td class=\"Bld\">",{"$f":"IF(SortSheet!B24=\"\",\"\",SortSheet!B24)","v":""},"</td>###<td>",{"$f":"IF(SortSheet!$B24=\"\",\"\",CONCATENATE(SortSheet!$D24,\" \",SortSheet!$E24,\", \",SortSheet!$F24))","v":""},"</td>###<td>",{"$f":"IF(SortSheet!G24=\"\",\"\",SortSheet!G24)","v":""},"</td><td>",{"$f":"IF(SortSheet!H24=\"\",\"\",SortSheet!H24)","v":""},"</td><td>",{"$f":"IF(SortSheet!I24=\"\",\"\",SortSheet!I24)","v":""},"</td><td>",{"$f":"IF(SortSheet!J24=\"\",\"\",SortSheet!J24)","v":""},"</td><td>",{"$f":"IF(SortSheet!K24=\"\",\"\",SortSheet!K24)","v":""},"</td><td>",{"$f":"IF(SortSheet!L24=\"\",\"\",SortSheet!L24)","v":""},"</td><td class='Bld'>",{"$f":"IF(SortSheet!M24=0,\"\",SortSheet!M24)","v":""},"</td>###<td class='Bld'>",{"$f":"IF(SortSheet!N24=0,\"\",SortSheet!N24)","v":""},"</td>###</tr>"]
["<tr align=\"center\">###<td class=\"Bld\">",{"$f":"IF(SortSheet!B25=\"\",\"\",SortSheet!B25)","v":""},"</td>###<td>",{"$f":"IF(SortSheet!$B25=\"\",\"\",CONCATENATE(SortSheet!$D25,\" \",SortSheet!$E25,\", \",SortSheet!$F25))","v":""},"</td>###<td>",{"$f":"IF(SortSheet!G25=\"\",\"\",SortSheet!G25)","v":""},"</td><td>",{"$f":"IF(SortSheet!H25=\"\",\"\",SortSheet!H25)","v":""},"</td><td>",{"$f":"IF(SortSheet!I25=\"\",\"\",SortSheet!I25)","v":""},"</td><td>",{"$f":"IF(SortSheet!J25=\"\",\"\",SortSheet!J25)","v":""},"</td><td>",{"$f":"IF(SortSheet!K25=\"\",\"\",SortSheet!K25)","v":""},"</td><td>",{"$f":"IF(SortSheet!L25=\"\",\"\",SortSheet!L25)","v":""},"</td><td class='Bld'>",{"$f":"IF(SortSheet!M25=0,\"\",SortSheet!M25)","v":""},"</td>###<td class='Bld'>",{"$f":"IF(SortSheet!N25=0,\"\",SortSheet!N25)","v":""},"</td>###</tr>"]
["<tr align=\"center\">###<td class=\"Bld\">",{"$f":"IF(SortSheet!B26=\"\",\"\",SortSheet!B26)","v":""},"</td>###<td>",{"$f":"IF(SortSheet!$B26=\"\",\"\",CONCATENATE(SortSheet!$D26,\" \",SortSheet!$E26,\", \",SortSheet!$F26))","v":""},"</td>###<td>",{"$f":"IF(SortSheet!G26=\"\",\"\",SortSheet!G26)","v":""},"</td><td>",{"$f":"IF(SortSheet!H26=\"\",\"\",SortSheet!H26)","v":""},"</td><td>",{"$f":"IF(SortSheet!I26=\"\",\"\",SortSheet!I26)","v":""},"</td><td>",{"$f":"IF(SortSheet!J26=\"\",\"\",SortSheet!J26)","v":""},"</td><td>",{"$f":"IF(SortSheet!K26=\"\",\"\",SortSheet!K26)","v":""},"</td><td>",{"$f":"IF(SortSheet!L26=\"\",\"\",SortSheet!L26)","v":""},"</td><td class='Bld'>",{"$f":"IF(SortSheet!M26=0,\"\",SortSheet!M26)","v":""},"</td>###<td class='Bld'>",{"$f":"IF(SortSheet!N26=0,\"\",SortSheet!N26)","v":""},"</td>###</tr>"]
["<tr align=\"center\">###<td class=\"Bld\">",{"$f":"IF(SortSheet!B27=\"\",\"\",SortSheet!B27)","v":""},"</td>###<td>",{"$f":"IF(SortSheet!$B27=\"\",\"\",CONCATENATE(SortSheet!$D27,\" \",SortSheet!$E27,\", \",SortSheet!$F27))","v":""},"</td>###<td>",{"$f":"IF(SortSheet!G27=\"\",\"\",SortSheet!G27)","v":""},"</td><td>",{"$f":"IF(SortSheet!H27=\"\",\"\",SortSheet!H27)","v":""},"</td><td>",{"$f":"IF(SortSheet!I27=\"\",\"\",SortSheet!I27)","v":""},"</td><td>",{"$f":"IF(SortSheet!J27=\"\",\"\",SortSheet!J27)","v":""},"</td><td>",{"$f":"IF(SortSheet!K27=\"\",\"\",SortSheet!K27)","v":""},"</td><td>",{"$f":"IF(SortSheet!L27=\"\",\"\",SortSheet!L27)","v":""},"</td><td class='Bld'>",{"$f":"IF(SortSheet!M27=0,\"\",SortSheet!M27)","v":""},"</td>###<td class='Bld'>",{"$f":"IF(SortSheet!N27=0,\"\",SortSheet!N27)","v":""},"</td>###</tr>"]
["<tr align=\"center\">###<td class=\"Bld\">",{"$f":"IF(SortSheet!B28=\"\",\"\",SortSheet!B28)","v":""},"</td>###<td>",{"$f":"IF(SortSheet!$B28=\"\",\"\",CONCATENATE(SortSheet!$D28,\" \",SortSheet!$E28,\", \",SortSheet!$F28))","v":""},"</td>###<td>",{"$f":"IF(SortSheet!G28=\"\",\"\",SortSheet!G28)","v":""},"</td><td>",{"$f":"IF(SortSheet!H28=\"\",\"\",SortSheet!H28)","v":""},"</td><td>",{"$f":"IF(SortSheet!I28=\"\",\"\",SortSheet!I28)","v":""},"</td><td>",{"$f":"IF(SortSheet!J28=\"\",\"\",SortSheet!J28)","v":""},"</td><td>",{"$f":"IF(SortSheet!K28=\"\",\"\",SortSheet!K28)","v":""},"</td><td>",{"$f":"IF(SortSheet!L28=\"\",\"\",SortSheet!L28)","v":""},"</td><td class='Bld'>",{"$f":"IF(SortSheet!M28=0,\"\",SortSheet!M28)","v":""},"</td>###<td class='Bld'>",{"$f":"IF(SortSheet!N28=0,\"\",SortSheet!N28)","v":""},"</td>###</tr>"]
["<tr align=\"center\">###<td class=\"Bld\">",{"$f":"IF(SortSheet!B29=\"\",\"\",SortSheet!B29)","v":""},"</td>###<td>",{"$f":"IF(SortSheet!$B29=\"\",\"\",CONCATENATE(SortSheet!$D29,\" \",SortSheet!$E29,\", \",SortSheet!$F29))","v":""},"</td>###<td>",{"$f":"IF(SortSheet!G29=\"\",\"\",SortSheet!G29)","v":""},"</td><td>",{"$f":"IF(SortSheet!H29=\"\",\"\",SortSheet!H29)","v":""},"</td><td>",{"$f":"IF(SortSheet!I29=\"\",\"\",SortSheet!I29)","v":""},"</td><td>",{"$f":"IF(SortSheet!J29=\"\",\"\",SortSheet!J29)","v":""},"</td><td>",{"$f":"IF(SortSheet!K29=\"\",\"\",SortSheet!K29)","v":""},"</td><td>",{"$f":"IF(SortSheet!L29=\"\",\"\",SortSheet!L29)","v":""},"</td><td class='Bld'>",{"$f":"IF(SortSheet!M29=0,\"\",SortSheet!M29)","v":""},"</td>###<td class='Bld'>",{"$f":"IF(SortSheet!N29=0,\"\",SortSheet!N29)","v":""},"</td>###</tr>"]
["<tr align=\"center\">###<td class=\"Bld\">",{"$f":"IF(SortSheet!B30=\"\",\"\",SortSheet!B30)","v":""},"</td>###<td>",{"$f":"IF(SortSheet!$B30=\"\",\"\",CONCATENATE(SortSheet!$D30,\" \",SortSheet!$E30,\", \",SortSheet!$F30))","v":""},"</td>###<td>",{"$f":"IF(SortSheet!G30=\"\",\"\",SortSheet!G30)","v":""},"</td><td>",{"$f":"IF(SortSheet!H30=\"\",\"\",SortSheet!H30)","v":""},"</td><td>",{"$f":"IF(SortSheet!I30=\"\",\"\",SortSheet!I30)","v":""},"</td><td>",{"$f":"IF(SortSheet!J30=\"\",\"\",SortSheet!J30)","v":""},"</td><td>",{"$f":"IF(SortSheet!K30=\"\",\"\",SortSheet!K30)","v":""},"</td><td>",{"$f":"IF(SortSheet!L30=\"\",\"\",SortSheet!L30)","v":""},"</td><td class='Bld'>",{"$f":"IF(SortSheet!M30=0,\"\",SortSheet!M30)","v":""},"</td>###<td class='Bld'>",{"$f":"IF(SortSheet!N30=0,\"\",SortSheet!N30)","v":""},"</td>###</tr>"]
["<tr align=\"center\">###<td class=\"Bld\">",{"$f":"IF(SortSheet!B31=\"\",\"\",SortSheet!B31)","v":""},"</td>###<td>",{"$f":"IF(SortSheet!$B31=\"\",\"\",CONCATENATE(SortSheet!$D31,\" \",SortSheet!$E31,\", \",SortSheet!$F31))","v":""},"</td>###<td>",{"$f":"IF(SortSheet!G31=\"\",\"\",SortSheet!G31)","v":""},"</td><td>",{"$f":"IF(SortSheet!H31=\"\",\"\",SortSheet!H31)","v":""},"</td><td>",{"$f":"IF(SortSheet!I31=\"\",\"\",SortSheet!I31)","v":""},"</td><td>",{"$f":"IF(SortSheet!J31=\"\",\"\",SortSheet!J31)","v":""},"</td><td>",{"$f":"IF(SortSheet!K31=\"\",\"\",SortSheet!K31)","v":""},"</td><td>",{"$f":"IF(SortSheet!L31=\"\",\"\",SortSheet!L31)","v":""},"</td><td class='Bld'>",{"$f":"IF(SortSheet!M31=0,\"\",SortSheet!M31)","v":""},"</td>###<td class='Bld'>",{"$f":"IF(SortSheet!N31=0,\"\",SortSheet!N31)","v":""},"</td>###</tr>"]
["<tr align=\"center\">###<td class=\"Bld\">",{"$f":"IF(SortSheet!B32=\"\",\"\",SortSheet!B32)","v":""},"</td>###<td>",{"$f":"IF(SortSheet!$B32=\"\",\"\",CONCATENATE(SortSheet!$D32,\" \",SortSheet!$E32,\", \",SortSheet!$F32))","v":""},"</td>###<td>",{"$f":"IF(SortSheet!G32=\"\",\"\",SortSheet!G32)","v":""},"</td><td>",{"$f":"IF(SortSheet!H32=\"\",\"\",SortSheet!H32)","v":""},"</td><td>",{"$f":"IF(SortSheet!I32=\"\",\"\",SortSheet!I32)","v":""},"</td><td>",{"$f":"IF(SortSheet!J32=\"\",\"\",SortSheet!J32)","v":""},"</td><td>",{"$f":"IF(SortSheet!K32=\"\",\"\",SortSheet!K32)","v":""},"</td><td>",{"$f":"IF(SortSheet!L32=\"\",\"\",SortSheet!L32)","v":""},"</td><td class='Bld'>",{"$f":"IF(SortSheet!M32=0,\"\",SortSheet!M32)","v":""},"</td>###<td class='Bld'>",{"$f":"IF(SortSheet!N32=0,\"\",SortSheet!N32)","v":""},"</td>###</tr>"]
["<tr align=\"center\">###<td class=\"Bld\">",{"$f":"IF(SortSheet!B33=\"\",\"\",SortSheet!B33)","v":""},"</td>###<td>",{"$f":"IF(SortSheet!$B33=\"\",\"\",CONCATENATE(SortSheet!$D33,\" \",SortSheet!$E33,\", \",SortSheet!$F33))","v":""},"</td>###<td>",{"$f":"IF(SortSheet!G33=\"\",\"\",SortSheet!G33)","v":""},"</td><td>",{"$f":"IF(SortSheet!H33=\"\",\"\",SortSheet!H33)","v":""},"</td><td>",{"$f":"IF(SortSheet!I33=\"\",\"\",SortSheet!I33)","v":""},"</td><td>",{"$f":"IF(SortSheet!J33=\"\",\"\",SortSheet!J33)","v":""},"</td><td>",{"$f":"IF(SortSheet!K33=\"\",\"\",SortSheet!K33)","v":""},"</td><td>",{"$f":"IF(SortSheet!L33=\"\",\"\",SortSheet!L33)","v":""},"</td><td class='Bld'>",{"$f":"IF(SortSheet!M33=0,\"\",SortSheet!M33)","v":""},"</td>###<td class='Bld'>",{"$f":"IF(SortSheet!N33=0,\"\",SortSheet!N33)","v":""},"</td>###</tr>"]
["<tr align=\"center\">###<td class=\"Bld\">",{"$f":"IF(SortSheet!B34=\"\",\"\",SortSheet!B34)","v":""},"</td>###<td>",{"$f":"IF(SortSheet!$B34=\"\",\"\",CONCATENATE(SortSheet!$D34,\" \",SortSheet!$E34,\", \",SortSheet!$F34))","v":""},"</td>###<td>",{"$f":"IF(SortSheet!G34=\"\",\"\",SortSheet!G34)","v":""},"</td><td>",{"$f":"IF(SortSheet!H34=\"\",\"\",SortSheet!H34)","v":""},"</td><td>",{"$f":"IF(SortSheet!I34=\"\",\"\",SortSheet!I34)","v":""},"</td><td>",{"$f":"IF(SortSheet!J34=\"\",\"\",SortSheet!J34)","v":""},"</td><td>",{"$f":"IF(SortSheet!K34=\"\",\"\",SortSheet!K34)","v":""},"</td><td>",{"$f":"IF(SortSheet!L34=\"\",\"\",SortSheet!L34)","v":""},"</td><td class='Bld'>",{"$f":"IF(SortSheet!M34=0,\"\",SortSheet!M34)","v":""},"</td>###<td class='Bld'>",{"$f":"IF(SortSheet!N34=0,\"\",SortSheet!N34)","v":""},"</td>###</tr>"]
[]
["22 RIFLE"]
["<tr align=\"center\">###<td class=\"Bld\">",{"$f":"IF(SortSheet!Q5=\"\",\"\",SortSheet!Q5)","v":""},"</td>###<td>",{"$f":"IF(SortSheet!$Q5=\"\",\"\",CONCATENATE(SortSheet!$S5,\" \",SortSheet!$T5,\", \",SortSheet!$U5))","v":""},{"$f":"IF(F35=6,\"</td>###<td class='ClnPos'>\",\"</td>###<td>\")","v":"</td>###<td>"},{"$f":"IF(SortSheet!V5=\"\",\"\",SortSheet!V5)","v":""},{"$f":"IF(H35=6,\"</td><td class='ClnPos'>\",\"</td><td>\")","v":"</td><td>"},{"$f":"IF(SortSheet!W5=\"\",\"\",SortSheet!W5)","v":""},{"$f":"IF(J35=6,\"</td><td class='ClnPos'>\",\"</td><td>\")","v":"</td><td>"},{"$f":"IF(SortSheet!X5=\"\",\"\",SortSheet!X5)","v":""},{"$f":"IF(L35=6,\"</td><td class='ClnPos'>\",\"</td><td>\")","v":"</td><td>"},{"$f":"IF(SortSheet!Y5=\"\",\"\",SortSheet!Y5)","v":""},{"$f":"IF(N35=6,\"</td><td class='ClnPos'>\",\"</td><td>\")","v":"</td><td>"},{"$f":"IF(SortSheet!Z5=\"\",\"\",SortSheet!Z5)","v":""},{"$f":"IF(P35=6,\"</td><td class='ClnPos'>\",\"</td><td>\")","v":"</td><td>"},{"$f":"IF(SortSheet!AA5=\"\",\"\",SortSheet!AA5)","v":""},{"$f":"IF(R35=36,\"</td><td class='ClnMatch'>\",\"</td><td class='Bld'>\")","v":"</td><td class='Bld'>"},{"$f":"IF(SortSheet!AB5=0,\"\",SortSheet!AB5)","v":""},"</td>###<td class='Bld'>",{"$f":"IF(SortSheet!AC5=0,\"\",SortSheet!AC5)","v":""},"</td>###</tr>"]
["<tr align=\"center\">###<td class=\"Bld\">",{"$f":"IF(SortSheet!Q6=\"\",\"\",SortSheet!Q6)","v":""},"</td>###<td>",{"$f":"IF(SortSheet!$Q6=\"\",\"\",CONCATENATE(SortSheet!$S6,\" \",SortSheet!$T6,\", \",SortSheet!$U6))","v":""},"</td>###<td>",{"$f":"IF(SortSheet!V6=\"\",\"\",SortSheet!V6)","v":""},"</td><td>",{"$f":"IF(SortSheet!W6=\"\",\"\",SortSheet!W6)","v":""},"</td><td>",{"$f":"IF(SortSheet!X6=\"\",\"\",SortSheet!X6)","v":""},"</td><td>",{"$f":"IF(SortSheet!Y6=\"\",\"\",SortSheet!Y6)","v":""},"</td><td>",{"$f":"IF(SortSheet!Z6=\"\",\"\",SortSheet!Z6)","v":""},"</td><td>",{"$f":"IF(SortSheet!AA6=\"\",\"\",SortSheet!AA6)","v":""},"</td><td class='Bld'>",{"$f":"IF(SortSheet!AB6=0,\"\",SortSheet!AB6)","v":""},"</td>###<td class='Bld'>",{"$f":"IF(SortSheet!AC6=0,\"\",SortSheet!AC6)","v":""},"</td>###</tr>"]
["<tr align=\"center\">###<td class=\"Bld\">",{"$f":"IF(SortSheet!Q7=\"\",\"\",SortSheet!Q7)","v":""},"</td>###<td>",{"$f":"IF(SortSheet!$Q7=\"\",\"\",CONCATENATE(SortSheet!$S7,\" \",SortSheet!$T7,\", \",SortSheet!$U7))","v":""},"</td>###<td>",{"$f":"IF(SortSheet!V7=\"\",\"\",SortSheet!V7)","v":""},"</td><td>",{"$f":"IF(SortSheet!W7=\"\",\"\",SortSheet!W7)","v":""},"</td><td>",{"$f":"IF(SortSheet!X7=\"\",\"\",SortSheet!X7)","v":""},"</td><td>",{"$f":"IF(SortSheet!Y7=\"\",\"\",SortSheet!Y7)","v":""},"</td><td>",{"$f":"IF(SortSheet!Z7=\"\",\"\",SortSheet!Z7)","v":""},"</td><td>",{"$f":"IF(SortSheet!AA7=\"\",\"\",SortSheet!AA7)","v":""},"</td><td class='Bld'>",{"$f":"IF(SortSheet!AB7=0,\"\",SortSheet!AB7)","v":""},"</td>###<td class='Bld'>",{"$f":"IF(SortSheet!AC7=0,\"\",SortSheet!AC7)","v":""},"</td>###</tr>"]
["<tr align=\"center\">###<td class=\"Bld\">",{"$f":"IF(SortSheet!Q8=\"\",\"\",SortSheet!Q8)","v":""},"</td>###<td>",{"$f":"IF(SortSheet!$Q8=\"\",\"\",CONCATENATE(SortSheet!$S8,\" \",SortSheet!$T8,\", \",SortSheet!$U8))","v":""},"</td>###<td>",{"$f":"IF(SortSheet!V8=\"\",\"\",SortSheet!V8)","v":""},"</td><td>",{"$f":"IF(SortSheet!W8=\"\",\"\",SortSheet!W8)","v":""},"</td><td>",{"$f":"IF(SortSheet!X8=\"\",\"\",SortSheet!X8)","v":""},"</td><td>",{"$f":"IF(SortSheet!Y8=\"\",\"\",SortSheet!Y8)","v":""},"</td><td>",{"$f":"IF(SortSheet!Z8=\"\",\"\",SortSheet!Z8)","v":""},"</td><td>",{"$f":"IF(SortSheet!AA8=\"\",\"\",SortSheet!AA8)","v":""},"</td><td class='Bld'>",{"$f":"IF(SortSheet!AB8=0,\"\",SortSheet!AB8)","v":""},"</td>###<td class='Bld'>",{"$f":"IF(SortSheet!AC8=0,\"\",SortSheet!AC8)","v":""},"</td>###</tr>"]
["<tr align=\"center\">###<td class=\"Bld\">",{"$f":"IF(SortSheet!Q9=\"\",\"\",SortSheet!Q9)","v":""},"</td>###<td>",{"$f":"IF(SortSheet!$Q9=\"\",\"\",CONCATENATE(SortSheet!$S9,\" \",SortSheet!$T9,\", \",SortSheet!$U9))","v":""},"</td>###<td>",{"$f":"IF(SortSheet!V9=\"\",\"\",SortSheet!V9)","v":""},"</td><td>",{"$f":"IF(SortSheet!W9=\"\",\"\",SortSheet!W9)","v":""},"</td><td>",{"$f":"IF(SortSheet!X9=\"\",\"\",SortSheet!X9)","v":""},"</td><td>",{"$f":"IF(SortSheet!Y9=\"\",\"\",SortSheet!Y9)","v":""},"</td><td>",{"$f":"IF(SortSheet!Z9=\"\",\"\",SortSheet!Z9)","v":""},"</td><td>",{"$f":"IF(SortSheet!AA9=\"\",\"\",SortSheet!AA9)","v":""},"</td><td class='Bld'>",{"$f":"IF(SortSheet!AB9=0,\"\",SortSheet!AB9)","v":""},"</td>###<td class='Bld'>",{"$f":"IF(SortSheet!AC9=0,\"\",SortSheet!AC9)","v":""},"</td>###</tr>"]
["<tr align=\"center\">###<td class=\"Bld\">",{"$f":"IF(SortSheet!Q10=\"\",\"\",SortSheet!Q10)","v":""},"</td>###<td>",{"$f":"IF(SortSheet!$Q10=\"\",\"\",CONCATENATE(SortSheet!$S10,\" \",SortSheet!$T10,\", \",SortSheet!$U10))","v":""},"</td>###<td>",{"$f":"IF(SortSheet!V10=\"\",\"\",SortSheet!V10)","v":""},"</td><td>",{"$f":"IF(SortSheet!W10=\"\",\"\",SortSheet!W10)","v":""},"</td><td>",{"$f":"IF(SortSheet!X10=\"\",\"\",SortSheet!X10)","v":""},"</td><td>",{"$f":"IF(SortSheet!Y10=\"\",\"\",SortSheet!Y10)","v":""},"</td><td>",{"$f":"IF(SortSheet!Z10=\"\",\"\",SortSheet!Z10)","v":""},"</td><td>",{"$f":"IF(SortSheet!AA10=\"\",\"\",SortSheet!AA10)","v":""},"</td><td class='Bld'>",{"$f":"IF(SortSheet!AB10=0,\"\",SortSheet!AB10)","v":""},"</td>###<td class='Bld'>",{"$f":"IF(SortSheet!AC10=0,\"\",SortSheet!AC10)","v":""},"</td>###</tr>"]
["<tr align=\"center\">###<td class=\"Bld\">",{"$f":"IF(SortSheet!Q11=\"\",\"\",SortSheet!Q11)","v":""},"</td>###<td>",{"$f":"IF(SortSheet!$Q11=\"\",\"\",CONCATENATE(SortSheet!$S11,\" \",SortSheet!$T11,\", \",SortSheet!$U11))","v":""},"</td>###<td>",{"$f":"IF(SortSheet!V11=\"\",\"\",SortSheet!V11)","v":""},"</td><td>",{"$f":"IF(SortSheet!W11=\"\",\"\",SortSheet!W11)","v":""},"</td><td>",{"$f":"IF(SortSheet!X11=\"\",\"\",SortSheet!X11)","v":""},"</td><td>",{"$f":"IF(SortSheet!Y11=\"\",\"\",SortSheet!Y11)","v":""},"</td><td>",{"$f":"IF(SortSheet!Z11=\"\",\"\",SortSheet!Z11)","v":""},"</td><td>",{"$f":"IF(SortSheet!AA11=\"\",\"\",SortSheet!AA11)","v":""},"</td><td class='Bld'>",{"$f":"IF(SortSheet!AB11=0,\"\",SortSheet!AB11)","v":""},"</td>###<td class='Bld'>",{"$f":"IF(SortSheet!AC11=0,\"\",SortSheet!AC11)","v":""},"</td>###</tr>"]
["<tr align=\"center\">###<td class=\"Bld\">",{"$f":"IF(SortSheet!Q12=\"\",\"\",SortSheet!Q12)","v":""},"</td>###<td>",{"$f":"IF(SortSheet!$Q12=\"\",\"\",CONCATENATE(SortSheet!$S12,\" \",SortSheet!$T12,\", \",SortSheet!$U12))","v":""},"</td>###<td>",{"$f":"IF(SortSheet!V12=\"\",\"\",SortSheet!V12)","v":""},"</td><td>",{"$f":"IF(SortSheet!W12=\"\",\"\",SortSheet!W12)","v":""},"</td><td>",{"$f":"IF(SortSheet!X12=\"\",\"\",SortSheet!X12)","v":""},"</td><td>",{"$f":"IF(SortSheet!Y12=\"\",\"\",SortSheet!Y12)","v":""},"</td><td>",{"$f":"IF(SortSheet!Z12=\"\",\"\",SortSheet!Z12)","v":""},"</td><td>",{"$f":"IF(SortSheet!AA12=\"\",\"\",SortSheet!AA12)","v":""},"</td><td class='Bld'>",{"$f":"IF(SortSheet!AB12=0,\"\",SortSheet!AB12)","v":""},"</td>###<td class='Bld'>",{"$f":"IF(SortSheet!AC12=0,\"\",SortSheet!AC12)","v":""},"</td>###</tr>"]
["<tr align=\"center\">###<td class=\"Bld\">",{"$f":"IF(SortSheet!Q13=\"\",\"\",SortSheet!Q13)","v":""},"</td>###<td>",{"$f":"IF(SortSheet!$Q13=\"\",\"\",CONCATENATE(SortSheet!$S13,\" \",SortSheet!$T13,\", \",SortSheet!$U13))","v":""},"</td>###<td>",{"$f":"IF(SortSheet!V13=\"\",\"\",SortSheet!V13)","v":""},"</td><td>",{"$f":"IF(SortSheet!W13=\"\",\"\",SortSheet!W13)","v":""},"</td><td>",{"$f":"IF(SortSheet!X13=\"\",\"\",SortSheet!X13)","v":""},"</td><td>",{"$f":"IF(SortSheet!Y13=\"\",\"\",SortSheet!Y13)","v":""},"</td><td>",{"$f":"IF(SortSheet!Z13=\"\",\"\",SortSheet!Z13)","v":""},"</td><td>",{"$f":"IF(SortSheet!AA13=\"\",\"\",SortSheet!AA13)","v":""},"</td><td class='Bld'>",{"$f":"IF(SortSheet!AB13=0,\"\",SortSheet!AB13)","v":""},"</td>###<td class='Bld'>",{"$f":"IF(SortSheet!AC13=0,\"\",SortSheet!AC13)","v":""},"</td>###</tr>"]
["<tr align=\"center\">###<td class=\"Bld\">",{"$f":"IF(SortSheet!Q14=\"\",\"\",SortSheet!Q14)","v":""},"</td>###<td>",{"$f":"IF(SortSheet!$Q14=\"\",\"\",CONCATENATE(SortSheet!$S14,\" \",SortSheet!$T14,\", \",SortSheet!$U14))","v":""},"</td>###<td>",{"$f":"IF(SortSheet!V14=\"\",\"\",SortSheet!V14)","v":""},"</td><td>",{"$f":"IF(SortSheet!W14=\"\",\"\",SortSheet!W14)","v":""},"</td><td>",{"$f":"IF(SortSheet!X14=\"\",\"\",SortSheet!X14)","v":""},"</td><td>",{"$f":"IF(SortSheet!Y14=\"\",\"\",SortSheet!Y14)","v":""},"</td><td>",{"$f":"IF(SortSheet!Z14=\"\",\"\",SortSheet!Z14)","v":""},"</td><td>",{"$f":"IF(SortSheet!AA14=\"\",\"\",SortSheet!AA14)","v":""},"</td><td class='Bld'>",{"$f":"IF(SortSheet!AB14=0,\"\",SortSheet!AB14)","v":""},"</td>###<td class='Bld'>",{"$f":"IF(SortSheet!AC14=0,\"\",SortSheet!AC14)","v":""},"</td>###</tr>"]
["<tr align=\"center\">###<td class=\"Bld\">",{"$f":"IF(SortSheet!Q15=\"\",\"\",SortSheet!Q15)","v":""},"</td>###<td>",{"$f":"IF(SortSheet!$Q15=\"\",\"\",CONCATENATE(SortSheet!$S15,\" \",SortSheet!$T15,\", \",SortSheet!$U15))","v":""},"</td>###<td>",{"$f":"IF(SortSheet!V15=\"\",\"\",SortSheet!V15)","v":""},"</td><td>",{"$f":"IF(SortSheet!W15=\"\",\"\",SortSheet!W15)","v":""},"</td><td>",{"$f":"IF(SortSheet!X15=\"\",\"\",SortSheet!X15)","v":""},"</td><td>",{"$f":"IF(SortSheet!Y15=\"\",\"\",SortSheet!Y15)","v":""},"</td><td>",{"$f":"IF(SortSheet!Z15=\"\",\"\",SortSheet!Z15)","v":""},"</td><td>",{"$f":"IF(SortSheet!AA15=\"\",\"\",SortSheet!AA15)","v":""},"</td><td class='Bld'>",{"$f":"IF(SortSheet!AB15=0,\"\",SortSheet!AB15)","v":""},"</td>###<td class='Bld'>",{"$f":"IF(SortSheet!AC15=0,\"\",SortSheet!AC15)","v":""},"</td>###</tr>"]
["<tr align=\"center\">###<td class=\"Bld\">",{"$f":"IF(SortSheet!Q16=\"\",\"\",SortSheet!Q16)","v":""},"</td>###<td>",{"$f":"IF(SortSheet!$Q16=\"\",\"\",CONCATENATE(SortSheet!$S16,\" \",SortSheet!$T16,\", \",SortSheet!$U16))","v":""},"</td>###<td>",{"$f":"IF(SortSheet!V16=\"\",\"\",SortSheet!V16)","v":""},"</td><td>",{"$f":"IF(SortSheet!W16=\"\",\"\",SortSheet!W16)","v":""},"</td><td>",{"$f":"IF(SortSheet!X16=\"\",\"\",SortSheet!X16)","v":""},"</td><td>",{"$f":"IF(SortSheet!Y16=\"\",\"\",SortSheet!Y16)","v":""},"</td><td>",{"$f":"IF(SortSheet!Z16=\"\",\"\",SortSheet!Z16)","v":""},"</td><td>",{"$f":"IF(SortSheet!AA16=\"\",\"\",SortSheet!AA16)","v":""},"</td><td class='Bld'>",{"$f":"IF(SortSheet!AB16=0,\"\",SortSheet!AB16)","v":""},"</td>###<td class='Bld'>",{"$f":"IF(SortSheet!AC16=0,\"\",SortSheet!AC16)","v":""},"</td>###</tr>"]
["<tr align=\"center\">###<td class=\"Bld\">",{"$f":"IF(SortSheet!Q17=\"\",\"\",SortSheet!Q17)","v":""},"</td>###<td>",{"$f":"IF(SortSheet!$Q17=\"\",\"\",CONCATENATE(SortSheet!$S17,\" \",SortSheet!$T17,\", \",SortSheet!$U17))","v":""},"</td>###<td>",{"$f":"IF(SortSheet!V17=\"\",\"\",SortSheet!V17)","v":""},"</td><td>",{"$f":"IF(SortSheet!W17=\"\",\"\",SortSheet!W17)","v":""},"</td><td>",{"$f":"IF(SortSheet!X17=\"\",\"\",SortSheet!X17)","v":""},"</td><td>",{"$f":"IF(SortSheet!Y17=\"\",\"\",SortSheet!Y17)","v":""},"</td><td>",{"$f":"IF(SortSheet!Z17=\"\",\"\",SortSheet!Z17)","v":""},"</td><td>",{"$f":"IF(SortSheet!AA17=\"\",\"\",SortSheet!AA17)","v":""},"</td><td class='Bld'>",{"$f":"IF(SortSheet!AB17=0,\"\",SortSheet!AB17)","v":""},"</td>###<td class='Bld'>",{"$f":"IF(SortSheet!AC17=0,\"\",SortSheet!AC17)","v":""},"</td>###</tr>"]
["<tr align=\"center\">###<td class=\"Bld\">",{"$f":"IF(SortSheet!Q18=\"\",\"\",SortSheet!Q18)","v":""},"</td>###<td>",{"$f":"IF(SortSheet!$Q18=\"\",\"\",CONCATENATE(SortSheet!$S18,\" \",SortSheet!$T18,\", \",SortSheet!$U18))","v":""},"</td>###<td>",{"$f":"IF(SortSheet!V18=\"\",\"\",SortSheet!V18)","v":""},"</td><td>",{"$f":"IF(SortSheet!W18=\"\",\"\",SortSheet!W18)","v":""},"</td><td>",{"$f":"IF(SortSheet!X18=\"\",\"\",SortSheet!X18)","v":""},"</td><td>",{"$f":"IF(SortSheet!Y18=\"\",\"\",SortSheet!Y18)","v":""},"</td><td>",{"$f":"IF(SortSheet!Z18=\"\",\"\",SortSheet!Z18)","v":""},"</td><td>",{"$f":"IF(SortSheet!AA18=\"\",\"\",SortSheet!AA18)","v":""},"</td><td class='Bld'>",{"$f":"IF(SortSheet!AB18=0,\"\",SortSheet!AB18)","v":""},"</td>###<td class='Bld'>",{"$f":"IF(SortSheet!AC18=0,\"\",SortSheet!AC18)","v":""},"</td>###</tr>"]
["<tr align=\"center\">###<td class=\"Bld\">",{"$f":"IF(SortSheet!Q19=\"\",\"\",SortSheet!Q19)","v":""},"</td>###<td>",{"$f":"IF(SortSheet!$Q19=\"\",\"\",CONCATENATE(SortSheet!$S19,\" \",SortSheet!$T19,\", \",SortSheet!$U19))","v":""},"</td>###<td>",{"$f":"IF(SortSheet!V19=\"\",\"\",SortSheet!V19)","v":""},"</td><td>",{"$f":"IF(SortSheet!W19=\"\",\"\",SortSheet!W19)","v":""},"</td><td>",{"$f":"IF(SortSheet!X19=\"\",\"\",SortSheet!X19)","v":""},"</td><td>",{"$f":"IF(SortSheet!Y19=\"\",\"\",SortSheet!Y19)","v":""},"</td><td>",{"$f":"IF(SortSheet!Z19=\"\",\"\",SortSheet!Z19)","v":""},"</td><td>",{"$f":"IF(SortSheet!AA19=\"\",\"\",SortSheet!AA19)","v":""},"</td><td class='Bld'>",{"$f":"IF(SortSheet!AB19=0,\"\",SortSheet!AB19)","v":""},"</td>###<td class='Bld'>",{"$f":"IF(SortSheet!AC19=0,\"\",SortSheet!AC19)","v":""},"</td>###</tr>"]
["<tr align=\"center\">###<td class=\"Bld\">",{"$f":"IF(SortSheet!Q20=\"\",\"\",SortSheet!Q20)","v":""},"</td>###<td>",{"$f":"IF(SortSheet!$Q20=\"\",\"\",CONCATENATE(SortSheet!$S20,\" \",SortSheet!$T20,\", \",SortSheet!$U20))","v":""},"</td>###<td>",{"$f":"IF(SortSheet!V20=\"\",\"\",SortSheet!V20)","v":""},"</td><td>",{"$f":"IF(SortSheet!W20=\"\",\"\",SortSheet!W20)","v":""},"</td><td>",{"$f":"IF(SortSheet!X20=\"\",\"\",SortSheet!X20)","v":""},"</td><td>",{"$f":"IF(SortSheet!Y20=\"\",\"\",SortSheet!Y20)","v":""},"</td><td>",{"$f":"IF(SortSheet!Z20=\"\",\"\",SortSheet!Z20)","v":""},"</td><td>",{"$f":"IF(SortSheet!AA20=\"\",\"\",SortSheet!AA20)","v":""},"</td><td class='Bld'>",{"$f":"IF(SortSheet!AB20=0,\"\",SortSheet!AB20)","v":""},"</td>###<td class='Bld'>",{"$f":"IF(SortSheet!AC20=0,\"\",SortSheet!AC20)","v":""},"</td>###</tr>"]
["<tr align=\"center\">###<td class=\"Bld\">",{"$f":"IF(SortSheet!Q21=\"\",\"\",SortSheet!Q21)","v":""},"</td>###<td>",{"$f":"IF(SortSheet!$Q21=\"\",\"\",CONCATENATE(SortSheet!$S21,\" \",SortSheet!$T21,\", \",SortSheet!$U21))","v":""},"</td>###<td>",{"$f":"IF(SortSheet!V21=\"\",\"\",SortSheet!V21)","v":""},"</td><td>",{"$f":"IF(SortSheet!W21=\"\",\"\",SortSheet!W21)","v":""},"</td><td>",{"$f":"IF(SortSheet!X21=\"\",\"\",SortSheet!X21)","v":""},"</td><td>",{"$f":"IF(SortSheet!Y21=\"\",\"\",SortSheet!Y21)","v":""},"</td><td>",{"$f":"IF(SortSheet!Z21=\"\",\"\",SortSheet!Z21)","v":""},"</td><td>",{"$f":"IF(SortSheet!AA21=\"\",\"\",SortSheet!AA21)","v":""},"</td><td class='Bld'>",{"$f":"IF(SortSheet!AB21=0,\"\",SortSheet!AB21)","v":""},"</td>###<td class='Bld'>",{"$f":"IF(SortSheet!AC21=0,\"\",SortSheet!AC21)","v":""},"</td>###</tr>"]
["<tr align=\"center\">###<td class=\"Bld\">",{"$f":"IF(SortSheet!Q22=\"\",\"\",SortSheet!Q22)","v":""},"</td>###<td>",{"$f":"IF(SortSheet!$Q22=\"\",\"\",CONCATENATE(SortSheet!$S22,\" \",SortSheet!$T22,\", \",SortSheet!$U22))","v":""},"</td>###<td>",{"$f":"IF(SortSheet!V22=\"\",\"\",SortSheet!V22)","v":""},"</td><td>",{"$f":"IF(SortSheet!W22=\"\",\"\",SortSheet!W22)","v":""},"</td><td>",{"$f":"IF(SortSheet!X22=\"\",\"\",SortSheet!X22)","v":""},"</td><td>",{"$f":"IF(SortSheet!Y22=\"\",\"\",SortSheet!Y22)","v":""},"</td><td>",{"$f":"IF(SortSheet!Z22=\"\",\"\",SortSheet!Z22)","v":""},"</td><td>",{"$f":"IF(SortSheet!AA22=\"\",\"\",SortSheet!AA22)","v":""},"</td><td class='Bld'>",{"$f":"IF(SortSheet!AB22=0,\"\",SortSheet!AB22)","v":""},"</td>###<td class='Bld'>",{"$f":"IF(SortSheet!AC22=0,\"\",SortSheet!AC22)","v":""},"</td>###</tr>"]
["<tr align=\"center\">###<td class=\"Bld\">",{"$f":"IF(SortSheet!Q23=\"\",\"\",SortSheet!Q23)","v":""},"</td>###<td>",{"$f":"IF(SortSheet!$Q23=\"\",\"\",CONCATENATE(SortSheet!$S23,\" \",SortSheet!$T23,\", \",SortSheet!$U23))","v":""},"</td>###<td>",{"$f":"IF(SortSheet!V23=\"\",\"\",SortSheet!V23)","v":""},"</td><td>",{"$f":"IF(SortSheet!W23=\"\",\"\",SortSheet!W23)","v":""},"</td><td>",{"$f":"IF(SortSheet!X23=\"\",\"\",SortSheet!X23)","v":""},"</td><td>",{"$f":"IF(SortSheet!Y23=\"\",\"\",SortSheet!Y23)","v":""},"</td><td>",{"$f":"IF(SortSheet!Z23=\"\",\"\",SortSheet!Z23)","v":""},"</td><td>",{"$f":"IF(SortSheet!AA23=\"\",\"\",SortSheet!AA23)","v":""},"</td><td class='Bld'>",{"$f":"IF(SortSheet!AB23=0,\"\",SortSheet!AB23)","v":""},"</td>###<td class='Bld'>",{"$f":"IF(SortSheet!AC23=0,\"\",SortSheet!AC23)","v":""},"</td>###</tr>"]
["<tr align=\"center\">###<td class=\"Bld\">",{"$f":"IF(SortSheet!Q24=\"\",\"\",SortSheet!Q24)","v":""},"</td>###<td>",{"$f":"IF(SortSheet!$Q24=\"\",\"\",CONCATENATE(SortSheet!$S24,\" \",SortSheet!$T24,\", \",SortSheet!$U24))","v":""},"</td>###<td>",{"$f":"IF(SortSheet!V24=\"\",\"\",SortSheet!V24)","v":""},"</td><td>",{"$f":"IF(SortSheet!W24=\"\",\"\",SortSheet!W24)","v":""},"</td><td>",{"$f":"IF(SortSheet!X24=\"\",\"\",SortSheet!X24)","v":""},"</td><td>",{"$f":"IF(SortSheet!Y24=\"\",\"\",SortSheet!Y24)","v":""},"</td><td>",{"$f":"IF(SortSheet!Z24=\"\",\"\",SortSheet!Z24)","v":""},"</td><td>",{"$f":"IF(SortSheet!AA24=\"\",\"\",SortSheet!AA24)","v":""},"</td><td class='Bld'>",{"$f":"IF(SortSheet!AB24=0,\"\",SortSheet!AB24)","v":""},"</td>###<td class='Bld'>",{"$f":"IF(SortSheet!AC24=0,\"\",SortSheet!AC24)","v":""},"</td>###</tr>"]
["<tr align=\"center\">###<td class=\"Bld\">",{"$f":"IF(SortSheet!Q25=\"\",\"\",SortSheet!Q25)","v":""},"</td>###<td>",{"$f":"IF(SortSheet!$Q25=\"\",\"\",CONCATENATE(SortSheet!$S25,\" \",SortSheet!$T25,\", \",SortSheet!$U25))","v":""},"</td>###<td>",{"$f":"IF(SortSheet!V25=\"\",\"\",SortSheet!V25)","v":""},"</td><td>",{"$f":"IF(SortSheet!W25=\"\",\"\",SortSheet!W25)","v":""},"</td><td>",{"$f":"IF(SortSheet!X25=\"\",\"\",SortSheet!X25)","v":""},"</td><td>",{"$f":"IF(SortSheet!Y25=\"\",\"\",SortSheet!Y25)","v":""},"</td><td>",{"$f":"IF(SortSheet!Z25=\"\",\"\",SortSheet!Z25)","v":""},"</td><td>",{"$f":"IF(SortSheet!AA25=\"\",\"\",SortSheet!AA25)","v":""},"</td><td class='Bld'>",{"$f":"IF(SortSheet!AB25=0,\"\",SortSheet!AB25)","v":""},"</td>###<td class='Bld'>",{"$f":"IF(SortSheet!AC25=0,\"\",SortSheet!AC25)","v":""},"</td>###</tr>"]
["<tr align=\"center\">###<td class=\"Bld\">",{"$f":"IF(SortSheet!Q26=\"\",\"\",SortSheet!Q26)","v":""},"</td>###<td>",{"$f":"IF(SortSheet!$Q26=\"\",\"\",CONCATENATE(SortSheet!$S26,\" \",SortSheet!$T26,\", \",SortSheet!$U26))","v":""},"</td>###<td>",{"$f":"IF(SortSheet!V26=\"\",\"\",SortSheet!V26)","v":""},"</td><td>",{"$f":"IF(SortSheet!W26=\"\",\"\",SortSheet!W26)","v":""},"</td><td>",{"$f":"IF(SortSheet!X26=\"\",\"\",SortSheet!X26)","v":""},"</td><td>",{"$f":"IF(SortSheet!Y26=\"\",\"\",SortSheet!Y26)","v":""},"</td><td>",{"$f":"IF(SortSheet!Z26=\"\",\"\",SortSheet!Z26)","v":""},"</td><td>",{"$f":"IF(SortSheet!AA26=\"\",\"\",SortSheet!AA26)","v":""},"</td><td class='Bld'>",{"$f":"IF(SortSheet!AB26=0,\"\",SortSheet!AB26)","v":""},"</td>###<td class='Bld'>",{"$f":"IF(SortSheet!AC26=0,\"\",SortSheet!AC26)","v":""},"</td>###</tr>"]
["<tr align=\"center\">###<td class=\"Bld\">",{"$f":"IF(SortSheet!Q27=\"\",\"\",SortSheet!Q27)","v":""},"</td>###<td>",{"$f":"IF(SortSheet!$Q27=\"\",\"\",CONCATENATE(SortSheet!$S27,\" \",SortSheet!$T27,\", \",SortSheet!$U27))","v":""},"</td>###<td>",{"$f":"IF(SortSheet!V27=\"\",\"\",SortSheet!V27)","v":""},"</td><td>",{"$f":"IF(SortSheet!W27=\"\",\"\",SortSheet!W27)","v":""},"</td><td>",{"$f":"IF(SortSheet!X27=\"\",\"\",SortSheet!X27)","v":""},"</td><td>",{"$f":"IF(SortSheet!Y27=\"\",\"\",SortSheet!Y27)","v":""},"</td><td>",{"$f":"IF(SortSheet!Z27=\"\",\"\",SortSheet!Z27)","v":""},"</td><td>",{"$f":"IF(SortSheet!AA27=\"\",\"\",SortSheet!AA27)","v":""},"</td><td class='Bld'>",{"$f":"IF(SortSheet!AB27=0,\"\",SortSheet!AB27)","v":""},"</td>###<td class='Bld'>",{"$f":"IF(SortSheet!AC27=0,\"\",SortSheet!AC27)","v":""},"</td>###</tr>"]
["<tr align=\"center\">###<td class=\"Bld\">",{"$f":"IF(SortSheet!Q28=\"\",\"\",SortSheet!Q28)","v":""},"</td>###<td>",{"$f":"IF(SortSheet!$Q28=\"\",\"\",CONCATENATE(SortSheet!$S28,\" \",SortSheet!$T28,\", \",SortSheet!$U28))","v":""},"</td>###<td>",{"$f":"IF(SortSheet!V28=\"\",\"\",SortSheet!V28)","v":""},"</td><td>",{"$f":"IF(SortSheet!W28=\"\",\"\",SortSheet!W28)","v":""},"</td><td>",{"$f":"IF(SortSheet!X28=\"\",\"\",SortSheet!X28)","v":""},"</td><td>",{"$f":"IF(SortSheet!Y28=\"\",\"\",SortSheet!Y28)","v":""},"</td><td>",{"$f":"IF(SortSheet!Z28=\"\",\"\",SortSheet!Z28)","v":""},"</td><td>",{"$f":"IF(SortSheet!AA28=\"\",\"\",SortSheet!AA28)","v":""},"</td><td class='Bld'>",{"$f":"IF(SortSheet!AB28=0,\"\",SortSheet!AB28)","v":""},"</td>###<td class='Bld'>",{"$f":"IF(SortSheet!AC28=0,\"\",SortSheet!AC28)","v":""},"</td>###</tr>"]
["<tr align=\"center\">###<td class=\"Bld\">",{"$f":"IF(SortSheet!Q29=\"\",\"\",SortSheet!Q29)","v":""},"</td>###<td>",{"$f":"IF(SortSheet!$Q29=\"\",\"\",CONCATENATE(SortSheet!$S29,\" \",SortSheet!$T29,\", \",SortSheet!$U29))","v":""},"</td>###<td>",{"$f":"IF(SortSheet!V29=\"\",\"\",SortSheet!V29)","v":""},"</td><td>",{"$f":"IF(SortSheet!W29=\"\",\"\",SortSheet!W29)","v":""},"</td><td>",{"$f":"IF(SortSheet!X29=\"\",\"\",SortSheet!X29)","v":""},"</td><td>",{"$f":"IF(SortSheet!Y29=\"\",\"\",SortSheet!Y29)","v":""},"</td><td>",{"$f":"IF(SortSheet!Z29=\"\",\"\",SortSheet!Z29)","v":""},"</td><td>",{"$f":"IF(SortSheet!AA29=\"\",\"\",SortSheet!AA29)","v":""},"</td><td class='Bld'>",{"$f":"IF(SortSheet!AB29=0,\"\",SortSheet!AB29)","v":""},"</td>###<td class='Bld'>",{"$f":"IF(SortSheet!AC29=0,\"\",SortSheet!AC29)","v":""},"</td>###</tr>"]
["<tr align=\"center\">###<td class=\"Bld\">",{"$f":"IF(SortSheet!Q30=\"\",\"\",SortSheet!Q30)","v":""},"</td>###<td>",{"$f":"IF(SortSheet!$Q30=\"\",\"\",CONCATENATE(SortSheet!$S30,\" \",SortSheet!$T30,\", \",SortSheet!$U30))","v":""},"</td>###<td>",{"$f":"IF(SortSheet!V30=\"\",\"\",SortSheet!V30)","v":""},"</td><td>",{"$f":"IF(SortSheet!W30=\"\",\"\",SortSheet!W30)","v":""},"</td><td>",{"$f":"IF(SortSheet!X30=\"\",\"\",SortSheet!X30)","v":""},"</td><td>",{"$f":"IF(SortSheet!Y30=\"\",\"\",SortSheet!Y30)","v":""},"</td><td>",{"$f":"IF(SortSheet!Z30=\"\",\"\",SortSheet!Z30)","v":""},"</td><td>",{"$f":"IF(SortSheet!AA30=\"\",\"\",SortSheet!AA30)","v":""},"</td><td class='Bld'>",{"$f":"IF(SortSheet!AB30=0,\"\",SortSheet!AB30)","v":""},"</td>###<td class='Bld'>",{"$f":"IF(SortSheet!AC30=0,\"\",SortSheet!AC30)","v":""},"</td>###</tr>"]
["<tr align=\"center\">###<td class=\"Bld\">",{"$f":"IF(SortSheet!Q31=\"\",\"\",SortSheet!Q31)","v":""},"</td>###<td>",{"$f":"IF(SortSheet!$Q31=\"\",\"\",CONCATENATE(SortSheet!$S31,\" \",SortSheet!$T31,\", \",SortSheet!$U31))","v":""},"</td>###<td>",{"$f":"IF(SortSheet!V31=\"\",\"\",SortSheet!V31)","v":""},"</td><td>",{"$f":"IF(SortSheet!W31=\"\",\"\",SortSheet!W31)","v":""},"</td><td>",{"$f":"IF(SortSheet!X31=\"\",\"\",SortSheet!X31)","v":""},"</td><td>",{"$f":"IF(SortSheet!Y31=\"\",\"\",SortSheet!Y31)","v":""},"</td><td>",{"$f":"IF(SortSheet!Z31=\"\",\"\",SortSheet!Z31)","v":""},"</td><td>",{"$f":"IF(SortSheet!AA31=\"\",\"\",SortSheet!AA31)","v":""},"</td><td class='Bld'>",{"$f":"IF(SortSheet!AB31=0,\"\",SortSheet!AB31)","v":""},"</td>###<td class='Bld'>",{"$f":"IF(SortSheet!AC31=0,\"\",SortSheet!AC31)","v":""},"</td>###</tr>"]
["<tr align=\"center\">###<td class=\"Bld\">",{"$f":"IF(SortSheet!Q32=\"\",\"\",SortSheet!Q32)","v":""},"</td>###<td>",{"$f":"IF(SortSheet!$Q32=\"\",\"\",CONCATENATE(SortSheet!$S32,\" \",SortSheet!$T32,\", \",SortSheet!$U32))","v":""},"</td>###<td>",{"$f":"IF(SortSheet!V32=\"\",\"\",SortSheet!V32)","v":""},"</td><td>",{"$f":"IF(SortSheet!W32=\"\",\"\",SortSheet!W32)","v":""},"</td><td>",{"$f":"IF(SortSheet!X32=\"\",\"\",SortSheet!X32)","v":""},"</td><td>",{"$f":"IF(SortSheet!Y32=\"\",\"\",SortSheet!Y32)","v":""},"</td><td>",{"$f":"IF(SortSheet!Z32=\"\",\"\",SortSheet!Z32)","v":""},"</td><td>",{"$f":"IF(SortSheet!AA32=\"\",\"\",SortSheet!AA32)","v":""},"</td><td class='Bld'>",{"$f":"IF(SortSheet!AB32=0,\"\",SortSheet!AB32)","v":""},"</td>###<td class='Bld'>",{"$f":"IF(SortSheet!AC32=0,\"\",SortSheet!AC32)","v":""},"</td>###</tr>"]
["<tr align=\"center\">###<td class=\"Bld\">",{"$f":"IF(SortSheet!Q33=\"\",\"\",SortSheet!Q33)","v":""},"</td>###<td>",{"$f":"IF(SortSheet!$Q33=\"\",\"\",CONCATENATE(SortSheet!$S33,\" \",SortSheet!$T33,\", \",SortSheet!$U33))","v":""},"</td>###<td>",{"$f":"IF(SortSheet!V33=\"\",\"\",SortSheet!V33)","v":""},"</td><td>",{"$f":"IF(SortSheet!W33=\"\",\"\",SortSheet!W33)","v":""},"</td><td>",{"$f":"IF(SortSheet!X33=\"\",\"\",SortSheet!X33)","v":""},"</td><td>",{"$f":"IF(SortSheet!Y33=\"\",\"\",SortSheet!Y33)","v":""},"</td><td>",{"$f":"IF(SortSheet!Z33=\"\",\"\",SortSheet!Z33)","v":""},"</td><td>",{"$f":"IF(SortSheet!AA33=\"\",\"\",SortSheet!AA33)","v":""},"</td><td class='Bld'>",{"$f":"IF(SortSheet!AB33=0,\"\",SortSheet!AB33)","v":""},"</td>###<td class='Bld'>",{"$f":"IF(SortSheet!AC33=0,\"\",SortSheet!AC33)","v":""},"</td>###</tr>"]
["<tr align=\"center\">###<td class=\"Bld\">",{"$f":"IF(SortSheet!Q34=\"\",\"\",SortSheet!Q34)","v":""},"</td>###<td>",{"$f":"IF(SortSheet!$Q34=\"\",\"\",CONCATENATE(SortSheet!$S34,\" \",SortSheet!$T34,\", \",SortSheet!$U34))","v":""},"</td>###<td>",{"$f":"IF(SortSheet!V34=\"\",\"\",SortSheet!V34)","v":""},"</td><td>",{"$f":"IF(SortSheet!W34=\"\",\"\",SortSheet!W34)","v":""},"</td><td>",{"$f":"IF(SortSheet!X34=\"\",\"\",SortSheet!X34)","v":""},"</td><td>",{"$f":"IF(SortSheet!Y34=\"\",\"\",SortSheet!Y34)","v":""},"</td><td>",{"$f":"IF(SortSheet!Z34=\"\",\"\",SortSheet!Z34)","v":""},"</td><td>",{"$f":"IF(SortSheet!AA34=\"\",\"\",SortSheet!AA34)","v":""},"</td><td class='Bld'>",{"$f":"IF(SortSheet!AB34=0,\"\",SortSheet!AB34)","v":""},"</td>###<td class='Bld'>",{"$f":"IF(SortSheet!AC34=0,\"\",SortSheet!AC34)","v":""},"</td>###</tr>"]

{"sheet":"Lists","index":4,"n_rows":44,"n_cols":13,"rows_kept":44,"cut":false,"hidden":true,"merged":[]}
[null,null,"PISTOL",null,null,null,"RIFLE"]
[null,null,"Row Labels",null,null,null,"Row Labels"]
[1,null,"(blank)",null,null,null,"(blank)",null,null,null,"Iron Sights",{"$f":"COUNTIF(Table4[SIGHTS],Lists!K3)+COUNTIF(Table5[SIGHTS],Lists!K3)","v":0}]
[2,null,null,null,null,null,null,null,null,null,"Laser",{"$f":"COUNTIF(Table4[SIGHTS],Lists!K4)+COUNTIF(Table5[SIGHTS],Lists!K4)","v":0}]
[3,null,null,null,null,null,null,null,null,null,"Red Dot",{"$f":"COUNTIF(Table4[SIGHTS],Lists!K5)+COUNTIF(Table5[SIGHTS],Lists!K5)","v":0}]
[4,null,null,null,null,null,null,null,null,null,"Scope",{"$f":"COUNTIF(Table4[SIGHTS],Lists!K6)+COUNTIF(Table5[SIGHTS],Lists!K6)","v":0}]
[5]
[6,null,null,null,null,null,null,null,null,null,"GUNS",{"$f":"SUM(L9:L10)","v":0}]
[7,null,null,null,null,null,null,null,null,null,"PISTOL",{"$f":"COUNTA(Table4[NAME])","v":0}]
[8,null,null,null,null,null,null,null,null,null,"RIFLE",{"$f":"COUNTA(Table5[NAME])","v":0}]
[9]
[10,null,null,null,null,null,null,null,null,null,"SHOOTERS",{"$f":"SUM(L13:L14)","v":0},{"$f":"SUM(M13:M14)","v":0}]
[11,null,null,null,null,null,null,null,null,null," SEMI-AUTO",{"$f":"COUNTA($C$3:$C$44)-COUNTIF($C$3:$C$44,\"(blank)\")","v":0},{"$f":"COUNTA($C$3:$C$41)-COUNTIF($C$3:$C$41,\"(blank)\")","v":0}]
[12,null,null,null,null,null,null,null,null,null," REVOLVER",{"$f":"COUNTA($G$3:$G$44)-COUNTIF($G$3:$G$44,\"(blank)\")","v":0},0]
[13,null,null,null,null,null,null,null,null,null,"CLEAN",{"$f":"COUNTIF(Table4[TOTAL],30)+COUNTIF(Table5[TOTAL],30)","v":0}]
[14]
[15,null,null,null,null,null,null,null,null,null,"COSTS"]
[16,null,null,null,null,null,null,null,null,null,"Members",6,{"$f":"SUMIF(Table4[PAID],\"<8\")+SUMIF(Table5[PAID],\"<8\")","v":0}]
[17,null,null,null,null,null,null,null,null,null,"Nonmembers",8,{"$f":"SUMIF(Table4[PAID],8)+SUMIF(Table5[PAID],8)","v":0}]
[18,null,null,null,null,null,null,null,null,null,"Total Income",null,{"$f":"SUM(M18:M19)","v":0}]
[19]
[20]
[21]
[22]
[23]
[24]
[25]
[26]
[27]
[28]
[29]
[30]
[31]
[32]
[33]
[34]
[35]
[36]
[37]
[38]
[39]
[40]
[41]
[42]