{"text_format":"1","workbook":"xlsx","n_sheets":5,"sheets":["Semi-Auto","Revolver","SortSheet","HTML","Lists"],"not_rendered":{"charts":0,"images":0,"macros":1,"external_links":1,"defined_names":20,"comments":0,"pivot_tables":2},"unopened":[],"bounds":{"document_bytes":16777216,"sheet_cells":100000,"rows_first":2000,"rows_last":500,"rows_between":2000,"halvings":0,"cell_chars":16384,"cell_head_chars":4096},"cells_cut":0,"cells_raw":0,"read":"whole","date_system":"1900"}

{"sheet":"Semi-Auto","index":0,"n_rows":46,"n_cols":25,"rows_kept":46,"cut":false,"hidden":false,"merged":[[1,9,1,14],[1,5,1,7],[0,7,0,16],[0,17,0,20],[0,24,0,25],[0,5,0,6],[0,21,0,22],[1,15,1,20]]}
[null,null,"Semi-Auto",null,null,"DATE",null,"Country Pond Fish & Game Club\nCENTERFIRE Pin Shoot",null,null,null,null,null,null,null,null,null,"pins_cf.xlsm",null,null,null,{"$f":"LastSaved()","v":"2017-09-15T21:06:04"},null,null,"=LastSaved()"]
[null,null,null,null,{"$f":"SUM($E$5:$E$36)","v":0},"GUN",null,null,"SIGHTS","RELAY 1",null,null,null,null,null,"RELAY 2"]
[]
["#",null,"NAME","CPF&G #","PAID","MANUFACTURER","MODEL","CALIBER","SIGHTS","LN1","SCORE1","LN2","SCORE2","LN3","SCORE3","LN4","SCORE4","LN5","SCORE5","LN6","SCORE6","TOTAL","SHOOTOFF"]
[1,null,null,null,null,null,null,null,null,1,null,2,null,3,null,1,null,2,null,3,null,{"$f":"IF($C5=\"\",0,IF(K5+M5+O5+Q5+S5+U5=0,\"\",K5+M5+O5+Q5+S5+U5))","v":0}]
[2,null,null,null,null,null,null,null,null,2,null,3,null,1,null,2,null,3,null,1,null,0]
[3,null,null,null,null,null,null,null,null,3,null,1,null,2,null,3,null,1,null,2,null,0]
[4,null,null,null,null,null,null,null,null,1,null,2,null,3,null,1,null,2,null,3,null,0]
[5,null,null,null,null,null,null,null,null,2,null,3,null,1,null,2,null,3,null,1,null,0]
[6,null,null,null,null,null,null,null,null,3,null,1,null,2,null,3,null,1,null,2,null,0]
[7,null,null,null,null,null,null,null,null,1,null,2,null,3,null,1,null,2,null,3,null,0]
[8,null,null,null,null,null,null,null,null,2,null,3,null,1,null,2,null,3,null,1,null,0]
[9,null,null,null,null,null,null,null,null,3,null,1,null,2,null,3,null,1,null,2,null,0]
[10,null,null,null,null,null,null,null,null,1,null,2,null,3,null,1,null,2,null,3,null,0]
[11,null,null,null,null,null,null,null,null,2,null,3,null,1,null,2,null,3,null,1,null,0]
[12,null,null,null,null,null,null,null,null,3,null,1,null,2,null,3,null,1,null,2,null,0]
[13,null,null,null,null,null,null,null,null,1,null,2,null,3,null,1,null,2,null,3,null,0]
[14,null,null,null,null,null,null,null,null,2,null,3,null,1,null,2,null,3,null,1,null,{"$f":"IF($C18=\"\",0,IF(K18+M18+O18+Q18+S18+U18=0,\"\",K18+M18+O18+Q18+S18+U18))","v":0}]
[15,null,null,null,null,null,null,null,null,3,null,1,null,2,null,3,null,1,null,2,null,0]
[16,null,null,null,null,null,null,null,null,1,null,2,null,3,null,1,null,2,null,3,null,0]
[17,null,null,null,null,null,null,null,null,2,null,3,null,1,null,2,null,3,null,1,null,0]
[18,null,null,null,null,null,null,null,null,3,null,1,null,2,null,3,null,1,null,2,null,0]
[19,null,null,null,null,null,null,null,null,1,null,2,null,3,null,1,null,2,null,3,null,0]
[20,null,null,null,null,null,null,null,null,2,null,3,null,1,null,2,null,3,null,1,null,0]
[21,null,null,null,null,null,null,null,null,3,null,1,null,2,null,3,null,1,null,2,null,0]
[22,null,null,null,null,null,null,null,null,1,null,2,null,3,null,1,null,2,null,3,null,0]
[23,null,null,null,null,null,null,null,null,2,null,3,null,1,null,2,null,3,null,1,null,0]
[24,null,null,null,null,null,null,null,null,3,null,1,null,2,null,3,null,1,null,2,null,0]
[25,null,null,null,null,null,null,null,null,1,null,2,null,3,null,1,null,2,null,3,null,0]
[26,null,null,null,null,null,null,null,null,2,null,3,null,1,null,2,null,3,null,1,null,0]
[27,null,null,null,null,null,null,null,null,3,null,1,null,2,null,3,null,1,null,2,null,0]
[28,null,null,null,null,null,null,null,null,1,null,2,null,3,null,1,null,2,null,3,null,0]
[29,null,null,null,null,null,null,null,null,2,null,3,null,1,null,2,null,3,null,1,null,0]
[30,null,null,null,null,null,null,null,null,3,null,1,null,2,null,3,null,1,null,2,null,0]
[31,null,null,null,null,null,null,null,null,1,null,2,null,3,null,1,null,2,null,3,null,0]
[32,null,null,null,null,null,null,null,null,2,null,3,null,1,null,2,null,3,null,1,null,0]
[33,null,null,null,null,null,null,null,null,3,null,1,null,2,null,3,null,1,null,2,null,{"$f":"IF($C20=\"\",0,IF(K37+M37+O37+Q37+S37+U37=0,\"\",K37+M37+O37+Q37+S37+U37))","v":0}]
[34,null,null,null,null,null,null,null,null,1,null,2,null,3,null,1,null,2,null,3,null,0]
[35,null,null,null,null,null,null,null,null,2,null,3,null,1,null,2,null,3,null,1,null,0]
[36,null,null,null,null,null,null,null,null,3,null,1,null,2,null,3,null,1,null,2,null,0]
[37,null,null,null,null,null,null,null,null,1,null,2,null,3,null,1,null,2,null,3,null,0]
[38,null,null,null,null,null,null,null,null,2,null,3,null,1,null,2,null,3,null,1,null,0]
[39,null,null,null,null,null,null,null,null,3,null,1,null,2,null,3,null,1,null,2,null,0]
[40,null,null,null,null,null,null,null,null,1,null,2,null,3,null,1,null,2,null,3,null,{"$f":"IF($C27=\"\",0,IF(K44+M44+O44+Q44+S44+U44=0,\"\",K44+M44+O44+Q44+S44+U44))","v":0}]
[41,null,null,null,null,null,null,null,null,2,null,3,null,1,null,2,null,3,null,1,null,0]
[42,null,null,null,null,null,null,null,null,3,null,1,null,2,null,3,null,1,null,2,null,0]

{"sheet":"Revolver","index":1,"n_rows":43,"n_cols":23,"rows_kept":43,"cut":false,"hidden":false,"merged":[[0,21,0,22],[0,24,0,25],[1,5,1,7],[1,9,1,14],[1,15,1,20],[0,5,0,6],[0,7,0,16],[0,17,0,20]]}
[null,null,"Revolver",null,null,{"$f":"'Semi-Auto'!F1:G1","v":"DATE"},null,"Country Pond Fish & Game Club\nCENTERFIRE Pin Shoot"]
[null,null,null,null,{"$f":"SUM($E$5:$E$36)","v":0},"GUN",null,null,"SIGHTS","RELAY 1",null,null,null,null,null,"RELAY 2"]
[]
["#",null,"NAME","CPF&G #","PAID","MANUFACTURER","MODEL","CALIBER","SIGHTS","LN1","SCORE1","LN2","SCORE2","LN3","SCORE3","LN4","SCORE4","LN5","SCORE5","LN6","SCORE6","TOTAL","SHOOTOFF"]
[1,null,null,null,null,null,null,null,null,1,null,2,null,3,null,1,null,2,null,3,null,{"$f":"IF($C5=\"\",0,IF(K5+M5+O5+Q5+S5+U5=0,\"\",K5+M5+O5+Q5+S5+U5))","v":0}]
[2,null,null,null,null,null,null,null,null,2,null,3,null,1,null,2,null,3,null,1,null,0]
[3,null,null,null,null,null,null,null,null,3,null,1,null,2,null,3,null,1,null,2,null,0]
[4,null,null,null,null,null,null,null,null,1,null,2,null,3,null,1,null,2,null,3,null,0]
[5,null,null,null,null,null,null,null,null,2,null,3,null,1,null,2,null,3,null,1,null,0]
[6,null,null,null,null,null,null,null,null,3,null,1,null,2,null,3,null,1,null,2,null,0]
[7,null,null,null,null,null,null,null,null,1,null,2,null,3,null,1,null,2,null,3,null,0]
[8,null,null,null,null,null,null,null,null,2,null,3,null,1,null,2,null,3,null,1,null,0]
[9,null,null,null,null,null,null,null,null,3,null,1,null,2,null,3,null,1,null,2,null,0]
[10,null,null,null,null,null,null,null,null,1,null,2,null,3,null,1,null,2,null,3,null,0]
[11,null,null,null,null,null,null,null,null,2,null,3,null,1,null,2,null,3,null,1,null,0]
[12,null,null,null,null,null,null,null,null,3,null,1,null,2,null,3,null,1,null,2,null,0]
[13,null,null,null,null,null,null,null,null,1,null,2,null,3,null,1,null,2,null,3,null,0]
[14,null,null,null,null,null,null,null,null,2,null,3,null,1,null,2,null,3,null,1,null,0]
[15,null,null,null,null,null,null,null,null,3,null,1,null,2,null,3,null,1,null,2,null,0]
[16,null,null,null,null,null,null,null,null,1,null,2,null,3,null,1,null,2,null,3,null,0]
[17,null,null,null,null,null,null,null,null,2,null,3,null,1,null,2,null,3,null,1,null,0]
[18,null,null,null,null,null,null,null,null,3,null,1,null,2,null,3,null,1,null,2,null,0]
[19,null,null,null,null,null,null,null,null,1,null,2,null,3,null,1,null,2,null,3,null,0]
[20,null,null,null,null,null,null,null,null,2,null,3,null,1,null,2,null,3,null,1,null,0]
[21,null,null,null,null,null,null,null,null,3,null,1,null,2,null,3,null,1,null,2,null,0]
[22,null,null,null,null,null,null,null,null,1,null,2,null,3,null,1,null,2,null,3,null,0]
[23,null,null,null,null,null,null,null,null,2,null,3,null,1,null,2,null,3,null,1,null,0]
[24,null,null,null,null,null,null,null,null,3,null,1,null,2,null,3,null,1,null,2,null,0]
[25,null,null,null,null,null,null,null,null,1,null,2,null,3,null,1,null,2,null,3,null,0]
[26,null,null,null,null,null,null,null,null,2,null,3,null,1,null,2,null,3,null,1,null,0]
[27,null,null,null,null,null,null,null,null,3,null,1,null,2,null,3,null,1,null,2,null,0]
[28,null,null,null,null,null,null,null,null,1,null,2,null,3,null,1,null,2,null,3,null,0]
[29,null,null,null,null,null,null,null,null,2,null,3,null,1,null,2,null,3,null,1,null,0]
[30,null,null,null,null,null,null,null,null,3,null,1,null,2,null,3,null,1,null,2,null,0]
[31,null,null,null,null,null,null,null,null,1,null,2,null,3,null,1,null,2,null,3,null,0]
[32,null,null,null,null,null,null,null,null,2,null,3,null,1,null,2,null,3,null,1,null,0]
[33,null,null,null,null,null,null,null,null,3,null,1,null,2,null,3,null,1,null,2,null,{"$f":"IF($C20=\"\",0,IF(K37+M37+O37+Q37+S37+U37=0,\"\",K37+M37+O37+Q37+S37+U37))","v":0}]
[34,null,null,null,null,null,null,null,null,1,null,2,null,3,null,1,null,2,null,3,null,0]
[35,null,null,null,null,null,null,null,null,2,null,3,null,1,null,2,null,3,null,1,null,0]
[36,null,null,null,null,null,null,null,null,3,null,1,null,2,null,3,null,1,null,2,null,0]
[37,null,null,null,null,null,null,null,null,1,null,2,null,3,null,1,null,2,null,3,null,0]
[38,null,null,null,null,null,null,null,null,2,null,3,null,1,null,2,null,3,null,1,null,0]
[39,null,null,null,null,null,null,null,null,3,null,1,null,2,null,3,null,1,null,2,null,0]

{"sheet":"SortSheet","index":2,"n_rows":42,"n_cols":31,"rows_kept":42,"cut":false,"hidden":true,"merged":[[0,3,0,9],[0,19,0,25],[1,19,1,22],[1,23,1,25],[1,26,1,28],[1,3,1,6],[1,7,1,9],[1,10,1,12]]}
[null,"SEMI-AUTO",null,"Sort by Column O (A to Z) then by Column N (Large too Small)",null,null,null,null,null,null,null,null,null,null,null,null,null,"REVOLVER",null,"Sort by Column AE (A to Z) then by Column AD (Large too Small)"]
[null,null,null,"GUN",null,null,null,"RELAY 1",null,null,"RELAY 2",null,null,null,null,null,null,null,null,"GUN",null,null,null,"RELAY 1",null,null,"RELAY 2"]
["#","SHOOTER","CPF&G #","MFR","MODEL","CALIBER","SIGHTS","1-1","1-2","1-3","2-1","2-2","2-3","SCORE","SHOOT OFF",null,"#","SHOOTER","CPF&G #","MFR","MODEL","CALIBER","SIGHTS","1-1","1-2","1-3","2-1","2-2","2-3","SCORE","SHOOT OFF"]
[1,{"$f":"IF('Semi-Auto'!$C5=\"\",\"\",'Semi-Auto'!C5)","v":""},{"$f":"IF('Semi-Auto'!$D5=\"\",\"\",'Semi-Auto'!D5)","v":""},{"$f":"IF('Semi-Auto'!$C5=\"\",\"\",'Semi-Auto'!F5)","v":""},{"$f":"IF('Semi-Auto'!$C5=\"\",\"\",'Semi-Auto'!G5)","v":""},{"$f":"IF('Semi-Auto'!$C5=\"\",\"\",'Semi-Auto'!H5)","v":""},{"$f":"IF('Semi-Auto'!$C5=\"\",\"\",'Semi-Auto'!I5)","v":""},{"$f":"IF('Semi-Auto'!$C5=\"\",\"\",'Semi-Auto'!K5)","v":""},{"$f":"IF('Semi-Auto'!$C5=\"\",\"\",'Semi-Auto'!M5)","v":""},{"$f":"IF('Semi-Auto'!$C5=\"\",\"\",'Semi-Auto'!O5)","v":""},{"$f":"IF('Semi-Auto'!$C5=\"\",\"\",'Semi-Auto'!Q5)","v":""},{"$f":"IF('Semi-Auto'!$C5=\"\",\"\",'Semi-Auto'!S5)","v":""},{"$f":"IF('Semi-Auto'!$C5=\"\",\"\",'Semi-Auto'!U5)","v":""},{"$f":"IF($B4=\"\",0,'Semi-Auto'!V5)","v":0},{"$f":"IF('Semi-Auto'!W5=\"\",\"\",'Semi-Auto'!W5)","v":""},null,1,{"$f":"IF(tblRevolver=\"\",\"\",tblRevolver)","v":""},{"$f":"IF(Revolver!D5=\"\",\"\",Revolver!D5)","v":""},{"$f":"IF(Revolver!F5=\"\",\"\",Revolver!F5)","v":""},{"$f":"IF(Revolver!G5=\"\",\"\",Revolver!G5)","v":""},{"$f":"IF(Revolver!H5=\"\",\"\",Revolver!H5)","v":""},{"$f":"IF(Revolver!I5=\"\",\"\",Revolver!I5)","v":""},{"$f":"IF(Revolver!K5=\"\",\"\",Revolver!K5)","v":""},{"$f":"IF(Revolver!M5=\"\",\"\",Revolver!M5)","v":""},{"$f":"IF(Revolver!O5=\"\",\"\",Revolver!O5)","v":""},{"$f":"IF(Revolver!Q5=\"\",\"\",Revolver!Q5)","v":""},{"$f":"IF(Revolver!S5=\"\",\"\",Revolver!S5)","v":""},{"$f":"IF(Revolver!U5=\"\",\"\",Revolver!U5)","v":""},{"$f":"IF(Revolver!V5=\"\",\"\",Revolver!V5)","v":0},{"$f":"IF(Revolver!W5=\"\",\"\",Revolver!W5)","v":""}]
[2,{"$f":"IF('Semi-Auto'!$C6=\"\",\"\",'Semi-Auto'!C6)","v":""},{"$f":"IF('Semi-Auto'!$D6=\"\",\"\",'Semi-Auto'!D6)","v":""},{"$f":"IF('Semi-Auto'!$C6=\"\",\"\",'Semi-Auto'!F6)","v":""},{"$f":"IF('Semi-Auto'!$C6=\"\",\"\",'Semi-Auto'!G6)","v":""},{"$f":"IF('Semi-Auto'!$C6=\"\",\"\",'Semi-Auto'!H6)","v":""},{"$f":"IF('Semi-Auto'!$C6=\"\",\"\",'Semi-Auto'!I6)","v":""},{"$f":"IF('Semi-Auto'!$C6=\"\",\"\",'Semi-Auto'!K6)","v":""},{"$f":"IF('Semi-Auto'!$C6=\"\",\"\",'Semi-Auto'!M6)","v":""},{"$f":"IF('Semi-Auto'!$C6=\"\",\"\",'Semi-Auto'!O6)","v":""},{"$f":"IF('Semi-Auto'!$C6=\"\",\"\",'Semi-Auto'!Q6)","v":""},{"$f":"IF('Semi-Auto'!$C6=\"\",\"\",'Semi-Auto'!S6)","v":""},{"$f":"IF('Semi-Auto'!$C6=\"\",\"\",'Semi-Auto'!U6)","v":""},{"$f":"IF($B5=\"\",0,'Semi-Auto'!V6)","v":0},{"$f":"IF('Semi-Auto'!W6=\"\",\"\",'Semi-Auto'!W6)","v":""},null,2,"",{"$f":"IF(Revolver!D6=\"\",\"\",Revolver!D6)","v":""},{"$f":"IF(Revolver!F6=\"\",\"\",Revolver!F6)","v":""},{"$f":"IF(Revolver!G6=\"\",\"\",Revolver!G6)","v":""},{"$f":"IF(Revolver!H6=\"\",\"\",Revolver!H6)","v":""},{"$f":"IF(Revolver!I6=\"\",\"\",Revolver!I6)","v":""},{"$f":"IF(Revolver!K6=\"\",\"\",Revolver!K6)","v":""},{"$f":"IF(Revolver!M6=\"\",\"\",Revolver!M6)","v":""},{"$f":"IF(Revolver!O6=\"\",\"\",Revolver!O6)","v":""},{"$f":"IF(Revolver!Q6=\"\",\"\",Revolver!Q6)","v":""},{"$f":"IF(Revolver!S6=\"\",\"\",Revolver!S6)","v":""},{"$f":"IF(Revolver!U6=\"\",\"\",Revolver!U6)","v":""},{"$f":"IF(Revolver!V6=\"\",\"\",Revolver!V6)","v":0},{"$f":"IF(Revolver!W6=\"\",\"\",Revolver!W6)","v":""}]
[3,{"$f":"IF('Semi-Auto'!$C7=\"\",\"\",'Semi-Auto'!C7)","v":""},{"$f":"IF('Semi-Auto'!$D7=\"\",\"\",'Semi-Auto'!D7)","v":""},{"$f":"IF('Semi-Auto'!$C7=\"\",\"\",'Semi-Auto'!F7)","v":""},{"$f":"IF('Semi-Auto'!$C7=\"\",\"\",'Semi-Auto'!G7)","v":""},{"$f":"IF('Semi-Auto'!$C7=\"\",\"\",'Semi-Auto'!H7)","v":""},{"$f":"IF('Semi-Auto'!$C7=\"\",\"\",'Semi-Auto'!I7)","v":""},{"$f":"IF('Semi-Auto'!$C7=\"\",\"\",'Semi-Auto'!K7)","v":""},{"$f":"IF('Semi-Auto'!$C7=\"\",\"\",'Semi-Auto'!M7)","v":""},{"$f":"IF('Semi-Auto'!$C7=\"\",\"\",'Semi-Auto'!O7)","v":""},{"$f":"IF('Semi-Auto'!$C7=\"\",\"\",'Semi-Auto'!Q7)","v":""},{"$f":"IF('Semi-Auto'!$C7=\"\",\"\",'Semi-Auto'!S7)","v":""},{"$f":"IF('Semi-Auto'!$C7=\"\",\"\",'Semi-Auto'!U7)","v":""},{"$f":"IF($B6=\"\",0,'Semi-Auto'!V7)","v":0},{"$f":"IF('Semi-Auto'!W7=\"\",\"\",'Semi-Auto'!W7)","v":""},null,3,"",{"$f":"IF(Revolver!D7=\"\",\"\",Revolver!D7)","v":""},{"$f":"IF(Revolver!F7=\"\",\"\",Revolver!F7)","v":""},{"$f":"IF(Revolver!G7=\"\",\"\",Revolver!G7)","v":""},{"$f":"IF(Revolver!H7=\"\",\"\",Revolver!H7)","v":""},{"$f":"IF(Revolver!I7=\"\",\"\",Revolver!I7)","v":""},{"$f":"IF(Revolver!K7=\"\",\"\",Revolver!K7)","v":""},{"$f":"IF(Revolver!M7=\"\",\"\",Revolver!M7)","v":""},{"$f":"IF(Revolver!O7=\"\",\"\",Revolver!O7)","v":""},{"$f":"IF(Revolver!Q7=\"\",\"\",Revolver!Q7)","v":""},{"$f":"IF(Revolver!S7=\"\",\"\",Revolver!S7)","v":""},{"$f":"IF(Revolver!U7=\"\",\"\",Revolver!U7)","v":""},{"$f":"IF(Revolver!V7=\"\",\"\",Revolver!V7)","v":0},{"$f":"IF(Revolver!W7=\"\",\"\",Revolver!W7)","v":""}]
[4,{"$f":"IF('Semi-Auto'!$C8=\"\",\"\",'Semi-Auto'!C8)","v":""},{"$f":"IF('Semi-Auto'!$D8=\"\",\"\",'Semi-Auto'!D8)","v":""},{"$f":"IF('Semi-Auto'!$C8=\"\",\"\",'Semi-Auto'!F8)","v":""},{"$f":"IF('Semi-Auto'!$C8=\"\",\"\",'Semi-Auto'!G8)","v":""},{"$f":"IF('Semi-Auto'!$C8=\"\",\"\",'Semi-Auto'!H8)","v":""},{"$f":"IF('Semi-Auto'!$C8=\"\",\"\",'Semi-Auto'!I8)","v":""},{"$f":"IF('Semi-Auto'!$C8=\"\",\"\",'Semi-Auto'!K8)","v":""},{"$f":"IF('Semi-Auto'!$C8=\"\",\"\",'Semi-Auto'!M8)","v":""},{"$f":"IF('Semi-Auto'!$C8=\"\",\"\",'Semi-Auto'!O8)","v":""},{"$f":"IF('Semi-Auto'!$C8=\"\",\"\",'Semi-Auto'!Q8)","v":""},{"$f":"IF('Semi-Auto'!$C8=\"\",\"\",'Semi-Auto'!S8)","v":""},{"$f":"IF('Semi-Auto'!$C8=\"\",\"\",'Semi-Auto'!U8)","v":""},{"$f":"IF($B7=\"\",0,'Semi-Auto'!V8)","v":0},{"$f":"IF('Semi-Auto'!W8=\"\",\"\",'Semi-Auto'!W8)","v":""},null,4,"",{"$f":"IF(Revolver!D8=\"\",\"\",Revolver!D8)","v":""},{"$f":"IF(Revolver!F8=\"\",\"\",Revolver!F8)","v":""},{"$f":"IF(Revolver!G8=\"\",\"\",Revolver!G8)","v":""},{"$f":"IF(Revolver!H8=\"\",\"\",Revolver!H8)","v":""},{"$f":"IF(Revolver!I8=\"\",\"\",Revolver!I8)","v":""},{"$f":"IF(Revolver!K8=\"\",\"\",Revolver!K8)","v":""},{"$f":"IF(Revolver!M8=\"\",\"\",Revolver!M8)","v":""},{"$f":"IF(Revolver!O8=\"\",\"\",Revolver!O8)","v":""},{"$f":"IF(Revolver!Q8=\"\",\"\",Revolver!Q8)","v":""},{"$f":"IF(Revolver!S8=\"\",\"\",Revolver!S8)","v":""},{"$f":"IF(Revolver!U8=\"\",\"\",Revolver!U8)","v":""},{"$f":"IF(Revolver!V8=\"\",\"\",Revolver!V8)","v":0},{"$f":"IF(Revolver!W8=\"\",\"\",Revolver!W8)","v":""}]
[5,{"$f":"IF('Semi-Auto'!$C9=\"\",\"\",'Semi-Auto'!C9)","v":""},{"$f":"IF('Semi-Auto'!$D9=\"\",\"\",'Semi-Auto'!D9)","v":""},{"$f":"IF('Semi-Auto'!$C9=\"\",\"\",'Semi-Auto'!F9)","v":""},{"$f":"IF('Semi-Auto'!$C9=\"\",\"\",'Semi-Auto'!G9)","v":""},{"$f":"IF('Semi-Auto'!$C9=\"\",\"\",'Semi-Auto'!H9)","v":""},{"$f":"IF('Semi-Auto'!$C9=\"\",\"\",'Semi-Auto'!I9)","v":""},{"$f":"IF('Semi-Auto'!$C9=\"\",\"\",'Semi-Auto'!K9)","v":""},{"$f":"IF('Semi-Auto'!$C9=\"\",\"\",'Semi-Auto'!M9)","v":""},{"$f":"IF('Semi-Auto'!$C9=\"\",\"\",'Semi-Auto'!O9)","v":""},{"$f":"IF('Semi-Auto'!$C9=\"\",\"\",'Semi-Auto'!Q9)","v":""},{"$f":"IF('Semi-Auto'!$C9=\"\",\"\",'Semi-Auto'!S9)","v":""},{"$f":"IF('Semi-Auto'!$C9=\"\",\"\",'Semi-Auto'!U9)","v":""},{"$f":"IF($B8=\"\",0,'Semi-Auto'!V9)","v":0},{"$f":"IF('Semi-Auto'!W9=\"\",\"\",'Semi-Auto'!W9)","v":""},null,5,"",{"$f":"IF(Revolver!D9=\"\",\"\",Revolver!D9)","v":""},{"$f":"IF(Revolver!F9=\"\",\"\",Revolver!F9)","v":""},{"$f":"IF(Revolver!G9=\"\",\"\",Revolver!G9)","v":""},{"$f":"IF(Revolver!H9=\"\",\"\",Revolver!H9)","v":""},{"$f":"IF(Revolver!I9=\"\",\"\",Revolver!I9)","v":""},{"$f":"IF(Revolver!K9=\"\",\"\",Revolver!K9)","v":""},{"$f":"IF(Revolver!M9=\"\",\"\",Revolver!M9)","v":""},{"$f":"IF(Revolver!O9=\"\",\"\",Revolver!O9)","v":""},{"$f":"IF(Revolver!Q9=\"\",\"\",Revolver!Q9)","v":""},{"$f":"IF(Revolver!S9=\"\",\"\",Revolver!S9)","v":""},{"$f":"IF(Revolver!U9=\"\",\"\",Revolver!U9)","v":""},{"$f":"IF(Revolver!V9=\"\",\"\",Revolver!V9)","v":0},{"$f":"IF(Revolver!W9=\"\",\"\",Revolver!W9)","v":""}]
[6,{"$f":"IF('Semi-Auto'!$C10=\"\",\"\",'Semi-Auto'!C10)","v":""},{"$f":"IF('Semi-Auto'!$D10=\"\",\"\",'Semi-Auto'!D10)","v":""},{"$f":"IF('Semi-Auto'!$C10=\"\",\"\",'Semi-Auto'!F10)","v":""},{"$f":"IF('Semi-Auto'!$C10=\"\",\"\",'Semi-Auto'!G10)","v":""},{"$f":"IF('Semi-Auto'!$C10=\"\",\"\",'Semi-Auto'!H10)","v":""},{"$f":"IF('Semi-Auto'!$C10=\"\",\"\",'Semi-Auto'!I10)","v":""},{"$f":"IF('Semi-Auto'!$C10=\"\",\"\",'Semi-Auto'!K10)","v":""},{"$f":"IF('Semi-Auto'!$C10=\"\",\"\",'Semi-Auto'!M10)","v":""},{"$f":"IF('Semi-Auto'!$C10=\"\",\"\",'Semi-Auto'!O10)","v":""},{"$f":"IF('Semi-Auto'!$C10=\"\",\"\",'Semi-Auto'!Q10)","v":""},{"$f":"IF('Semi-Auto'!$C10=\"\",\"\",'Semi-Auto'!S10)","v":""},{"$f":"IF('Semi-Auto'!$C10=\"\",\"\",'Semi-Auto'!U10)","v":""},{"$f":"IF($B9=\"\",0,'Semi-Auto'!V10)","v":0},{"$f":"IF('Semi-Auto'!W10=\"\",\"\",'Semi-Auto'!W10)","v":""},null,6,"",{"$f":"IF(Revolver!D10=\"\",\"\",Revolver!D10)","v":""},{"$f":"IF(Revolver!F10=\"\",\"\",Revolver!F10)","v":""},{"$f":"IF(Revolver!G10=\"\",\"\",Revolver!G10)","v":""},{"$f":"IF(Revolver!H10=\"\",\"\",Revolver!H10)","v":""},{"$f":"IF(Revolver!I10=\"\",\"\",Revolver!I10)","v":""},{"$f":"IF(Revolver!K10=\"\",\"\",Revolver!K10)","v":""},{"$f":"IF(Revolver!M10=\"\",\"\",Revolver!M10)","v":""},{"$f":"IF(Revolver!O10=\"\",\"\",Revolver!O10)","v":""},{"$f":"IF(Revolver!Q10=\"\",\"\",Revolver!Q10)","v":""},{"$f":"IF(Revolver!S10=\"\",\"\",Revolver!S10)","v":""},{"$f":"IF(Revolver!U10=\"\",\"\",Revolver!U10)","v":""},{"$f":"IF(Revolver!V10=\"\",\"\",Revolver!V10)","v":0},{"$f":"IF(Revolver!W10=\"\",\"\",Revolver!W10)","v":""}]
[7,{"$f":"IF('Semi-Auto'!$C11=\"\",\"\",'Semi-Auto'!C11)","v":""},{"$f":"IF('Semi-Auto'!$D11=\"\",\"\",'Semi-Auto'!D11)","v":""},{"$f":"IF('Semi-Auto'!$C11=\"\",\"\",'Semi-Auto'!F11)","v":""},{"$f":"IF('Semi-Auto'!$C11=\"\",\"\",'Semi-Auto'!G11)","v":""},{"$f":"IF('Semi-Auto'!$C11=\"\",\"\",'Semi-Auto'!H11)","v":""},{"$f":"IF('Semi-Auto'!$C11=\"\",\"\",'Semi-Auto'!I11)","v":""},{"$f":"IF('Semi-Auto'!$C11=\"\",\"\",'Semi-Auto'!K11)","v":""},{"$f":"IF('Semi-Auto'!$C11=\"\",\"\",'Semi-Auto'!M11)","v":""},{"$f":"IF('Semi-Auto'!$C11=\"\",\"\",'Semi-Auto'!O11)","v":""},{"$f":"IF('Semi-Auto'!$C11=\"\",\"\",'Semi-Auto'!Q11)","v":""},{"$f":"IF('Semi-Auto'!$C11=\"\",\"\",'Semi-Auto'!S11)","v":""},{"$f":"IF('Semi-Auto'!$C11=\"\",\"\",'Semi-Auto'!U11)","v":""},{"$f":"IF($B10=\"\",0,'Semi-Auto'!V11)","v":0},{"$f":"IF('Semi-Auto'!W11=\"\",\"\",'Semi-Auto'!W11)","v":""},null,7,"",{"$f":"IF(Revolver!D11=\"\",\"\",Revolver!D11)","v":""},{"$f":"IF(Revolver!F11=\"\",\"\",Revolver!F11)","v":""},{"$f":"IF(Revolver!G11=\"\",\"\",Revolver!G11)","v":""},{"$f":"IF(Revolver!H11=\"\",\"\",Revolver!H11)","v":""},{"$f":"IF(Revolver!I11=\"\",\"\",Revolver!I11)","v":""},{"$f":"IF(Revolver!K11=\"\",\"\",Revolver!K11)","v":""},{"$f":"IF(Revolver!M11=\"\",\"\",Revolver!M11)","v":""},{"$f":"IF(Revolver!O11=\"\",\"\",Revolver!O11)","v":""},{"$f":"IF(Revolver!Q11=\"\",\"\",Revolver!Q11)","v":""},{"$f":"IF(Revolver!S11=\"\",\"\",Revolver!S11)","v":""},{"$f":"IF(Revolver!U11=\"\",\"\",Revolver!U11)","v":""},{"$f":"IF(Revolver!V11=\"\",\"\",Revolver!V11)","v":0},{"$f":"IF(Revolver!W11=\"\",\"\",Revolver!W11)","v":""}]
[8,{"$f":"IF('Semi-Auto'!$C12=\"\",\"\",'Semi-Auto'!C12)","v":""},{"$f":"IF('Semi-Auto'!$D12=\"\",\"\",'Semi-Auto'!D12)","v":""},{"$f":"IF('Semi-Auto'!$C12=\"\",\"\",'Semi-Auto'!F12)","v":""},{"$f":"IF('Semi-Auto'!$C12=\"\",\"\",'Semi-Auto'!G12)","v":""},{"$f":"IF('Semi-Auto'!$C12=\"\",\"\",'Semi-Auto'!H12)","v":""},{"$f":"IF('Semi-Auto'!$C12=\"\",\"\",'Semi-Auto'!I12)","v":""},{"$f":"IF('Semi-Auto'!$C12=\"\",\"\",'Semi-Auto'!K12)","v":""},{"$f":"IF('Semi-Auto'!$C12=\"\",\"\",'Semi-Auto'!M12)","v":""},{"$f":"IF('Semi-Auto'!$C12=\"\",\"\",'Semi-Auto'!O12)","v":""},{"$f":"IF('Semi-Auto'!$C12=\"\",\"\",'Semi-Auto'!Q12)","v":""},{"$f":"IF('Semi-Auto'!$C12=\"\",\"\",'Semi-Auto'!S12)","v":""},{"$f":"IF('Semi-Auto'!$C12=\"\",\"\",'Semi-Auto'!U12)","v":""},{"$f":"IF($B11=\"\",0,'Semi-Auto'!V12)","v":0},{"$f":"IF('Semi-Auto'!W12=\"\",\"\",'Semi-Auto'!W12)","v":""},null,8,"",{"$f":"IF(Revolver!D12=\"\",\"\",Revolver!D12)","v":""},{"$f":"IF(Revolver!F12=\"\",\"\",Revolver!F12)","v":""},{"$f":"IF(Revolver!G12=\"\",\"\",Revolver!G12)","v":""},{"$f":"IF(Revolver!H12=\"\",\"\",Revolver!H12)","v":""},{"$f":"IF(Revolver!I12=\"\",\"\",Revolver!I12)","v":""},{"$f":"IF(Revolver!K12=\"\",\"\",Revolver!K12)","v":""},{"$f":"IF(Revolver!M12=\"\",\"\",Revolver!M12)","v":""},{"$f":"IF(Revolver!O12=\"\",\"\",Revolver!O12)","v":""},{"$f":"IF(Revolver!Q12=\"\",\"\",Revolver!Q12)","v":""},{"$f":"IF(Revolver!S12=\"\",\"\",Revolver!S12)","v":""},{"$f":"IF(Revolver!U12=\"\",\"\",Revolver!U12)","v":""},{"$f":"IF(Revolver!V12=\"\",\"\",Revolver!V12)","v":0},{"$f":"IF(Revolver!W12=\"\",\"\",Revolver!W12)","v":""}]
[9,{"$f":"IF('Semi-Auto'!$C13=\"\",\"\",'Semi-Auto'!C13)","v":""},{"$f":"IF('Semi-Auto'!$D13=\"\",\"\",'Semi-Auto'!D13)","v":""},{"$f":"IF('Semi-Auto'!$C13=\"\",\"\",'Semi-Auto'!F13)","v":""},{"$f":"IF('Semi-Auto'!$C13=\"\",\"\",'Semi-Auto'!G13)","v":""},{"$f":"IF('Semi-Auto'!$C13=\"\",\"\",'Semi-Auto'!H13)","v":""},{"$f":"IF('Semi-Auto'!$C13=\"\",\"\",'Semi-Auto'!I13)","v":""},{"$f":"IF('Semi-Auto'!$C13=\"\",\"\",'Semi-Auto'!K13)","v":""},{"$f":"IF('Semi-Auto'!$C13=\"\",\"\",'Semi-Auto'!M13)","v":""},{"$f":"IF('Semi-Auto'!$C13=\"\",\"\",'Semi-Auto'!O13)","v":""},{"$f":"IF('Semi-Auto'!$C13=\"\",\"\",'Semi-Auto'!Q13)","v":""},{"$f":"IF('Semi-Auto'!$C13=\"\",\"\",'Semi-Auto'!S13)","v":""},{"$f":"IF('Semi-Auto'!$C13=\"\",\"\",'Semi-Auto'!U13)","v":""},{"$f":"IF($B12=\"\",0,'Semi-Auto'!V13)","v":0},{"$f":"IF('Semi-Auto'!W13=\"\",\"\",'Semi-Auto'!W13)","v":""},null,9,"",{"$f":"IF(Revolver!D13=\"\",\"\",Revolver!D13)","v":""},{"$f":"IF(Revolver!F13=\"\",\"\",Revolver!F13)","v":""},{"$f":"IF(Revolver!G13=\"\",\"\",Revolver!G13)","v":""},{"$f":"IF(Revolver!H13=\"\",\"\",Revolver!H13)","v":""},{"$f":"IF(Revolver!I13=\"\",\"\",Revolver!I13)","v":""},{"$f":"IF(Revolver!K13=\"\",\"\",Revolver!K13)","v":""},{"$f":"IF(Revolver!M13=\"\",\"\",Revolver!M13)","v":""},{"$f":"IF(Revolver!O13=\"\",\"\",Revolver!O13)","v":""},{"$f":"IF(Revolver!Q13=\"\",\"\",Revolver!Q13)","v":""},{"$f":"IF(Revolver!S13=\"\",\"\",Revolver!S13)","v":""},{"$f":"IF(Revolver!U13=\"\",\"\",Revolver!U13)","v":""},{"$f":"IF(Revolver!V13=\"\",\"\",Revolver!V13)","v":0},{"$f":"IF(Revolver!W13=\"\",\"\",Revolver!W13)","v":""}]
[10,{"$f":"IF('Semi-Auto'!$C14=\"\",\"\",'Semi-Auto'!C14)","v":""},{"$f":"IF('Semi-Auto'!$D14=\"\",\"\",'Semi-Auto'!D14)","v":""},{"$f":"IF('Semi-Auto'!$C14=\"\",\"\",'Semi-Auto'!F14)","v":""},{"$f":"IF('Semi-Auto'!$C14=\"\",\"\",'Semi-Auto'!G14)","v":""},{"$f":"IF('Semi-Auto'!$C14=\"\",\"\",'Semi-Auto'!H14)","v":""},{"$f":"IF('Semi-Auto'!$C14=\"\",\"\",'Semi-Auto'!I14)","v":""},{"$f":"IF('Semi-Auto'!$C14=\"\",\"\",'Semi-Auto'!K14)","v":""},{"$f":"IF('Semi-Auto'!$C14=\"\",\"\",'Semi-Auto'!M14)","v":""},{"$f":"IF('Semi-Auto'!$C14=\"\",\"\",'Semi-Auto'!O14)","v":""},{"$f":"IF('Semi-Auto'!$C14=\"\",\"\",'Semi-Auto'!Q14)","v":""},{"$f":"IF('Semi-Auto'!$C14=\"\",\"\",'Semi-Auto'!S14)","v":""},{"$f":"IF('Semi-Auto'!$C14=\"\",\"\",'Semi-Auto'!U14)","v":""},{"$f":"IF($B13=\"\",0,'Semi-Auto'!V14)","v":0},{"$f":"IF('Semi-Auto'!W14=\"\",\"\",'Semi-Auto'!W14)","v":""},null,10,"",{"$f":"IF(Revolver!D14=\"\",\"\",Revolver!D14)","v":""},{"$f":"IF(Revolver!F14=\"\",\"\",Revolver!F14)","v":""},{"$f":"IF(Revolver!G14=\"\",\"\",Revolver!G14)","v":""},{"$f":"IF(Revolver!H14=\"\",\"\",Revolver!H14)","v":""},{"$f":"IF(Revolver!I14=\"\",\"\",Revolver!I14)","v":""},{"$f":"IF(Revolver!K14=\"\",\"\",Revolver!K14)","v":""},{"$f":"IF(Revolver!M14=\"\",\"\",Revolver!M14)","v":""},{"$f":"IF(Revolver!O14=\"\",\"\",Revolver!O14)","v":""},{"$f":"IF(Revolver!Q14=\"\",\"\",Revolver!Q14)","v":""},{"$f":"IF(Revolver!S14=\"\",\"\",Revolver!S14)","v":""},{"$f":"IF(Revolver!U14=\"\",\"\",Revolver!U14)","v":""},{"$f":"IF(Revolver!V14=\"\",\"\",Revolver!V14)","v":0},{"$f":"IF(Revolver!W14=\"\",\"\",Revolver!W14)","v":""}]
[11,{"$f":"IF('Semi-Auto'!$C15=\"\",\"\",'Semi-Auto'!C15)","v":""},{"$f":"IF('Semi-Auto'!$D15=\"\",\"\",'Semi-Auto'!D15)","v":""},{"$f":"IF('Semi-Auto'!$C15=\"\",\"\",'Semi-Auto'!F15)","v":""},{"$f":"IF('Semi-Auto'!$C15=\"\",\"\",'Semi-Auto'!G15)","v":""},{"$f":"IF('Semi-Auto'!$C15=\"\",\"\",'Semi-Auto'!H15)","v":""},{"$f":"IF('Semi-Auto'!$C15=\"\",\"\",'Semi-Auto'!I15)","v":""},{"$f":"IF('Semi-Auto'!$C15=\"\",\"\",'Semi-Auto'!K15)","v":""},{"$f":"IF('Semi-Auto'!$C15=\"\",\"\",'Semi-Auto'!M15)","v":""},{"$f":"IF('Semi-Auto'!$C15=\"\",\"\",'Semi-Auto'!O15)","v":""},{"$f":"IF('Semi-Auto'!$C15=\"\",\"\",'Semi-Auto'!Q15)","v":""},{"$f":"IF('Semi-Auto'!$C15=\"\",\"\",'Semi-Auto'!S15)","v":""},{"$f":"IF('Semi-Auto'!$C15=\"\",\"\",'Semi-Auto'!U15)","v":""},{"$f":"IF($B14=\"\",0,'Semi-Auto'!V15)","v":0},{"$f":"IF('Semi-Auto'!W15=\"\",\"\",'Semi-Auto'!W15)","v":""},null,11,"",{"$f":"IF(Revolver!D15=\"\",\"\",Revolver!D15)","v":""},{"$f":"IF(Revolver!F15=\"\",\"\",Revolver!F15)","v":""},{"$f":"IF(Revolver!G15=\"\",\"\",Revolver!G15)","v":""},{"$f":"IF(Revolver!H15=\"\",\"\",Revolver!H15)","v":""},{"$f":"IF(Revolver!I15=\"\",\"\",Revolver!I15)","v":""},{"$f":"IF(Revolver!K15=\"\",\"\",Revolver!K15)","v":""},{"$f":"IF(Revolver!M15=\"\",\"\",Revolver!M15)","v":""},{"$f":"IF(Revolver!O15=\"\",\"\",Revolver!O15)","v":""},{"$f":"IF(Revolver!Q15=\"\",\"\",Revolver!Q15)","v":""},{"$f":"IF(Revolver!S15=\"\",\"\",Revolver!S15)","v":""},{"$f":"IF(Revolver!U15=\"\",\"\",Revolver!U15)","v":""},{"$f":"IF(Revolver!V15=\"\",\"\",Revolver!V15)","v":0},{"$f":"IF(Revolver!W15=\"\",\"\",Revolver!W15)","v":""}]
[12,{"$f":"IF('Semi-Auto'!$C16=\"\",\"\",'Semi-Auto'!C16)","v":""},{"$f":"IF('Semi-Auto'!$D16=\"\",\"\",'Semi-Auto'!D16)","v":""},{"$f":"IF('Semi-Auto'!$C16=\"\",\"\",'Semi-Auto'!F16)","v":""},{"$f":"IF('Semi-Auto'!$C16=\"\",\"\",'Semi-Auto'!G16)","v":""},{"$f":"IF('Semi-Auto'!$C16=\"\",\"\",'Semi-Auto'!H16)","v":""},{"$f":"IF('Semi-Auto'!$C16=\"\",\"\",'Semi-Auto'!I16)","v":""},{"$f":"IF('Semi-Auto'!$C16=\"\",\"\",'Semi-Auto'!K16)","v":""},{"$f":"IF('Semi-Auto'!$C16=\"\",\"\",'Semi-Auto'!M16)","v":""},{"$f":"IF('Semi-Auto'!$C16=\"\",\"\",'Semi-Auto'!O16)","v":""},{"$f":"IF('Semi-Auto'!$C16=\"\",\"\",'Semi-Auto'!Q16)","v":""},{"$f":"IF('Semi-Auto'!$C16=\"\",\"\",'Semi-Auto'!S16)","v":""},{"$f":"IF('Semi-Auto'!$C16=\"\",\"\",'Semi-Auto'!U16)","v":""},{"$f":"IF($B15=\"\",0,'Semi-Auto'!V16)","v":0},{"$f":"IF('Semi-Auto'!W16=\"\",\"\",'Semi-Auto'!W16)","v":""},null,12,"",{"$f":"IF(Revolver!D16=\"\",\"\",Revolver!D16)","v":""},{"$f":"IF(Revolver!F16=\"\",\"\",Revolver!F16)","v":""},{"$f":"IF(Revolver!G16=\"\",\"\",Revolver!G16)","v":""},{"$f":"IF(Revolver!H16=\"\",\"\",Revolver!H16)","v":""},{"$f":"IF(Revolver!I16=\"\",\"\",Revolver!I16)","v":""},{"$f":"IF(Revolver!K16=\"\",\"\",Revolver!K16)","v":""},{"$f":"IF(Revolver!M16=\"\",\"\",Revolver!M16)","v":""},{"$f":"IF(Revolver!O16=\"\",\"\",Revolver!O16)","v":""},{"$f":"IF(Revolver!Q16=\"\",\"\",Revolver!Q16)","v":""},{"$f":"IF(Revolver!S16=\"\",\"\",Revolver!S16)","v":""},{"$f":"IF(Revolver!U16=\"\",\"\",Revolver!U16)","v":""},{"$f":"IF(Revolver!V16=\"\",\"\",Revolver!V16)","v":0},{"$f":"IF(Revolver!W16=\"\",\"\",Revolver!W16)","v":""}]
[13,{"$f":"IF('Semi-Auto'!$C17=\"\",\"\",'Semi-Auto'!C17)","v":""},{"$f":"IF('Semi-Auto'!$D17=\"\",\"\",'Semi-Auto'!D17)","v":""},{"$f":"IF('Semi-Auto'!$C17=\"\",\"\",'Semi-Auto'!F17)","v":""},{"$f":"IF('Semi-Auto'!$C17=\"\",\"\",'Semi-Auto'!G17)","v":""},{"$f":"IF('Semi-Auto'!$C17=\"\",\"\",'Semi-Auto'!H17)","v":""},{"$f":"IF('Semi-Auto'!$C17=\"\",\"\",'Semi-Auto'!I17)","v":""},{"$f":"IF('Semi-Auto'!$C17=\"\",\"\",'Semi-Auto'!K17)","v":""},{"$f":"IF('Semi-Auto'!$C17=\"\",\"\",'Semi-Auto'!M17)","v":""},{"$f":"IF('Semi-Auto'!$C17=\"\",\"\",'Semi-Auto'!O17)","v":""},{"$f":"IF('Semi-Auto'!$C17=\"\",\"\",'Semi-Auto'!Q17)","v":""},{"$f":"IF('Semi-Auto'!$C17=\"\",\"\",'Semi-Auto'!S17)","v":""},{"$f":"IF('Semi-Auto'!$C17=\"\",\"\",'Semi-Auto'!U17)","v":""},{"$f":"IF($B16=\"\",0,'Semi-Auto'!V17)","v":0},{"$f":"IF('Semi-Auto'!W17=\"\",\"\",'Semi-Auto'!W17)","v":""},null,13,"",{"$f":"IF(Revolver!D17=\"\",\"\",Revolver!D17)","v":""},{"$f":"IF(Revolver!F17=\"\",\"\",Revolver!F17)","v":""},{"$f":"IF(Revolver!G17=\"\",\"\",Revolver!G17)","v":""},{"$f":"IF(Revolver!H17=\"\",\"\",Revolver!H17)","v":""},{"$f":"IF(Revolver!I17=\"\",\"\",Revolver!I17)","v":""},{"$f":"IF(Revolver!K17=\"\",\"\",Revolver!K17)","v":""},{"$f":"IF(Revolver!M17=\"\",\"\",Revolver!M17)","v":""},{"$f":"IF(Revolver!O17=\"\",\"\",Revolver!O17)","v":""},{"$f":"IF(Revolver!Q17=\"\",\"\",Revolver!Q17)","v":""},{"$f":"IF(Revolver!S17=\"\",\"\",Revolver!S17)","v":""},{"$f":"IF(Revolver!U17=\"\",\"\",Revolver!U17)","v":""},{"$f":"IF(Revolver!V17=\"\",\"\",Revolver!V17)","v":0},{"$f":"IF(Revolver!W17=\"\",\"\",Revolver!W17)","v":""}]
[14,{"$f":"IF('Semi-Auto'!$C18=\"\",\"\",'Semi-Auto'!C18)","v":""},{"$f":"IF('Semi-Auto'!$D18=\"\",\"\",'Semi-Auto'!D18)","v":""},{"$f":"IF('Semi-Auto'!$C18=\"\",\"\",'Semi-Auto'!F18)","v":""},{"$f":"IF('Semi-Auto'!$C18=\"\",\"\",'Semi-Auto'!G18)","v":""},{"$f":"IF('Semi-Auto'!$C18=\"\",\"\",'Semi-Auto'!H18)","v":""},{"$f":"IF('Semi-Auto'!$C18=\"\",\"\",'Semi-Auto'!I18)","v":""},{"$f":"IF('Semi-Auto'!$C18=\"\",\"\",'Semi-Auto'!K18)","v":""},{"$f":"IF('Semi-Auto'!$C18=\"\",\"\",'Semi-Auto'!M18)","v":""},{"$f":"IF('Semi-Auto'!$C18=\"\",\"\",'Semi-Auto'!O18)","v":""},{"$f":"IF('Semi-Auto'!$C18=\"\",\"\",'Semi-Auto'!Q18)","v":""},{"$f":"IF('Semi-Auto'!$C18=\"\",\"\",'Semi-Auto'!S18)","v":""},{"$f":"IF('Semi-Auto'!$C18=\"\",\"\",'Semi-Auto'!U18)","v":""},{"$f":"IF($B17=\"\",0,'Semi-Auto'!V18)","v":0},{"$f":"IF('Semi-Auto'!W18=\"\",\"\",'Semi-Auto'!W18)","v":""},null,14,"",{"$f":"IF(Revolver!D18=\"\",\"\",Revolver!D18)","v":""},{"$f":"IF(Revolver!F18=\"\",\"\",Revolver!F18)","v":""},{"$f":"IF(Revolver!G18=\"\",\"\",Revolver!G18)","v":""},{"$f":"IF(Revolver!H18=\"\",\"\",Revolver!H18)","v":""},{"$f":"IF(Revolver!I18=\"\",\"\",Revolver!I18)","v":""},{"$f":"IF(Revolver!K18=\"\",\"\",Revolver!K18)","v":""},{"$f":"IF(Revolver!M18=\"\",\"\",Revolver!M18)","v":""},{"$f":"IF(Revolver!O18=\"\",\"\",Revolver!O18)","v":""},{"$f":"IF(Revolver!Q18=\"\",\"\",Revolver!Q18)","v":""},{"$f":"IF(Revolver!S18=\"\",\"\",Revolver!S18)","v":""},{"$f":"IF(Revolver!U18=\"\",\"\",Revolver!U18)","v":""},{"$f":"IF(Revolver!V18=\"\",\"\",Revolver!V18)","v":0},{"$f":"IF(Revolver!W18=\"\",\"\",Revolver!W18)","v":""}]
[15,{"$f":"IF('Semi-Auto'!$C19=\"\",\"\",'Semi-Auto'!C19)","v":""},{"$f":"IF('Semi-Auto'!$D19=\"\",\"\",'Semi-Auto'!D19)","v":""},{"$f":"IF('Semi-Auto'!$C19=\"\",\"\",'Semi-Auto'!F19)","v":""},{"$f":"IF('Semi-Auto'!$C19=\"\",\"\",'Semi-Auto'!G19)","v":""},{"$f":"IF('Semi-Auto'!$C19=\"\",\"\",'Semi-Auto'!H19)","v":""},{"$f":"IF('Semi-Auto'!$C19=\"\",\"\",'Semi-Auto'!I19)","v":""},{"$f":"IF('Semi-Auto'!$C19=\"\",\"\",'Semi-Auto'!K19)","v":""},{"$f":"IF('Semi-Auto'!$C19=\"\",\"\",'Semi-Auto'!M19)","v":""},{"$f":"IF('Semi-Auto'!$C19=\"\",\"\",'Semi-Auto'!O19)","v":""},{"$f":"IF('Semi-Auto'!$C19=\"\",\"\",'Semi-Auto'!Q19)","v":""},{"$f":"IF('Semi-Auto'!$C19=\"\",\"\",'Semi-Auto'!S19)","v":""},{"$f":"IF('Semi-Auto'!$C19=\"\",\"\",'Semi-Auto'!U19)","v":""},{"$f":"IF($B18=\"\",0,'Semi-Auto'!V19)","v":0},{"$f":"IF('Semi-Auto'!W19=\"\",\"\",'Semi-Auto'!W19)","v":""},null,15,"",{"$f":"IF(Revolver!D19=\"\",\"\",Revolver!D19)","v":""},{"$f":"IF(Revolver!F19=\"\",\"\",Revolver!F19)","v":""},{"$f":"IF(Revolver!G19=\"\",\"\",Revolver!G19)","v":""},{"$f":"IF(Revolver!H19=\"\",\"\",Revolver!H19)","v":""},{"$f":"IF(Revolver!I19=\"\",\"\",Revolver!I19)","v":""},{"$f":"IF(Revolver!K19=\"\",\"\",Revolver!K19)","v":""},{"$f":"IF(Revolver!M19=\"\",\"\",Revolver!M19)","v":""},{"$f":"IF(Revolver!O19=\"\",\"\",Revolver!O19)","v":""},{"$f":"IF(Revolver!Q19=\"\",\"\",Revolver!Q19)","v":""},{"$f":"IF(Revolver!S19=\"\",\"\",Revolver!S19)","v":""},{"$f":"IF(Revolver!U19=\"\",\"\",Revolver!U19)","v":""},{"$f":"IF(Revolver!V19=\"\",\"\",Revolver!V19)","v":0},{"$f":"IF(Revolver!W19=\"\",\"\",Revolver!W19)","v":""}]
[16,{"$f":"IF('Semi-Auto'!$C20=\"\",\"\",'Semi-Auto'!C20)","v":""},{"$f":"IF('Semi-Auto'!$D20=\"\",\"\",'Semi-Auto'!D20)","v":""},{"$f":"IF('Semi-Auto'!$C20=\"\",\"\",'Semi-Auto'!F20)","v":""},{"$f":"IF('Semi-Auto'!$C20=\"\",\"\",'Semi-Auto'!G20)","v":""},{"$f":"IF('Semi-Auto'!$C20=\"\",\"\",'Semi-Auto'!H20)","v":""},{"$f":"IF('Semi-Auto'!$C20=\"\",\"\",'Semi-Auto'!I20)","v":""},{"$f":"IF('Semi-Auto'!$C20=\"\",\"\",'Semi-Auto'!K20)","v":""},{"$f":"IF('Semi-Auto'!$C20=\"\",\"\",'Semi-Auto'!M20)","v":""},{"$f":"IF('Semi-Auto'!$C20=\"\",\"\",'Semi-Auto'!O20)","v":""},{"$f":"IF('Semi-Auto'!$C20=\"\",\"\",'Semi-Auto'!Q20)","v":""},{"$f":"IF('Semi-Auto'!$C20=\"\",\"\",'Semi-Auto'!S20)","v":""},{"$f":"IF('Semi-Auto'!$C20=\"\",\"\",'Semi-Auto'!U20)","v":""},{"$f":"IF($B19=\"\",0,'Semi-Auto'!V20)","v":0},{"$f":"IF('Semi-Auto'!W20=\"\",\"\",'Semi-Auto'!W20)","v":""},null,16,"",{"$f":"IF(Revolver!D20=\"\",\"\",Revolver!D20)","v":""},{"$f":"IF(Revolver!F20=\"\",\"\",Revolver!F20)","v":""},{"$f":"IF(Revolver!G20=\"\",\"\",Revolver!G20)","v":""},{"$f":"IF(Revolver!H20=\"\",\"\",Revolver!H20)","v":""},{"$f":"IF(Revolver!I20=\"\",\"\",Revolver!I20)","v":""},{"$f":"IF(Revolver!K20=\"\",\"\",Revolver!K20)","v":""},{"$f":"IF(Revolver!M20=\"\",\"\",Revolver!M20)","v":""},{"$f":"IF(Revolver!O20=\"\",\"\",Revolver!O20)","v":""},{"$f":"IF(Revolver!Q20=\"\",\"\",Revolver!Q20)","v":""},{"$f":"IF(Revolver!S20=\"\",\"\",Revolver!S20)","v":""},{"$f":"IF(Revolver!U20=\"\",\"\",Revolver!U20)","v":""},{"$f":"IF(Revolver!V20=\"\",\"\",Revolver!V20)","v":0},{"$f":"IF(Revolver!W20=\"\",\"\",Revolver!W20)","v":""}]
[17,{"$f":"IF('Semi-Auto'!$C21=\"\",\"\",'Semi-Auto'!C21)","v":""},{"$f":"IF('Semi-Auto'!$D21=\"\",\"\",'Semi-Auto'!D21)","v":""},{"$f":"IF('Semi-Auto'!$C21=\"\",\"\",'Semi-Auto'!F21)","v":""},{"$f":"IF('Semi-Auto'!$C21=\"\",\"\",'Semi-Auto'!G21)","v":""},{"$f":"IF('Semi-Auto'!$C21=\"\",\"\",'Semi-Auto'!H21)","v":""},{"$f":"IF('Semi-Auto'!$C21=\"\",\"\",'Semi-Auto'!I21)","v":""},{"$f":"IF('Semi-Auto'!$C21=\"\",\"\",'Semi-Auto'!K21)","v":""},{"$f":"IF('Semi-Auto'!$C21=\"\",\"\",'Semi-Auto'!M21)","v":""},{"$f":"IF('Semi-Auto'!$C21=\"\",\"\",'Semi-Auto'!O21)","v":""},{"$f":"IF('Semi-Auto'!$C21=\"\",\"\",'Semi-Auto'!Q21)","v":""},{"$f":"IF('Semi-Auto'!$C21=\"\",\"\",'Semi-Auto'!S21)","v":""},{"$f":"IF('Semi-Auto'!$C21=\"\",\"\",'Semi-Auto'!U21)","v":""},{"$f":"IF($B20=\"\",0,'Semi-Auto'!V21)","v":0},{"$f":"IF('Semi-Auto'!W21=\"\",\"\",'Semi-Auto'!W21)","v":""},null,17,"",{"$f":"IF(Revolver!D21=\"\",\"\",Revolver!D21)","v":""},{"$f":"IF(Revolver!F21=\"\",\"\",Revolver!F21)","v":""},{"$f":"IF(Revolver!G21=\"\",\"\",Revolver!G21)","v":""},{"$f":"IF(Revolver!H21=\"\",\"\",Revolver!H21)","v":""},{"$f":"IF(Revolver!I21=\"\",\"\",Revolver!I21)","v":""},{"$f":"IF(Revolver!K21=\"\",\"\",Revolver!K21)","v":""},{"$f":"IF(Revolver!M21=\"\",\"\",Revolver!M21)","v":""},{"$f":"IF(Revolver!O21=\"\",\"\",Revolver!O21)","v":""},{"$f":"IF(Revolver!Q21=\"\",\"\",Revolver!Q21)","v":""},{"$f":"IF(Revolver!S21=\"\",\"\",Revolver!S21)","v":""},{"$f":"IF(Revolver!U21=\"\",\"\",Revolver!U21)","v":""},{"$f":"IF(Revolver!V21=\"\",\"\",Revolver!V21)","v":0},{"$f":"IF(Revolver!W21=\"\",\"\",Revolver!W21)","v":""}]
[18,{"$f":"IF('Semi-Auto'!$C22=\"\",\"\",'Semi-Auto'!C22)","v":""},{"$f":"IF('Semi-Auto'!$D22=\"\",\"\",'Semi-Auto'!D22)","v":""},{"$f":"IF('Semi-Auto'!$C22=\"\",\"\",'Semi-Auto'!F22)","v":""},{"$f":"IF('Semi-Auto'!$C22=\"\",\"\",'Semi-Auto'!G22)","v":""},{"$f":"IF('Semi-Auto'!$C22=\"\",\"\",'Semi-Auto'!H22)","v":""},{"$f":"IF('Semi-Auto'!$C22=\"\",\"\",'Semi-Auto'!I22)","v":""},{"$f":"IF('Semi-Auto'!$C22=\"\",\"\",'Semi-Auto'!K22)","v":""},{"$f":"IF('Semi-Auto'!$C22=\"\",\"\",'Semi-Auto'!M22)","v":""},{"$f":"IF('Semi-Auto'!$C22=\"\",\"\",'Semi-Auto'!O22)","v":""},{"$f":"IF('Semi-Auto'!$C22=\"\",\"\",'Semi-Auto'!Q22)","v":""},{"$f":"IF('Semi-Auto'!$C22=\"\",\"\",'Semi-Auto'!S22)","v":""},{"$f":"IF('Semi-Auto'!$C22=\"\",\"\",'Semi-Auto'!U22)","v":""},{"$f":"IF($B21=\"\",0,'Semi-Auto'!V22)","v":0},{"$f":"IF('Semi-Auto'!W22=\"\",\"\",'Semi-Auto'!W22)","v":""},null,18,"",{"$f":"IF(Revolver!D22=\"\",\"\",Revolver!D22)","v":""},{"$f":"IF(Revolver!F22=\"\",\"\",Revolver!F22)","v":""},{"$f":"IF(Revolver!G22=\"\",\"\",Revolver!G22)","v":""},{"$f":"IF(Revolver!H22=\"\",\"\",Revolver!H22)","v":""},{"$f":"IF(Revolver!I22=\"\",\"\",Revolver!I22)","v":""},{"$f":"IF(Revolver!K22=\"\",\"\",Revolver!K22)","v":""},{"$f":"IF(Revolver!M22=\"\",\"\",Revolver!M22)","v":""},{"$f":"IF(Revolver!O22=\"\",\"\",Revolver!O22)","v":""},{"$f":"IF(Revolver!Q22=\"\",\"\",Revolver!Q22)","v":""},{"$f":"IF(Revolver!S22=\"\",\"\",Revolver!S22)","v":""},{"$f":"IF(Revolver!U22=\"\",\"\",Revolver!U22)","v":""},{"$f":"IF(Revolver!V22=\"\",\"\",Revolver!V22)","v":0},{"$f":"IF(Revolver!W22=\"\",\"\",Revolver!W22)","v":""}]
[19,{"$f":"IF('Semi-Auto'!$C23=\"\",\"\",'Semi-Auto'!C23)","v":""},{"$f":"IF('Semi-Auto'!$D23=\"\",\"\",'Semi-Auto'!D23)","v":""},{"$f":"IF('Semi-Auto'!$C23=\"\",\"\",'Semi-Auto'!F23)","v":""},{"$f":"IF('Semi-Auto'!$C23=\"\",\"\",'Semi-Auto'!G23)","v":""},{"$f":"IF('Semi-Auto'!$C23=\"\",\"\",'Semi-Auto'!H23)","v":""},{"$f":"IF('Semi-Auto'!$C23=\"\",\"\",'Semi-Auto'!I23)","v":""},{"$f":"IF('Semi-Auto'!$C23=\"\",\"\",'Semi-Auto'!K23)","v":""},{"$f":"IF('Semi-Auto'!$C23=\"\",\"\",'Semi-Auto'!M23)","v":""},{"$f":"IF('Semi-Auto'!$C23=\"\",\"\",'Semi-Auto'!O23)","v":""},{"$f":"IF('Semi-Auto'!$C23=\"\",\"\",'Semi-Auto'!Q23)","v":""},{"$f":"IF('Semi-Auto'!$C23=\"\",\"\",'Semi-Auto'!S23)","v":""},{"$f":"IF('Semi-Auto'!$C23=\"\",\"\",'Semi-Auto'!U23)","v":""},{"$f":"IF($B22=\"\",0,'Semi-Auto'!V23)","v":0},{"$f":"IF('Semi-Auto'!W23=\"\",\"\",'Semi-Auto'!W23)","v":""},null,19,"",{"$f":"IF(Revolver!D23=\"\",\"\",Revolver!D23)","v":""},{"$f":"IF(Revolver!F23=\"\",\"\",Revolver!F23)","v":""},{"$f":"IF(Revolver!G23=\"\",\"\",Revolver!G23)","v":""},{"$f":"IF(Revolver!H23=\"\",\"\",Revolver!H23)","v":""},{"$f":"IF(Revolver!I23=\"\",\"\",Revolver!I23)","v":""},{"$f":"IF(Revolver!K23=\"\",\"\",Revolver!K23)","v":""},{"$f":"IF(Revolver!M23=\"\",\"\",Revolver!M23)","v":""},{"$f":"IF(Revolver!O23=\"\",\"\",Revolver!O23)","v":""},{"$f":"IF(Revolver!Q23=\"\",\"\",Revolver!Q23)","v":""},{"$f":"IF(Revolver!S23=\"\",\"\",Revolver!S23)","v":""},{"$f":"IF(Revolver!U23=\"\",\"\",Revolver!U23)","v":""},{"$f":"IF(Revolver!V23=\"\",\"\",Revolver!V23)","v":0},{"$f":"IF(Revolver!W23=\"\",\"\",Revolver!W23)","v":""}]
[20,{"$f":"IF('Semi-Auto'!$C24=\"\",\"\",'Semi-Auto'!C24)","v":""},{"$f":"IF('Semi-Auto'!$D24=\"\",\"\",'Semi-Auto'!D24)","v":""},{"$f":"IF('Semi-Auto'!$C24=\"\",\"\",'Semi-Auto'!F24)","v":""},{"$f":"IF('Semi-Auto'!$C24=\"\",\"\",'Semi-Auto'!G24)","v":""},{"$f":"IF('Semi-Auto'!$C24=\"\",\"\",'Semi-Auto'!H24)","v":""},{"$f":"IF('Semi-Auto'!$C24=\"\",\"\",'Semi-Auto'!I24)","v":""},{"$f":"IF('Semi-Auto'!$C24=\"\",\"\",'Semi-Auto'!K24)","v":""},{"$f":"IF('Semi-Auto'!$C24=\"\",\"\",'Semi-Auto'!M24)","v":""},{"$f":"IF('Semi-Auto'!$C24=\"\",\"\",'Semi-Auto'!O24)","v":""},{"$f":"IF('Semi-Auto'!$C24=\"\",\"\",'Semi-Auto'!Q24)","v":""},{"$f":"IF('Semi-Auto'!$C24=\"\",\"\",'Semi-Auto'!S24)","v":""},{"$f":"IF('Semi-Auto'!$C24=\"\",\"\",'Semi-Auto'!U24)","v":""},{"$f":"IF($B23=\"\",0,'Semi-Auto'!V24)","v":0},{"$f":"IF('Semi-Auto'!W24=\"\",\"\",'Semi-Auto'!W24)","v":""},null,20,"",{"$f":"IF(Revolver!D24=\"\",\"\",Revolver!D24)","v":""},{"$f":"IF(Revolver!F24=\"\",\"\",Revolver!F24)","v":""},{"$f":"IF(Revolver!G24=\"\",\"\",Revolver!G24)","v":""},{"$f":"IF(Revolver!H24=\"\",\"\",Revolver!H24)","v":""},{"$f":"IF(Revolver!I24=\"\",\"\",Revolver!I24)","v":""},{"$f":"IF(Revolver!K24=\"\",\"\",Revolver!K24)","v":""},{"$f":"IF(Revolver!M24=\"\",\"\",Revolver!M24)","v":""},{"$f":"IF(Revolver!O24=\"\",\"\",Revolver!O24)","v":""},{"$f":"IF(Revolver!Q24=\"\",\"\",Revolver!Q24)","v":""},{"$f":"IF(Revolver!S24=\"\",\"\",Revolver!S24)","v":""},{"$f":"IF(Revolver!U24=\"\",\"\",Revolver!U24)","v":""},{"$f":"IF(Revolver!V24=\"\",\"\",Revolver!V24)","v":0},{"$f":"IF(Revolver!W24=\"\",\"\",Revolver!W24)","v":""}]
[21,{"$f":"IF('Semi-Auto'!$C25=\"\",\"\",'Semi-Auto'!C25)","v":""},{"$f":"IF('Semi-Auto'!$D25=\"\",\"\",'Semi-Auto'!D25)","v":""},{"$f":"IF('Semi-Auto'!$C25=\"\",\"\",'Semi-Auto'!F25)","v":""},{"$f":"IF('Semi-Auto'!$C25=\"\",\"\",'Semi-Auto'!G25)","v":""},{"$f":"IF('Semi-Auto'!$C25=\"\",\"\",'Semi-Auto'!H25)","v":""},{"$f":"IF('Semi-Auto'!$C25=\"\",\"\",'Semi-Auto'!I25)","v":""},{"$f":"IF('Semi-Auto'!$C25=\"\",\"\",'Semi-Auto'!K25)","v":""},{"$f":"IF('Semi-Auto'!$C25=\"\",\"\",'Semi-Auto'!M25)","v":""},{"$f":"IF('Semi-Auto'!$C25=\"\",\"\",'Semi-Auto'!O25)","v":""},{"$f":"IF('Semi-Auto'!$C25=\"\",\"\",'Semi-Auto'!Q25)","v":""},{"$f":"IF('Semi-Auto'!$C25=\"\",\"\",'Semi-Auto'!S25)","v":""},{"$f":"IF('Semi-Auto'!$C25=\"\",\"\",'Semi-Auto'!U25)","v":""},{"$f":"IF($B24=\"\",0,'Semi-Auto'!V25)","v":0},{"$f":"IF('Semi-Auto'!W25=\"\",\"\",'Semi-Auto'!W25)","v":""},null,21,"",{"$f":"IF(Revolver!D25=\"\",\"\",Revolver!D25)","v":""},{"$f":"IF(Revolver!F25=\"\",\"\",Revolver!F25)","v":""},{"$f":"IF(Revolver!G25=\"\",\"\",Revolver!G25)","v":""},{"$f":"IF(Revolver!H25=\"\",\"\",Revolver!H25)","v":""},{"$f":"IF(Revolver!I25=\"\",\"\",Revolver!I25)","v":""},{"$f":"IF(Revolver!K25=\"\",\"\",Revolver!K25)","v":""},{"$f":"IF(Revolver!M25=\"\",\"\",Revolver!M25)","v":""},{"$f":"IF(Revolver!O25=\"\",\"\",Revolver!O25)","v":""},{"$f":"IF(Revolver!Q25=\"\",\"\",Revolver!Q25)","v":""},{"$f":"IF(Revolver!S25=\"\",\"\",Revolver!S25)","v":""},{"$f":"IF(Revolver!U25=\"\",\"\",Revolver!U25)","v":""},{"$f":"IF(Revolver!V25=\"\",\"\",Revolver!V25)","v":0},{"$f":"IF(Revolver!W25=\"\",\"\",Revolver!W25)","v":""}]
[22,{"$f":"IF('Semi-Auto'!$C26=\"\",\"\",'Semi-Auto'!C26)","v":""},{"$f":"IF('Semi-Auto'!$D26=\"\",\"\",'Semi-Auto'!D26)","v":""},{"$f":"IF('Semi-Auto'!$C26=\"\",\"\",'Semi-Auto'!F26)","v":""},{"$f":"IF('Semi-Auto'!$C26=\"\",\"\",'Semi-Auto'!G26)","v":""},{"$f":"IF('Semi-Auto'!$C26=\"\",\"\",'Semi-Auto'!H26)","v":""},{"$f":"IF('Semi-Auto'!$C26=\"\",\"\",'Semi-Auto'!I26)","v":""},{"$f":"IF('Semi-Auto'!$C26=\"\",\"\",'Semi-Auto'!K26)","v":""},{"$f":"IF('Semi-Auto'!$C26=\"\",\"\",'Semi-Auto'!M26)","v":""},{"$f":"IF('Semi-Auto'!$C26=\"\",\"\",'Semi-Auto'!O26)","v":""},{"$f":"IF('Semi-Auto'!$C26=\"\",\"\",'Semi-Auto'!Q26)","v":""},{"$f":"IF('Semi-Auto'!$C26=\"\",\"\",'Semi-Auto'!S26)","v":""},{"$f":"IF('Semi-Auto'!$C26=\"\",\"\",'Semi-Auto'!U26)","v":""},{"$f":"IF($B25=\"\",0,'Semi-Auto'!V26)","v":0},{"$f":"IF('Semi-Auto'!W26=\"\",\"\",'Semi-Auto'!W26)","v":""},null,22,"",{"$f":"IF(Revolver!D26=\"\",\"\",Revolver!D26)","v":""},{"$f":"IF(Revolver!F26=\"\",\"\",Revolver!F26)","v":""},{"$f":"IF(Revolver!G26=\"\",\"\",Revolver!G26)","v":""},{"$f":"IF(Revolver!H26=\"\",\"\",Revolver!H26)","v":""},{"$f":"IF(Revolver!I26=\"\",\"\",Revolver!I26)","v":""},{"$f":"IF(Revolver!K26=\"\",\"\",Revolver!K26)","v":""},{"$f":"IF(Revolver!M26=\"\",\"\",Revolver!M26)","v":""},{"$f":"IF(Revolver!O26=\"\",\"\",Revolver!O26)","v":""},{"$f":"IF(Revolver!Q26=\"\",\"\",Revolver!Q26)","v":""},{"$f":"IF(Revolver!S26=\"\",\"\",Revolver!S26)","v":""},{"$f":"IF(Revolver!U26=\"\",\"\",Revolver!U26)","v":""},{"$f":"IF(Revolver!V26=\"\",\"\",Revolver!V26)","v":0},{"$f":"IF(Revolver!W26=\"\",\"\",Revolver!W26)","v":""}]
[23,{"$f":"IF('Semi-Auto'!$C27=\"\",\"\",'Semi-Auto'!C27)","v":""},{"$f":"IF('Semi-Auto'!$D27=\"\",\"\",'Semi-Auto'!D27)","v":""},{"$f":"IF('Semi-Auto'!$C27=\"\",\"\",'Semi-Auto'!F27)","v":""},{"$f":"IF('Semi-Auto'!$C27=\"\",\"\",'Semi-Auto'!G27)","v":""},{"$f":"IF('Semi-Auto'!$C27=\"\",\"\",'Semi-Auto'!H27)","v":""},{"$f":"IF('Semi-Auto'!$C27=\"\",\"\",'Semi-Auto'!I27)","v":""},{"$f":"IF('Semi-Auto'!$C27=\"\",\"\",'Semi-Auto'!K27)","v":""},{"$f":"IF('Semi-Auto'!$C27=\"\",\"\",'Semi-Auto'!M27)","v":""},{"$f":"IF('Semi-Auto'!$C27=\"\",\"\",'Semi-Auto'!O27)","v":""},{"$f":"IF('Semi-Auto'!$C27=\"\",\"\",'Semi-Auto'!Q27)","v":""},{"$f":"IF('Semi-Auto'!$C27=\"\",\"\",'Semi-Auto'!S27)","v":""},{"$f":"IF('Semi-Auto'!$C27=\"\",\"\",'Semi-Auto'!U27)","v":""},{"$f":"IF($B26=\"\",0,'Semi-Auto'!V27)","v":0},{"$f":"IF('Semi-Auto'!W27=\"\",\"\",'Semi-Auto'!W27)","v":""},null,23,"",{"$f":"IF(Revolver!D27=\"\",\"\",Revolver!D27)","v":""},{"$f":"IF(Revolver!F27=\"\",\"\",Revolver!F27)","v":""},{"$f":"IF(Revolver!G27=\"\",\"\",Revolver!G27)","v":""},{"$f":"IF(Revolver!H27=\"\",\"\",Revolver!H27)","v":""},{"$f":"IF(Revolver!I27=\"\",\"\",Revolver!I27)","v":""},{"$f":"IF(Revolver!K27=\"\",\"\",Revolver!K27)","v":""},{"$f":"IF(Revolver!M27=\"\",\"\",Revolver!M27)","v":""},{"$f":"IF(Revolver!O27=\"\",\"\",Revolver!O27)","v":""},{"$f":"IF(Revolver!Q27=\"\",\"\",Revolver!Q27)","v":""},{"$f":"IF(Revolver!S27=\"\",\"\",Revolver!S27)","v":""},{"$f":"IF(Revolver!U27=\"\",\"\",Revolver!U27)","v":""},{"$f":"IF(Revolver!V27=\"\",\"\",Revolver!V27)","v":0},{"$f":"IF(Revolver!W27=\"\",\"\",Revolver!W27)","v":""}]
[24,{"$f":"IF('Semi-Auto'!$C28=\"\",\"\",'Semi-Auto'!C28)","v":""},{"$f":"IF('Semi-Auto'!$D28=\"\",\"\",'Semi-Auto'!D28)","v":""},{"$f":"IF('Semi-Auto'!$C28=\"\",\"\",'Semi-Auto'!F28)","v":""},{"$f":"IF('Semi-Auto'!$C28=\"\",\"\",'Semi-Auto'!G28)","v":""},{"$f":"IF('Semi-Auto'!$C28=\"\",\"\",'Semi-Auto'!H28)","v":""},{"$f":"IF('Semi-Auto'!$C28=\"\",\"\",'Semi-Auto'!I28)","v":""},{"$f":"IF('Semi-Auto'!$C28=\"\",\"\",'Semi-Auto'!K28)","v":""},{"$f":"IF('Semi-Auto'!$C28=\"\",\"\",'Semi-Auto'!M28)","v":""},{"$f":"IF('Semi-Auto'!$C28=\"\",\"\",'Semi-Auto'!O28)","v":""},{"$f":"IF('Semi-Auto'!$C28=\"\",\"\",'Semi-Auto'!Q28)","v":""},{"$f":"IF('Semi-Auto'!$C28=\"\",\"\",'Semi-Auto'!S28)","v":""},{"$f":"IF('Semi-Auto'!$C28=\"\",\"\",'Semi-Auto'!U28)","v":""},{"$f":"IF($B27=\"\",0,'Semi-Auto'!V28)","v":0},{"$f":"IF('Semi-Auto'!W28=\"\",\"\",'Semi-Auto'!W28)","v":""},null,24,"",{"$f":"IF(Revolver!D28=\"\",\"\",Revolver!D28)","v":""},{"$f":"IF(Revolver!F28=\"\",\"\",Revolver!F28)","v":""},{"$f":"IF(Revolver!G28=\"\",\"\",Revolver!G28)","v":""},{"$f":"IF(Revolver!H28=\"\",\"\",Revolver!H28)","v":""},{"$f":"IF(Revolver!I28=\"\",\"\",Revolver!I28)","v":""},{"$f":"IF(Revolver!K28=\"\",\"\",Revolver!K28)","v":""},{"$f":"IF(Revolver!M28=\"\",\"\",Revolver!M28)","v":""},{"$f":"IF(Revolver!O28=\"\",\"\",Revolver!O28)","v":""},{"$f":"IF(Revolver!Q28=\"\",\"\",Revolver!Q28)","v":""},{"$f":"IF(Revolver!S28=\"\",\"\",Revolver!S28)","v":""},{"$f":"IF(Revolver!U28=\"\",\"\",Revolver!U28)","v":""},{"$f":"IF(Revolver!V28=\"\",\"\",Revolver!V28)","v":0},{"$f":"IF(Revolver!W28=\"\",\"\",Revolver!W28)","v":""}]
[25,{"$f":"IF('Semi-Auto'!$C29=\"\",\"\",'Semi-Auto'!C29)","v":""},{"$f":"IF('Semi-Auto'!$D29=\"\",\"\",'Semi-Auto'!D29)","v":""},{"$f":"IF('Semi-Auto'!$C29=\"\",\"\",'Semi-Auto'!F29)","v":""},{"$f":"IF('Semi-Auto'!$C29=\"\",\"\",'Semi-Auto'!G29)","v":""},{"$f":"IF('Semi-Auto'!$C29=\"\",\"\",'Semi-Auto'!H29)","v":""},{"$f":"IF('Semi-Auto'!$C29=\"\",\"\",'Semi-Auto'!I29)","v":""},{"$f":"IF('Semi-Auto'!$C29=\"\",\"\",'Semi-Auto'!K29)","v":""},{"$f":"IF('Semi-Auto'!$C29=\"\",\"\",'Semi-Auto'!M29)","v":""},{"$f":"IF('Semi-Auto'!$C29=\"\",\"\",'Semi-Auto'!O29)","v":""},{"$f":"IF('Semi-Auto'!$C29=\"\",\"\",'Semi-Auto'!Q29)","v":""},{"$f":"IF('Semi-Auto'!$C29=\"\",\"\",'Semi-Auto'!S29)","v":""},{"$f":"IF('Semi-Auto'!$C29=\"\",\"\",'Semi-Auto'!U29)","v":""},{"$f":"IF($B28=\"\",0,'Semi-Auto'!V29)","v":0},{"$f":"IF('Semi-Auto'!W29=\"\",\"\",'Semi-Auto'!W29)","v":""},null,25,"",{"$f":"IF(Revolver!D29=\"\",\"\",Revolver!D29)","v":""},{"$f":"IF(Revolver!F29=\"\",\"\",Revolver!F29)","v":""},{"$f":"IF(Revolver!G29=\"\",\"\",Revolver!G29)","v":""},{"$f":"IF(Revolver!H29=\"\",\"\",Revolver!H29)","v":""},{"$f":"IF(Revolver!I29=\"\",\"\",Revolver!I29)","v":""},{"$f":"IF(Revolver!K29=\"\",\"\",Revolver!K29)","v":""},{"$f":"IF(Revolver!M29=\"\",\"\",Revolver!M29)","v":""},{"$f":"IF(Revolver!O29=\"\",\"\",Revolver!O29)","v":""},{"$f":"IF(Revolver!Q29=\"\",\"\",Revolver!Q29)","v":""},{"$f":"IF(Revolver!S29=\"\",\"\",Revolver!S29)","v":""},{"$f":"IF(Revolver!U29=\"\",\"\",Revolver!U29)","v":""},{"$f":"IF(Revolver!V29=\"\",\"\",Revolver!V29)","v":0},{"$f":"IF(Revolver!W29=\"\",\"\",Revolver!W29)","v":""}]
[26,{"$f":"IF('Semi-Auto'!$C30=\"\",\"\",'Semi-Auto'!C30)","v":""},{"$f":"IF('Semi-Auto'!$D30=\"\",\"\",'Semi-Auto'!D30)","v":""},{"$f":"IF('Semi-Auto'!$C30=\"\",\"\",'Semi-Auto'!F30)","v":""},{"$f":"IF('Semi-Auto'!$C30=\"\",\"\",'Semi-Auto'!G30)","v":""},{"$f":"IF('Semi-Auto'!$C30=\"\",\"\",'Semi-Auto'!H30)","v":""},{"$f":"IF('Semi-Auto'!$C30=\"\",\"\",'Semi-Auto'!I30)","v":""},{"$f":"IF('Semi-Auto'!$C30=\"\",\"\",'Semi-Auto'!K30)","v":""},{"$f":"IF('Semi-Auto'!$C30=\"\",\"\",'Semi-Auto'!M30)","v":""},{"$f":"IF('Semi-Auto'!$C30=\"\",\"\",'Semi-Auto'!O30)","v":""},{"$f":"IF('Semi-Auto'!$C30=\"\",\"\",'Semi-Auto'!Q30)","v":""},{"$f":"IF('Semi-Auto'!$C30=\"\",\"\",'Semi-Auto'!S30)","v":""},{"$f":"IF('Semi-Auto'!$C30=\"\",\"\",'Semi-Auto'!U30)","v":""},{"$f":"IF($B29=\"\",0,'Semi-Auto'!V30)","v":0},{"$f":"IF('Semi-Auto'!W30=\"\",\"\",'Semi-Auto'!W30)","v":""},null,26,"",{"$f":"IF(Revolver!D30=\"\",\"\",Revolver!D30)","v":""},{"$f":"IF(Revolver!F30=\"\",\"\",Revolver!F30)","v":""},{"$f":"IF(Revolver!G30=\"\",\"\",Revolver!G30)","v":""},{"$f":"IF(Revolver!H30=\"\",\"\",Revolver!H30)","v":""},{"$f":"IF(Revolver!I30=\"\",\"\",Revolver!I30)","v":""},{"$f":"IF(Revolver!K30=\"\",\"\",Revolver!K30)","v":""},{"$f":"IF(Revolver!M30=\"\",\"\",Revolver!M30)","v":""},{"$f":"IF(Revolver!O30=\"\",\"\",Revolver!O30)","v":""},{"$f":"IF(Revolver!Q30=\"\",\"\",Revolver!Q30)","v":""},{"$f":"IF(Revolver!S30=\"\",\"\",Revolver!S30)","v":""},{"$f":"IF(Revolver!U30=\"\",\"\",Revolver!U30)","v":""},{"$f":"IF(Revolver!V30=\"\",\"\",Revolver!V30)","v":0},{"$f":"IF(Revolver!W30=\"\",\"\",Revolver!W30)","v":""}]
[27,{"$f":"IF('Semi-Auto'!$C31=\"\",\"\",'Semi-Auto'!C31)","v":""},{"$f":"IF('Semi-Auto'!$D31=\"\",\"\",'Semi-Auto'!D31)","v":""},{"$f":"IF('Semi-Auto'!$C31=\"\",\"\",'Semi-Auto'!F31)","v":""},{"$f":"IF('Semi-Auto'!$C31=\"\",\"\",'Semi-Auto'!G31)","v":""},{"$f":"IF('Semi-Auto'!$C31=\"\",\"\",'Semi-Auto'!H31)","v":""},{"$f":"IF('Semi-Auto'!$C31=\"\",\"\",'Semi-Auto'!I31)","v":""},{"$f":"IF('Semi-Auto'!$C31=\"\",\"\",'Semi-Auto'!K31)","v":""},{"$f":"IF('Semi-Auto'!$C31=\"\",\"\",'Semi-Auto'!M31)","v":""},{"$f":"IF('Semi-Auto'!$C31=\"\",\"\",'Semi-Auto'!O31)","v":""},{"$f":"IF('Semi-Auto'!$C31=\"\",\"\",'Semi-Auto'!Q31)","v":""},{"$f":"IF('Semi-Auto'!$C31=\"\",\"\",'Semi-Auto'!S31)","v":""},{"$f":"IF('Semi-Auto'!$C31=\"\",\"\",'Semi-Auto'!U31)","v":""},{"$f":"IF($B30=\"\",0,'Semi-Auto'!V31)","v":0},{"$f":"IF('Semi-Auto'!W31=\"\",\"\",'Semi-Auto'!W31)","v":""},null,27,"",{"$f":"IF(Revolver!D31=\"\",\"\",Revolver!D31)","v":""},{"$f":"IF(Revolver!F31=\"\",\"\",Revolver!F31)","v":""},{"$f":"IF(Revolver!G31=\"\",\"\",Revolver!G31)","v":""},{"$f":"IF(Revolver!H31=\"\",\"\",Revolver!H31)","v":""},{"$f":"IF(Revolver!I31=\"\",\"\",Revolver!I31)","v":""},{"$f":"IF(Revolver!K31=\"\",\"\",Revolver!K31)","v":""},{"$f":"IF(Revolver!M31=\"\",\"\",Revolver!M31)","v":""},{"$f":"IF(Revolver!O31=\"\",\"\",Revolver!O31)","v":""},{"$f":"IF(Revolver!Q31=\"\",\"\",Revolver!Q31)","v":""},{"$f":"IF(Revolver!S31=\"\",\"\",Revolver!S31)","v":""},{"$f":"IF(Revolver!U31=\"\",\"\",Revolver!U31)","v":""},{"$f":"IF(Revolver!V31=\"\",\"\",Revolver!V31)","v":0},{"$f":"IF(Revolver!W31=\"\",\"\",Revolver!W31)","v":""}]
[28,{"$f":"IF('Semi-Auto'!$C32=\"\",\"\",'Semi-Auto'!C32)","v":""},{"$f":"IF('Semi-Auto'!$D32=\"\",\"\",'Semi-Auto'!D32)","v":""},{"$f":"IF('Semi-Auto'!$C32=\"\",\"\",'Semi-Auto'!F32)","v":""},{"$f":"IF('Semi-Auto'!$C32=\"\",\"\",'Semi-Auto'!G32)","v":""},{"$f":"IF('Semi-Auto'!$C32=\"\",\"\",'Semi-Auto'!H32)","v":""},{"$f":"IF('Semi-Auto'!$C32=\"\",\"\",'Semi-Auto'!I32)","v":""},{"$f":"IF('Semi-Auto'!$C32=\"\",\"\",'Semi-Auto'!K32)","v":""},{"$f":"IF('Semi-Auto'!$C32=\"\",\"\",'Semi-Auto'!M32)","v":""},{"$f":"IF('Semi-Auto'!$C32=\"\",\"\",'Semi-Auto'!O32)","v":""},{"$f":"IF('Semi-Auto'!$C32=\"\",\"\",'Semi-Auto'!Q32)","v":""},{"$f":"IF('Semi-Auto'!$C32=\"\",\"\",'Semi-Auto'!S32)","v":""},{"$f":"IF('Semi-Auto'!$C32=\"\",\"\",'Semi-Auto'!U32)","v":""},{"$f":"IF($B31=\"\",0,'Semi-Auto'!V32)","v":0},{"$f":"IF('Semi-Auto'!W32=\"\",\"\",'Semi-Auto'!W32)","v":""},null,28,"",{"$f":"IF(Revolver!D32=\"\",\"\",Revolver!D32)","v":""},{"$f":"IF(Revolver!F32=\"\",\"\",Revolver!F32)","v":""},{"$f":"IF(Revolver!G32=\"\",\"\",Revolver!G32)","v":""},{"$f":"IF(Revolver!H32=\"\",\"\",Revolver!H32)","v":""},{"$f":"IF(Revolver!I32=\"\",\"\",Revolver!I32)","v":""},{"$f":"IF(Revolver!K32=\"\",\"\",Revolver!K32)","v":""},{"$f":"IF(Revolver!M32=\"\",\"\",Revolver!M32)","v":""},{"$f":"IF(Revolver!O32=\"\",\"\",Revolver!O32)","v":""},{"$f":"IF(Revolver!Q32=\"\",\"\",Revolver!Q32)","v":""},{"$f":"IF(Revolver!S32=\"\",\"\",Revolver!S32)","v":""},{"$f":"IF(Revolver!U32=\"\",\"\",Revolver!U32)","v":""},{"$f":"IF(Revolver!V32=\"\",\"\",Revolver!V32)","v":0},{"$f":"IF(Revolver!W32=\"\",\"\",Revolver!W32)","v":""}]
[29,{"$f":"IF('Semi-Auto'!$C33=\"\",\"\",'Semi-Auto'!C33)","v":""},{"$f":"IF('Semi-Auto'!$D33=\"\",\"\",'Semi-Auto'!D33)","v":""},{"$f":"IF('Semi-Auto'!$C33=\"\",\"\",'Semi-Auto'!F33)","v":""},{"$f":"IF('Semi-Auto'!$C33=\"\",\"\",'Semi-Auto'!G33)","v":""},{"$f":"IF('Semi-Auto'!$C33=\"\",\"\",'Semi-Auto'!H33)","v":""},{"$f":"IF('Semi-Auto'!$C33=\"\",\"\",'Semi-Auto'!I33)","v":""},{"$f":"IF('Semi-Auto'!$C33=\"\",\"\",'Semi-Auto'!K33)","v":""},{"$f":"IF('Semi-Auto'!$C33=\"\",\"\",'Semi-Auto'!M33)","v":""},{"$f":"IF('Semi-Auto'!$C33=\"\",\"\",'Semi-Auto'!O33)","v":""},{"$f":"IF('Semi-Auto'!$C33=\"\",\"\",'Semi-Auto'!Q33)","v":""},{"$f":"IF('Semi-Auto'!$C33=\"\",\"\",'Semi-Auto'!S33)","v":""},{"$f":"IF('Semi-Auto'!$C33=\"\",\"\",'Semi-Auto'!U33)","v":""},{"$f":"IF($B32=\"\",0,'Semi-Auto'!V33)","v":0},{"$f":"IF('Semi-Auto'!W33=\"\",\"\",'Semi-Auto'!W33)","v":""},null,29,"",{"$f":"IF(Revolver!D33=\"\",\"\",Revolver!D33)","v":""},{"$f":"IF(Revolver!F33=\"\",\"\",Revolver!F33)","v":""},{"$f":"IF(Revolver!G33=\"\",\"\",Revolver!G33)","v":""},{"$f":"IF(Revolver!H33=\"\",\"\",Revolver!H33)","v":""},{"$f":"IF(Revolver!I33=\"\",\"\",Revolver!I33)","v":""},{"$f":"IF(Revolver!K33=\"\",\"\",Revolver!K33)","v":""},{"$f":"IF(Revolver!M33=\"\",\"\",Revolver!M33)","v":""},{"$f":"IF(Revolver!O33=\"\",\"\",Revolver!O33)","v":""},{"$f":"IF(Revolver!Q33=\"\",\"\",Revolver!Q33)","v":""},{"$f":"IF(Revolver!S33=\"\",\"\",Revolver!S33)","v":""},{"$f":"IF(Revolver!U33=\"\",\"\",Revolver!U33)","v":""},{"$f":"IF(Revolver!V33=\"\",\"\",Revolver!V33)","v":0},{"$f":"IF(Revolver!W33=\"\",\"\",Revolver!W33)","v":""}]
[30,{"$f":"IF('Semi-Auto'!$C34=\"\",\"\",'Semi-Auto'!C34)","v":""},{"$f":"IF('Semi-Auto'!$D34=\"\",\"\",'Semi-Auto'!D34)","v":""},{"$f":"IF('Semi-Auto'!$C34=\"\",\"\",'Semi-Auto'!F34)","v":""},{"$f":"IF('Semi-Auto'!$C34=\"\",\"\",'Semi-Auto'!G34)","v":""},{"$f":"IF('Semi-Auto'!$C34=\"\",\"\",'Semi-Auto'!H34)","v":""},{"$f":"IF('Semi-Auto'!$C34=\"\",\"\",'Semi-Auto'!I34)","v":""},{"$f":"IF('Semi-Auto'!$C34=\"\",\"\",'Semi-Auto'!K34)","v":""},{"$f":"IF('Semi-Auto'!$C34=\"\",\"\",'Semi-Auto'!M34)","v":""},{"$f":"IF('Semi-Auto'!$C34=\"\",\"\",'Semi-Auto'!O34)","v":""},{"$f":"IF('Semi-Auto'!$C34=\"\",\"\",'Semi-Auto'!Q34)","v":""},{"$f":"IF('Semi-Auto'!$C34=\"\",\"\",'Semi-Auto'!S34)","v":""},{"$f":"IF('Semi-Auto'!$C34=\"\",\"\",'Semi-Auto'!U34)","v":""},{"$f":"IF($B33=\"\",0,'Semi-Auto'!V34)","v":0},{"$f":"IF('Semi-Auto'!W34=\"\",\"\",'Semi-Auto'!W34)","v":""},null,30,"",{"$f":"IF(Revolver!D34=\"\",\"\",Revolver!D34)","v":""},{"$f":"IF(Revolver!F34=\"\",\"\",Revolver!F34)","v":""},{"$f":"IF(Revolver!G34=\"\",\"\",Revolver!G34)","v":""},{"$f":"IF(Revolver!H34=\"\",\"\",Revolver!H34)","v":""},{"$f":"IF(Revolver!I34=\"\",\"\",Revolver!I34)","v":""},{"$f":"IF(Revolver!K34=\"\",\"\",Revolver!K34)","v":""},{"$f":"IF(Revolver!M34=\"\",\"\",Revolver!M34)","v":""},{"$f":"IF(Revolver!O34=\"\",\"\",Revolver!O34)","v":""},{"$f":"IF(Revolver!Q34=\"\",\"\",Revolver!Q34)","v":""},{"$f":"IF(Revolver!S34=\"\",\"\",Revolver!S34)","v":""},{"$f":"IF(Revolver!U34=\"\",\"\",Revolver!U34)","v":""},{"$f":"IF(Revolver!V34=\"\",\"\",Revolver!V34)","v":0},{"$f":"IF(Revolver!W34=\"\",\"\",Revolver!W34)","v":""}]
[31,{"$f":"IF('Semi-Auto'!$C35=\"\",\"\",'Semi-Auto'!C35)","v":""},{"$f":"IF('Semi-Auto'!$D35=\"\",\"\",'Semi-Auto'!D35)","v":""},{"$f":"IF('Semi-Auto'!$C35=\"\",\"\",'Semi-Auto'!F35)","v":""},{"$f":"IF('Semi-Auto'!$C35=\"\",\"\",'Semi-Auto'!G35)","v":""},{"$f":"IF('Semi-Auto'!$C35=\"\",\"\",'Semi-Auto'!H35)","v":""},{"$f":"IF('Semi-Auto'!$C35=\"\",\"\",'Semi-Auto'!I35)","v":""},{"$f":"IF('Semi-Auto'!$C35=\"\",\"\",'Semi-Auto'!K35)","v":""},{"$f":"IF('Semi-Auto'!$C35=\"\",\"\",'Semi-Auto'!M35)","v":""},{"$f":"IF('Semi-Auto'!$C35=\"\",\"\",'Semi-Auto'!O35)","v":""},{"$f":"IF('Semi-Auto'!$C35=\"\",\"\",'Semi-Auto'!Q35)","v":""},{"$f":"IF('Semi-Auto'!$C35=\"\",\"\",'Semi-Auto'!S35)","v":""},{"$f":"IF('Semi-Auto'!$C35=\"\",\"\",'Semi-Auto'!U35)","v":""},{"$f":"IF($B34=\"\",0,'Semi-Auto'!V35)","v":0},{"$f":"IF('Semi-Auto'!W35=\"\",\"\",'Semi-Auto'!W35)","v":""},null,31,"",{"$f":"IF(Revolver!D35=\"\",\"\",Revolver!D35)","v":""},{"$f":"IF(Revolver!F35=\"\",\"\",Revolver!F35)","v":""},{"$f":"IF(Revolver!G35=\"\",\"\",Revolver!G35)","v":""},{"$f":"IF(Revolver!H35=\"\",\"\",Revolver!H35)","v":""},{"$f":"IF(Revolver!I35=\"\",\"\",Revolver!I35)","v":""},{"$f":"IF(Revolver!K35=\"\",\"\",Revolver!K35)","v":""},{"$f":"IF(Revolver!M35=\"\",\"\",Revolver!M35)","v":""},{"$f":"IF(Revolver!O35=\"\",\"\",Revolver!O35)","v":""},{"$f":"IF(Revolver!Q35=\"\",\"\",Revolver!Q35)","v":""},{"$f":"IF(Revolver!S35=\"\",\"\",Revolver!S35)","v":""},{"$f":"IF(Revolver!U35=\"\",\"\",Revolver!U35)","v":""},{"$f":"IF(Revolver!V35=\"\",\"\",Revolver!V35)","v":0},{"$f":"IF(Revolver!W35=\"\",\"\",Revolver!W35)","v":""}]
[32,{"$f":"IF('Semi-Auto'!$C36=\"\",\"\",'Semi-Auto'!C36)","v":""},{"$f":"IF('Semi-Auto'!$D36=\"\",\"\",'Semi-Auto'!D36)","v":""},{"$f":"IF('Semi-Auto'!$C36=\"\",\"\",'Semi-Auto'!F36)","v":""},{"$f":"IF('Semi-Auto'!$C36=\"\",\"\",'Semi-Auto'!G36)","v":""},{"$f":"IF('Semi-Auto'!$C36=\"\",\"\",'Semi-Auto'!H36)","v":""},{"$f":"IF('Semi-Auto'!$C36=\"\",\"\",'Semi-Auto'!I36)","v":""},{"$f":"IF('Semi-Auto'!$C36=\"\",\"\",'Semi-Auto'!K36)","v":""},{"$f":"IF('Semi-Auto'!$C36=\"\",\"\",'Semi-Auto'!M36)","v":""},{"$f":"IF('Semi-Auto'!$C36=\"\",\"\",'Semi-Auto'!O36)","v":""},{"$f":"IF('Semi-Auto'!$C36=\"\",\"\",'Semi-Auto'!Q36)","v":""},{"$f":"IF('Semi-Auto'!$C36=\"\",\"\",'Semi-Auto'!S36)","v":""},{"$f":"IF('Semi-Auto'!$C36=\"\",\"\",'Semi-Auto'!U36)","v":""},{"$f":"IF($B35=\"\",0,'Semi-Auto'!V36)","v":0},{"$f":"IF('Semi-Auto'!W36=\"\",\"\",'Semi-Auto'!W36)","v":""},null,32,"",{"$f":"IF(Revolver!D36=\"\",\"\",Revolver!D36)","v":""},{"$f":"IF(Revolver!F36=\"\",\"\",Revolver!F36)","v":""},{"$f":"IF(Revolver!G36=\"\",\"\",Revolver!G36)","v":""},{"$f":"IF(Revolver!H36=\"\",\"\",Revolver!H36)","v":""},{"$f":"IF(Revolver!I36=\"\",\"\",Revolver!I36)","v":""},{"$f":"IF(Revolver!K36=\"\",\"\",Revolver!K36)","v":""},{"$f":"IF(Revolver!M36=\"\",\"\",Revolver!M36)","v":""},{"$f":"IF(Revolver!O36=\"\",\"\",Revolver!O36)","v":""},{"$f":"IF(Revolver!Q36=\"\",\"\",Revolver!Q36)","v":""},{"$f":"IF(Revolver!S36=\"\",\"\",Revolver!S36)","v":""},{"$f":"IF(Revolver!U36=\"\",\"\",Revolver!U36)","v":""},{"$f":"IF(Revolver!V36=\"\",\"\",Revolver!V36)","v":0},{"$f":"IF(Revolver!W36=\"\",\"\",Revolver!W36)","v":""}]
[33,{"$f":"IF('Semi-Auto'!$C37=\"\",\"\",'Semi-Auto'!C37)","v":""},{"$f":"IF('Semi-Auto'!$D37=\"\",\"\",'Semi-Auto'!D37)","v":""},{"$f":"IF('Semi-Auto'!$C37=\"\",\"\",'Semi-Auto'!F37)","v":""},{"$f":"IF('Semi-Auto'!$C37=\"\",\"\",'Semi-Auto'!G37)","v":""},{"$f":"IF('Semi-Auto'!$C37=\"\",\"\",'Semi-Auto'!H37)","v":""},{"$f":"IF('Semi-Auto'!$C37=\"\",\"\",'Semi-Auto'!I37)","v":""},{"$f":"IF('Semi-Auto'!$C37=\"\",\"\",'Semi-Auto'!K37)","v":""},{"$f":"IF('Semi-Auto'!$C37=\"\",\"\",'Semi-Auto'!M37)","v":""},{"$f":"IF('Semi-Auto'!$C37=\"\",\"\",'Semi-Auto'!O37)","v":""},{"$f":"IF('Semi-Auto'!$C37=\"\",\"\",'Semi-Auto'!Q37)","v":""},{"$f":"IF('Semi-Auto'!$C37=\"\",\"\",'Semi-Auto'!S37)","v":""},{"$f":"IF('Semi-Auto'!$C37=\"\",\"\",'Semi-Auto'!U37)","v":""},{"$f":"IF($B36=\"\",0,'Semi-Auto'!V37)","v":0},{"$f":"IF('Semi-Auto'!W37=\"\",\"\",'Semi-Auto'!W37)","v":""},null,33,"",{"$f":"IF(Revolver!D37=\"\",\"\",Revolver!D37)","v":""},{"$f":"IF(Revolver!F37=\"\",\"\",Revolver!F37)","v":""},{"$f":"IF(Revolver!G37=\"\",\"\",Revolver!G37)","v":""},{"$f":"IF(Revolver!H37=\"\",\"\",Revolver!H37)","v":""},{"$f":"IF(Revolver!I37=\"\",\"\",Revolver!I37)","v":""},{"$f":"IF(Revolver!K37=\"\",\"\",Revolver!K37)","v":""},{"$f":"IF(Revolver!M37=\"\",\"\",Revolver!M37)","v":""},{"$f":"IF(Revolver!O37=\"\",\"\",Revolver!O37)","v":""},{"$f":"IF(Revolver!Q37=\"\",\"\",Revolver!Q37)","v":""},{"$f":"IF(Revolver!S37=\"\",\"\",Revolver!S37)","v":""},{"$f":"IF(Revolver!U37=\"\",\"\",Revolver!U37)","v":""},{"$f":"IF(Revolver!V37=\"\",\"\",Revolver!V37)","v":0},{"$f":"IF(Revolver!W37=\"\",\"\",Revolver!W37)","v":""}]
[34,{"$f":"IF('Semi-Auto'!$C38=\"\",\"\",'Semi-Auto'!C38)","v":""},{"$f":"IF('Semi-Auto'!$D38=\"\",\"\",'Semi-Auto'!D38)","v":""},{"$f":"IF('Semi-Auto'!$C38=\"\",\"\",'Semi-Auto'!F38)","v":""},{"$f":"IF('Semi-Auto'!$C38=\"\",\"\",'Semi-Auto'!G38)","v":""},{"$f":"IF('Semi-Auto'!$C38=\"\",\"\",'Semi-Auto'!H38)","v":""},{"$f":"IF('Semi-Auto'!$C38=\"\",\"\",'Semi-Auto'!I38)","v":""},{"$f":"IF('Semi-Auto'!$C38=\"\",\"\",'Semi-Auto'!K38)","v":""},{"$f":"IF('Semi-Auto'!$C38=\"\",\"\",'Semi-Auto'!M38)","v":""},{"$f":"IF('Semi-Auto'!$C38=\"\",\"\",'Semi-Auto'!O38)","v":""},{"$f":"IF('Semi-Auto'!$C38=\"\",\"\",'Semi-Auto'!Q38)","v":""},{"$f":"IF('Semi-Auto'!$C38=\"\",\"\",'Semi-Auto'!S38)","v":""},{"$f":"IF('Semi-Auto'!$C38=\"\",\"\",'Semi-Auto'!U38)","v":""},{"$f":"IF($B37=\"\",0,'Semi-Auto'!V38)","v":0},{"$f":"IF('Semi-Auto'!W38=\"\",\"\",'Semi-Auto'!W38)","v":""},null,34,"",{"$f":"IF(Revolver!D38=\"\",\"\",Revolver!D38)","v":""},{"$f":"IF(Revolver!F38=\"\",\"\",Revolver!F38)","v":""},{"$f":"IF(Revolver!G38=\"\",\"\",Revolver!G38)","v":""},{"$f":"IF(Revolver!H38=\"\",\"\",Revolver!H38)","v":""},{"$f":"IF(Revolver!I38=\"\",\"\",Revolver!I38)","v":""},{"$f":"IF(Revolver!K38=\"\",\"\",Revolver!K38)","v":""},{"$f":"IF(Revolver!M38=\"\",\"\",Revolver!M38)","v":""},{"$f":"IF(Revolver!O38=\"\",\"\",Revolver!O38)","v":""},{"$f":"IF(Revolver!Q38=\"\",\"\",Revolver!Q38)","v":""},{"$f":"IF(Revolver!S38=\"\",\"\",Revolver!S38)","v":""},{"$f":"IF(Revolver!U38=\"\",\"\",Revolver!U38)","v":""},{"$f":"IF(Revolver!V38=\"\",\"\",Revolver!V38)","v":0},{"$f":"IF(Revolver!W38=\"\",\"\",Revolver!W38)","v":""}]
[35,{"$f":"IF('Semi-Auto'!$C39=\"\",\"\",'Semi-Auto'!C39)","v":""},{"$f":"IF('Semi-Auto'!$D39=\"\",\"\",'Semi-Auto'!D39)","v":""},{"$f":"IF('Semi-Auto'!$C39=\"\",\"\",'Semi-Auto'!F39)","v":""},{"$f":"IF('Semi-Auto'!$C39=\"\",\"\",'Semi-Auto'!G39)","v":""},{"$f":"IF('Semi-Auto'!$C39=\"\",\"\",'Semi-Auto'!H39)","v":""},{"$f":"IF('Semi-Auto'!$C39=\"\",\"\",'Semi-Auto'!I39)","v":""},{"$f":"IF('Semi-Auto'!$C39=\"\",\"\",'Semi-Auto'!K39)","v":""},{"$f":"IF('Semi-Auto'!$C39=\"\",\"\",'Semi-Auto'!M39)","v":""},{"$f":"IF('Semi-Auto'!$C39=\"\",\"\",'Semi-Auto'!O39)","v":""},{"$f":"IF('Semi-Auto'!$C39=\"\",\"\",'Semi-Auto'!Q39)","v":""},{"$f":"IF('Semi-Auto'!$C39=\"\",\"\",'Semi-Auto'!S39)","v":""},{"$f":"IF('Semi-Auto'!$C39=\"\",\"\",'Semi-Auto'!U39)","v":""},{"$f":"IF($B38=\"\",0,'Semi-Auto'!V39)","v":0},{"$f":"IF('Semi-Auto'!W39=\"\",\"\",'Semi-Auto'!W39)","v":""},null,35,"",{"$f":"IF(Revolver!D39=\"\",\"\",Revolver!D39)","v":""},{"$f":"IF(Revolver!F39=\"\",\"\",Revolver!F39)","v":""},{"$f":"IF(Revolver!G39=\"\",\"\",Revolver!G39)","v":""},{"$f":"IF(Revolver!H39=\"\",\"\",Revolver!H39)","v":""},{"$f":"IF(Revolver!I39=\"\",\"\",Revolver!I39)","v":""},{"$f":"IF(Revolver!K39=\"\",\"\",Revolver!K39)","v":""},{"$f":"IF(Revolver!M39=\"\",\"\",Revolver!M39)","v":""},{"$f":"IF(Revolver!O39=\"\",\"\",Revolver!O39)","v":""},{"$f":"IF(Revolver!Q39=\"\",\"\",Revolver!Q39)","v":""},{"$f":"IF(Revolver!S39=\"\",\"\",Revolver!S39)","v":""},{"$f":"IF(Revolver!U39=\"\",\"\",Revolver!U39)","v":""},{"$f":"IF(Revolver!V39=\"\",\"\",Revolver!V39)","v":0},{"$f":"IF(Revolver!W39=\"\",\"\",Revolver!W39)","v":""}]
[36,{"$f":"IF('Semi-Auto'!$C40=\"\",\"\",'Semi-Auto'!C40)","v":""},{"$f":"IF('Semi-Auto'!$D40=\"\",\"\",'Semi-Auto'!D40)","v":""},{"$f":"IF('Semi-Auto'!$C40=\"\",\"\",'Semi-Auto'!F40)","v":""},{"$f":"IF('Semi-Auto'!$C40=\"\",\"\",'Semi-Auto'!G40)","v":""},{"$f":"IF('Semi-Auto'!$C40=\"\",\"\",'Semi-Auto'!H40)","v":""},{"$f":"IF('Semi-Auto'!$C40=\"\",\"\",'Semi-Auto'!I40)","v":""},{"$f":"IF('Semi-Auto'!$C40=\"\",\"\",'Semi-Auto'!K40)","v":""},{"$f":"IF('Semi-Auto'!$C40=\"\",\"\",'Semi-Auto'!M40)","v":""},{"$f":"IF('Semi-Auto'!$C40=\"\",\"\",'Semi-Auto'!O40)","v":""},{"$f":"IF('Semi-Auto'!$C40=\"\",\"\",'Semi-Auto'!Q40)","v":""},{"$f":"IF('Semi-Auto'!$C40=\"\",\"\",'Semi-Auto'!S40)","v":""},{"$f":"IF('Semi-Auto'!$C40=\"\",\"\",'Semi-Auto'!U40)","v":""},{"$f":"IF($B39=\"\",0,'Semi-Auto'!V40)","v":0},{"$f":"IF('Semi-Auto'!W40=\"\",\"\",'Semi-Auto'!W40)","v":""},null,36,"",{"$f":"IF(Revolver!D40=\"\",\"\",Revolver!D40)","v":""},{"$f":"IF(Revolver!F40=\"\",\"\",Revolver!F40)","v":""},{"$f":"IF(Revolver!G40=\"\",\"\",Revolver!G40)","v":""},{"$f":"IF(Revolver!H40=\"\",\"\",Revolver!H40)","v":""},{"$f":"IF(Revolver!I40=\"\",\"\",Revolver!I40)","v":""},{"$f":"IF(Revolver!K40=\"\",\"\",Revolver!K40)","v":""},{"$f":"IF(Revolver!M40=\"\",\"\",Revolver!M40)","v":""},{"$f":"IF(Revolver!O40=\"\",\"\",Revolver!O40)","v":""},{"$f":"IF(Revolver!Q40=\"\",\"\",Revolver!Q40)","v":""},{"$f":"IF(Revolver!S40=\"\",\"\",Revolver!S40)","v":""},{"$f":"IF(Revolver!U40=\"\",\"\",Revolver!U40)","v":""},{"$f":"IF(Revolver!V40=\"\",\"\",Revolver!V40)","v":0},{"$f":"IF(Revolver!W40=\"\",\"\",Revolver!W40)","v":""}]
[37,{"$f":"IF('Semi-Auto'!$C41=\"\",\"\",'Semi-Auto'!C41)","v":""},{"$f":"IF('Semi-Auto'!$D41=\"\",\"\",'Semi-Auto'!D41)","v":""},{"$f":"IF('Semi-Auto'!$C41=\"\",\"\",'Semi-Auto'!F41)","v":""},{"$f":"IF('Semi-Auto'!$C41=\"\",\"\",'Semi-Auto'!G41)","v":""},{"$f":"IF('Semi-Auto'!$C41=\"\",\"\",'Semi-Auto'!H41)","v":""},{"$f":"IF('Semi-Auto'!$C41=\"\",\"\",'Semi-Auto'!I41)","v":""},{"$f":"IF('Semi-Auto'!$C41=\"\",\"\",'Semi-Auto'!K41)","v":""},{"$f":"IF('Semi-Auto'!$C41=\"\",\"\",'Semi-Auto'!M41)","v":""},{"$f":"IF('Semi-Auto'!$C41=\"\",\"\",'Semi-Auto'!O41)","v":""},{"$f":"IF('Semi-Auto'!$C41=\"\",\"\",'Semi-Auto'!Q41)","v":""},{"$f":"IF('Semi-Auto'!$C41=\"\",\"\",'Semi-Auto'!S41)","v":""},{"$f":"IF('Semi-Auto'!$C41=\"\",\"\",'Semi-Auto'!U41)","v":""},{"$f":"IF($B40=\"\",0,'Semi-Auto'!V41)","v":0},{"$f":"IF('Semi-Auto'!W41=\"\",\"\",'Semi-Auto'!W41)","v":""},null,37,"",{"$f":"IF(Revolver!D41=\"\",\"\",Revolver!D41)","v":""},{"$f":"IF(Revolver!F41=\"\",\"\",Revolver!F41)","v":""},{"$f":"IF(Revolver!G41=\"\",\"\",Revolver!G41)","v":""},{"$f":"IF(Revolver!H41=\"\",\"\",Revolver!H41)","v":""},{"$f":"IF(Revolver!I41=\"\",\"\",Revolver!I41)","v":""},{"$f":"IF(Revolver!K41=\"\",\"\",Revolver!K41)","v":""},{"$f":"IF(Revolver!M41=\"\",\"\",Revolver!M41)","v":""},{"$f":"IF(Revolver!O41=\"\",\"\",Revolver!O41)","v":""},{"$f":"IF(Revolver!Q41=\"\",\"\",Revolver!Q41)","v":""},{"$f":"IF(Revolver!S41=\"\",\"\",Revolver!S41)","v":""},{"$f":"IF(Revolver!U41=\"\",\"\",Revolver!U41)","v":""},{"$f":"IF(Revolver!V41=\"\",\"\",Revolver!V41)","v":0},{"$f":"IF(Revolver!W41=\"\",\"\",Revolver!W41)","v":""}]
[38,{"$f":"IF('Semi-Auto'!$C42=\"\",\"\",'Semi-Auto'!C42)","v":""},{"$f":"IF('Semi-Auto'!$D42=\"\",\"\",'Semi-Auto'!D42)","v":""},{"$f":"IF('Semi-Auto'!$C42=\"\",\"\",'Semi-Auto'!F42)","v":""},{"$f":"IF('Semi-Auto'!$C42=\"\",\"\",'Semi-Auto'!G42)","v":""},{"$f":"IF('Semi-Auto'!$C42=\"\",\"\",'Semi-Auto'!H42)","v":""},{"$f":"IF('Semi-Auto'!$C42=\"\",\"\",'Semi-Auto'!I42)","v":""},{"$f":"IF('Semi-Auto'!$C42=\"\",\"\",'Semi-Auto'!K42)","v":""},{"$f":"IF('Semi-Auto'!$C42=\"\",\"\",'Semi-Auto'!M42)","v":""},{"$f":"IF('Semi-Auto'!$C42=\"\",\"\",'Semi-Auto'!O42)","v":""},{"$f":"IF('Semi-Auto'!$C42=\"\",\"\",'Semi-Auto'!Q42)","v":""},{"$f":"IF('Semi-Auto'!$C42=\"\",\"\",'Semi-Auto'!S42)","v":""},{"$f":"IF('Semi-Auto'!$C42=\"\",\"\",'Semi-Auto'!U42)","v":""},{"$f":"IF($B41=\"\",0,'Semi-Auto'!V42)","v":0},{"$f":"IF('Semi-Auto'!W42=\"\",\"\",'Semi-Auto'!W42)","v":""},null,38,"",{"$f":"IF(Revolver!D42=\"\",\"\",Revolver!D42)","v":""},{"$f":"IF(Revolver!F42=\"\",\"\",Revolver!F42)","v":""},{"$f":"IF(Revolver!G42=\"\",\"\",Revolver!G42)","v":""},{"$f":"IF(Revolver!H42=\"\",\"\",Revolver!H42)","v":""},{"$f":"IF(Revolver!I42=\"\",\"\",Revolver!I42)","v":""},{"$f":"IF(Revolver!K42=\"\",\"\",Revolver!K42)","v":""},{"$f":"IF(Revolver!M42=\"\",\"\",Revolver!M42)","v":""},{"$f":"IF(Revolver!O42=\"\",\"\",Revolver!O42)","v":""},{"$f":"IF(Revolver!Q42=\"\",\"\",Revolver!Q42)","v":""},{"$f":"IF(Revolver!S42=\"\",\"\",Revolver!S42)","v":""},{"$f":"IF(Revolver!U42=\"\",\"\",Revolver!U42)","v":""},{"$f":"IF(Revolver!V42=\"\",\"\",Revolver!V42)","v":0},{"$f":"IF(Revolver!W42=\"\",\"\",Revolver!W42)","v":""}]
[39,{"$f":"IF('Semi-Auto'!$C43=\"\",\"\",'Semi-Auto'!C43)","v":""},{"$f":"IF('Semi-Auto'!$D43=\"\",\"\",'Semi-Auto'!D43)","v":""},{"$f":"IF('Semi-Auto'!$C43=\"\",\"\",'Semi-Auto'!F43)","v":""},{"$f":"IF('Semi-Auto'!$C43=\"\",\"\",'Semi-Auto'!G43)","v":""},{"$f":"IF('Semi-Auto'!$C43=\"\",\"\",'Semi-Auto'!H43)","v":""},{"$f":"IF('Semi-Auto'!$C43=\"\",\"\",'Semi-Auto'!I43)","v":""},{"$f":"IF('Semi-Auto'!$C43=\"\",\"\",'Semi-Auto'!K43)","v":""},{"$f":"IF('Semi-Auto'!$C43=\"\",\"\",'Semi-Auto'!M43)","v":""},{"$f":"IF('Semi-Auto'!$C43=\"\",\"\",'Semi-Auto'!O43)","v":""},{"$f":"IF('Semi-Auto'!$C43=\"\",\"\",'Semi-Auto'!Q43)","v":""},{"$f":"IF('Semi-Auto'!$C43=\"\",\"\",'Semi-Auto'!S43)","v":""},{"$f":"IF('Semi-Auto'!$C43=\"\",\"\",'Semi-Auto'!U43)","v":""},{"$f":"IF($B42=\"\",0,'Semi-Auto'!V43)","v":0},{"$f":"IF('Semi-Auto'!W43=\"\",\"\",'Semi-Auto'!W43)","v":""},null,39,"",{"$f":"IF(Revolver!D43=\"\",\"\",Revolver!D43)","v":""},{"$f":"IF(Revolver!F43=\"\",\"\",Revolver!F43)","v":""},{"$f":"IF(Revolver!G43=\"\",\"\",Revolver!G43)","v":""},{"$f":"IF(Revolver!H43=\"\",\"\",Revolver!H43)","v":""},{"$f":"IF(Revolver!I43=\"\",\"\",Revolver!I43)","v":""},{"$f":"IF(Revolver!K43=\"\",\"\",Revolver!K43)","v":""},{"$f":"IF(Revolver!M43=\"\",\"\",Revolver!M43)","v":""},{"$f":"IF(Revolver!O43=\"\",\"\",Revolver!O43)","v":""},{"$f":"IF(Revolver!Q43=\"\",\"\",Revolver!Q43)","v":""},{"$f":"IF(Revolver!S43=\"\",\"\",Revolver!S43)","v":""},{"$f":"IF(Revolver!U43=\"\",\"\",Revolver!U43)","v":""},{"$f":"IF(Revolver!V43=\"\",\"\",Revolver!V43)","v":0},{"$f":"IF(Revolver!W43=\"\",\"\",Revolver!W43)","v":""}]

{"sheet":"HTML","index":3,"n_rows":83,"n_cols":21,"rows_kept":83,"cut":false,"hidden":true,"merged":[[0,17,0,18]]}
[{"$f":"'Semi-Auto'!F1","v":"DATE"}]
[null,"NAME",null,"GUN",null,1,null,2,null,3,null,4,null,5,null,6,null,"TTL",null,"SHOOTOFF"]
["SEMI-AUTO"]
["<tr align=\"center\">###<td class=\"Bld\">",{"$f":"IF(SortSheet!B4=\"\",\"\",SortSheet!B4)","v":""},"</td>###<td>",{"$f":"IF(SortSheet!$D4=\"\",\"\",CONCATENATE(SortSheet!$D4,\" \",SortSheet!$E4,\", \",SortSheet!$F4,\", \",SortSheet!$G4))","v":""},{"$f":"IF(F4=5,\"</td>###<td class='ClnPos'>\",\"</td>###<td>\")","v":"</td>###<td>"},{"$f":"IF(SortSheet!H4=\"\",\"\",SortSheet!H4)","v":""},{"$f":"IF(H4=5,\"</td><td class='ClnPos'>\",\"</td><td>\")","v":"</td><td>"},{"$f":"IF(SortSheet!I4=\"\",\"\",SortSheet!I4)","v":""},{"$f":"IF(J4=5,\"</td><td class='ClnPos'>\",\"</td><td>\")","v":"</td><td>"},{"$f":"IF(SortSheet!J4=\"\",\"\",SortSheet!J4)","v":""},{"$f":"IF(L4=5,\"</td><td class='ClnPos'>\",\"</td><td>\")","v":"</td><td>"},{"$f":"IF(SortSheet!K4=\"\",\"\",SortSheet!K4)","v":""},{"$f":"IF(N4=5,\"</td><td class='ClnPos'>\",\"</td><td>\")","v":"</td><td>"},{"$f":"IF(SortSheet!L4=\"\",\"\",SortSheet!L4)","v":""},{"$f":"IF(P4=5,\"</td><td class='ClnPos'>\",\"</td><td>\")","v":"</td><td>"},{"$f":"IF(SortSheet!M4=\"\",\"\",SortSheet!M4)","v":""},{"$f":"IF(R4=30,\"</td><A1>\",\"</td><td class='Bld'>\")","v":"</td><td class='Bld'>"},{"$f":"IF(SortSheet!N4=\"\",\"\",SortSheet!N4)","v":0},"</td>###<td class='Bld'>",{"$f":"IF(SortSheet!O4=0,\"\",SortSheet!O4)","v":""},"</td>###</tr>"]
["<tr align=\"center\">###<td class=\"Bld\">",{"$f":"IF(SortSheet!B5=\"\",\"\",SortSheet!B5)","v":""},"</td>###<td>",{"$f":"IF(SortSheet!$D5=\"\",\"\",CONCATENATE(SortSheet!$D5,\" \",SortSheet!$E5,\", \",SortSheet!$F5,\", \",SortSheet!$G5))","v":""},{"$f":"IF(F5=5,\"</td>###<td class='ClnPos'>\",\"</td>###<td>\")","v":"</td>###<td>"},{"$f":"IF(SortSheet!H5=\"\",\"\",SortSheet!H5)","v":""},{"$f":"IF(H5=5,\"</td><td class='ClnPos'>\",\"</td><td>\")","v":"</td><td>"},{"$f":"IF(SortSheet!I5=\"\",\"\",SortSheet!I5)","v":""},{"$f":"IF(J5=5,\"</td><td class='ClnPos'>\",\"</td><td>\")","v":"</td><td>"},{"$f":"IF(SortSheet!J5=\"\",\"\",SortSheet!J5)","v":""},{"$f":"IF(L5=5,\"</td><td class='ClnPos'>\",\"</td><td>\")","v":"</td><td>"},{"$f":"IF(SortSheet!K5=\"\",\"\",SortSheet!K5)","v":""},{"$f":"IF(N5=5,\"</td><td class='ClnPos'>\",\"</td><td>\")","v":"</td><td>"},{"$f":"IF(SortSheet!L5=\"\",\"\",SortSheet!L5)","v":""},{"$f":"IF(P5=5,\"</td><td class='ClnPos'>\",\"</td><td>\")","v":"</td><td>"},{"$f":"IF(SortSheet!M5=\"\",\"\",SortSheet!M5)","v":""},{"$f":"IF(R5=30,\"</td><td class='ClnMatch'>\",\"</td><td class='Bld'>\")","v":"</td><td class='Bld'>"},{"$f":"IF(SortSheet!N5=\"\",\"\",SortSheet!N5)","v":0},"</td>###<td class='Bld'>",{"$f":"IF(SortSheet!O5=0,\"\",SortSheet!O5)","v":""},"</td>###</tr>"]
["<tr align=\"center\">###<td class=\"Bld\">",{"$f":"IF(SortSheet!B6=\"\",\"\",SortSheet!B6)","v":""},"</td>###<td>",{"$f":"IF(SortSheet!$D6=\"\",\"\",CONCATENATE(SortSheet!$D6,\" \",SortSheet!$E6,\", \",SortSheet!$F6,\", \",SortSheet!$G6))","v":""},"</td>###<td>",{"$f":"IF(SortSheet!H6=\"\",\"\",SortSheet!H6)","v":""},"</td><td>",{"$f":"IF(SortSheet!I6=\"\",\"\",SortSheet!I6)","v":""},"</td><td>",{"$f":"IF(SortSheet!J6=\"\",\"\",SortSheet!J6)","v":""},"</td><td>",{"$f":"IF(SortSheet!K6=\"\",\"\",SortSheet!K6)","v":""},"</td><td>",{"$f":"IF(SortSheet!L6=\"\",\"\",SortSheet!L6)","v":""},"</td><td>",{"$f":"IF(SortSheet!M6=\"\",\"\",SortSheet!M6)","v":""},"</td><td class='Bld'>",{"$f":"IF(SortSheet!N6=\"\",\"\",SortSheet!N6)","v":0},"</td>###<td class='Bld'>",{"$f":"IF(SortSheet!O6=0,\"\",SortSheet!O6)","v":""},"</td>###</tr>"]
["<tr align=\"center\">###<td class=\"Bld\">",{"$f":"IF(SortSheet!B7=\"\",\"\",SortSheet!B7)","v":""},"</td>###<td>",{"$f":"IF(SortSheet!$D7=\"\",\"\",CONCATENATE(SortSheet!$D7,\" \",SortSheet!$E7,\", \",SortSheet!$F7,\", \",SortSheet!$G7))","v":""},"</td>###<td>",{"$f":"IF(SortSheet!H7=\"\",\"\",SortSheet!H7)","v":""},"</td><td>",{"$f":"IF(SortSheet!I7=\"\",\"\",SortSheet!I7)","v":""},"</td><td>",{"$f":"IF(SortSheet!J7=\"\",\"\",SortSheet!J7)","v":""},"</td><td>",{"$f":"IF(SortSheet!K7=\"\",\"\",SortSheet!K7)","v":""},"</td><td>",{"$f":"IF(SortSheet!L7=\"\",\"\",SortSheet!L7)","v":""},"</td><td>",{"$f":"IF(SortSheet!M7=\"\",\"\",SortSheet!M7)","v":""},"</td><td class='Bld'>",{"$f":"IF(SortSheet!N7=\"\",\"\",SortSheet!N7)","v":0},"</td>###<td class='Bld'>",{"$f":"IF(SortSheet!O7=0,\"\",SortSheet!O7)","v":""},"</td>###</tr>"]
["<tr align=\"center\">###<td class=\"Bld\">",{"$f":"IF(SortSheet!B8=\"\",\"\",SortSheet!B8)","v":""},"</td>###<td>",{"$f":"IF(SortSheet!$D8=\"\",\"\",CONCATENATE(SortSheet!$D8,\" \",SortSheet!$E8,\", \",SortSheet!$F8,\", \",SortSheet!$G8))","v":""},"</td>###<td>",{"$f":"IF(SortSheet!H8=\"\",\"\",SortSheet!H8)","v":""},"</td><td>",{"$f":"IF(SortSheet!I8=\"\",\"\",SortSheet!I8)","v":""},"</td><td>",{"$f":"IF(SortSheet!J8=\"\",\"\",SortSheet!J8)","v":""},"</td><td>",{"$f":"IF(SortSheet!K8=\"\",\"\",SortSheet!K8)","v":""},"</td><td>",{"$f":"IF(SortSheet!L8=\"\",\"\",SortSheet!L8)","v":""},"</td><td>",{"$f":"IF(SortSheet!M8=\"\",\"\",SortSheet!M8)","v":""},"</td><td class='Bld'>",{"$f":"IF(SortSheet!N8=\"\",\"\",SortSheet!N8)","v":0},"</td>###<td class='Bld'>",{"$f":"IF(SortSheet!O8=0,\"\",SortSheet!O8)","v":""},"</td>###</tr>"]
["<tr align=\"center\">###<td class=\"Bld\">",{"$f":"IF(SortSheet!B9=\"\",\"\",SortSheet!B9)","v":""},"</td>###<td>",{"$f":"IF(SortSheet!$D9=\"\",\"\",CONCATENATE(SortSheet!$D9,\" \",SortSheet!$E9,\", \",SortSheet!$F9,\", \",SortSheet!$G9))","v":""},"</td>###<td>",{"$f":"IF(SortSheet!H9=\"\",\"\",SortSheet!H9)","v":""},"</td><td>",{"$f":"IF(SortSheet!I9=\"\",\"\",SortSheet!I9)","v":""},"</td><td>",{"$f":"IF(SortSheet!J9=\"\",\"\",SortSheet!J9)","v":""},"</td><td>",{"$f":"IF(SortSheet!K9=\"\",\"\",SortSheet!K9)","v":""},"</td><td>",{"$f":"IF(SortSheet!L9=\"\",\"\",SortSheet!L9)","v":""},"</td><td>",{"$f":"IF(SortSheet!M9=\"\",\"\",SortSheet!M9)","v":""},"</td><td class='Bld'>",{"$f":"IF(SortSheet!N9=\"\",\"\",SortSheet!N9)","v":0},"</td>###<td class='Bld'>",{"$f":"IF(SortSheet!O9=0,\"\",SortSheet!O9)","v":""},"</td>###</tr>"]
["<tr align=\"center\">###<td class=\"Bld\">",{"$f":"IF(SortSheet!B10=\"\",\"\",SortSheet!B10)","v":""},"</td>###<td>",{"$f":"IF(SortSheet!$D10=\"\",\"\",CONCATENATE(SortSheet!$D10,\" \",SortSheet!$E10,\", \",SortSheet!$F10,\", \",SortSheet!$G10))","v":""},"</td>###<td>",{"$f":"IF(SortSheet!H10=\"\",\"\",SortSheet!H10)","v":""},"</td><td>",{"$f":"IF(SortSheet!I10=\"\",\"\",SortSheet!I10)","v":""},"</td><td>",{"$f":"IF(SortSheet!J10=\"\",\"\",SortSheet!J10)","v":""},"</td><td>",{"$f":"IF(SortSheet!K10=\"\",\"\",SortSheet!K10)","v":""},"</td><td>",{"$f":"IF(SortSheet!L10=\"\",\"\",SortSheet!L10)","v":""},"</td><td>",{"$f":"IF(SortSheet!M10=\"\",\"\",SortSheet!M10)","v":""},"</td><td class='Bld'>",{"$f":"IF(SortSheet!N10=\"\",\"\",SortSheet!N10)","v":0},"</td>###<td class='Bld'>",{"$f":"IF(SortSheet!O10=0,\"\",SortSheet!O10)","v":""},"</td>###</tr>"]
["<tr align=\"center\">###<td class=\"Bld\">",{"$f":"IF(SortSheet!B11=\"\",\"\",SortSheet!B11)","v":""},"</td>###<td>",{"$f":"IF(SortSheet!$D11=\"\",\"\",CONCATENATE(SortSheet!$D11,\" \",SortSheet!$E11,\", \",SortSheet!$F11,\", \",SortSheet!$G11))","v":""},"</td>###<td>",{"$f":"IF(SortSheet!H11=\"\",\"\",SortSheet!H11)","v":""},"</td><td>",{"$f":"IF(SortSheet!I11=\"\",\"\",SortSheet!I11)","v":""},"</td><td>",{"$f":"IF(SortSheet!J11=\"\",\"\",SortSheet!J11)","v":""},"</td><td>",{"$f":"IF(SortSheet!K11=\"\",\"\",SortSheet!K11)","v":""},"</td><td>",{"$f":"IF(SortSheet!L11=\"\",\"\",SortSheet!L11)","v":""},"</td><td>",{"$f":"IF(SortSheet!M11=\"\",\"\",SortSheet!M11)","v":""},"</td><td class='Bld'>",{"$f":"IF(SortSheet!N11=\"\",\"\",SortSheet!N11)","v":0},"</td>###<td class='Bld'>",{"$f":"IF(SortSheet!O11=0,\"\",SortSheet!O11)","v":""},"</td>###</tr>"]
["<tr align=\"center\">###<td class=\"Bld\">",{"$f":"IF(SortSheet!B12=\"\",\"\",SortSheet!B12)","v":""},"</td>###<td>",{"$f":"IF(SortSheet!$D12=\"\",\"\",CONCATENATE(SortSheet!$D12,\" \",SortSheet!$E12,\", \",SortSheet!$F12,\", \",SortSheet!$G12))","v":""},"</td>###<td>",{"$f":"IF(SortSheet!H12=\"\",\"\",SortSheet!H12)","v":""},"</td><td>",{"$f":"IF(SortSheet!I12=\"\",\"\",SortSheet!I12)","v":""},"</td><td>",{"$f":"IF(SortSheet!J12=\"\",\"\",SortSheet!J12)","v":""},"</td><td>",{"$f":"IF(SortSheet!K12=\"\",\"\",SortSheet!K12)","v":""},"</td><td>",{"$f":"IF(SortSheet!L12=\"\",\"\",SortSheet!L12)","v":""},"</td><td>",{"$f":"IF(SortSheet!M12=\"\",\"\",SortSheet!M12)","v":""},"</td><td class='Bld'>",{"$f":"IF(SortSheet!N12=\"\",\"\",SortSheet!N12)","v":0},"</td>###<td class='Bld'>",{"$f":"IF(SortSheet!O12=0,\"\",SortSheet!O12)","v":""},"</td>###</tr>"]
["<tr align=\"center\">###<td class=\"Bld\">",{"$f":"IF(SortSheet!B13=\"\",\"\",SortSheet!B13)","v":""},"</td>###<td>",{"$f":"IF(SortSheet!$D13=\"\",\"\",CONCATENATE(SortSheet!$D13,\" \",SortSheet!$E13,\", \",SortSheet!$F13,\", \",SortSheet!$G13))","v":""},"</td>###<td>",{"$f":"IF(SortSheet!H13=\"\",\"\",SortSheet!H13)","v":""},"</td><td>",{"$f":"IF(SortSheet!I13=\"\",\"\",SortSheet!I13)","v":""},"</td><td>",{"$f":"IF(SortSheet!J13=\"\",\"\",SortSheet!J13)","v":""},"</td><td>",{"$f":"IF(SortSheet!K13=\"\",\"\",SortSheet!K13)","v":""},"</td><td>",{"$f":"IF(SortSheet!L13=\"\",\"\",SortSheet!L13)","v":""},"</td><td>",{"$f":"IF(SortSheet!M13=\"\",\"\",SortSheet!M13)","v":""},"</td><td class='Bld'>",{"$f":"IF(SortSheet!N13=\"\",\"\",SortSheet!N13)","v":0},"</td>###<td class='Bld'>",{"$f":"IF(SortSheet!O13=0,\"\",SortSheet!O13)","v":""},"</td>###</tr>"]
["<tr align=\"center\">###<td class=\"Bld\">",{"$f":"IF(SortSheet!B14=\"\",\"\",SortSheet!B14)","v":""},"</td>###<td>",{"$f":"IF(SortSheet!$D14=\"\",\"\",CONCATENATE(SortSheet!$D14,\" \",SortSheet!$E14,\", \",SortSheet!$F14,\", \",SortSheet!$G14))","v":""},"</td>###<td>",{"$f":"IF(SortSheet!H14=\"\",\"\",SortSheet!H14)","v":""},"</td><td>",{"$f":"IF(SortSheet!I14=\"\",\"\",SortSheet!I14)","v":""},"</td><td>",{"$f":"IF(SortSheet!J14=\"\",\"\",SortSheet!J14)","v":""},"</td><td>",{"$f":"IF(SortSheet!K14=\"\",\"\",SortSheet!K14)","v":""},"</td><td>",{"$f":"IF(SortSheet!L14=\"\",\"\",SortSheet!L14)","v":""},"</td><td>",{"$f":"IF(SortSheet!M14=\"\",\"\",SortSheet!M14)","v":""},"</td><td class='Bld'>",{"$f":"IF(SortSheet!N14=\"\",\"\",SortSheet!N14)","v":0},"</td>###<td class='Bld'>",{"$f":"IF(SortSheet!O14=0,\"\",SortSheet!O14)","v":""},"</td>###</tr>"]
["<tr align=\"center\">###<td class=\"Bld\">",{"$f":"IF(SortSheet!B15=\"\",\"\",SortSheet!B15)","v":""},"</td>###<td>",{"$f":"IF(SortSheet!$D15=\"\",\"\",CONCATENATE(SortSheet!$D15,\" \",SortSheet!$E15,\", \",SortSheet!$F15,\", \",SortSheet!$G15))","v":""},"</td>###<td>",{"$f":"IF(SortSheet!H15=\"\",\"\",SortSheet!H15)","v":""},"</td><td>",{"$f":"IF(SortSheet!I15=\"\",\"\",SortSheet!I15)","v":""},"</td><td>",{"$f":"IF(SortSheet!J15=\"\",\"\",SortSheet!J15)","v":""},"</td><td>",{"$f":"IF(SortSheet!K15=\"\",\"\",SortSheet!K15)","v":""},"</td><td>",{"$f":"IF(SortSheet!L15=\"\",\"\",SortSheet!L15)","v":""},"</td><td>",{"$f":"IF(SortSheet!M15=\"\",\"\",SortSheet!M15)","v":""},"</td><td class='Bld'>",{"$f":"IF(SortSheet!N15=\"\",\"\",SortSheet!N15)","v":0},"</td>###<td class='Bld'>",{"$f":"IF(SortSheet!O15=0,\"\",SortSheet!O15)","v":""},"</td>###</tr>"]
["<tr align=\"center\">###<td class=\"Bld\">",{"$f":"IF(SortSheet!B16=\"\",\"\",SortSheet!B16)","v":""},"</td>###<td>",{"$f":"IF(SortSheet!$D16=\"\",\"\",CONCATENATE(SortSheet!$D16,\" \",SortSheet!$E16,\", \",SortSheet!$F16,\", \",SortSheet!$G16))","v":""},"</td>###<td>",{"$f":"IF(SortSheet!H16=\"\",\"\",SortSheet!H16)","v":""},"</td><td>",{"$f":"IF(SortSheet!I16=\"\",\"\",SortSheet!I16)","v":""},"</td><td>",{"$f":"IF(SortSheet!J16=\"\",\"\",SortSheet!J16)","v":""},"</td><td>",{"$f":"IF(SortSheet!K16=\"\",\"\",SortSheet!K16)","v":""},"</td><td>",{"$f":"IF(SortSheet!L16=\"\",\"\",SortSheet!L16)","v":""},"</td><td>",{"$f":"IF(SortSheet!M16=\"\",\"\",SortSheet!M16)","v":""},"</td><td class='Bld'>",{"$f":"IF(SortSheet!N16=\"\",\"\",SortSheet!N16)","v":0},"</td>###<td class='Bld'>",{"$f":"IF(SortSheet!O16=0,\"\",SortSheet!O16)","v":""},"</td>###</tr>"]
["<tr align=\"center\">###<td class=\"Bld\">",{"$f":"IF(SortSheet!B17=\"\",\"\",SortSheet!B17)","v":""},"</td>###<td>",{"$f":"IF(SortSheet!$D17=\"\",\"\",CONCATENATE(SortSheet!$D17,\" \",SortSheet!$E17,\", \",SortSheet!$F17,\", \",SortSheet!$G17))","v":""},"</td>###<td>",{"$f":"IF(SortSheet!H17=\"\",\"\",SortSheet!H17)","v":""},"</td><td>",{"$f":"IF(SortSheet!I17=\"\",\"\",SortSheet!I17)","v":""},"</td><td>",{"$f":"IF(SortSheet!J17=\"\",\"\",SortSheet!J17)","v":""},"</td><td>",{"$f":"IF(SortSheet!K17=\"\",\"\",SortSheet!K17)","v":""},"</td><td>",{"$f":"IF(SortSheet!L17=\"\",\"\",SortSheet!L17)","v":""},"</td><td>",{"$f":"IF(SortSheet!M17=\"\",\"\",SortSheet!M17)","v":""},"</td><td class='Bld'>",{"$f":"IF(SortSheet!N17=\"\",\"\",SortSheet!N17)","v":0},"</td>###<td class='Bld'>",{"$f":"IF(SortSheet!O17=0,\"\",SortSheet!O17)","v":""},"</td>###</tr>"]
["<tr align=\"center\">###<td class=\"Bld\">",{"$f":"IF(SortSheet!B18=\"\",\"\",SortSheet!B18)","v":""},"</td>###<td>",{"$f":"IF(SortSheet!$D18=\"\",\"\",CONCATENATE(SortSheet!$D18,\" \",SortSheet!$E18,\", \",SortSheet!$F18,\", \",SortSheet!$G18))","v":""},"</td>###<td>",{"$f":"IF(SortSheet!H18=\"\",\"\",SortSheet!H18)","v":""},"</td><td>",{"$f":"IF(SortSheet!I18=\"\",\"\",SortSheet!I18)","v":""},"</td><td>",{"$f":"IF(SortSheet!J18=\"\",\"\",SortSheet!J18)","v":""},"</td><td>",{"$f":"IF(SortSheet!K18=\"\",\"\",SortSheet!K18)","v":""},"</td><td>",{"$f":"IF(SortSheet!L18=\"\",\"\",SortSheet!L18)","v":""},"</td><td>",{"$f":"IF(SortSheet!M18=\"\",\"\",SortSheet!M18)","v":""},"</td><td class='Bld'>",{"$f":"IF(SortSheet!N18=\"\",\"\",SortSheet!N18)","v":0},"</td>###<td class='Bld'>",{"$f":"IF(SortSheet!O18=0,\"\",SortSheet!O18)","v":""},"</td>###</tr>"]
["<tr align=\"center\">###<td class=\"Bld\">",{"$f":"IF(SortSheet!B19=\"\",\"\",SortSheet!B19)","v":""},"</td>###<td>",{"$f":"IF(SortSheet!$D19=\"\",\"\",CONCATENATE(SortSheet!$D19,\" \",SortSheet!$E19,\", \",SortSheet!$F19,\", \",SortSheet!$G19))","v":""},"</td>###<td>",{"$f":"IF(SortSheet!H19=\"\",\"\",SortSheet!H19)","v":""},"</td><td>",{"$f":"IF(SortSheet!I19=\"\",\"\",SortSheet!I19)","v":""},"</td><td>",{"$f":"IF(SortSheet!J19=\"\",\"\",SortSheet!J19)","v":""},"</td><td>",{"$f":"IF(SortSheet!K19=\"\",\"\",SortSheet!K19)","v":""},"</td><td>",{"$f":"IF(SortSheet!L19=\"\",\"\",SortSheet!L19)","v":""},"</td><td>",{"$f":"IF(SortSheet!M19=\"\",\"\",SortSheet!M19)","v":""},"</td><td class='Bld'>",{"$f":"IF(SortSheet!N19=\"\",\"\",SortSheet!N19)","v":0},"</td>###<td class='Bld'>",{"$f":"IF(SortSheet!O19=0,\"\",SortSheet!O19)","v":""},"</td>###</tr>"]
["<tr align=\"center\">###<td class=\"Bld\">",{"$f":"IF(SortSheet!B20=\"\",\"\",SortSheet!B20)","v":""},"</td>###<td>",{"$f":"IF(SortSheet!$D20=\"\",\"\",CONCATENATE(SortSheet!$D20,\" \",SortSheet!$E20,\", \",SortSheet!$F20,\", \",SortSheet!$G20))","v":""},"</td>###<td>",{"$f":"IF(SortSheet!H20=\"\",\"\",SortSheet!H20)","v":""},"</td><td>",{"$f":"IF(SortSheet!I20=\"\",\"\",SortSheet!I20)","v":""},"</td><td>",{"$f":"IF(SortSheet!J20=\"\",\"\",SortSheet!J20)","v":""},"</td><td>",{"$f":"IF(SortSheet!K20=\"\",\"\",SortSheet!K20)","v":""},"</td><td>",{"$f":"IF(SortSheet!L20=\"\",\"\",SortSheet!L20)","v":""},"</td><td>",{"$f":"IF(SortSheet!M20=\"\",\"\",SortSheet!M20)","v":""},"</td><td class='Bld'>",{"$f":"IF(SortSheet!N20=\"\",\"\",SortSheet!N20)","v":0},"</td>###<td class='Bld'>",{"$f":"IF(SortSheet!O20=0,\"\",SortSheet!O20)","v":""},"</td>###</tr>"]
["<tr align=\"center\">###<td class=\"Bld\">",{"$f":"IF(SortSheet!B21=\"\",\"\",SortSheet!B21)","v":""},"</td>###<td>",{"$f":"IF(SortSheet!$D21=\"\",\"\",CONCATENATE(SortSheet!$D21,\" \",SortSheet!$E21,\", \",SortSheet!$F21,\", \",SortSheet!$G21))","v":""},"</td>###<td>",{"$f":"IF(SortSheet!H21=\"\",\"\",SortSheet!H21)","v":""},"</td><td>",{"$f":"IF(SortSheet!I21=\"\",\"\",SortSheet!I21)","v":""},"</td><td>",{"$f":"IF(SortSheet!J21=\"\",\"\",SortSheet!J21)","v":""},"</td><td>",{"$f":"IF(SortSheet!K21=\"\",\"\",SortSheet!K21)","v":""},"</td><td>",{"$f":"IF(SortSheet!L21=\"\",\"\",SortSheet!L21)","v":""},"</td><td>",{"$f":"IF(SortSheet!M21=\"\",\"\",SortSheet!M21)","v":""},"</td><td class='Bld'>",{"$f":"IF(SortSheet!N21=\"\",\"\",SortSheet!N21)","v":0},"</td>###<td class='Bld'>",{"$f":"IF(SortSheet!O21=0,\"\",SortSheet!O21)","v":""},"</td>###</tr>"]
["<tr align=\"center\">###<td class=\"Bld\">",{"$f":"IF(SortSheet!B22=\"\",\"\",SortSheet!B22)","v":""},"</td>###<td>",{"$f":"IF(SortSheet!$D22=\"\",\"\",CONCATENATE(SortSheet!$D22,\" \",SortSheet!$E22,\", \",SortSheet!$F22,\", \",SortSheet!$G22))","v":""},"</td>###<td>",{"$f":"IF(SortSheet!H22=\"\",\"\",SortSheet!H22)","v":""},"</td><td>",{"$f":"IF(SortSheet!I22=\"\",\"\",SortSheet!I22)","v":""},"</td><td>",{"$f":"IF(SortSheet!J22=\"\",\"\",SortSheet!J22)","v":""},"</td><td>",{"$f":"IF(SortSheet!K22=\"\",\"\",SortSheet!K22)","v":""},"</td><td>",{"$f":"IF(SortSheet!L22=\"\",\"\",SortSheet!L22)","v":""},"</td><td>",{"$f":"IF(SortSheet!M22=\"\",\"\",SortSheet!M22)","v":""},"</td><td class='Bld'>",{"$f":"IF(SortSheet!N22=\"\",\"\",SortSheet!N22)","v":0},"</td>###<td class='Bld'>",{"$f":"IF(SortSheet!O22=0,\"\",SortSheet!O22)","v":""},"</td>###</tr>"]
["<tr align=\"center\">###<td class=\"Bld\">",{"$f":"IF(SortSheet!B23=\"\",\"\",SortSheet!B23)","v":""},"</td>###<td>",{"$f":"IF(SortSheet!$D23=\"\",\"\",CONCATENATE(SortSheet!$D23,\" \",SortSheet!$E23,\", \",SortSheet!$F23,\", \",SortSheet!$G23))","v":""},"</td>###<td>",{"$f":"IF(SortSheet!H23=\"\",\"\",SortSheet!H23)","v":""},"</td><td>",{"$f":"IF(SortSheet!I23=\"\",\"\",SortSheet!I23)","v":""},"</td><td>",{"$f":"IF(SortSheet!J23=\"\",\"\",SortSheet!J23)","v":""},"</td><td>",{"$f":"IF(SortSheet!K23=\"\",\"\",SortSheet!K23)","v":""},"</td><td>",{"$f":"IF(SortSheet!L23=\"\",\"\",SortSheet!L23)","v":""},"</td><td>",{"$f":"IF(SortSheet!M23=\"\",\"\",SortSheet!M23)","v":""},"</td><td class='Bld'>",{"$f":"IF(SortSheet!N23=\"\",\"\",SortSheet!N23)","v":0},"</td>###<td class='Bld'>",{"$f":"IF(SortSheet!O23=0,\"\",SortSheet!O23)","v":""},"</td>###</tr>"]
["<tr align=\"center\">###<td class=\"Bld\">",{"$f":"IF(SortSheet!B24=\"\",\"\",SortSheet!B24)","v":""},"</td>###<td>",{"$f":"IF(SortSheet!$D24=\"\",\"\",CONCATENATE(SortSheet!$D24,\" \",SortSheet!$E24,\", \",SortSheet!$F24,\", \",SortSheet!$G24))","v":""},"</td>###<td>",{"$f":"IF(SortSheet!H24=\"\",\"\",SortSheet!H24)","v":""},"</td><td>",{"$f":"IF(SortSheet!I24=\"\",\"\",SortSheet!I24)","v":""},"</td><td>",{"$f":"IF(SortSheet!J24=\"\",\"\",SortSheet!J24)","v":""},"</td><td>",{"$f":"IF(SortSheet!K24=\"\",\"\",SortSheet!K24)","v":""},"</td><td>",{"$f":"IF(SortSheet!L24=\"\",\"\",SortSheet!L24)","v":""},"</td><td>",{"$f":"IF(SortSheet!M24=\"\",\"\",SortSheet!M24)","v":""},"</td><td class='Bld'>",{"$f":"IF(SortSheet!N24=\"\",\"\",SortSheet!N24)","v":0},"</td>###<td class='Bld'>",{"$f":"IF(SortSheet!O24=0,\"\",SortSheet!O24)","v":""},"</td>###</tr>"]
["<tr align=\"center\">###<td class=\"Bld\">",{"$f":"IF(SortSheet!B25=\"\",\"\",SortSheet!B25)","v":""},"</td>###<td>",{"$f":"IF(SortSheet!$D25=\"\",\"\",CONCATENATE(SortSheet!$D25,\" \",SortSheet!$E25,\", \",SortSheet!$F25,\", \",SortSheet!$G25))","v":""},"</td>###<td>",{"$f":"IF(SortSheet!H25=\"\",\"\",SortSheet!H25)","v":""},"</td><td>",{"$f":"IF(SortSheet!I25=\"\",\"\",SortSheet!I25)","v":""},"</td><td>",{"$f":"IF(SortSheet!J25=\"\",\"\",SortSheet!J25)","v":""},"</td><td>",{"$f":"IF(SortSheet!K25=\"\",\"\",SortSheet!K25)","v":""},"</td><td>",{"$f":"IF(SortSheet!L25=\"\",\"\",SortSheet!L25)","v":""},"</td><td>",{"$f":"IF(SortSheet!M25=\"\",\"\",SortSheet!M25)","v":""},"</td><td class='Bld'>",{"$f":"IF(SortSheet!N25=\"\",\"\",SortSheet!N25)","v":0},"</td>###<td class='Bld'>",{"$f":"IF(SortSheet!O25=0,\"\",SortSheet!O25)","v":""},"</td>###</tr>"]
["<tr align=\"center\">###<td class=\"Bld\">",{"$f":"IF(SortSheet!B26=\"\",\"\",SortSheet!B26)","v":""},"</td>###<td>",{"$f":"IF(SortSheet!$D26=\"\",\"\",CONCATENATE(SortSheet!$D26,\" \",SortSheet!$E26,\", \",SortSheet!$F26,\", \",SortSheet!$G26))","v":""},"</td>###<td>",{"$f":"IF(SortSheet!H26=\"\",\"\",SortSheet!H26)","v":""},"</td><td>",{"$f":"IF(SortSheet!I26=\"\",\"\",SortSheet!I26)","v":""},"</td><td>",{"$f":"IF(SortSheet!J26=\"\",\"\",SortSheet!J26)","v":""},"</td><td>",{"$f":"IF(SortSheet!K26=\"\",\"\",SortSheet!K26)","v":""},"</td><td>",{"$f":"IF(SortSheet!L26=\"\",\"\",SortSheet!L26)","v":""},"</td><td>",{"$f":"IF(SortSheet!M26=\"\",\"\",SortSheet!M26)","v":""},"</td><td class='Bld'>",{"$f":"IF(SortSheet!N26=\"\",\"\",SortSheet!N26)","v":0},"</td>###<td class='Bld'>",{"$f":"IF(SortSheet!O26=0,\"\",SortSheet!O26)","v":""},"</td>###</tr>"]
["<tr align=\"center\">###<td class=\"Bld\">",{"$f":"IF(SortSheet!B27=\"\",\"\",SortSheet!B27)","v":""},"</td>###<td>",{"$f":"IF(SortSheet!$D27=\"\",\"\",CONCATENATE(SortSheet!$D27,\" \",SortSheet!$E27,\", \",SortSheet!$F27,\", \",SortSheet!$G27))","v":""},"</td>###<td>",{"$f":"IF(SortSheet!H27=\"\",\"\",SortSheet!H27)","v":""},"</td><td>",{"$f":"IF(SortSheet!I27=\"\",\"\",SortSheet!I27)","v":""},"</td><td>",{"$f":"IF(SortSheet!J27=\"\",\"\",SortSheet!J27)","v":""},"</td><td>",{"$f":"IF(SortSheet!K27=\"\",\"\",SortSheet!K27)","v":""},"</td><td>",{"$f":"IF(SortSheet!L27=\"\",\"\",SortSheet!L27)","v":""},"</td><td>",{"$f":"IF(SortSheet!M27=\"\",\"\",SortSheet!M27)","v":""},"</td><td class='Bld'>",{"$f":"IF(SortSheet!N27=\"\",\"\",SortSheet!N27)","v":0},"</td>###<td class='Bld'>",{"$f":"IF(SortSheet!O27=0,\"\",SortSheet!O27)","v":""},"</td>###</tr>"]
["<tr align=\"center\">###<td class=\"Bld\">",{"$f":"IF(SortSheet!B28=\"\",\"\",SortSheet!B28)","v":""},"</td>###<td>",{"$f":"IF(SortSheet!$D28=\"\",\"\",CONCATENATE(SortSheet!$D28,\" \",SortSheet!$E28,\", \",SortSheet!$F28,\", \",SortSheet!$G28))","v":""},"</td>###<td>",{"$f":"IF(SortSheet!H28=\"\",\"\",SortSheet!H28)","v":""},"</td><td>",{"$f":"IF(SortSheet!I28=\"\",\"\",SortSheet!I28)","v":""},"</td><td>",{"$f":"IF(SortSheet!J28=\"\",\"\",SortSheet!J28)","v":""},"</td><td>",{"$f":"IF(SortSheet!K28=\"\",\"\",SortSheet!K28)","v":""},"</td><td>",{"$f":"IF(SortSheet!L28=\"\",\"\",SortSheet!L28)","v":""},"</td><td>",{"$f":"IF(SortSheet!M28=\"\",\"\",SortSheet!M28)","v":""},"</td><td class='Bld'>",{"$f":"IF(SortSheet!N28=\"\",\"\",SortSheet!N28)","v":0},"</td>###<td class='Bld'>",{"$f":"IF(SortSheet!O28=0,\"\",SortSheet!O28)","v":""},"</td>###</tr>"]
["<tr align=\"center\">###<td class=\"Bld\">",{"$f":"IF(SortSheet!B29=\"\",\"\",SortSheet!B29)","v":""},"</td>###<td>",{"$f":"IF(SortSheet!$D29=\"\",\"\",CONCATENATE(SortSheet!$D29,\" \",SortSheet!$E29,\", \",SortSheet!$F29,\", \",SortSheet!$G29))","v":""},"</td>###<td>",{"$f":"IF(SortSheet!H29=\"\",\"\",SortSheet!H29)","v":""},"</td><td>",{"$f":"IF(SortSheet!I29=\"\",\"\",SortSheet!I29)","v":""},"</td><td>",{"$f":"IF(SortSheet!J29=\"\",\"\",SortSheet!J29)","v":""},"</td><td>",{"$f":"IF(SortSheet!K29=\"\",\"\",SortSheet!K29)","v":""},"</td><td>",{"$f":"IF(SortSheet!L29=\"\",\"\",SortSheet!L29)","v":""},"</td><td>",{"$f":"IF(SortSheet!M29=\"\",\"\",SortSheet!M29)","v":""},"</td><td class='Bld'>",{"$f":"IF(SortSheet!N29=\"\",\"\",SortSheet!N29)","v":0},"</td>###<td class='Bld'>",{"$f":"IF(SortSheet!O29=0,\"\",SortSheet!O29)","v":""},"</td>###</tr>"]
["<tr align=\"center\">###<td class=\"Bld\">",{"$f":"IF(SortSheet!B30=\"\",\"\",SortSheet!B30)","v":""},"</td>###<td>",{"$f":"IF(SortSheet!$D30=\"\",\"\",CONCATENATE(SortSheet!$D30,\" \",SortSheet!$E30,\", \",SortSheet!$F30,\", \",SortSheet!$G30))","v":""},"</td>###<td>",{"$f":"IF(SortSheet!H30=\"\",\"\",SortSheet!H30)","v":""},"</td><td>",{"$f":"IF(SortSheet!I30=\"\",\"\",SortSheet!I30)","v":""},"</td><td>",{"$f":"IF(SortSheet!J30=\"\",\"\",SortSheet!J30)","v":""},"</td><td>",{"$f":"IF(SortSheet!K30=\"\",\"\",SortSheet!K30)","v":""},"</td><td>",{"$f":"IF(SortSheet!L30=\"\",\"\",SortSheet!L30)","v":""},"</td><td>",{"$f":"IF(SortSheet!M30=\"\",\"\",SortSheet!M30)","v":""},"</td><td class='Bld'>",{"$f":"IF(SortSheet!N30=\"\",\"\",SortSheet!N30)","v":0},"</td>###<td class='Bld'>",{"$f":"IF(SortSheet!O30=0,\"\",SortSheet!O30)","v":""},"</td>###</tr>"]
["<tr align=\"center\">###<td class=\"Bld\">",{"$f":"IF(SortSheet!B31=\"\",\"\",SortSheet!B31)","v":""},"</td>###<td>",{"$f":"IF(SortSheet!$D31=\"\",\"\",CONCATENATE(SortSheet!$D31,\" \",SortSheet!$E31,\", \",SortSheet!$F31,\", \",SortSheet!$G31))","v":""},"</td>###<td>",{"$f":"IF(SortSheet!H31=\"\",\"\",SortSheet!H31)","v":""},"</td><td>",{"$f":"IF(SortSheet!I31=\"\",\"\",SortSheet!I31)","v":""},"</td><td>",{"$f":"IF(SortSheet!J31=\"\",\"\",SortSheet!J31)","v":""},"</td><td>",{"$f":"IF(SortSheet!K31=\"\",\"\",SortSheet!K31)","v":""},"</td><td>",{"$f":"IF(SortSheet!L31=\"\",\"\",SortSheet!L31)","v":""},"</td><td>",{"$f":"IF(SortSheet!M31=\"\",\"\",SortSheet!M31)","v":""},"</td><td class='Bld'>",{"$f":"IF(SortSheet!N31=\"\",\"\",SortSheet!N31)","v":0},"</td>###<td class='Bld'>",{"$f":"IF(SortSheet!O31=0,\"\",SortSheet!O31)","v":""},"</td>###</tr>"]
["<tr align=\"center\">###<td class=\"Bld\">",{"$f":"IF(SortSheet!B32=\"\",\"\",SortSheet!B32)","v":""},"</td>###<td>",{"$f":"IF(SortSheet!$D32=\"\",\"\",CONCATENATE(SortSheet!$D32,\" \",SortSheet!$E32,\", \",SortSheet!$F32,\", \",SortSheet!$G32))","v":""},"</td>###<td>",{"$f":"IF(SortSheet!H32=\"\",\"\",SortSheet!H32)","v":""},"</td><td>",{"$f":"IF(SortSheet!I32=\"\",\"\",SortSheet!I32)","v":""},"</td><td>",{"$f":"IF(SortSheet!J32=\"\",\"\",SortSheet!J32)","v":""},"</td><td>",{"$f":"IF(SortSheet!K32=\"\",\"\",SortSheet!K32)","v":""},"</td><td>",{"$f":"IF(SortSheet!L32=\"\",\"\",SortSheet!L32)","v":""},"</td><td>",{"$f":"IF(SortSheet!M32=\"\",\"\",SortSheet!M32)","v":""},"</td><td class='Bld'>",{"$f":"IF(SortSheet!N32=\"\",\"\",SortSheet!N32)","v":0},"</td>###<td class='Bld'>",{"$f":"IF(SortSheet!O32=0,\"\",SortSheet!O32)","v":""},"</td>###</tr>"]
["<tr align=\"center\">###<td class=\"Bld\">",{"$f":"IF(SortSheet!B33=\"\",\"\",SortSheet!B33)","v":""},"</td>###<td>",{"$f":"IF(SortSheet!$D33=\"\",\"\",CONCATENATE(SortSheet!$D33,\" \",SortSheet!$E33,\", \",SortSheet!$F33,\", \",SortSheet!$G33))","v":""},"</td>###<td>",{"$f":"IF(SortSheet!H33=\"\",\"\",SortSheet!H33)","v":""},"</td><td>",{"$f":"IF(SortSheet!I33=\"\",\"\",SortSheet!I33)","v":""},"</td><td>",{"$f":"IF(SortSheet!J33=\"\",\"\",SortSheet!J33)","v":""},"</td><td>",{"$f":"IF(SortSheet!K33=\"\",\"\",SortSheet!K33)","v":""},"</td><td>",{"$f":"IF(SortSheet!L33=\"\",\"\",SortSheet!L33)","v":""},"</td><td>",{"$f":"IF(SortSheet!M33=\"\",\"\",SortSheet!M33)","v":""},"</td><td class='Bld'>",{"$f":"IF(SortSheet!N33=\"\",\"\",SortSheet!N33)","v":0},"</td>###<td class='Bld'>",{"$f":"IF(SortSheet!O33=0,\"\",SortSheet!O33)","v":""},"</td>###</tr>"]
["<tr align=\"center\">###<td class=\"Bld\">",{"$f":"IF(SortSheet!B34=\"\",\"\",SortSheet!B34)","v":""},"</td>###<td>",{"$f":"IF(SortSheet!$D34=\"\",\"\",CONCATENATE(SortSheet!$D34,\" \",SortSheet!$E34,\", \",SortSheet!$F34,\", \",SortSheet!$G34))","v":""},"</td>###<td>",{"$f":"IF(SortSheet!H34=\"\",\"\",SortSheet!H34)","v":""},"</td><td>",{"$f":"IF(SortSheet!I34=\"\",\"\",SortSheet!I34)","v":""},"</td><td>",{"$f":"IF(SortSheet!J34=\"\",\"\",SortSheet!J34)","v":""},"</td><td>",{"$f":"IF(SortSheet!K34=\"\",\"\",SortSheet!K34)","v":""},"</td><td>",{"$f":"IF(SortSheet!L34=\"\",\"\",SortSheet!L34)","v":""},"</td><td>",{"$f":"IF(SortSheet!M34=\"\",\"\",SortSheet!M34)","v":""},"</td><td class='Bld'>",{"$f":"IF(SortSheet!N34=\"\",\"\",SortSheet!N34)","v":0},"</td>###<td class='Bld'>",{"$f":"IF(SortSheet!O34=0,\"\",SortSheet!O34)","v":""},"</td>###</tr>"]
["<tr align=\"center\">###<td class=\"Bld\">",{"$f":"IF(SortSheet!B35=\"\",\"\",SortSheet!B35)","v":""},"</td>###<td>",{"$f":"IF(SortSheet!$D35=\"\",\"\",CONCATENATE(SortSheet!$D35,\" \",SortSheet!$E35,\", \",SortSheet!$F35,\", \",SortSheet!$G35))","v":""},"</td>###<td>",{"$f":"IF(SortSheet!H35=\"\",\"\",SortSheet!H35)","v":""},"</td><td>",{"$f":"IF(SortSheet!I35=\"\",\"\",SortSheet!I35)","v":""},"</td><td>",{"$f":"IF(SortSheet!J35=\"\",\"\",SortSheet!J35)","v":""},"</td><td>",{"$f":"IF(SortSheet!K35=\"\",\"\",SortSheet!K35)","v":""},"</td><td>",{"$f":"IF(SortSheet!L35=\"\",\"\",SortSheet!L35)","v":""},"</td><td>",{"$f":"IF(SortSheet!M35=\"\",\"\",SortSheet!M35)","v":""},"</td><td class='Bld'>",{"$f":"IF(SortSheet!N35=\"\",\"\",SortSheet!N35)","v":0},"</td>###<td class='Bld'>",{"$f":"IF(SortSheet!O35=0,\"\",SortSheet!O35)","v":""},"</td>###</tr>"]
["<tr align=\"center\">###<td class=\"Bld\">",{"$f":"IF(SortSheet!B36=\"\",\"\",SortSheet!B36)","v":""},"</td>###<td>",{"$f":"IF(SortSheet!$D36=\"\",\"\",CONCATENATE(SortSheet!$D36,\" \",SortSheet!$E36,\", \",SortSheet!$F36,\", \",SortSheet!$G36))","v":""},"</td>###<td>",{"$f":"IF(SortSheet!H36=\"\",\"\",SortSheet!H36)","v":""},"</td><td>",{"$f":"IF(SortSheet!I36=\"\",\"\",SortSheet!I36)","v":""},"</td><td>",{"$f":"IF(SortSheet!J36=\"\",\"\",SortSheet!J36)","v":""},"</td><td>",{"$f":"IF(SortSheet!K36=\"\",\"\",SortSheet!K36)","v":""},"</td><td>",{"$f":"IF(SortSheet!L36=\"\",\"\",SortSheet!L36)","v":""},"</td><td>",{"$f":"IF(SortSheet!M36=\"\",\"\",SortSheet!M36)","v":""},"</td><td class='Bld'>",{"$f":"IF(SortSheet!N36=\"\",\"\",SortSheet!N36)","v":0},"</td>###<td class='Bld'>",{"$f":"IF(SortSheet!O36=0,\"\",SortSheet!O36)","v":""},"</td>###</tr>"]
["<tr align=\"center\">###<td class=\"Bld\">",{"$f":"IF(SortSheet!B37=\"\",\"\",SortSheet!B37)","v":""},"</td>###<td>",{"$f":"IF(SortSheet!$D37=\"\",\"\",CONCATENATE(SortSheet!$D37,\" \",SortSheet!$E37,\", \",SortSheet!$F37,\", \",SortSheet!$G37))","v":""},"</td>###<td>",{"$f":"IF(SortSheet!H37=\"\",\"\",SortSheet!H37)","v":""},"</td><td>",{"$f":"IF(SortSheet!I37=\"\",\"\",SortSheet!I37)","v":""},"</td><td>",{"$f":"IF(SortSheet!J37=\"\",\"\",SortSheet!J37)","v":""},"</td><td>",{"$f":"IF(SortSheet!K37=\"\",\"\",SortSheet!K37)","v":""},"</td><td>",{"$f":"IF(SortSheet!L37=\"\",\"\",SortSheet!L37)","v":""},"</td><td>",{"$f":"IF(SortSheet!M37=\"\",\"\",SortSheet!M37)","v":""},"</td><td class='Bld'>",{"$f":"IF(SortSheet!N37=\"\",\"\",SortSheet!N37)","v":0},"</td>###<td class='Bld'>",{"$f":"IF(SortSheet!O37=0,\"\",SortSheet!O37)","v":""},"</td>###</tr>"]
["<tr align=\"center\">###<td class=\"Bld\">",{"$f":"IF(SortSheet!B38=\"\",\"\",SortSheet!B38)","v":""},"</td>###<td>",{"$f":"IF(SortSheet!$D38=\"\",\"\",CONCATENATE(SortSheet!$D38,\" \",SortSheet!$E38,\", \",SortSheet!$F38,\", \",SortSheet!$G38))","v":""},"</td>###<td>",{"$f":"IF(SortSheet!H38=\"\",\"\",SortSheet!H38)","v":""},"</td><td>",{"$f":"IF(SortSheet!I38=\"\",\"\",SortSheet!I38)","v":""},"</td><td>",{"$f":"IF(SortSheet!J38=\"\",\"\",SortSheet!J38)","v":""},"</td><td>",{"$f":"IF(SortSheet!K38=\"\",\"\",SortSheet!K38)","v":""},"</td><td>",{"$f":"IF(SortSheet!L38=\"\",\"\",SortSheet!L38)","v":""},"</td><td>",{"$f":"IF(SortSheet!M38=\"\",\"\",SortSheet!M38)","v":""},"</td><td class='Bld'>",{"$f":"IF(SortSheet!N38=\"\",\"\",SortSheet!N38)","v":0},"</td>###<td class='Bld'>",{"$f":"IF(SortSheet!O38=0,\"\",SortSheet!O38)","v":""},"</td>###</tr>"]
["<tr align=\"center\">###<td class=\"Bld\">",{"$f":"IF(SortSheet!B39=\"\",\"\",SortSheet!B39)","v":""},"</td>###<td>",{"$f":"IF(SortSheet!$D39=\"\",\"\",CONCATENATE(SortSheet!$D39,\" \",SortSheet!$E39,\", \",SortSheet!$F39,\", \",SortSheet!$G39))","v":""},"</td>###<td>",{"$f":"IF(SortSheet!H39=\"\",\"\",SortSheet!H39)","v":""},"</td><td>",{"$f":"IF(SortSheet!I39=\"\",\"\",SortSheet!I39)","v":""},"</td><td>",{"$f":"IF(SortSheet!J39=\"\",\"\",SortSheet!J39)","v":""},"</td><td>",{"$f":"IF(SortSheet!K39=\"\",\"\",SortSheet!K39)","v":""},"</td><td>",{"$f":"IF(SortSheet!L39=\"\",\"\",SortSheet!L39)","v":""},"</td><td>",{"$f":"IF(SortSheet!M39=\"\",\"\",SortSheet!M39)","v":""},"</td><td class='Bld'>",{"$f":"IF(SortSheet!N39=\"\",\"\",SortSheet!N39)","v":0},"</td>###<td class='Bld'>",{"$f":"IF(SortSheet!O39=0,\"\",SortSheet!O39)","v":""},"</td>###</tr>"]
["<tr align=\"center\">###<td class=\"Bld\">",{"$f":"IF(SortSheet!B40=\"\",\"\",SortSheet!B40)","v":""},"</td>###<td>",{"$f":"IF(SortSheet!$D40=\"\",\"\",CONCATENATE(SortSheet!$D40,\" \",SortSheet!$E40,\", \",SortSheet!$F40,\", \",SortSheet!$G40))","v":""},"</td>###<td>",{"$f":"IF(SortSheet!H40=\"\",\"\",SortSheet!H40)","v":""},"</td><td>",{"$f":"IF(SortSheet!I40=\"\",\"\",SortSheet!I40)","v":""},"</td><td>",{"$f":"IF(SortSheet!J40=\"\",\"\",SortSheet!J40)","v":""},"</td><td>",{"$f":"IF(SortSheet!K40=\"\",\"\",SortSheet!K40)","v":""},"</td><td>",{"$f":"IF(SortSheet!L40=\"\",\"\",SortSheet!L40)","v":""},"</td><td>",{"$f":"IF(SortSheet!M40=\"\",\"\",SortSheet!M40)","v":""},"</td><td class='Bld'>",{"$f":"IF(SortSheet!N40=\"\",\"\",SortSheet!N40)","v":0},"</td>###<td class='Bld'>",{"$f":"IF(SortSheet!O40=0,\"\",SortSheet!O40)","v":""},"</td>###</tr>"]
["<tr align=\"center\">###<td class=\"Bld\">",{"$f":"IF(SortSheet!B41=\"\",\"\",SortSheet!B41)","v":""},"</td>###<td>",{"$f":"IF(SortSheet!$D41=\"\",\"\",CONCATENATE(SortSheet!$D41,\" \",SortSheet!$E41,\", \",SortSheet!$F41,\", \",SortSheet!$G41))","v":""},"</td>###<td>",{"$f":"IF(SortSheet!H41=\"\",\"\",SortSheet!H41)","v":""},"</td><td>",{"$f":"IF(SortSheet!I41=\"\",\"\",SortSheet!I41)","v":""},"</td><td>",{"$f":"IF(SortSheet!J41=\"\",\"\",SortSheet!J41)","v":""},"</td><td>",{"$f":"IF(SortSheet!K41=\"\",\"\",SortSheet!K41)","v":""},"</td><td>",{"$f":"IF(SortSheet!L41=\"\",\"\",SortSheet!L41)","v":""},"</td><td>",{"$f":"IF(SortSheet!M41=\"\",\"\",SortSheet!M41)","v":""},"</td><td class='Bld'>",{"$f":"IF(SortSheet!N41=\"\",\"\",SortSheet!N41)","v":0},"</td>###<td class='Bld'>",{"$f":"IF(SortSheet!O41=0,\"\",SortSheet!O41)","v":""},"</td>###</tr>"]
["<tr align=\"center\">###<td class=\"Bld\">",{"$f":"IF(SortSheet!B42=\"\",\"\",SortSheet!B42)","v":""},"</td>###<td>",{"$f":"IF(SortSheet!$D42=\"\",\"\",CONCATENATE(SortSheet!$D42,\" \",SortSheet!$E42,\", \",SortSheet!$F42,\", \",SortSheet!$G42))","v":""},"</td>###<td>",{"$f":"IF(SortSheet!H42=\"\",\"\",SortSheet!H42)","v":""},"</td><td>",{"$f":"IF(SortSheet!I42=\"\",\"\",SortSheet!I42)","v":""},"</td><td>",{"$f":"IF(SortSheet!J42=\"\",\"\",SortSheet!J42)","v":""},"</td><td>",{"$f":"IF(SortSheet!K42=\"\",\"\",SortSheet!K42)","v":""},"</td><td>",{"$f":"IF(SortSheet!L42=\"\",\"\",SortSheet!L42)","v":""},"</td><td>",{"$f":"IF(SortSheet!M42=\"\",\"\",SortSheet!M42)","v":""},"</td><td class='Bld'>",{"$f":"IF(SortSheet!N42=\"\",\"\",SortSheet!N42)","v":0},"</td>###<td class='Bld'>",{"$f":"IF(SortSheet!O42=0,\"\",SortSheet!O42)","v":""},"</td>###</tr>"]
[]
["REVOLVER"]
["<tr align=\"center\">###<td class=\"Bld\">",{"$f":"IF(SortSheet!R4=\"\",\"\",SortSheet!R4)","v":""},"</td>###<td>",{"$f":"IF(SortSheet!$T4=\"\",\"\",CONCATENATE(SortSheet!$T4,\" \",SortSheet!$U4,\", \",SortSheet!$V4,\", \",SortSheet!$W4))","v":""},{"$f":"IF(F45=5,\"</td>###<td class='ClnPos'>\",\"</td>###<td>\")","v":"</td>###<td>"},{"$f":"IF(SortSheet!X4=\"\",\"\",SortSheet!X4)","v":""},{"$f":"IF(H45=5,\"</td><td class='ClnPos'>\",\"</td><td>\")","v":"</td><td>"},{"$f":"IF(SortSheet!Y4=\"\",\"\",SortSheet!Y4)","v":""},{"$f":"IF(J45=5,\"</td><td class='ClnPos'>\",\"</td><td>\")","v":"</td><td>"},{"$f":"IF(SortSheet!Z4=\"\",\"\",SortSheet!Z4)","v":""},{"$f":"IF(L45=5,\"</td><td class='ClnPos'>\",\"</td><td>\")","v":"</td><td>"},{"$f":"IF(SortSheet!AA4=\"\",\"\",SortSheet!AA4)","v":""},{"$f":"IF(N45=5,\"</td><td class='ClnPos'>\",\"</td><td>\")","v":"</td><td>"},{"$f":"IF(SortSheet!AB4=\"\",\"\",SortSheet!AB4)","v":""},{"$f":"IF(P45=5,\"</td><td class='ClnPos'>\",\"</td><td>\")","v":"</td><td>"},{"$f":"IF(SortSheet!AC4=\"\",\"\",SortSheet!AC4)","v":""},{"$f":"IF(R45=30,\"</td><td class='ClnMatch'>\",\"</td><td class='Bld'>\")","v":"</td><td class='Bld'>"},{"$f":"IF(SortSheet!AD4=\"\",\"\",SortSheet!AD4)","v":0},"</td>###<td class='Bld'>",{"$f":"IF(SortSheet!AE4=0,\"\",SortSheet!AE4)","v":""},"</td>###</tr>"]
["<tr align=\"center\">###<td class=\"Bld\">",{"$f":"IF(SortSheet!R5=\"\",\"\",SortSheet!R5)","v":""},"</td>###<td>",{"$f":"IF(SortSheet!$T5=\"\",\"\",CONCATENATE(SortSheet!$T5,\" \",SortSheet!$U5,\", \",SortSheet!$V5,\", \",SortSheet!$W5))","v":""},{"$f":"IF(F46=5,\"</td>###<td class='ClnPos'>\",\"</td>###<td>\")","v":"</td>###<td>"},{"$f":"IF(SortSheet!X5=\"\",\"\",SortSheet!X5)","v":""},{"$f":"IF(H46=5,\"</td><td class='ClnPos'>\",\"</td><td>\")","v":"</td><td>"},{"$f":"IF(SortSheet!Y5=\"\",\"\",SortSheet!Y5)","v":""},{"$f":"IF(J46=5,\"</td><td class='ClnPos'>\",\"</td><td>\")","v":"</td><td>"},{"$f":"IF(SortSheet!Z5=\"\",\"\",SortSheet!Z5)","v":""},{"$f":"IF(L46=5,\"</td><td class='ClnPos'>\",\"</td><td>\")","v":"</td><td>"},{"$f":"IF(SortSheet!AA5=\"\",\"\",SortSheet!AA5)","v":""},{"$f":"IF(N46=5,\"</td><td class='ClnPos'>\",\"</td><td>\")","v":"</td><td>"},{"$f":"IF(SortSheet!AB5=\"\",\"\",SortSheet!AB5)","v":""},{"$f":"IF(P46=5,\"</td><td class='ClnPos'>\",\"</td><td>\")","v":"</td><td>"},{"$f":"IF(SortSheet!AC5=\"\",\"\",SortSheet!AC5)","v":""},{"$f":"IF(R46=30,\"</td><td class='ClnMatch'>\",\"</td><td class='Bld'>\")","v":"</td><td class='Bld'>"},{"$f":"IF(SortSheet!AD5=\"\",\"\",SortSheet!AD5)","v":0},"</td>###<td class='Bld'>",{"$f":"IF(SortSheet!AE5=0,\"\",SortSheet!AE5)","v":""},"</td>###</tr>"]
["<tr align=\"center\">###<td class=\"Bld\">",{"$f":"IF(SortSheet!R6=\"\",\"\",SortSheet!R6)","v":""},"</td>###<td>",{"$f":"IF(SortSheet!$T6=\"\",\"\",CONCATENATE(SortSheet!$T6,\" \",SortSheet!$U6,\", \",SortSheet!$V6,\", \",SortSheet!$W6))","v":""},"</td>###<td>",{"$f":"IF(SortSheet!X6=\"\",\"\",SortSheet!X6)","v":""},"</td><td>",{"$f":"IF(SortSheet!Y6=\"\",\"\",SortSheet!Y6)","v":""},"</td><td>",{"$f":"IF(SortSheet!Z6=\"\",\"\",SortSheet!Z6)","v":""},"</td><td>",{"$f":"IF(SortSheet!AA6=\"\",\"\",SortSheet!AA6)","v":""},"</td><td>",{"$f":"IF(SortSheet!AB6=\"\",\"\",SortSheet!AB6)","v":""},"</td><td>",{"$f":"IF(SortSheet!AC6=\"\",\"\",SortSheet!AC6)","v":""},"</td><td class='Bld'>",{"$f":"IF(SortSheet!AD6=\"\",\"\",SortSheet!AD6)","v":0},"</td>###<td class='Bld'>",{"$f":"IF(SortSheet!AE6=0,\"\",SortSheet!AE6)","v":""},"</td>###</tr>"]
["<tr align=\"center\">###<td class=\"Bld\">",{"$f":"IF(SortSheet!R7=\"\",\"\",SortSheet!R7)","v":""},"</td>###<td>",{"$f":"IF(SortSheet!$T7=\"\",\"\",CONCATENATE(SortSheet!$T7,\" \",SortSheet!$U7,\", \",SortSheet!$V7,\", \",SortSheet!$W7))","v":""},"</td>###<td>",{"$f":"IF(SortSheet!X7=\"\",\"\",SortSheet!X7)","v":""},"</td><td>",{"$f":"IF(SortSheet!Y7=\"\",\"\",SortSheet!Y7)","v":""},"</td><td>",{"$f":"IF(SortSheet!Z7=\"\",\"\",SortSheet!Z7)","v":""},"</td><td>",{"$f":"IF(SortSheet!AA7=\"\",\"\",SortSheet!AA7)","v":""},"</td><td>",{"$f":"IF(SortSheet!AB7=\"\",\"\",SortSheet!AB7)","v":""},"</td><td>",{"$f":"IF(SortSheet!AC7=\"\",\"\",SortSheet!AC7)","v":""},"</td><td class='Bld'>",{"$f":"IF(SortSheet!AD7=\"\",\"\",SortSheet!AD7)","v":0},"</td>###<td class='Bld'>",{"$f":"IF(SortSheet!AE7=0,\"\",SortSheet!AE7)","v":""},"</td>###</tr>"]
["<tr align=\"center\">###<td class=\"Bld\">",{"$f":"IF(SortSheet!R8=\"\",\"\",SortSheet!R8)","v":""},"</td>###<td>",{"$f":"IF(SortSheet!$T8=\"\",\"\",CONCATENATE(SortSheet!$T8,\" \",SortSheet!$U8,\", \",SortSheet!$V8,\", \",SortSheet!$W8))","v":""},"</td>###<td>",{"$f":"IF(SortSheet!X8=\"\",\"\",SortSheet!X8)","v":""},"</td><td>",{"$f":"IF(SortSheet!Y8=\"\",\"\",SortSheet!Y8)","v":""},"</td><td>",{"$f":"IF(SortSheet!Z8=\"\",\"\",SortSheet!Z8)","v":""},"</td><td>",{"$f":"IF(SortSheet!AA8=\"\",\"\",SortSheet!AA8)","v":""},"</td><td>",{"$f":"IF(SortSheet!AB8=\"\",\"\",SortSheet!AB8)","v":""},"</td><td>",{"$f":"IF(SortSheet!AC8=\"\",\"\",SortSheet!AC8)","v":""},"</td><td class='Bld'>",{"$f":"IF(SortSheet!AD8=\"\",\"\",SortSheet!AD8)","v":0},"</td>###<td class='Bld'>",{"$f":"IF(SortSheet!AE8=0,\"\",SortSheet!AE8)","v":""},"</td>###</tr>"]
["<tr align=\"center\">###<td class=\"Bld\">",{"$f":"IF(SortSheet!R9=\"\",\"\",SortSheet!R9)","v":""},"</td>###<td>",{"$f":"IF(SortSheet!$T9=\"\",\"\",CONCATENATE(SortSheet!$T9,\" \",SortSheet!$U9,\", \",SortSheet!$V9,\", \",SortSheet!$W9))","v":""},"</td>###<td>",{"$f":"IF(SortSheet!X9=\"\",\"\",SortSheet!X9)","v":""},"</td><td>",{"$f":"IF(SortSheet!Y9=\"\",\"\",SortSheet!Y9)","v":""},"</td><td>",{"$f":"IF(SortSheet!Z9=\"\",\"\",SortSheet!Z9)","v":""},"</td><td>",{"$f":"IF(SortSheet!AA9=\"\",\"\",SortSheet!AA9)","v":""},"</td><td>",{"$f":"IF(SortSheet!AB9=\"\",\"\",SortSheet!AB9)","v":""},"</td><td>",{"$f":"IF(SortSheet!AC9=\"\",\"\",SortSheet!AC9)","v":""},"</td><td class='Bld'>",{"$f":"IF(SortSheet!AD9=\"\",\"\",SortSheet!AD9)","v":0},"</td>###<td class='Bld'>",{"$f":"IF(SortSheet!AE9=0,\"\",SortSheet!AE9)","v":""},"</td>###</tr>"]
["<tr align=\"center\">###<td class=\"Bld\">",{"$f":"IF(SortSheet!R10=\"\",\"\",SortSheet!R10)","v":""},"</td>###<td>",{"$f":"IF(SortSheet!$T10=\"\",\"\",CONCATENATE(SortSheet!$T10,\" \",SortSheet!$U10,\", \",SortSheet!$V10,\", \",SortSheet!$W10))","v":""},"</td>###<td>",{"$f":"IF(SortSheet!X10=\"\",\"\",SortSheet!X10)","v":""},"</td><td>",{"$f":"IF(SortSheet!Y10=\"\",\"\",SortSheet!Y10)","v":""},"</td><td>",{"$f":"IF(SortSheet!Z10=\"\",\"\",SortSheet!Z10)","v":""},"</td><td>",{"$f":"IF(SortSheet!AA10=\"\",\"\",SortSheet!AA10)","v":""},"</td><td>",{"$f":"IF(SortSheet!AB10=\"\",\"\",SortSheet!AB10)","v":""},"</td><td>",{"$f":"IF(SortSheet!AC10=\"\",\"\",SortSheet!AC10)","v":""},"</td><td class='Bld'>",{"$f":"IF(SortSheet!AD10=\"\",\"\",SortSheet!AD10)","v":0},"</td>###<td class='Bld'>",{"$f":"IF(SortSheet!AE10=0,\"\",SortSheet!AE10)","v":""},"</td>###</tr>"]
["<tr align=\"center\">###<td class=\"Bld\">",{"$f":"IF(SortSheet!R11=\"\",\"\",SortSheet!R11)","v":""},"</td>###<td>",{"$f":"IF(SortSheet!$T11=\"\",\"\",CONCATENATE(SortSheet!$T11,\" \",SortSheet!$U11,\", \",SortSheet!$V11,\", \",SortSheet!$W11))","v":""},"</td>###<td>",{"$f":"IF(SortSheet!X11=\"\",\"\",SortSheet!X11)","v":""},"</td><td>",{"$f":"IF(SortSheet!Y11=\"\",\"\",SortSheet!Y11)","v":""},"</td><td>",{"$f":"IF(SortSheet!Z11=\"\",\"\",SortSheet!Z11)","v":""},"</td><td>",{"$f":"IF(SortSheet!AA11=\"\",\"\",SortSheet!AA11)","v":""},"</td><td>",{"$f":"IF(SortSheet!AB11=\"\",\"\",SortSheet!AB11)","v":""},"</td><td>",{"$f":"IF(SortSheet!AC11=\"\",\"\",SortSheet!AC11)","v":""},"</td><td class='Bld'>",{"$f":"IF(SortSheet!AD11=\"\",\"\",SortSheet!AD11)","v":0},"</td>###<td class='Bld'>",{"$f":"IF(SortSheet!AE11=0,\"\",SortSheet!AE11)","v":""},"</td>###</tr>"]
["<tr align=\"center\">###<td class=\"Bld\">",{"$f":"IF(SortSheet!R12=\"\",\"\",SortSheet!R12)","v":""},"</td>###<td>",{"$f":"IF(SortSheet!$T12=\"\",\"\",CONCATENATE(SortSheet!$T12,\" \",SortSheet!$U12,\", \",SortSheet!$V12,\", \",SortSheet!$W12))","v":""},"</td>###<td>",{"$f":"IF(SortSheet!X12=\"\",\"\",SortSheet!X12)","v":""},"</td><td>",{"$f":"IF(SortSheet!Y12=\"\",\"\",SortSheet!Y12)","v":""},"</td><td>",{"$f":"IF(SortSheet!Z12=\"\",\"\",SortSheet!Z12)","v":""},"</td><td>",{"$f":"IF(SortSheet!AA12=\"\",\"\",SortSheet!AA12)","v":""},"</td><td>",{"$f":"IF(SortSheet!AB12=\"\",\"\",SortSheet!AB12)","v":""},"</td><td>",{"$f":"IF(SortSheet!AC12=\"\",\"\",SortSheet!AC12)","v":""},"</td><td class='Bld'>",{"$f":"IF(SortSheet!AD12=\"\",\"\",SortSheet!AD12)","v":0},"</td>###<td class='Bld'>",{"$f":"IF(SortSheet!AE12=0,\"\",SortSheet!AE12)","v":""},"</td>###</tr>"]
["<tr align=\"center\">###<td class=\"Bld\">",{"$f":"IF(SortSheet!R13=\"\",\"\",SortSheet!R13)","v":""},"</td>###<td>",{"$f":"IF(SortSheet!$T13=\"\",\"\",CONCATENATE(SortSheet!$T13,\" \",SortSheet!$U13,\", \",SortSheet!$V13,\", \",SortSheet!$W13))","v":""},"</td>###<td>",{"$f":"IF(SortSheet!X13=\"\",\"\",SortSheet!X13)","v":""},"</td><td>",{"$f":"IF(SortSheet!Y13=\"\",\"\",SortSheet!Y13)","v":""},"</td><td>",{"$f":"IF(SortSheet!Z13=\"\",\"\",SortSheet!Z13)","v":""},"</td><td>",{"$f":"IF(SortSheet!AA13=\"\",\"\",SortSheet!AA13)","v":""},"</td><td>",{"$f":"IF(SortSheet!AB13=\"\",\"\",SortSheet!AB13)","v":""},"</td><td>",{"$f":"IF(SortSheet!AC13=\"\",\"\",SortSheet!AC13)","v":""},"</td><td class='Bld'>",{"$f":"IF(SortSheet!AD13=\"\",\"\",SortSheet!AD13)","v":0},"</td>###<td class='Bld'>",{"$f":"IF(SortSheet!AE13=0,\"\",SortSheet!AE13)","v":""},"</td>###</tr>"]
["<tr align=\"center\">###<td class=\"Bld\">",{"$f":"IF(SortSheet!R14=\"\",\"\",SortSheet!R14)","v":""},"</td>###<td>",{"$f":"IF(SortSheet!$T14=\"\",\"\",CONCATENATE(SortSheet!$T14,\" \",SortSheet!$U14,\", \",SortSheet!$V14,\", \",SortSheet!$W14))","v":""},"</td>###<td>",{"$f":"IF(SortSheet!X14=\"\",\"\",SortSheet!X14)","v":""},"</td><td>",{"$f":"IF(SortSheet!Y14=\"\",\"\",SortSheet!Y14)","v":""},"</td><td>",{"$f":"IF(SortSheet!Z14=\"\",\"\",SortSheet!Z14)","v":""},"</td><td>",{"$f":"IF(SortSheet!AA14=\"\",\"\",SortSheet!AA14)","v":""},"</td><td>",{"$f":"IF(SortSheet!AB14=\"\",\"\",SortSheet!AB14)","v":""},"</td><td>",{"$f":"IF(SortSheet!AC14=\"\",\"\",SortSheet!AC14)","v":""},"</td><td class='Bld'>",{"$f":"IF(SortSheet!AD14=\"\",\"\",SortSheet!AD14)","v":0},"</td>###<td class='Bld'>",{"$f":"IF(SortSheet!AE14=0,\"\",SortSheet!AE14)","v":""},"</td>###</tr>"]
["<tr align=\"center\">###<td class=\"Bld\">",{"$f":"IF(SortSheet!R15=\"\",\"\",SortSheet!R15)","v":""},"</td>###<td>",{"$f":"IF(SortSheet!$T15=\"\",\"\",CONCATENATE(SortSheet!$T15,\" \",SortSheet!$U15,\", \",SortSheet!$V15,\", \",SortSheet!$W15))","v":""},"</td>###<td>",{"$f":"IF(SortSheet!X15=\"\",\"\",SortSheet!X15)","v":""},"</td><td>",{"$f":"IF(SortSheet!Y15=\"\",\"\",SortSheet!Y15)","v":""},"</td><td>",{"$f":"IF(SortSheet!Z15=\"\",\"\",SortSheet!Z15)","v":""},"</td><td>",{"$f":"IF(SortSheet!AA15=\"\",\"\",SortSheet!AA15)","v":""},"</td><td>",{"$f":"IF(SortSheet!AB15=\"\",\"\",SortSheet!AB15)","v":""},"</td><td>",{"$f":"IF(SortSheet!AC15=\"\",\"\",SortSheet!AC15)","v":""},"</td><td class='Bld'>",{"$f":"IF(SortSheet!AD15=\"\",\"\",SortSheet!AD15)","v":0},"</td>###<td class='Bld'>",{"$f":"IF(SortSheet!AE15=0,\"\",SortSheet!AE15)","v":""},"</td>###</tr>"]
["<tr align=\"center\">###<td class=\"Bld\">",{"$f":"IF(SortSheet!R16=\"\",\"\",SortSheet!R16)","v":""},"</td>###<td>",{"$f":"IF(SortSheet!$T16=\"\",\"\",CONCATENATE(SortSheet!$T16,\" \",SortSheet!$U16,\", \",SortSheet!$V16,\", \",SortSheet!$W16))","v":""},"</td>###<td>",{"$f":"IF(SortSheet!X16=\"\",\"\",SortSheet!X16)","v":""},"</td><td>",{"$f":"IF(SortSheet!Y16=\"\",\"\",SortSheet!Y16)","v":""},"</td><td>",{"$f":"IF(SortSheet!Z16=\"\",\"\",SortSheet!Z16)","v":""},"</td><td>",{"$f":"IF(SortSheet!AA16=\"\",\"\",SortSheet!AA16)","v":""},"</td><td>",{"$f":"IF(SortSheet!AB16=\"\",\"\",SortSheet!AB16)","v":""},"</td><td>",{"$f":"IF(SortSheet!AC16=\"\",\"\",SortSheet!AC16)","v":""},"</td><td class='Bld'>",{"$f":"IF(SortSheet!AD16=\"\",\"\",SortSheet!AD16)","v":0},"</td>###<td class='Bld'>",{"$f":"IF(SortSheet!AE16=0,\"\",SortSheet!AE16)","v":""},"</td>###</tr>"]
["<tr align=\"center\">###<td class=\"Bld\">",{"$f":"IF(SortSheet!R17=\"\",\"\",SortSheet!R17)","v":""},"</td>###<td>",{"$f":"IF(SortSheet!$T17=\"\",\"\",CONCATENATE(SortSheet!$T17,\" \",SortSheet!$U17,\", \",SortSheet!$V17,\", \",SortSheet!$W17))","v":""},"</td>###<td>",{"$f":"IF(SortSheet!X17=\"\",\"\",SortSheet!X17)","v":""},"</td><td>",{"$f":"IF(SortSheet!Y17=\"\",\"\",SortSheet!Y17)","v":""},"</td><td>",{"$f":"IF(SortSheet!Z17=\"\",\"\",SortSheet!Z17)","v":""},"</td><td>",{"$f":"IF(SortSheet!AA17=\"\",\"\",SortSheet!AA17)","v":""},"</td><td>",{"$f":"IF(SortSheet!AB17=\"\",\"\",SortSheet!AB17)","v":""},"</td><td>",{"$f":"IF(SortSheet!AC17=\"\",\"\",SortSheet!AC17)","v":""},"</td><td class='Bld'>",{"$f":"IF(SortSheet!AD17=\"\",\"\",SortSheet!AD17)","v":0},"</td>###<td class='Bld'>",{"$f":"IF(SortSheet!AE17=0,\"\",SortSheet!AE17)","v":""},"</td>###</tr>"]
["<tr align=\"center\">###<td class=\"Bld\">",{"$f":"IF(SortSheet!R18=\"\",\"\",SortSheet!R18)","v":""},"</td>###<td>",{"$f":"IF(SortSheet!$T18=\"\",\"\",CONCATENATE(SortSheet!$T18,\" \",SortSheet!$U18,\", \",SortSheet!$V18,\", \",SortSheet!$W18))","v":""},"</td>###<td>",{"$f":"IF(SortSheet!X18=\"\",\"\",SortSheet!X18)","v":""},"</td><td>",{"$f":"IF(SortSheet!Y18=\"\",\"\",SortSheet!Y18)","v":""},"</td><td>",{"$f":"IF(SortSheet!Z18=\"\",\"\",SortSheet!Z18)","v":""},"</td><td>",{"$f":"IF(SortSheet!AA18=\"\",\"\",SortSheet!AA18)","v":""},"</td><td>",{"$f":"IF(SortSheet!AB18=\"\",\"\",SortSheet!AB18)","v":""},"</td><td>",{"$f":"IF(SortSheet!AC18=\"\",\"\",SortSheet!AC18)","v":""},"</td><td class='Bld'>",{"$f":"IF(SortSheet!AD18=\"\",\"\",SortSheet!AD18)","v":0},"</td>###<td class='Bld'>",{"$f":"IF(SortSheet!AE18=0,\"\",SortSheet!AE18)","v":""},"</td>###</tr>"]
["<tr align=\"center\">###<td class=\"Bld\">",{"$f":"IF(SortSheet!R19=\"\",\"\",SortSheet!R19)","v":""},"</td>###<td>",{"$f":"IF(SortSheet!$T19=\"\",\"\",CONCATENATE(SortSheet!$T19,\" \",SortSheet!$U19,\", \",SortSheet!$V19,\", \",SortSheet!$W19))","v":""},"</td>###<td>",{"$f":"IF(SortSheet!X19=\"\",\"\",SortSheet!X19)","v":""},"</td><td>",{"$f":"IF(SortSheet!Y19=\"\",\"\",SortSheet!Y19)","v":""},"</td><td>",{"$f":"IF(SortSheet!Z19=\"\",\"\",SortSheet!Z19)","v":""},"</td><td>",{"$f":"IF(SortSheet!AA19=\"\",\"\",SortSheet!AA19)","v":""},"</td><td>",{"$f":"IF(SortSheet!AB19=\"\",\"\",SortSheet!AB19)","v":""},"</td><td>",{"$f":"IF(SortSheet!AC19=\"\",\"\",SortSheet!AC19)","v":""},"</td><td class='Bld'>",{"$f":"IF(SortSheet!AD19=\"\",\"\",SortSheet!AD19)","v":0},"</td>###<td class='Bld'>",{"$f":"IF(SortSheet!AE19=0,\"\",SortSheet!AE19)","v":""},"</td>###</tr>"]
["<tr align=\"center\">###<td class=\"Bld\">",{"$f":"IF(SortSheet!R20=\"\",\"\",SortSheet!R20)","v":""},"</td>###<td>",{"$f":"IF(SortSheet!$T20=\"\",\"\",CONCATENATE(SortSheet!$T20,\" \",SortSheet!$U20,\", \",SortSheet!$V20,\", \",SortSheet!$W20))","v":""},"</td>###<td>",{"$f":"IF(SortSheet!X20=\"\",\"\",SortSheet!X20)","v":""},"</td><td>",{"$f":"IF(SortSheet!Y20=\"\",\"\",SortSheet!Y20)","v":""},"</td><td>",{"$f":"IF(SortSheet!Z20=\"\",\"\",SortSheet!Z20)","v":""},"</td><td>",{"$f":"IF(SortSheet!AA20=\"\",\"\",SortSheet!AA20)","v":""},"</td><td>",{"$f":"IF(SortSheet!AB20=\"\",\"\",SortSheet!AB20)","v":""},"</td><td>",{"$f":"IF(SortSheet!AC20=\"\",\"\",SortSheet!AC20)","v":""},"</td><td class='Bld'>",{"$f":"IF(SortSheet!AD20=\"\",\"\",SortSheet!AD20)","v":0},"</td>###<td class='Bld'>",{"$f":"IF(SortSheet!AE20=0,\"\",SortSheet!AE20)","v":""},"</td>###</tr>"]
["<tr align=\"center\">###<td class=\"Bld\">",{"$f":"IF(SortSheet!R21=\"\",\"\",SortSheet!R21)","v":""},"</td>###<td>",{"$f":"IF(SortSheet!$T21=\"\",\"\",CONCATENATE(SortSheet!$T21,\" \",SortSheet!$U21,\", \",SortSheet!$V21,\", \",SortSheet!$W21))","v":""},"</td>###<td>",{"$f":"IF(SortSheet!X21=\"\",\"\",SortSheet!X21)","v":""},"</td><td>",{"$f":"IF(SortSheet!Y21=\"\",\"\",SortSheet!Y21)","v":""},"</td><td>",{"$f":"IF(SortSheet!Z21=\"\",\"\",SortSheet!Z21)","v":""},"</td><td>",{"$f":"IF(SortSheet!AA21=\"\",\"\",SortSheet!AA21)","v":""},"</td><td>",{"$f":"IF(SortSheet!AB21=\"\",\"\",SortSheet!AB21)","v":""},"</td><td>",{"$f":"IF(SortSheet!AC21=\"\",\"\",SortSheet!AC21)","v":""},"</td><td class='Bld'>",{"$f":"IF(SortSheet!AD21=\"\",\"\",SortSheet!AD21)","v":0},"</td>###<td class='Bld'>",{"$f":"IF(SortSheet!AE21=0,\"\",SortSheet!AE21)","v":""},"</td>###</tr>"]
["<tr align=\"center\">###<td class=\"Bld\">",{"$f":"IF(SortSheet!R22=\"\",\"\",SortSheet!R22)","v":""},"</td>###<td>",{"$f":"IF(SortSheet!$T22=\"\",\"\",CONCATENATE(SortSheet!$T22,\" \",SortSheet!$U22,\", \",SortSheet!$V22,\", \",SortSheet!$W22))","v":""},"</td>###<td>",{"$f":"IF(SortSheet!X22=\"\",\"\",SortSheet!X22)","v":""},"</td><td>",{"$f":"IF(SortSheet!Y22=\"\",\"\",SortSheet!Y22)","v":""},"</td><td>",{"$f":"IF(SortSheet!Z22=\"\",\"\",SortSheet!Z22)","v":""},"</td><td>",{"$f":"IF(SortSheet!AA22=\"\",\"\",SortSheet!AA22)","v":""},"</td><td>",{"$f":"IF(SortSheet!AB22=\"\",\"\",SortSheet!AB22)","v":""},"</td><td>",{"$f":"IF(SortSheet!AC22=\"\",\"\",SortSheet!AC22)","v":""},"</td><td class='Bld'>",{"$f":"IF(SortSheet!AD22=\"\",\"\",SortSheet!AD22)","v":0},"</td>###<td class='Bld'>",{"$f":"IF(SortSheet!AE22=0,\"\",SortSheet!AE22)","v":""},"</td>###</tr>"]
["<tr align=\"center\">###<td class=\"Bld\">",{"$f":"IF(SortSheet!R23=\"\",\"\",SortSheet!R23)","v":""},"</td>###<td>",{"$f":"IF(SortSheet!$T23=\"\",\"\",CONCATENATE(SortSheet!$T23,\" \",SortSheet!$U23,\", \",SortSheet!$V23,\", \",SortSheet!$W23))","v":""},"</td>###<td>",{"$f":"IF(SortSheet!X23=\"\",\"\",SortSheet!X23)","v":""},"</td><td>",{"$f":"IF(SortSheet!Y23=\"\",\"\",SortSheet!Y23)","v":""},"</td><td>",{"$f":"IF(SortSheet!Z23=\"\",\"\",SortSheet!Z23)","v":""},"</td><td>",{"$f":"IF(SortSheet!AA23=\"\",\"\",SortSheet!AA23)","v":""},"</td><td>",{"$f":"IF(SortSheet!AB23=\"\",\"\",SortSheet!AB23)","v":""},"</td><td>",{"$f":"IF(SortSheet!AC23=\"\",\"\",SortSheet!AC23)","v":""},"</td><td class='Bld'>",{"$f":"IF(SortSheet!AD23=\"\",\"\",SortSheet!AD23)","v":0},"</td>###<td class='Bld'>",{"$f":"IF(SortSheet!AE23=0,\"\",SortSheet!AE23)","v":""},"</td>###</tr>"]
["<tr align=\"center\">###<td class=\"Bld\">",{"$f":"IF(SortSheet!R24=\"\",\"\",SortSheet!R24)","v":""},"</td>###<td>",{"$f":"IF(SortSheet!$T24=\"\",\"\",CONCATENATE(SortSheet!$T24,\" \",SortSheet!$U24,\", \",SortSheet!$V24,\", \",SortSheet!$W24))","v":""},"</td>###<td>",{"$f":"IF(SortSheet!X24=\"\",\"\",SortSheet!X24)","v":""},"</td><td>",{"$f":"IF(SortSheet!Y24=\"\",\"\",SortSheet!Y24)","v":""},"</td><td>",{"$f":"IF(SortSheet!Z24=\"\",\"\",SortSheet!Z24)","v":""},"</td><td>",{"$f":"IF(SortSheet!AA24=\"\",\"\",SortSheet!AA24)","v":""},"</td><td>",{"$f":"IF(SortSheet!AB24=\"\",\"\",SortSheet!AB24)","v":""},"</td><td>",{"$f":"IF(SortSheet!AC24=\"\",\"\",SortSheet!AC24)","v":""},"</td><td class='Bld'>",{"$f":"IF(SortSheet!AD24=\"\",\"\",SortSheet!AD24)","v":0},"</td>###<td class='Bld'>",{"$f":"IF(SortSheet!AE24=0,\"\",SortSheet!AE24)","v":""},"</td>###</tr>"]
["<tr align=\"center\">###<td class=\"Bld\">",{"$f":"IF(SortSheet!R25=\"\",\"\",SortSheet!R25)","v":""},"</td>###<td>",{"$f":"IF(SortSheet!$T25=\"\",\"\",CONCATENATE(SortSheet!$T25,\" \",SortSheet!$U25,\", \",SortSheet!$V25,\", \",SortSheet!$W25))","v":""},"</td>###<td>",{"$f":"IF(SortSheet!X25=\"\",\"\",SortSheet!X25)","v":""},"</td><td>",{"$f":"IF(SortSheet!Y25=\"\",\"\",SortSheet!Y25)","v":""},"</td><td>",{"$f":"IF(SortSheet!Z25=\"\",\"\",SortSheet!Z25)","v":""},"</td><td>",{"$f":"IF(SortSheet!AA25=\"\",\"\",SortSheet!AA25)","v":""},"</td><td>",{"$f":"IF(SortSheet!AB25=\"\",\"\",SortSheet!AB25)","v":""},"</td><td>",{"$f":"IF(SortSheet!AC25=\"\",\"\",SortSheet!AC25)","v":""},"</td><td class='Bld'>",{"$f":"IF(SortSheet!AD25=\"\",\"\",SortSheet!AD25)","v":0},"</td>###<td class='Bld'>",{"$f":"IF(SortSheet!AE25=0,\"\",SortSheet!AE25)","v":""},"</td>###</tr>"]
["<tr align=\"center\">###<td class=\"Bld\">",{"$f":"IF(SortSheet!R26=\"\",\"\",SortSheet!R26)","v":""},"</td>###<td>",{"$f":"IF(SortSheet!$T26=\"\",\"\",CONCATENATE(SortSheet!$T26,\" \",SortSheet!$U26,\", \",SortSheet!$V26,\", \",SortSheet!$W26))","v":""},"</td>###<td>",{"$f":"IF(SortSheet!X26=\"\",\"\",SortSheet!X26)","v":""},"</td><td>",{"$f":"IF(SortSheet!Y26=\"\",\"\",SortSheet!Y26)","v":""},"</td><td>",{"$f":"IF(SortSheet!Z26=\"\",\"\",SortSheet!Z26)","v":""},"</td><td>",{"$f":"IF(SortSheet!AA26=\"\",\"\",SortSheet!AA26)","v":""},"</td><td>",{"$f":"IF(SortSheet!AB26=\"\",\"\",SortSheet!AB26)","v":""},"</td><td>",{"$f":"IF(SortSheet!AC26=\"\",\"\",SortSheet!AC26)","v":""},"</td><td class='Bld'>",{"$f":"IF(SortSheet!AD26=\"\",\"\",SortSheet!AD26)","v":0},"</td>###<td class='Bld'>",{"$f":"IF(SortSheet!AE26=0,\"\",SortSheet!AE26)","v":""},"</td>###</tr>"]
["<tr align=\"center\">###<td class=\"Bld\">",{"$f":"IF(SortSheet!R27=\"\",\"\",SortSheet!R27)","v":""},"</td>###<td>",{"$f":"IF(SortSheet!$T27=\"\",\"\",CONCATENATE(SortSheet!$T27,\" \",SortSheet!$U27,\", \",SortSheet!$V27,\", \",SortSheet!$W27))","v":""},"</td>###<td>",{"$f":"IF(SortSheet!X27=\"\",\"\",SortSheet!X27)","v":""},"</td><td>",{"$f":"IF(SortSheet!Y27=\"\",\"\",SortSheet!Y27)","v":""},"</td><td>",{"$f":"IF(SortSheet!Z27=\"\",\"\",SortSheet!Z27)","v":""},"</td><td>",{"$f":"IF(SortSheet!AA27=\"\",\"\",SortSheet!AA27)","v":""},"</td><td>",{"$f":"IF(SortSheet!AB27=\"\",\"\",SortSheet!AB27)","v":""},"</td><td>",{"$f":"IF(SortSheet!AC27=\"\",\"\",SortSheet!AC27)","v":""},"</td><td class='Bld'>",{"$f":"IF(SortSheet!AD27=\"\",\"\",SortSheet!AD27)","v":0},"</td>###<td class='Bld'>",{"$f":"IF(SortSheet!AE27=0,\"\",SortSheet!AE27)","v":""},"</td>###</tr>"]
["<tr align=\"center\">###<td class=\"Bld\">",{"$f":"IF(SortSheet!R28=\"\",\"\",SortSheet!R28)","v":""},"</td>###<td>",{"$f":"IF(SortSheet!$T28=\"\",\"\",CONCATENATE(SortSheet!$T28,\" \",SortSheet!$U28,\", \",SortSheet!$V28,\", \",SortSheet!$W28))","v":""},"</td>###<td>",{"$f":"IF(SortSheet!X28=\"\",\"\",SortSheet!X28)","v":""},"</td><td>",{"$f":"IF(SortSheet!Y28=\"\",\"\",SortSheet!Y28)","v":""},"</td><td>",{"$f":"IF(SortSheet!Z28=\"\",\"\",SortSheet!Z28)","v":""},"</td><td>",{"$f":"IF(SortSheet!AA28=\"\",\"\",SortSheet!AA28)","v":""},"</td><td>",{"$f":"IF(SortSheet!AB28=\"\",\"\",SortSheet!AB28)","v":""},"</td><td>",{"$f":"IF(SortSheet!AC28=\"\",\"\",SortSheet!AC28)","v":""},"</td><td class='Bld'>",{"$f":"IF(SortSheet!AD28=\"\",\"\",SortSheet!AD28)","v":0},"</td>###<td class='Bld'>",{"$f":"IF(SortSheet!AE28=0,\"\",SortSheet!AE28)","v":""},"</td>###</tr>"]
["<tr align=\"center\">###<td class=\"Bld\">",{"$f":"IF(SortSheet!R29=\"\",\"\",SortSheet!R29)","v":""},"</td>###<td>",{"$f":"IF(SortSheet!$T29=\"\",\"\",CONCATENATE(SortSheet!$T29,\" \",SortSheet!$U29,\", \",SortSheet!$V29,\", \",SortSheet!$W29))","v":""},"</td>###<td>",{"$f":"IF(SortSheet!X29=\"\",\"\",SortSheet!X29)","v":""},"</td><td>",{"$f":"IF(SortSheet!Y29=\"\",\"\",SortSheet!Y29)","v":""},"</td><td>",{"$f":"IF(SortSheet!Z29=\"\",\"\",SortSheet!Z29)","v":""},"</td><td>",{"$f":"IF(SortSheet!AA29=\"\",\"\",SortSheet!AA29)","v":""},"</td><td>",{"$f":"IF(SortSheet!AB29=\"\",\"\",SortSheet!AB29)","v":""},"</td><td>",{"$f":"IF(SortSheet!AC29=\"\",\"\",SortSheet!AC29)","v":""},"</td><td class='Bld'>",{"$f":"IF(SortSheet!AD29=\"\",\"\",SortSheet!AD29)","v":0},"</td>###<td class='Bld'>",{"$f":"IF(SortSheet!AE29=0,\"\",SortSheet!AE29)","v":""},"</td>###</tr>"]
["<tr align=\"center\">###<td class=\"Bld\">",{"$f":"IF(SortSheet!R30=\"\",\"\",SortSheet!R30)","v":""},"</td>###<td>",{"$f":"IF(SortSheet!$T30=\"\",\"\",CONCATENATE(SortSheet!$T30,\" \",SortSheet!$U30,\", \",SortSheet!$V30,\", \",SortSheet!$W30))","v":""},"</td>###<td>",{"$f":"IF(SortSheet!X30=\"\",\"\",SortSheet!X30)","v":""},"</td><td>",{"$f":"IF(SortSheet!Y30=\"\",\"\",SortSheet!Y30)","v":""},"</td><td>",{"$f":"IF(SortSheet!Z30=\"\",\"\",SortSheet!Z30)","v":""},"</td><td>",{"$f":"IF(SortSheet!AA30=\"\",\"\",SortSheet!AA30)","v":""},"</td><td>",{"$f":"IF(SortSheet!AB30=\"\",\"\",SortSheet!AB30)","v":""},"</td><td>",{"$f":"IF(SortSheet!AC30=\"\",\"\",SortSheet!AC30)","v":""},"</td><td class='Bld'>",{"$f":"IF(SortSheet!AD30=\"\",\"\",SortSheet!AD30)","v":0},"</td>###<td class='Bld'>",{"$f":"IF(SortSheet!AE30=0,\"\",SortSheet!AE30)","v":""},"</td>###</tr>"]
["<tr align=\"center\">###<td class=\"Bld\">",{"$f":"IF(SortSheet!R31=\"\",\"\",SortSheet!R31)","v":""},"</td>###<td>",{"$f":"IF(SortSheet!$T31=\"\",\"\",CONCATENATE(SortSheet!$T31,\" \",SortSheet!$U31,\", \",SortSheet!$V31,\", \",SortSheet!$W31))","v":""},"</td>###<td>",{"$f":"IF(SortSheet!X31=\"\",\"\",SortSheet!X31)","v":""},"</td><td>",{"$f":"IF(SortSheet!Y31=\"\",\"\",SortSheet!Y31)","v":""},"</td><td>",{"$f":"IF(SortSheet!Z31=\"\",\"\",SortSheet!Z31)","v":""},"</td><td>",{"$f":"IF(SortSheet!AA31=\"\",\"\",SortSheet!AA31)","v":""},"</td><td>",{"$f":"IF(SortSheet!AB31=\"\",\"\",SortSheet!AB31)","v":""},"</td><td>",{"$f":"IF(SortSheet!AC31=\"\",\"\",SortSheet!AC31)","v":""},"</td><td class='Bld'>",{"$f":"IF(SortSheet!AD31=\"\",\"\",SortSheet!AD31)","v":0},"</td>###<td class='Bld'>",{"$f":"IF(SortSheet!AE31=0,\"\",SortSheet!AE31)","v":""},"</td>###</tr>"]
["<tr align=\"center\">###<td class=\"Bld\">",{"$f":"IF(SortSheet!R32=\"\",\"\",SortSheet!R32)","v":""},"</td>###<td>",{"$f":"IF(SortSheet!$T32=\"\",\"\",CONCATENATE(SortSheet!$T32,\" \",SortSheet!$U32,\", \",SortSheet!$V32,\", \",SortSheet!$W32))","v":""},"</td>###<td>",{"$f":"IF(SortSheet!X32=\"\",\"\",SortSheet!X32)","v":""},"</td><td>",{"$f":"IF(SortSheet!Y32=\"\",\"\",SortSheet!Y32)","v":""},"</td><td>",{"$f":"IF(SortSheet!Z32=\"\",\"\",SortSheet!Z32)","v":""},"</td><td>",{"$f":"IF(SortSheet!AA32=\"\",\"\",SortSheet!AA32)","v":""},"</td><td>",{"$f":"IF(SortSheet!AB32=\"\",\"\",SortSheet!AB32)","v":""},"</td><td>",{"$f":"IF(SortSheet!AC32=\"\",\"\",SortSheet!AC32)","v":""},"</td><td class='Bld'>",{"$f":"IF(SortSheet!AD32=\"\",\"\",SortSheet!AD32)","v":0},"</td>###<td class='Bld'>",{"$f":"IF(SortSheet!AE32=0,\"\",SortSheet!AE32)","v":""},"</td>###</tr>"]
["<tr align=\"center\">###<td class=\"Bld\">",{"$f":"IF(SortSheet!R33=\"\",\"\",SortSheet!R33)","v":""},"</td>###<td>",{"$f":"IF(SortSheet!$T33=\"\",\"\",CONCATENATE(SortSheet!$T33,\" \",SortSheet!$U33,\", \",SortSheet!$V33,\", \",SortSheet!$W33))","v":""},"</td>###<td>",{"$f":"IF(SortSheet!X33=\"\",\"\",SortSheet!X33)","v":""},"</td><td>",{"$f":"IF(SortSheet!Y33=\"\",\"\",SortSheet!Y33)","v":""},"</td><td>",{"$f":"IF(SortSheet!Z33=\"\",\"\",SortSheet!Z33)","v":""},"</td><td>",{"$f":"IF(SortSheet!AA33=\"\",\"\",SortSheet!AA33)","v":""},"</td><td>",{"$f":"IF(SortSheet!AB33=\"\",\"\",SortSheet!AB33)","v":""},"</td><td>",{"$f":"IF(SortSheet!AC33=\"\",\"\",SortSheet!AC33)","v":""},"</td><td class='Bld'>",{"$f":"IF(SortSheet!AD33=\"\",\"\",SortSheet!AD33)","v":0},"</td>###<td class='Bld'>",{"$f":"IF(SortSheet!AE33=0,\"\",SortSheet!AE33)","v":""},"</td>###</tr>"]
["<tr align=\"center\">###<td class=\"Bld\">",{"$f":"IF(SortSheet!R34=\"\",\"\",SortSheet!R34)","v":""},"</td>###<td>",{"$f":"IF(SortSheet!$T34=\"\",\"\",CONCATENATE(SortSheet!$T34,\" \",SortSheet!$U34,\", \",SortSheet!$V34,\", \",SortSheet!$W34))","v":""},"</td>###<td>",{"$f":"IF(SortSheet!X34=\"\",\"\",SortSheet!X34)","v":""},"</td><td>",{"$f":"IF(SortSheet!Y34=\"\",\"\",SortSheet!Y34)","v":""},"</td><td>",{"$f":"IF(SortSheet!Z34=\"\",\"\",SortSheet!Z34)","v":""},"</td><td>",{"$f":"IF(SortSheet!AA34=\"\",\"\",SortSheet!AA34)","v":""},"</td><td>",{"$f":"IF(SortSheet!AB34=\"\",\"\",SortSheet!AB34)","v":""},"</td><td>",{"$f":"IF(SortSheet!AC34=\"\",\"\",SortSheet!AC34)","v":""},"</td><td class='Bld'>",{"$f":"IF(SortSheet!AD34=\"\",\"\",SortSheet!AD34)","v":0},"</td>###<td class='Bld'>",{"$f":"IF(SortSheet!AE34=0,\"\",SortSheet!AE34)","v":""},"</td>###</tr>"]
["<tr align=\"center\">###<td class=\"Bld\">",{"$f":"IF(SortSheet!R35=\"\",\"\",SortSheet!R35)","v":""},"</td>###<td>",{"$f":"IF(SortSheet!$T35=\"\",\"\",CONCATENATE(SortSheet!$T35,\" \",SortSheet!$U35,\", \",SortSheet!$V35,\", \",SortSheet!$W35))","v":""},"</td>###<td>",{"$f":"IF(SortSheet!X35=\"\",\"\",SortSheet!X35)","v":""},"</td><td>",{"$f":"IF(SortSheet!Y35=\"\",\"\",SortSheet!Y35)","v":""},"</td><td>",{"$f":"IF(SortSheet!Z35=\"\",\"\",SortSheet!Z35)","v":""},"</td><td>",{"$f":"IF(SortSheet!AA35=\"\",\"\",SortSheet!AA35)","v":""},"</td><td>",{"$f":"IF(SortSheet!AB35=\"\",\"\",SortSheet!AB35)","v":""},"</td><td>",{"$f":"IF(SortSheet!AC35=\"\",\"\",SortSheet!AC35)","v":""},"</td><td class='Bld'>",{"$f":"IF(SortSheet!AD35=\"\",\"\",SortSheet!AD35)","v":0},"</td>###<td class='Bld'>",{"$f":"IF(SortSheet!AE35=0,\"\",SortSheet!AE35)","v":""},"</td>###</tr>"]
["<tr align=\"center\">###<td class=\"Bld\">",{"$f":"IF(SortSheet!R36=\"\",\"\",SortSheet!R36)","v":""},"</td>###<td>",{"$f":"IF(SortSheet!$T36=\"\",\"\",CONCATENATE(SortSheet!$T36,\" \",SortSheet!$U36,\", \",SortSheet!$V36,\", \",SortSheet!$W36))","v":""},"</td>###<td>",{"$f":"IF(SortSheet!X36=\"\",\"\",SortSheet!X36)","v":""},"</td><td>",{"$f":"IF(SortSheet!Y36=\"\",\"\",SortSheet!Y36)","v":""},"</td><td>",{"$f":"IF(SortSheet!Z36=\"\",\"\",SortSheet!Z36)","v":""},"</td><td>",{"$f":"IF(SortSheet!AA36=\"\",\"\",SortSheet!AA36)","v":""},"</td><td>",{"$f":"IF(SortSheet!AB36=\"\",\"\",SortSheet!AB36)","v":""},"</td><td>",{"$f":"IF(SortSheet!AC36=\"\",\"\",SortSheet!AC36)","v":""},"</td><td class='Bld'>",{"$f":"IF(SortSheet!AD36=\"\",\"\",SortSheet!AD36)","v":0},"</td>###<td class='Bld'>",{"$f":"IF(SortSheet!AE36=0,\"\",SortSheet!AE36)","v":""},"</td>###</tr>"]
["<tr align=\"center\">###<td class=\"Bld\">",{"$f":"IF(SortSheet!R37=\"\",\"\",SortSheet!R37)","v":""},"</td>###<td>",{"$f":"IF(SortSheet!$T37=\"\",\"\",CONCATENATE(SortSheet!$T37,\" \",SortSheet!$U37,\", \",SortSheet!$V37,\", \",SortSheet!$W37))","v":""},"</td>###<td>",{"$f":"IF(SortSheet!X37=\"\",\"\",SortSheet!X37)","v":""},"</td><td>",{"$f":"IF(SortSheet!Y37=\"\",\"\",SortSheet!Y37)","v":""},"</td><td>",{"$f":"IF(SortSheet!Z37=\"\",\"\",SortSheet!Z37)","v":""},"</td><td>",{"$f":"IF(SortSheet!AA37=\"\",\"\",SortSheet!AA37)","v":""},"</td><td>",{"$f":"IF(SortSheet!AB37=\"\",\"\",SortSheet!AB37)","v":""},"</td><td>",{"$f":"IF(SortSheet!AC37=\"\",\"\",SortSheet!AC37)","v":""},"</td><td class='Bld'>",{"$f":"IF(SortSheet!AD37=\"\",\"\",SortSheet!AD37)","v":0},"</td>###<td class='Bld'>",{"$f":"IF(SortSheet!AE37=0,\"\",SortSheet!AE37)","v":""},"</td>###</tr>"]
["<tr align=\"center\">###<td class=\"Bld\">",{"$f":"IF(SortSheet!R38=\"\",\"\",SortSheet!R38)","v":""},"</td>###<td>",{"$f":"IF(SortSheet!$T38=\"\",\"\",CONCATENATE(SortSheet!$T38,\" \",SortSheet!$U38,\", \",SortSheet!$V38,\", \",SortSheet!$W38))","v":""},"</td>###<td>",{"$f":"IF(SortSheet!X38=\"\",\"\",SortSheet!X38)","v":""},"</td><td>",{"$f":"IF(SortSheet!Y38=\"\",\"\",SortSheet!Y38)","v":""},"</td><td>",{"$f":"IF(SortSheet!Z38=\"\",\"\",SortSheet!Z38)","v":""},"</td><td>",{"$f":"IF(SortSheet!AA38=\"\",\"\",SortSheet!AA38)","v":""},"</td><td>",{"$f":"IF(SortSheet!AB38=\"\",\"\",SortSheet!AB38)","v":""},"</td><td>",{"$f":"IF(SortSheet!AC38=\"\",\"\",SortSheet!AC38)","v":""},"</td><td class='Bld'>",{"$f":"IF(SortSheet!AD38=\"\",\"\",SortSheet!AD38)","v":0},"</td>###<td class='Bld'>",{"$f":"IF(SortSheet!AE38=0,\"\",SortSheet!AE38)","v":""},"</td>###</tr>"]
["<tr align=\"center\">###<td class=\"Bld\">",{"$f":"IF(SortSheet!R39=\"\",\"\",SortSheet!R39)","v":""},"</td>###<td>",{"$f":"IF(SortSheet!$T39=\"\",\"\",CONCATENATE(SortSheet!$T39,\" \",SortSheet!$U39,\", \",SortSheet!$V39,\", \",SortSheet!$W39))","v":""},"</td>###<td>",{"$f":"IF(SortSheet!X39=\"\",\"\",SortSheet!X39)","v":""},"</td><td>",{"$f":"IF(SortSheet!Y39=\"\",\"\",SortSheet!Y39)","v":""},"</td><td>",{"$f":"IF(SortSheet!Z39=\"\",\"\",SortSheet!Z39)","v":""},"</td><td>",{"$f":"IF(SortSheet!AA39=\"\",\"\",SortSheet!AA39)","v":""},"</td><td>",{"$f":"IF(SortSheet!AB39=\"\",\"\",SortSheet!AB39)","v":""},"</td><td>",{"$f":"IF(SortSheet!AC39=\"\",\"\",SortSheet!AC39)","v":""},"</td><td class='Bld'>",{"$f":"IF(SortSheet!AD39=\"\",\"\",SortSheet!AD39)","v":0},"</td>###<td class='Bld'>",{"$f":"IF(SortSheet!AE39=0,\"\",SortSheet!AE39)","v":""},"</td>###</tr>"]
["<tr align=\"center\">###<td class=\"Bld\">",{"$f":"IF(SortSheet!R40=\"\",\"\",SortSheet!R40)","v":""},"</td>###<td>",{"$f":"IF(SortSheet!$T40=\"\",\"\",CONCATENATE(SortSheet!$T40,\" \",SortSheet!$U40,\", \",SortSheet!$V40,\", \",SortSheet!$W40))","v":""},"</td>###<td>",{"$f":"IF(SortSheet!X40=\"\",\"\",SortSheet!X40)","v":""},"</td><td>",{"$f":"IF(SortSheet!Y40=\"\",\"\",SortSheet!Y40)","v":""},"</td><td>",{"$f":"IF(SortSheet!Z40=\"\",\"\",SortSheet!Z40)","v":""},"</td><td>",{"$f":"IF(SortSheet!AA40=\"\",\"\",SortSheet!AA40)","v":""},"</td><td>",{"$f":"IF(SortSheet!AB40=\"\",\"\",SortSheet!AB40)","v":""},"</td><td>",{"$f":"IF(SortSheet!AC40=\"\",\"\",SortSheet!AC40)","v":""},"</td><td class='Bld'>",{"$f":"IF(SortSheet!AD40=\"\",\"\",SortSheet!AD40)","v":0},"</td>###<td class='Bld'>",{"$f":"IF(SortSheet!AE40=0,\"\",SortSheet!AE40)","v":""},"</td>###</tr>"]
["<tr align=\"center\">###<td class=\"Bld\">",{"$f":"IF(SortSheet!R41=\"\",\"\",SortSheet!R41)","v":""},"</td>###<td>",{"$f":"IF(SortSheet!$T41=\"\",\"\",CONCATENATE(SortSheet!$T41,\" \",SortSheet!$U41,\", \",SortSheet!$V41,\", \",SortSheet!$W41))","v":""},"</td>###<td>",{"$f":"IF(SortSheet!X41=\"\",\"\",SortSheet!X41)","v":""},"</td><td>",{"$f":"IF(SortSheet!Y41=\"\",\"\",SortSheet!Y41)","v":""},"</td><td>",{"$f":"IF(SortSheet!Z41=\"\",\"\",SortSheet!Z41)","v":""},"</td><td>",{"$f":"IF(SortSheet!AA41=\"\",\"\",SortSheet!AA41)","v":""},"</td><td>",{"$f":"IF(SortSheet!AB41=\"\",\"\",SortSheet!AB41)","v":""},"</td><td>",{"$f":"IF(SortSheet!AC41=\"\",\"\",SortSheet!AC41)","v":""},"</td><td class='Bld'>",{"$f":"IF(SortSheet!AD41=\"\",\"\",SortSheet!AD41)","v":0},"</td>###<td class='Bld'>",{"$f":"IF(SortSheet!AE41=0,\"\",SortSheet!AE41)","v":""},"</td>###</tr>"]
["<tr align=\"center\">###<td class=\"Bld\">",{"$f":"IF(SortSheet!R42=\"\",\"\",SortSheet!R42)","v":""},"</td>###<td>",{"$f":"IF(SortSheet!$T42=\"\",\"\",CONCATENATE(SortSheet!$T42,\" \",SortSheet!$U42,\", \",SortSheet!$V42,\", \",SortSheet!$W42))","v":""},"</td>###<td>",{"$f":"IF(SortSheet!X42=\"\",\"\",SortSheet!X42)","v":""},"</td><td>",{"$f":"IF(SortSheet!Y42=\"\",\"\",SortSheet!Y42)","v":""},"</td><td>",{"$f":"IF(SortSheet!Z42=\"\",\"\",SortSheet!Z42)","v":""},"</td><td>",{"$f":"IF(SortSheet!AA42=\"\",\"\",SortSheet!AA42)","v":""},"</td><td>",{"$f":"IF(SortSheet!AB42=\"\",\"\",SortSheet!AB42)","v":""},"</td><td>",{"$f":"IF(SortSheet!AC42=\"\",\"\",SortSheet!AC42)","v":""},"</td><td class='Bld'>",{"$f":"IF(SortSheet!AD42=\"\",\"\",SortSheet!AD42)","v":0},"</td>###<td class='Bld'>",{"$f":"IF(SortSheet!AE42=0,\"\",SortSheet!AE42)","v":""},"</td>###</tr>"]

{"sheet":"Lists","index":4,"n_rows":44,"n_cols":13,"rows_kept":44,"cut":false,"hidden":true,"merged":[]}
[null,null,"SEMI-AUTO",null,null,null,"REVOLVER"]
[null,null,"Row Labels",null,"CPFGC#",null,"Row Labels",null,"CPFGC#"]
[1,null,"(blank)",null,{"$f":"IFERROR(IF(VLOOKUP(Lists!C3,Table1[[NAME]:[CPF&G '#]],2,FALSE)=\"\",\"\",VLOOKUP(Lists!C3,Table1[[NAME]:[CPF&G '#]],2,FALSE)),\"\")","v":""},null,"(blank)",null,{"$f":"IFERROR(IF(VLOOKUP(Lists!G3,Table15[[NAME]:[CPF&G '#]],2,FALSE)=\"\",\"\",VLOOKUP(Lists!G3,Table15[[NAME]:[CPF&G '#]],2,FALSE)),\"\")","v":""},null,"Iron Sights",{"$f":"COUNTIF(Table1[SIGHTS],Lists!K3)+COUNTIF(Table15[SIGHTS],Lists!K3)","v":0}]
[2,null,"Ed Upton",null,{"$f":"IFERROR(IF(VLOOKUP(Lists!C4,Table1[[NAME]:[CPF&G '#]],2,FALSE)=\"\",\"\",VLOOKUP(Lists!C4,Table1[[NAME]:[CPF&G '#]],2,FALSE)),\"\")","v":""},null,null,null,{"$f":"IFERROR(IF(VLOOKUP(Lists!G4,Table15[[NAME]:[CPF&G '#]],2,FALSE)=\"\",\"\",VLOOKUP(Lists!G4,Table15[[NAME]:[CPF&G '#]],2,FALSE)),\"\")","v":""},null,"Laser",{"$f":"COUNTIF(Table1[SIGHTS],Lists!K4)+COUNTIF(Table15[SIGHTS],Lists!K4)","v":0}]
[3,null,"Kurt Ringleben",null,{"$f":"IFERROR(IF(VLOOKUP(Lists!C5,Table1[[NAME]:[CPF&G '#]],2,FALSE)=\"\",\"\",VLOOKUP(Lists!C5,Table1[[NAME]:[CPF&G '#]],2,FALSE)),\"\")","v":""},null,null,null,{"$f":"IFERROR(IF(VLOOKUP(Lists!G5,Table15[[NAME]:[CPF&G '#]],2,FALSE)=\"\",\"\",VLOOKUP(Lists!G5,Table15[[NAME]:[CPF&G '#]],2,FALSE)),\"\")","v":""},null,"Red Dot",{"$f":"COUNTIF(Table1[SIGHTS],Lists!K5)+COUNTIF(Table15[SIGHTS],Lists!K5)","v":0}]
[4,null,"Brian Whitney",null,{"$f":"IFERROR(IF(VLOOKUP(Lists!C6,Table1[[NAME]:[CPF&G '#]],2,FALSE)=\"\",\"\",VLOOKUP(Lists!C6,Table1[[NAME]:[CPF&G '#]],2,FALSE)),\"\")","v":""},null,null,null,{"$f":"IFERROR(IF(VLOOKUP(Lists!G6,Table15[[NAME]:[CPF&G '#]],2,FALSE)=\"\",\"\",VLOOKUP(Lists!G6,Table15[[NAME]:[CPF&G '#]],2,FALSE)),\"\")","v":""},null,"Scope",{"$f":"COUNTIF(Table1[SIGHTS],Lists!K6)+COUNTIF(Table15[SIGHTS],Lists!K6)","v":0}]
[5,null,"Dan Goodwin",null,{"$f":"IFERROR(IF(VLOOKUP(Lists!C7,Table1[[NAME]:[CPF&G '#]],2,FALSE)=\"\",\"\",VLOOKUP(Lists!C7,Table1[[NAME]:[CPF&G '#]],2,FALSE)),\"\")","v":""},null,null,null,{"$f":"IFERROR(IF(VLOOKUP(Lists!G7,Table15[[NAME]:[CPF&G '#]],2,FALSE)=\"\",\"\",VLOOKUP(Lists!G7,Table15[[NAME]:[CPF&G '#]],2,FALSE)),\"\")","v":""}]
[6,null,"George Aboshar",null,{"$f":"IFERROR(IF(VLOOKUP(Lists!C8,Table1[[NAME]:[CPF&G '#]],2,FALSE)=\"\",\"\",VLOOKUP(Lists!C8,Table1[[NAME]:[CPF&G '#]],2,FALSE)),\"\")","v":""},null,null,null,{"$f":"IFERROR(IF(VLOOKUP(Lists!G8,Table15[[NAME]:[CPF&G '#]],2,FALSE)=\"\",\"\",VLOOKUP(Lists!G8,Table15[[NAME]:[CPF&G '#]],2,FALSE)),\"\")","v":""},null,"GUNS",{"$f":"SUM(L9:L10)","v":0}]
[7,null,"Tim Swisher",null,{"$f":"IFERROR(IF(VLOOKUP(Lists!C9,Table1[[NAME]:[CPF&G '#]],2,FALSE)=\"\",\"\",VLOOKUP(Lists!C9,Table1[[NAME]:[CPF&G '#]],2,FALSE)),\"\")","v":""},null,null,null,{"$f":"IFERROR(IF(VLOOKUP(Lists!G9,Table15[[NAME]:[CPF&G '#]],2,FALSE)=\"\",\"\",VLOOKUP(Lists!G9,Table15[[NAME]:[CPF&G '#]],2,FALSE)),\"\")","v":""},null," SEMI-AUTO",{"$f":"COUNTA(Table1[NAME])","v":0}]
[8,null,"Dominic Stevens",null,{"$f":"IFERROR(IF(VLOOKUP(Lists!C10,Table1[[NAME]:[CPF&G '#]],2,FALSE)=\"\",\"\",VLOOKUP(Lists!C10,Table1[[NAME]:[CPF&G '#]],2,FALSE)),\"\")","v":""},null,null,null,{"$f":"IFERROR(IF(VLOOKUP(Lists!G10,Table15[[NAME]:[CPF&G '#]],2,FALSE)=\"\",\"\",VLOOKUP(Lists!G10,Table15[[NAME]:[CPF&G '#]],2,FALSE)),\"\")","v":""},null," REVOLVER",{"$f":"COUNTA(Table15[NAME])","v":0}]
[9,null,"Ken Steeves",null,{"$f":"IFERROR(IF(VLOOKUP(Lists!C11,Table1[[NAME]:[CPF&G '#]],2,FALSE)=\"\",\"\",VLOOKUP(Lists!C11,Table1[[NAME]:[CPF&G '#]],2,FALSE)),\"\")","v":""},null,null,null,{"$f":"IFERROR(IF(VLOOKUP(Lists!G11,Table15[[NAME]:[CPF&G '#]],2,FALSE)=\"\",\"\",VLOOKUP(Lists!G11,Table15[[NAME]:[CPF&G '#]],2,FALSE)),\"\")","v":""}]
[10,null,"Chris Stephens",null,{"$f":"IFERROR(IF(VLOOKUP(Lists!C12,Table1[[NAME]:[CPF&G '#]],2,FALSE)=\"\",\"\",VLOOKUP(Lists!C12,Table1[[NAME]:[CPF&G '#]],2,FALSE)),\"\")","v":""},null,null,null,{"$f":"IFERROR(IF(VLOOKUP(Lists!G12,Table15[[NAME]:[CPF&G '#]],2,FALSE)=\"\",\"\",VLOOKUP(Lists!G12,Table15[[NAME]:[CPF&G '#]],2,FALSE)),\"\")","v":""},null,"SHOOTERS",{"$f":"SUM(L13:L14)","v":10}]
[11,null,"Krystle Johnson",null,{"$f":"IFERROR(IF(VLOOKUP(Lists!C13,Table1[[NAME]:[CPF&G '#]],2,FALSE)=\"\",\"\",VLOOKUP(Lists!C13,Table1[[NAME]:[CPF&G '#]],2,FALSE)),\"\")","v":""},null,null,null,{"$f":"IFERROR(IF(VLOOKUP(Lists!G13,Table15[[NAME]:[CPF&G '#]],2,FALSE)=\"\",\"\",VLOOKUP(Lists!G13,Table15[[NAME]:[CPF&G '#]],2,FALSE)),\"\")","v":""},null," SEMI-AUTO",{"$f":"COUNTA($C$3:$C$44)-COUNTIF($C$3:$C$44,\"(blank)\")","v":10}]
[12,null,null,null,{"$f":"IFERROR(IF(VLOOKUP(Lists!C14,Table1[[NAME]:[CPF&G '#]],2,FALSE)=\"\",\"\",VLOOKUP(Lists!C14,Table1[[NAME]:[CPF&G '#]],2,FALSE)),\"\")","v":""},null,null,null,{"$f":"IFERROR(IF(VLOOKUP(Lists!G14,Table15[[NAME]:[CPF&G '#]],2,FALSE)=\"\",\"\",VLOOKUP(Lists!G14,Table15[[NAME]:[CPF&G '#]],2,FALSE)),\"\")","v":""},null," REVOLVER",{"$f":"COUNTA($G$3:$G$44)-COUNTIF($G$3:$G$44,\"(blank)\")","v":0}]
[13,null,null,null,{"$f":"IFERROR(IF(VLOOKUP(Lists!C15,Table1[[NAME]:[CPF&G '#]],2,FALSE)=\"\",\"\",VLOOKUP(Lists!C15,Table1[[NAME]:[CPF&G '#]],2,FALSE)),\"\")","v":""},null,null,null,{"$f":"IFERROR(IF(VLOOKUP(Lists!G15,Table15[[NAME]:[CPF&G '#]],2,FALSE)=\"\",\"\",VLOOKUP(Lists!G15,Table15[[NAME]:[CPF&G '#]],2,FALSE)),\"\")","v":""},null,"CLEAN",{"$f":"COUNTIF(Table1[TOTAL],30)+COUNTIF(Table15[TOTAL],30)","v":0}]
[14,null,null,null,{"$f":"IFERROR(IF(VLOOKUP(Lists!C16,Table1[[NAME]:[CPF&G '#]],2,FALSE)=\"\",\"\",VLOOKUP(Lists!C16,Table1[[NAME]:[CPF&G '#]],2,FALSE)),\"\")","v":""},null,null,null,{"$f":"IFERROR(IF(VLOOKUP(Lists!G16,Table15[[NAME]:[CPF&G '#]],2,FALSE)=\"\",\"\",VLOOKUP(Lists!G16,Table15[[NAME]:[CPF&G '#]],2,FALSE)),\"\")","v":""}]
[15,null,null,null,{"$f":"IFERROR(IF(VLOOKUP(Lists!C17,Table1[[NAME]:[CPF&G '#]],2,FALSE)=\"\",\"\",VLOOKUP(Lists!C17,Table1[[NAME]:[CPF&G '#]],2,FALSE)),\"\")","v":""},null,null,null,{"$f":"IFERROR(IF(VLOOKUP(Lists!G17,Table15[[NAME]:[CPF&G '#]],2,FALSE)=\"\",\"\",VLOOKUP(Lists!G17,Table15[[NAME]:[CPF&G '#]],2,FALSE)),\"\")","v":""},null,"COSTS"]
[16,null,null,null,{"$f":"IFERROR(IF(VLOOKUP(Lists!C18,Table1[[NAME]:[CPF&G '#]],2,FALSE)=\"\",\"\",VLOOKUP(Lists!C18,Table1[[NAME]:[CPF&G '#]],2,FALSE)),\"\")","v":""},null,null,null,{"$f":"IFERROR(IF(VLOOKUP(Lists!G18,Table15[[NAME]:[CPF&G '#]],2,FALSE)=\"\",\"\",VLOOKUP(Lists!G18,Table15[[NAME]:[CPF&G '#]],2,FALSE)),\"\")","v":""},null,"Members",6,{"$f":"SUMIF(Table1[PAID],\"<8\")+SUMIF(Table15[PAID],\"<8\")","v":0}]
[17,null,null,null,{"$f":"IFERROR(IF(VLOOKUP(Lists!C19,Table1[[NAME]:[CPF&G '#]],2,FALSE)=\"\",\"\",VLOOKUP(Lists!C19,Table1[[NAME]:[CPF&G '#]],2,FALSE)),\"\")","v":""},null,null,null,{"$f":"IFERROR(IF(VLOOKUP(Lists!G19,Table15[[NAME]:[CPF&G '#]],2,FALSE)=\"\",\"\",VLOOKUP(Lists!G19,Table15[[NAME]:[CPF&G '#]],2,FALSE)),\"\")","v":""},null,"Nonmembers",8,{"$f":"SUMIF(Table1[PAID],8)+SUMIF(Table15[PAID],8)","v":0}]
[18,null,null,null,{"$f":"IFERROR(IF(VLOOKUP(Lists!C20,Table1[[NAME]:[CPF&G '#]],2,FALSE)=\"\",\"\",VLOOKUP(Lists!C20,Table1[[NAME]:[CPF&G '#]],2,FALSE)),\"\")","v":""},null,null,null,{"$f":"IFERROR(IF(VLOOKUP(Lists!G20,Table15[[NAME]:[CPF&G '#]],2,FALSE)=\"\",\"\",VLOOKUP(Lists!G20,Table15[[NAME]:[CPF&G '#]],2,FALSE)),\"\")","v":""},null,"Total Income",null,{"$f":"SUM(M18:M19)","v":0}]
[19,null,null,null,{"$f":"IFERROR(IF(VLOOKUP(Lists!C21,Table1[[NAME]:[CPF&G '#]],2,FALSE)=\"\",\"\",VLOOKUP(Lists!C21,Table1[[NAME]:[CPF&G '#]],2,FALSE)),\"\")","v":""},null,null,null,{"$f":"IFERROR(IF(VLOOKUP(Lists!G21,Table15[[NAME]:[CPF&G '#]],2,FALSE)=\"\",\"\",VLOOKUP(Lists!G21,Table15[[NAME]:[CPF&G '#]],2,FALSE)),\"\")","v":""}]
[20,null,null,null,{"$f":"IFERROR(IF(VLOOKUP(Lists!C22,Table1[[NAME]:[CPF&G '#]],2,FALSE)=\"\",\"\",VLOOKUP(Lists!C22,Table1[[NAME]:[CPF&G '#]],2,FALSE)),\"\")","v":""},null,null,null,{"$f":"IFERROR(IF(VLOOKUP(Lists!G22,Table15[[NAME]:[CPF&G '#]],2,FALSE)=\"\",\"\",VLOOKUP(Lists!G22,Table15[[NAME]:[CPF&G '#]],2,FALSE)),\"\")","v":""}]
[21,null,null,null,{"$f":"IFERROR(IF(VLOOKUP(Lists!C23,Table1[[NAME]:[CPF&G '#]],2,FALSE)=\"\",\"\",VLOOKUP(Lists!C23,Table1[[NAME]:[CPF&G '#]],2,FALSE)),\"\")","v":""},null,null,null,{"$f":"IFERROR(IF(VLOOKUP(Lists!G23,Table15[[NAME]:[CPF&G '#]],2,FALSE)=\"\",\"\",VLOOKUP(Lists!G23,Table15[[NAME]:[CPF&G '#]],2,FALSE)),\"\")","v":""}]
[22,null,null,null,{"$f":"IFERROR(IF(VLOOKUP(Lists!C24,Table1[[NAME]:[CPF&G '#]],2,FALSE)=\"\",\"\",VLOOKUP(Lists!C24,Table1[[NAME]:[CPF&G '#]],2,FALSE)),\"\")","v":""},null,null,null,{"$f":"IFERROR(IF(VLOOKUP(Lists!G24,Table15[[NAME]:[CPF&G '#]],2,FALSE)=\"\",\"\",VLOOKUP(Lists!G24,Table15[[NAME]:[CPF&G '#]],2,FALSE)),\"\")","v":""}]
[23,null,null,null,{"$f":"IFERROR(IF(VLOOKUP(Lists!C25,Table1[[NAME]:[CPF&G '#]],2,FALSE)=\"\",\"\",VLOOKUP(Lists!C25,Table1[[NAME]:[CPF&G '#]],2,FALSE)),\"\")","v":""},null,null,null,{"$f":"IFERROR(IF(VLOOKUP(Lists!G25,Table15[[NAME]:[CPF&G '#]],2,FALSE)=\"\",\"\",VLOOKUP(Lists!G25,Table15[[NAME]:[CPF&G '#]],2,FALSE)),\"\")","v":""}]
[24,null,null,null,{"$f":"IFERROR(IF(VLOOKUP(Lists!C26,Table1[[NAME]:[CPF&G '#]],2,FALSE)=\"\",\"\",VLOOKUP(Lists!C26,Table1[[NAME]:[CPF&G '#]],2,FALSE)),\"\")","v":""},null,null,null,{"$f":"IFERROR(IF(VLOOKUP(Lists!G26,Table15[[NAME]:[CPF&G '#]],2,FALSE)=\"\",\"\",VLOOKUP(Lists!G26,Table15[[NAME]:[CPF&G '#]],2,FALSE)),\"\")","v":""}]
[25,null,null,null,{"$f":"IFERROR(IF(VLOOKUP(Lists!C27,Table1[[NAME]:[CPF&G '#]],2,FALSE)=\"\",\"\",VLOOKUP(Lists!C27,Table1[[NAME]:[CPF&G '#]],2,FALSE)),\"\")","v":""},null,null,null,{"$f":"IFERROR(IF(VLOOKUP(Lists!G27,Table15[[NAME]:[CPF&G '#]],2,FALSE)=\"\",\"\",VLOOKUP(Lists!G27,Table15[[NAME]:[CPF&G '#]],2,FALSE)),\"\")","v":""}]
[26,null,null,null,{"$f":"IFERROR(IF(VLOOKUP(Lists!C28,Table1[[NAME]:[CPF&G '#]],2,FALSE)=\"\",\"\",VLOOKUP(Lists!C28,Table1[[NAME]:[CPF&G '#]],2,FALSE)),\"\")","v":""},null,null,null,{"$f":"IFERROR(IF(VLOOKUP(Lists!G28,Table15[[NAME]:[CPF&G '#]],2,FALSE)=\"\",\"\",VLOOKUP(Lists!G28,Table15[[NAME]:[CPF&G '#]],2,FALSE)),\"\")","v":""}]
[27,null,null,null,{"$f":"IFERROR(IF(VLOOKUP(Lists!C29,Table1[[NAME]:[CPF&G '#]],2,FALSE)=\"\",\"\",VLOOKUP(Lists!C29,Table1[[NAME]:[CPF&G '#]],2,FALSE)),\"\")","v":""},null,null,null,{"$f":"IFERROR(IF(VLOOKUP(Lists!G29,Table15[[NAME]:[CPF&G '#]],2,FALSE)=\"\",\"\",VLOOKUP(Lists!G29,Table15[[NAME]:[CPF&G '#]],2,FALSE)),\"\")","v":""}]
[28,null,null,null,{"$f":"IFERROR(IF(VLOOKUP(Lists!C30,Table1[[NAME]:[CPF&G '#]],2,FALSE)=\"\",\"\",VLOOKUP(Lists!C30,Table1[[NAME]:[CPF&G '#]],2,FALSE)),\"\")","v":""},null,null,null,{"$f":"IFERROR(IF(VLOOKUP(Lists!G30,Table15[[NAME]:[CPF&G '#]],2,FALSE)=\"\",\"\",VLOOKUP(Lists!G30,Table15[[NAME]:[CPF&G '#]],2,FALSE)),\"\")","v":""}]
[29,null,null,null,{"$f":"IFERROR(IF(VLOOKUP(Lists!C31,Table1[[NAME]:[CPF&G '#]],2,FALSE)=\"\",\"\",VLOOKUP(Lists!C31,Table1[[NAME]:[CPF&G '#]],2,FALSE)),\"\")","v":""},null,null,null,{"$f":"IFERROR(IF(VLOOKUP(Lists!G31,Table15[[NAME]:[CPF&G '#]],2,FALSE)=\"\",\"\",VLOOKUP(Lists!G31,Table15[[NAME]:[CPF&G '#]],2,FALSE)),\"\")","v":""}]
[30,null,null,null,{"$f":"IFERROR(IF(VLOOKUP(Lists!C32,Table1[[NAME]:[CPF&G '#]],2,FALSE)=\"\",\"\",VLOOKUP(Lists!C32,Table1[[NAME]:[CPF&G '#]],2,FALSE)),\"\")","v":""},null,null,null,{"$f":"IFERROR(IF(VLOOKUP(Lists!G32,Table15[[NAME]:[CPF&G '#]],2,FALSE)=\"\",\"\",VLOOKUP(Lists!G32,Table15[[NAME]:[CPF&G '#]],2,FALSE)),\"\")","v":""}]
[31,null,null,null,{"$f":"IFERROR(IF(VLOOKUP(Lists!C33,Table1[[NAME]:[CPF&G '#]],2,FALSE)=\"\",\"\",VLOOKUP(Lists!C33,Table1[[NAME]:[CPF&G '#]],2,FALSE)),\"\")","v":""},null,null,null,{"$f":"IFERROR(IF(VLOOKUP(Lists!G33,Table15[[NAME]:[CPF&G '#]],2,FALSE)=\"\",\"\",VLOOKUP(Lists!G33,Table15[[NAME]:[CPF&G '#]],2,FALSE)),\"\")","v":""}]
[32,null,null,null,{"$f":"IFERROR(IF(VLOOKUP(Lists!C34,Table1[[NAME]:[CPF&G '#]],2,FALSE)=\"\",\"\",VLOOKUP(Lists!C34,Table1[[NAME]:[CPF&G '#]],2,FALSE)),\"\")","v":""},null,null,null,{"$f":"IFERROR(IF(VLOOKUP(Lists!G34,Table15[[NAME]:[CPF&G '#]],2,FALSE)=\"\",\"\",VLOOKUP(Lists!G34,Table15[[NAME]:[CPF&G '#]],2,FALSE)),\"\")","v":""}]
[33,null,null,null,{"$f":"IFERROR(IF(VLOOKUP(Lists!C35,Table1[[NAME]:[CPF&G '#]],2,FALSE)=\"\",\"\",VLOOKUP(Lists!C35,Table1[[NAME]:[CPF&G '#]],2,FALSE)),\"\")","v":""},null,null,null,{"$f":"IFERROR(IF(VLOOKUP(Lists!G35,Table15[[NAME]:[CPF&G '#]],2,FALSE)=\"\",\"\",VLOOKUP(Lists!G35,Table15[[NAME]:[CPF&G '#]],2,FALSE)),\"\")","v":""}]
[34,null,null,null,{"$f":"IFERROR(IF(VLOOKUP(Lists!C36,Table1[[NAME]:[CPF&G '#]],2,FALSE)=\"\",\"\",VLOOKUP(Lists!C36,Table1[[NAME]:[CPF&G '#]],2,FALSE)),\"\")","v":""},null,null,null,{"$f":"IFERROR(IF(VLOOKUP(Lists!G36,Table15[[NAME]:[CPF&G '#]],2,FALSE)=\"\",\"\",VLOOKUP(Lists!G36,Table15[[NAME]:[CPF&G '#]],2,FALSE)),\"\")","v":""}]
[35,null,null,null,{"$f":"IFERROR(IF(VLOOKUP(Lists!C37,Table1[[NAME]:[CPF&G '#]],2,FALSE)=\"\",\"\",VLOOKUP(Lists!C37,Table1[[NAME]:[CPF&G '#]],2,FALSE)),\"\")","v":""},null,null,null,{"$f":"IFERROR(IF(VLOOKUP(Lists!G37,Table15[[NAME]:[CPF&G '#]],2,FALSE)=\"\",\"\",VLOOKUP(Lists!G37,Table15[[NAME]:[CPF&G '#]],2,FALSE)),\"\")","v":""}]
[36,null,null,null,{"$f":"IFERROR(IF(VLOOKUP(Lists!C38,Table1[[NAME]:[CPF&G '#]],2,FALSE)=\"\",\"\",VLOOKUP(Lists!C38,Table1[[NAME]:[CPF&G '#]],2,FALSE)),\"\")","v":""},null,null,null,{"$f":"IFERROR(IF(VLOOKUP(Lists!G38,Table15[[NAME]:[CPF&G '#]],2,FALSE)=\"\",\"\",VLOOKUP(Lists!G38,Table15[[NAME]:[CPF&G '#]],2,FALSE)),\"\")","v":""}]
[37,null,null,null,{"$f":"IFERROR(IF(VLOOKUP(Lists!C39,Table1[[NAME]:[CPF&G '#]],2,FALSE)=\"\",\"\",VLOOKUP(Lists!C39,Table1[[NAME]:[CPF&G '#]],2,FALSE)),\"\")","v":""},null,null,null,{"$f":"IFERROR(IF(VLOOKUP(Lists!G39,Table15[[NAME]:[CPF&G '#]],2,FALSE)=\"\",\"\",VLOOKUP(Lists!G39,Table15[[NAME]:[CPF&G '#]],2,FALSE)),\"\")","v":""}]
[38,null,null,null,{"$f":"IFERROR(IF(VLOOKUP(Lists!C40,Table1[[NAME]:[CPF&G '#]],2,FALSE)=\"\",\"\",VLOOKUP(Lists!C40,Table1[[NAME]:[CPF&G '#]],2,FALSE)),\"\")","v":""},null,null,null,{"$f":"IFERROR(IF(VLOOKUP(Lists!G40,Table15[[NAME]:[CPF&G '#]],2,FALSE)=\"\",\"\",VLOOKUP(Lists!G40,Table15[[NAME]:[CPF&G '#]],2,FALSE)),\"\")","v":""}]
[39,null,null,null,{"$f":"IFERROR(IF(VLOOKUP(Lists!C41,Table1[[NAME]:[CPF&G '#]],2,FALSE)=\"\",\"\",VLOOKUP(Lists!C41,Table1[[NAME]:[CPF&G '#]],2,FALSE)),\"\")","v":""},null,null,null,{"$f":"IFERROR(IF(VLOOKUP(Lists!G41,Table15[[NAME]:[CPF&G '#]],2,FALSE)=\"\",\"\",VLOOKUP(Lists!G41,Table15[[NAME]:[CPF&G '#]],2,FALSE)),\"\")","v":""}]
[40,null,null,null,{"$f":"IFERROR(IF(VLOOKUP(Lists!C42,Table1[[NAME]:[CPF&G '#]],2,FALSE)=\"\",\"\",VLOOKUP(Lists!C42,Table1[[NAME]:[CPF&G '#]],2,FALSE)),\"\")","v":""},null,null,null,{"$f":"IFERROR(IF(VLOOKUP(Lists!G42,Table15[[NAME]:[CPF&G '#]],2,FALSE)=\"\",\"\",VLOOKUP(Lists!G42,Table15[[NAME]:[CPF&G '#]],2,FALSE)),\"\")","v":""}]
[41,null,null,null,{"$f":"IFERROR(IF(VLOOKUP(Lists!C43,Table1[[NAME]:[CPF&G '#]],2,FALSE)=\"\",\"\",VLOOKUP(Lists!C43,Table1[[NAME]:[CPF&G '#]],2,FALSE)),\"\")","v":""},null,null,null,{"$f":"IFERROR(IF(VLOOKUP(Lists!G43,Table15[[NAME]:[CPF&G '#]],2,FALSE)=\"\",\"\",VLOOKUP(Lists!G43,Table15[[NAME]:[CPF&G '#]],2,FALSE)),\"\")","v":""}]
[42,null,null,null,{"$f":"IFERROR(IF(VLOOKUP(Lists!C44,Table1[[NAME]:[CPF&G '#]],2,FALSE)=\"\",\"\",VLOOKUP(Lists!C44,Table1[[NAME]:[CPF&G '#]],2,FALSE)),\"\")","v":""},null,null,null,{"$f":"IFERROR(IF(VLOOKUP(Lists!G44,Table15[[NAME]:[CPF&G '#]],2,FALSE)=\"\",\"\",VLOOKUP(Lists!G44,Table15[[NAME]:[CPF&G '#]],2,FALSE)),\"\")","v":""}]