{"text_format":"1","workbook":"xlsx","n_sheets":8,"sheets":["Scores","Tag Teams","Head to Head","Sorts","Match HTML","Tag Team HTML","Head-Head HTML","Lists"],"not_rendered":{"charts":0,"images":0,"macros":1,"external_links":2,"defined_names":37,"comments":0,"pivot_tables":1},"unopened":[],"bounds":{"document_bytes":16777216,"sheet_cells":100000,"rows_first":2000,"rows_last":500,"rows_between":2000,"halvings":0,"cell_chars":16384,"cell_head_chars":4096},"cells_cut":0,"cells_raw":0,"read":"whole","date_system":"1900"}

{"sheet":"Scores","index":0,"n_rows":83,"n_cols":49,"rows_kept":83,"cut":false,"hidden":false,"merged":[[0,12,0,17],[1,6,1,11],[1,12,1,17],[0,19,0,23],[0,25,0,29]]}
["CPF&G .22 Plate Shoot",null,null,null,null,null,null,null,null,null,null,null,"DATE",null,null,null,null,null,null,"2017-09-04T10:09:23",null,null,null,null,null,"=lastsaved()"]
[null,null,null,null,{"$f":"SUM(tblScores[PAID])","v":0},null,"RELAY 1",null,null,null,null,null,"RELAY 2",null,null,null,null,null,null,"IB","IH","IL","IP","IS","RB","RH","RL","RP","RS","SB","SH","SL","SP","SS","IB-J","IH-J","IL-J","IP-J","IS-J","RB-J","RH-J","RL-J","RP-J","RS-J","SB-J","SH-J","SL-J","SP-J","SS-J"]
["No","SHOOTER","CPFG#","DIV","PAID","HITS","1-1","1-2","1-3","1-4","1-5","TTL","2-1","2-2","2-3","22-4","2-5","TTL2"]
[1,null,null,null,null,{"$f":"IF(B4=\"\",0,L4+R4)","v":0},null,null,null,null,null,{"$f":"IF($B4=\"\",\"\",SUM(G4:K4))","v":""},null,null,null,null,null,{"$f":"IF($B4=\"\",\"\",SUM(M4:Q4))","v":""}]
[2,null,null,null,null,0,null,null,null,null,null,"",null,null,null,null,null,""]
[3,null,null,null,null,0,null,null,null,null,null,"",null,null,null,null,null,""]
[4,null,null,null,null,0,null,null,null,null,null,"",null,null,null,null,null,""]
[5,null,null,null,null,0,null,null,null,null,null,"",null,null,null,null,null,""]
[6,null,null,null,null,0,null,null,null,null,null,"",null,null,null,null,null,""]
[7,null,null,null,null,0,null,null,null,null,null,"",null,null,null,null,null,""]
[8,null,null,null,null,0,null,null,null,null,null,"",null,null,null,null,null,""]
[9,null,null,null,null,0,null,null,null,null,null,"",null,null,null,null,null,""]
[10,null,null,null,null,0,null,null,null,null,null,"",null,null,null,null,null,""]
[11,null,null,null,null,0,null,null,null,null,null,"",null,null,null,null,null,""]
[12,null,null,null,null,0,null,null,null,null,null,"",null,null,null,null,null,""]
[13,null,null,null,null,0,null,null,null,null,null,"",null,null,null,null,null,""]
[14,null,null,null,null,0,null,null,null,null,null,"",null,null,null,null,null,""]
[15,null,null,null,null,0,null,null,null,null,null,"",null,null,null,null,null,""]
[16,null,null,null,null,0,null,null,null,null,null,"",null,null,null,null,null,""]
[17,null,null,null,null,0,null,null,null,null,null,"",null,null,null,null,null,""]
[18,null,null,null,null,0,null,null,null,null,null,"",null,null,null,null,null,""]
[19,null,null,null,null,0,null,null,null,null,null,"",null,null,null,null,null,""]
[20,null,null,null,null,0,null,null,null,null,null,"",null,null,null,null,null,""]
[21,null,null,null,null,0,null,null,null,null,null,"",null,null,null,null,null,""]
[22,null,null,null,null,0,null,null,null,null,null,"",null,null,null,null,null,""]
[23,null,null,null,null,0,null,null,null,null,null,"",null,null,null,null,null,""]
[24,null,null,null,null,0,null,null,null,null,null,"",null,null,null,null,null,""]
[25,null,null,null,null,0,null,null,null,null,null,"",null,null,null,null,null,""]
[26,null,null,null,null,0,null,null,null,null,null,"",null,null,null,null,null,""]
[27,null,null,null,null,0,null,null,null,null,null,"",null,null,null,null,null,""]
[28,null,null,null,null,0,null,null,null,null,null,"",null,null,null,null,null,""]
[29,null,null,null,null,0,null,null,null,null,null,"",null,null,null,null,null,""]
[30,null,null,null,null,0,null,null,null,null,null,"",null,null,null,null,null,""]
[31,null,null,null,null,0,null,null,null,null,null,"",null,null,null,null,null,""]
[32,null,null,null,null,0,null,null,null,null,null,"",null,null,null,null,null,""]
[33,null,null,null,null,{"$f":"IF(B36=\"\",0,L36+R36)","v":0},null,null,null,null,null,{"$f":"IF($B36=\"\",\"\",SUM(G36:K36))","v":""},null,null,null,null,null,{"$f":"IF($B36=\"\",\"\",SUM(M36:Q36))","v":""}]
[34,null,null,null,null,0,null,null,null,null,null,"",null,null,null,null,null,""]
[35,null,null,null,null,0,null,null,null,null,null,"",null,null,null,null,null,""]
[36,null,null,null,null,0,null,null,null,null,null,"",null,null,null,null,null,""]
[37,null,null,null,null,0,null,null,null,null,null,"",null,null,null,null,null,""]
[38,null,null,null,null,0,null,null,null,null,null,"",null,null,null,null,null,""]
[39,null,null,null,null,0,null,null,null,null,null,"",null,null,null,null,null,""]
[40,null,null,null,null,0,null,null,null,null,null,"",null,null,null,null,null,""]
[41,null,null,null,null,0,null,null,null,null,null,"",null,null,null,null,null,""]
[42,null,null,null,null,0,null,null,null,null,null,"",null,null,null,null,null,""]
[43,null,null,null,null,0,null,null,null,null,null,"",null,null,null,null,null,""]
[44,null,null,null,null,0,null,null,null,null,null,"",null,null,null,null,null,""]
[45,null,null,null,null,0,null,null,null,null,null,"",null,null,null,null,null,""]
[46,null,null,null,null,0,null,null,null,null,null,"",null,null,null,null,null,""]
[47,null,null,null,null,0,null,null,null,null,null,"",null,null,null,null,null,""]
[48,null,null,null,null,0,null,null,null,null,null,"",null,null,null,null,null,""]
[49,null,null,null,null,0,null,null,null,null,null,"",null,null,null,null,null,""]
[50,null,null,null,null,0,null,null,null,null,null,"",null,null,null,null,null,""]
[51,null,null,null,null,0,null,null,null,null,null,"",null,null,null,null,null,""]
[52,null,null,null,null,0,null,null,null,null,null,"",null,null,null,null,null,""]
[53,null,null,null,null,0,null,null,null,null,null,"",null,null,null,null,null,""]
[54,null,null,null,null,0,null,null,null,null,null,"",null,null,null,null,null,""]
[55,null,null,null,null,0,null,null,null,null,null,"",null,null,null,null,null,""]
[56,null,null,null,null,0,null,null,null,null,null,"",null,null,null,null,null,""]
[57,null,null,null,null,0,null,null,null,null,null,"",null,null,null,null,null,""]
[58,null,null,null,null,0,null,null,null,null,null,"",null,null,null,null,null,""]
[59,null,null,null,null,0,null,null,null,null,null,"",null,null,null,null,null,""]
[60,null,null,null,null,0,null,null,null,null,null,"",null,null,null,null,null,""]
[61,null,null,null,null,0,null,null,null,null,null,"",null,null,null,null,null,""]
[62,null,null,null,null,0,null,null,null,null,null,"",null,null,null,null,null,""]
[63,null,null,null,null,0,null,null,null,null,null,"",null,null,null,null,null,""]
[64,null,null,null,null,0,null,null,null,null,null,"",null,null,null,null,null,""]
[65,null,null,null,null,{"$f":"IF(B68=\"\",0,L68+R68)","v":0},null,null,null,null,null,{"$f":"IF($B68=\"\",\"\",SUM(G68:K68))","v":""},null,null,null,null,null,{"$f":"IF($B68=\"\",\"\",SUM(M68:Q68))","v":""}]
[66,null,null,null,null,0,null,null,null,null,null,"",null,null,null,null,null,""]
[67,null,null,null,null,0,null,null,null,null,null,"",null,null,null,null,null,""]
[68,null,null,null,null,0,null,null,null,null,null,"",null,null,null,null,null,""]
[69,null,null,null,null,0,null,null,null,null,null,"",null,null,null,null,null,""]
[70,null,null,null,null,0,null,null,null,null,null,"",null,null,null,null,null,""]
[71,null,null,null,null,0,null,null,null,null,null,"",null,null,null,null,null,""]
[72,null,null,null,null,0,null,null,null,null,null,"",null,null,null,null,null,""]
[73,null,null,null,null,0,null,null,null,null,null,"",null,null,null,null,null,""]
[74,null,null,null,null,0,null,null,null,null,null,"",null,null,null,null,null,""]
[75,null,null,null,null,0,null,null,null,null,null,"",null,null,null,null,null,""]
[76,null,null,null,null,0,null,null,null,null,null,"",null,null,null,null,null,""]
[77,null,null,null,null,0,null,null,null,null,null,"",null,null,null,null,null,""]
[78,null,null,null,null,0,null,null,null,null,null,"",null,null,null,null,null,""]
[79,null,null,null,null,0,null,null,null,null,null,"",null,null,null,null,null,""]
[80,null,null,null,null,0,null,null,null,null,null,"",null,null,null,null,null,""]

{"sheet":"Tag Teams","index":1,"n_rows":31,"n_cols":9,"rows_kept":31,"cut":false,"hidden":false,"merged":[[0,5,0,8]]}
["CPF&G .22 Plate Shoot Tag Teams",null,null,{"$f":"Scores!M1","v":"DATE"},null,"Enter time as minutes <COLON> seconds <DOT> hundredths"]
[]
["MATCH #1",null,null,null,null,null,null,null,"TIME"]
["Team BLUE"]
["Team GREEN"]
["Team RED"]
["Team WHITE"]
[]
["MATCH #2",null,null,null,null,null,null,null,"TIME"]
["Team BLUE"]
["Team GREEN"]
["Team RED"]
["Team WHITE"]
[]
["MATCH #3",null,null,null,null,null,null,null,"TIME"]
["Team BLUE"]
["Team GREEN"]
["Team RED"]
["Team WHITE"]
[]
["MATCH #4",null,null,null,null,null,null,null,"TIME"]
["Team BLUE"]
["Team GREEN"]
["Team RED"]
["Team WHITE"]
[]
["MATCH #5",null,null,null,null,null,null,null,"TIME"]
["Team BLUE"]
["Team GREEN"]
["Team RED"]
["Team WHITE"]

{"sheet":"Head to Head","index":2,"n_rows":22,"n_cols":4,"rows_kept":22,"cut":false,"hidden":false,"merged":[[0,0,0,2]]}
[".22 Plate Shoot - Head to Head Shootoff",null,null,{"$f":"Scores!M1","v":"DATE"}]
[null,"CONTENDER #1","CONTENDER #2","WINNER"]
[1]
[2]
[3]
[4]
[5]
[6]
[7]
[8]
[9]
[10]
[11]
[12]
[13]
[14]
[15]
[16]
[17]
[18]
[19]
[20]

{"sheet":"Sorts","index":3,"n_rows":86,"n_cols":16,"rows_kept":86,"cut":false,"hidden":true,"merged":[[2,4,2,9],[2,10,2,15],[0,0,0,1]]}
["SORTS",null,"Sort by \"HITS\" (large to small), then by \"DIV\" (A to Z)"]
[null,"ADD ROWS TO ACCOMMODATE NEW SHOOTERS. DELETE BLANK ROWS BEFORE SORTING."]
[]
["No","SHOOTER","DIV","HITS","1-1","1-2","1-3","1-4","1-5","TTL","2-1","2-2","2-3","22-4","2-5","TTL2"]
[1,{"$f":"IF(Scores!B4=\"\",\"\",Scores!B4)","v":""},{"$f":"IF(Scores!D4=\"\",\"\",Scores!D4)","v":""},{"$f":"IF($B5=\"\",\"\",Scores!F4)","v":""},{"$f":"IF($B5=\"\",\"\",Scores!G4)","v":""},{"$f":"IF($B5=\"\",\"\",Scores!H4)","v":""},{"$f":"IF($B5=\"\",\"\",Scores!I4)","v":""},{"$f":"IF($B5=\"\",\"\",Scores!J4)","v":""},{"$f":"IF($B5=\"\",\"\",Scores!K4)","v":""},{"$f":"IF($B5=\"\",\"\",Scores!L4)","v":""},{"$f":"IF($B5=\"\",\"\",Scores!M4)","v":""},{"$f":"IF($B5=\"\",\"\",Scores!N4)","v":""},{"$f":"IF($B5=\"\",\"\",Scores!O4)","v":""},{"$f":"IF($B5=\"\",\"\",Scores!P4)","v":""},{"$f":"IF($B5=\"\",\"\",Scores!Q4)","v":""},{"$f":"IF($B5=\"\",\"\",Scores!R4)","v":""}]
[2,{"$f":"IF(Scores!B5=\"\",\"\",Scores!B5)","v":""},{"$f":"IF(Scores!D5=\"\",\"\",Scores!D5)","v":""},{"$f":"IF($B6=\"\",\"\",Scores!F5)","v":""},{"$f":"IF($B6=\"\",\"\",Scores!G5)","v":""},{"$f":"IF($B6=\"\",\"\",Scores!H5)","v":""},{"$f":"IF($B6=\"\",\"\",Scores!I5)","v":""},{"$f":"IF($B6=\"\",\"\",Scores!J5)","v":""},{"$f":"IF($B6=\"\",\"\",Scores!K5)","v":""},{"$f":"IF($B6=\"\",\"\",Scores!L5)","v":""},{"$f":"IF($B6=\"\",\"\",Scores!M5)","v":""},{"$f":"IF($B6=\"\",\"\",Scores!N5)","v":""},{"$f":"IF($B6=\"\",\"\",Scores!O5)","v":""},{"$f":"IF($B6=\"\",\"\",Scores!P5)","v":""},{"$f":"IF($B6=\"\",\"\",Scores!Q5)","v":""},{"$f":"IF($B6=\"\",\"\",Scores!R5)","v":""}]
[3,{"$f":"IF(Scores!B6=\"\",\"\",Scores!B6)","v":""},{"$f":"IF(Scores!D6=\"\",\"\",Scores!D6)","v":""},{"$f":"IF($B7=\"\",\"\",Scores!F6)","v":""},{"$f":"IF($B7=\"\",\"\",Scores!G6)","v":""},{"$f":"IF($B7=\"\",\"\",Scores!H6)","v":""},{"$f":"IF($B7=\"\",\"\",Scores!I6)","v":""},{"$f":"IF($B7=\"\",\"\",Scores!J6)","v":""},{"$f":"IF($B7=\"\",\"\",Scores!K6)","v":""},{"$f":"IF($B7=\"\",\"\",Scores!L6)","v":""},{"$f":"IF($B7=\"\",\"\",Scores!M6)","v":""},{"$f":"IF($B7=\"\",\"\",Scores!N6)","v":""},{"$f":"IF($B7=\"\",\"\",Scores!O6)","v":""},{"$f":"IF($B7=\"\",\"\",Scores!P6)","v":""},{"$f":"IF($B7=\"\",\"\",Scores!Q6)","v":""},{"$f":"IF($B7=\"\",\"\",Scores!R6)","v":""}]
[4,{"$f":"IF(Scores!B7=\"\",\"\",Scores!B7)","v":""},{"$f":"IF(Scores!D7=\"\",\"\",Scores!D7)","v":""},{"$f":"IF($B8=\"\",\"\",Scores!F7)","v":""},{"$f":"IF($B8=\"\",\"\",Scores!G7)","v":""},{"$f":"IF($B8=\"\",\"\",Scores!H7)","v":""},{"$f":"IF($B8=\"\",\"\",Scores!I7)","v":""},{"$f":"IF($B8=\"\",\"\",Scores!J7)","v":""},{"$f":"IF($B8=\"\",\"\",Scores!K7)","v":""},{"$f":"IF($B8=\"\",\"\",Scores!L7)","v":""},{"$f":"IF($B8=\"\",\"\",Scores!M7)","v":""},{"$f":"IF($B8=\"\",\"\",Scores!N7)","v":""},{"$f":"IF($B8=\"\",\"\",Scores!O7)","v":""},{"$f":"IF($B8=\"\",\"\",Scores!P7)","v":""},{"$f":"IF($B8=\"\",\"\",Scores!Q7)","v":""},{"$f":"IF($B8=\"\",\"\",Scores!R7)","v":""}]
[5,{"$f":"IF(Scores!B8=\"\",\"\",Scores!B8)","v":""},{"$f":"IF(Scores!D8=\"\",\"\",Scores!D8)","v":""},{"$f":"IF($B9=\"\",\"\",Scores!F8)","v":""},{"$f":"IF($B9=\"\",\"\",Scores!G8)","v":""},{"$f":"IF($B9=\"\",\"\",Scores!H8)","v":""},{"$f":"IF($B9=\"\",\"\",Scores!I8)","v":""},{"$f":"IF($B9=\"\",\"\",Scores!J8)","v":""},{"$f":"IF($B9=\"\",\"\",Scores!K8)","v":""},{"$f":"IF($B9=\"\",\"\",Scores!L8)","v":""},{"$f":"IF($B9=\"\",\"\",Scores!M8)","v":""},{"$f":"IF($B9=\"\",\"\",Scores!N8)","v":""},{"$f":"IF($B9=\"\",\"\",Scores!O8)","v":""},{"$f":"IF($B9=\"\",\"\",Scores!P8)","v":""},{"$f":"IF($B9=\"\",\"\",Scores!Q8)","v":""},{"$f":"IF($B9=\"\",\"\",Scores!R8)","v":""}]
[6,{"$f":"IF(Scores!B9=\"\",\"\",Scores!B9)","v":""},{"$f":"IF(Scores!D9=\"\",\"\",Scores!D9)","v":""},{"$f":"IF($B10=\"\",\"\",Scores!F9)","v":""},{"$f":"IF($B10=\"\",\"\",Scores!G9)","v":""},{"$f":"IF($B10=\"\",\"\",Scores!H9)","v":""},{"$f":"IF($B10=\"\",\"\",Scores!I9)","v":""},{"$f":"IF($B10=\"\",\"\",Scores!J9)","v":""},{"$f":"IF($B10=\"\",\"\",Scores!K9)","v":""},{"$f":"IF($B10=\"\",\"\",Scores!L9)","v":""},{"$f":"IF($B10=\"\",\"\",Scores!M9)","v":""},{"$f":"IF($B10=\"\",\"\",Scores!N9)","v":""},{"$f":"IF($B10=\"\",\"\",Scores!O9)","v":""},{"$f":"IF($B10=\"\",\"\",Scores!P9)","v":""},{"$f":"IF($B10=\"\",\"\",Scores!Q9)","v":""},{"$f":"IF($B10=\"\",\"\",Scores!R9)","v":""}]
[7,{"$f":"IF(Scores!B10=\"\",\"\",Scores!B10)","v":""},{"$f":"IF(Scores!D10=\"\",\"\",Scores!D10)","v":""},{"$f":"IF($B11=\"\",\"\",Scores!F10)","v":""},{"$f":"IF($B11=\"\",\"\",Scores!G10)","v":""},{"$f":"IF($B11=\"\",\"\",Scores!H10)","v":""},{"$f":"IF($B11=\"\",\"\",Scores!I10)","v":""},{"$f":"IF($B11=\"\",\"\",Scores!J10)","v":""},{"$f":"IF($B11=\"\",\"\",Scores!K10)","v":""},{"$f":"IF($B11=\"\",\"\",Scores!L10)","v":""},{"$f":"IF($B11=\"\",\"\",Scores!M10)","v":""},{"$f":"IF($B11=\"\",\"\",Scores!N10)","v":""},{"$f":"IF($B11=\"\",\"\",Scores!O10)","v":""},{"$f":"IF($B11=\"\",\"\",Scores!P10)","v":""},{"$f":"IF($B11=\"\",\"\",Scores!Q10)","v":""},{"$f":"IF($B11=\"\",\"\",Scores!R10)","v":""}]
[8,{"$f":"IF(Scores!B11=\"\",\"\",Scores!B11)","v":""},{"$f":"IF(Scores!D11=\"\",\"\",Scores!D11)","v":""},{"$f":"IF($B12=\"\",\"\",Scores!F11)","v":""},{"$f":"IF($B12=\"\",\"\",Scores!G11)","v":""},{"$f":"IF($B12=\"\",\"\",Scores!H11)","v":""},{"$f":"IF($B12=\"\",\"\",Scores!I11)","v":""},{"$f":"IF($B12=\"\",\"\",Scores!J11)","v":""},{"$f":"IF($B12=\"\",\"\",Scores!K11)","v":""},{"$f":"IF($B12=\"\",\"\",Scores!L11)","v":""},{"$f":"IF($B12=\"\",\"\",Scores!M11)","v":""},{"$f":"IF($B12=\"\",\"\",Scores!N11)","v":""},{"$f":"IF($B12=\"\",\"\",Scores!O11)","v":""},{"$f":"IF($B12=\"\",\"\",Scores!P11)","v":""},{"$f":"IF($B12=\"\",\"\",Scores!Q11)","v":""},{"$f":"IF($B12=\"\",\"\",Scores!R11)","v":""}]
[9,{"$f":"IF(Scores!B12=\"\",\"\",Scores!B12)","v":""},{"$f":"IF(Scores!D12=\"\",\"\",Scores!D12)","v":""},{"$f":"IF($B13=\"\",\"\",Scores!F12)","v":""},{"$f":"IF($B13=\"\",\"\",Scores!G12)","v":""},{"$f":"IF($B13=\"\",\"\",Scores!H12)","v":""},{"$f":"IF($B13=\"\",\"\",Scores!I12)","v":""},{"$f":"IF($B13=\"\",\"\",Scores!J12)","v":""},{"$f":"IF($B13=\"\",\"\",Scores!K12)","v":""},{"$f":"IF($B13=\"\",\"\",Scores!L12)","v":""},{"$f":"IF($B13=\"\",\"\",Scores!M12)","v":""},{"$f":"IF($B13=\"\",\"\",Scores!N12)","v":""},{"$f":"IF($B13=\"\",\"\",Scores!O12)","v":""},{"$f":"IF($B13=\"\",\"\",Scores!P12)","v":""},{"$f":"IF($B13=\"\",\"\",Scores!Q12)","v":""},{"$f":"IF($B13=\"\",\"\",Scores!R12)","v":""}]
[10,{"$f":"IF(Scores!B13=\"\",\"\",Scores!B13)","v":""},{"$f":"IF(Scores!D13=\"\",\"\",Scores!D13)","v":""},{"$f":"IF($B14=\"\",\"\",Scores!F13)","v":""},{"$f":"IF($B14=\"\",\"\",Scores!G13)","v":""},{"$f":"IF($B14=\"\",\"\",Scores!H13)","v":""},{"$f":"IF($B14=\"\",\"\",Scores!I13)","v":""},{"$f":"IF($B14=\"\",\"\",Scores!J13)","v":""},{"$f":"IF($B14=\"\",\"\",Scores!K13)","v":""},{"$f":"IF($B14=\"\",\"\",Scores!L13)","v":""},{"$f":"IF($B14=\"\",\"\",Scores!M13)","v":""},{"$f":"IF($B14=\"\",\"\",Scores!N13)","v":""},{"$f":"IF($B14=\"\",\"\",Scores!O13)","v":""},{"$f":"IF($B14=\"\",\"\",Scores!P13)","v":""},{"$f":"IF($B14=\"\",\"\",Scores!Q13)","v":""},{"$f":"IF($B14=\"\",\"\",Scores!R13)","v":""}]
[11,{"$f":"IF(Scores!B14=\"\",\"\",Scores!B14)","v":""},{"$f":"IF(Scores!D14=\"\",\"\",Scores!D14)","v":""},{"$f":"IF($B15=\"\",\"\",Scores!F14)","v":""},{"$f":"IF($B15=\"\",\"\",Scores!G14)","v":""},{"$f":"IF($B15=\"\",\"\",Scores!H14)","v":""},{"$f":"IF($B15=\"\",\"\",Scores!I14)","v":""},{"$f":"IF($B15=\"\",\"\",Scores!J14)","v":""},{"$f":"IF($B15=\"\",\"\",Scores!K14)","v":""},{"$f":"IF($B15=\"\",\"\",Scores!L14)","v":""},{"$f":"IF($B15=\"\",\"\",Scores!M14)","v":""},{"$f":"IF($B15=\"\",\"\",Scores!N14)","v":""},{"$f":"IF($B15=\"\",\"\",Scores!O14)","v":""},{"$f":"IF($B15=\"\",\"\",Scores!P14)","v":""},{"$f":"IF($B15=\"\",\"\",Scores!Q14)","v":""},{"$f":"IF($B15=\"\",\"\",Scores!R14)","v":""}]
[12,{"$f":"IF(Scores!B15=\"\",\"\",Scores!B15)","v":""},{"$f":"IF(Scores!D15=\"\",\"\",Scores!D15)","v":""},{"$f":"IF($B16=\"\",\"\",Scores!F15)","v":""},{"$f":"IF($B16=\"\",\"\",Scores!G15)","v":""},{"$f":"IF($B16=\"\",\"\",Scores!H15)","v":""},{"$f":"IF($B16=\"\",\"\",Scores!I15)","v":""},{"$f":"IF($B16=\"\",\"\",Scores!J15)","v":""},{"$f":"IF($B16=\"\",\"\",Scores!K15)","v":""},{"$f":"IF($B16=\"\",\"\",Scores!L15)","v":""},{"$f":"IF($B16=\"\",\"\",Scores!M15)","v":""},{"$f":"IF($B16=\"\",\"\",Scores!N15)","v":""},{"$f":"IF($B16=\"\",\"\",Scores!O15)","v":""},{"$f":"IF($B16=\"\",\"\",Scores!P15)","v":""},{"$f":"IF($B16=\"\",\"\",Scores!Q15)","v":""},{"$f":"IF($B16=\"\",\"\",Scores!R15)","v":""}]
[13,{"$f":"IF(Scores!B16=\"\",\"\",Scores!B16)","v":""},{"$f":"IF(Scores!D16=\"\",\"\",Scores!D16)","v":""},{"$f":"IF($B17=\"\",\"\",Scores!F16)","v":""},{"$f":"IF($B17=\"\",\"\",Scores!G16)","v":""},{"$f":"IF($B17=\"\",\"\",Scores!H16)","v":""},{"$f":"IF($B17=\"\",\"\",Scores!I16)","v":""},{"$f":"IF($B17=\"\",\"\",Scores!J16)","v":""},{"$f":"IF($B17=\"\",\"\",Scores!K16)","v":""},{"$f":"IF($B17=\"\",\"\",Scores!L16)","v":""},{"$f":"IF($B17=\"\",\"\",Scores!M16)","v":""},{"$f":"IF($B17=\"\",\"\",Scores!N16)","v":""},{"$f":"IF($B17=\"\",\"\",Scores!O16)","v":""},{"$f":"IF($B17=\"\",\"\",Scores!P16)","v":""},{"$f":"IF($B17=\"\",\"\",Scores!Q16)","v":""},{"$f":"IF($B17=\"\",\"\",Scores!R16)","v":""}]
[14,{"$f":"IF(Scores!B17=\"\",\"\",Scores!B17)","v":""},{"$f":"IF(Scores!D17=\"\",\"\",Scores!D17)","v":""},{"$f":"IF($B18=\"\",\"\",Scores!F17)","v":""},{"$f":"IF($B18=\"\",\"\",Scores!G17)","v":""},{"$f":"IF($B18=\"\",\"\",Scores!H17)","v":""},{"$f":"IF($B18=\"\",\"\",Scores!I17)","v":""},{"$f":"IF($B18=\"\",\"\",Scores!J17)","v":""},{"$f":"IF($B18=\"\",\"\",Scores!K17)","v":""},{"$f":"IF($B18=\"\",\"\",Scores!L17)","v":""},{"$f":"IF($B18=\"\",\"\",Scores!M17)","v":""},{"$f":"IF($B18=\"\",\"\",Scores!N17)","v":""},{"$f":"IF($B18=\"\",\"\",Scores!O17)","v":""},{"$f":"IF($B18=\"\",\"\",Scores!P17)","v":""},{"$f":"IF($B18=\"\",\"\",Scores!Q17)","v":""},{"$f":"IF($B18=\"\",\"\",Scores!R17)","v":""}]
[15,{"$f":"IF(Scores!B18=\"\",\"\",Scores!B18)","v":""},{"$f":"IF(Scores!D18=\"\",\"\",Scores!D18)","v":""},{"$f":"IF($B19=\"\",\"\",Scores!F18)","v":""},{"$f":"IF($B19=\"\",\"\",Scores!G18)","v":""},{"$f":"IF($B19=\"\",\"\",Scores!H18)","v":""},{"$f":"IF($B19=\"\",\"\",Scores!I18)","v":""},{"$f":"IF($B19=\"\",\"\",Scores!J18)","v":""},{"$f":"IF($B19=\"\",\"\",Scores!K18)","v":""},{"$f":"IF($B19=\"\",\"\",Scores!L18)","v":""},{"$f":"IF($B19=\"\",\"\",Scores!M18)","v":""},{"$f":"IF($B19=\"\",\"\",Scores!N18)","v":""},{"$f":"IF($B19=\"\",\"\",Scores!O18)","v":""},{"$f":"IF($B19=\"\",\"\",Scores!P18)","v":""},{"$f":"IF($B19=\"\",\"\",Scores!Q18)","v":""},{"$f":"IF($B19=\"\",\"\",Scores!R18)","v":""}]
[16,{"$f":"IF(Scores!B19=\"\",\"\",Scores!B19)","v":""},{"$f":"IF(Scores!D19=\"\",\"\",Scores!D19)","v":""},{"$f":"IF($B20=\"\",\"\",Scores!F19)","v":""},{"$f":"IF($B20=\"\",\"\",Scores!G19)","v":""},{"$f":"IF($B20=\"\",\"\",Scores!H19)","v":""},{"$f":"IF($B20=\"\",\"\",Scores!I19)","v":""},{"$f":"IF($B20=\"\",\"\",Scores!J19)","v":""},{"$f":"IF($B20=\"\",\"\",Scores!K19)","v":""},{"$f":"IF($B20=\"\",\"\",Scores!L19)","v":""},{"$f":"IF($B20=\"\",\"\",Scores!M19)","v":""},{"$f":"IF($B20=\"\",\"\",Scores!N19)","v":""},{"$f":"IF($B20=\"\",\"\",Scores!O19)","v":""},{"$f":"IF($B20=\"\",\"\",Scores!P19)","v":""},{"$f":"IF($B20=\"\",\"\",Scores!Q19)","v":""},{"$f":"IF($B20=\"\",\"\",Scores!R19)","v":""}]
[17,{"$f":"IF(Scores!B20=\"\",\"\",Scores!B20)","v":""},{"$f":"IF(Scores!D20=\"\",\"\",Scores!D20)","v":""},{"$f":"IF($B21=\"\",\"\",Scores!F20)","v":""},{"$f":"IF($B21=\"\",\"\",Scores!G20)","v":""},{"$f":"IF($B21=\"\",\"\",Scores!H20)","v":""},{"$f":"IF($B21=\"\",\"\",Scores!I20)","v":""},{"$f":"IF($B21=\"\",\"\",Scores!J20)","v":""},{"$f":"IF($B21=\"\",\"\",Scores!K20)","v":""},{"$f":"IF($B21=\"\",\"\",Scores!L20)","v":""},{"$f":"IF($B21=\"\",\"\",Scores!M20)","v":""},{"$f":"IF($B21=\"\",\"\",Scores!N20)","v":""},{"$f":"IF($B21=\"\",\"\",Scores!O20)","v":""},{"$f":"IF($B21=\"\",\"\",Scores!P20)","v":""},{"$f":"IF($B21=\"\",\"\",Scores!Q20)","v":""},{"$f":"IF($B21=\"\",\"\",Scores!R20)","v":""}]
[18,{"$f":"IF(Scores!B21=\"\",\"\",Scores!B21)","v":""},{"$f":"IF(Scores!D21=\"\",\"\",Scores!D21)","v":""},{"$f":"IF($B22=\"\",\"\",Scores!F21)","v":""},{"$f":"IF($B22=\"\",\"\",Scores!G21)","v":""},{"$f":"IF($B22=\"\",\"\",Scores!H21)","v":""},{"$f":"IF($B22=\"\",\"\",Scores!I21)","v":""},{"$f":"IF($B22=\"\",\"\",Scores!J21)","v":""},{"$f":"IF($B22=\"\",\"\",Scores!K21)","v":""},{"$f":"IF($B22=\"\",\"\",Scores!L21)","v":""},{"$f":"IF($B22=\"\",\"\",Scores!M21)","v":""},{"$f":"IF($B22=\"\",\"\",Scores!N21)","v":""},{"$f":"IF($B22=\"\",\"\",Scores!O21)","v":""},{"$f":"IF($B22=\"\",\"\",Scores!P21)","v":""},{"$f":"IF($B22=\"\",\"\",Scores!Q21)","v":""},{"$f":"IF($B22=\"\",\"\",Scores!R21)","v":""}]
[19,{"$f":"IF(Scores!B22=\"\",\"\",Scores!B22)","v":""},{"$f":"IF(Scores!D22=\"\",\"\",Scores!D22)","v":""},{"$f":"IF($B23=\"\",\"\",Scores!F22)","v":""},{"$f":"IF($B23=\"\",\"\",Scores!G22)","v":""},{"$f":"IF($B23=\"\",\"\",Scores!H22)","v":""},{"$f":"IF($B23=\"\",\"\",Scores!I22)","v":""},{"$f":"IF($B23=\"\",\"\",Scores!J22)","v":""},{"$f":"IF($B23=\"\",\"\",Scores!K22)","v":""},{"$f":"IF($B23=\"\",\"\",Scores!L22)","v":""},{"$f":"IF($B23=\"\",\"\",Scores!M22)","v":""},{"$f":"IF($B23=\"\",\"\",Scores!N22)","v":""},{"$f":"IF($B23=\"\",\"\",Scores!O22)","v":""},{"$f":"IF($B23=\"\",\"\",Scores!P22)","v":""},{"$f":"IF($B23=\"\",\"\",Scores!Q22)","v":""},{"$f":"IF($B23=\"\",\"\",Scores!R22)","v":""}]
[20,{"$f":"IF(Scores!B23=\"\",\"\",Scores!B23)","v":""},{"$f":"IF(Scores!D23=\"\",\"\",Scores!D23)","v":""},{"$f":"IF($B24=\"\",\"\",Scores!F23)","v":""},{"$f":"IF($B24=\"\",\"\",Scores!G23)","v":""},{"$f":"IF($B24=\"\",\"\",Scores!H23)","v":""},{"$f":"IF($B24=\"\",\"\",Scores!I23)","v":""},{"$f":"IF($B24=\"\",\"\",Scores!J23)","v":""},{"$f":"IF($B24=\"\",\"\",Scores!K23)","v":""},{"$f":"IF($B24=\"\",\"\",Scores!L23)","v":""},{"$f":"IF($B24=\"\",\"\",Scores!M23)","v":""},{"$f":"IF($B24=\"\",\"\",Scores!N23)","v":""},{"$f":"IF($B24=\"\",\"\",Scores!O23)","v":""},{"$f":"IF($B24=\"\",\"\",Scores!P23)","v":""},{"$f":"IF($B24=\"\",\"\",Scores!Q23)","v":""},{"$f":"IF($B24=\"\",\"\",Scores!R23)","v":""}]
[21,{"$f":"IF(Scores!B14=\"\",\"\",Scores!B14)","v":""},{"$f":"IF(Scores!D14=\"\",\"\",Scores!D14)","v":""},{"$f":"IF($B25=\"\",\"\",Scores!F14)","v":""},{"$f":"IF($B25=\"\",\"\",Scores!G14)","v":""},{"$f":"IF($B25=\"\",\"\",Scores!H14)","v":""},{"$f":"IF($B25=\"\",\"\",Scores!I14)","v":""},{"$f":"IF($B25=\"\",\"\",Scores!J14)","v":""},{"$f":"IF($B25=\"\",\"\",Scores!K14)","v":""},{"$f":"IF($B25=\"\",\"\",Scores!L14)","v":""},{"$f":"IF($B25=\"\",\"\",Scores!M14)","v":""},{"$f":"IF($B25=\"\",\"\",Scores!N14)","v":""},{"$f":"IF($B25=\"\",\"\",Scores!O14)","v":""},{"$f":"IF($B25=\"\",\"\",Scores!P14)","v":""},{"$f":"IF($B25=\"\",\"\",Scores!Q14)","v":""},{"$f":"IF($B25=\"\",\"\",Scores!R14)","v":""}]
[22,{"$f":"IF(Scores!B15=\"\",\"\",Scores!B15)","v":""},{"$f":"IF(Scores!D15=\"\",\"\",Scores!D15)","v":""},{"$f":"IF($B26=\"\",\"\",Scores!F15)","v":""},{"$f":"IF($B26=\"\",\"\",Scores!G15)","v":""},{"$f":"IF($B26=\"\",\"\",Scores!H15)","v":""},{"$f":"IF($B26=\"\",\"\",Scores!I15)","v":""},{"$f":"IF($B26=\"\",\"\",Scores!J15)","v":""},{"$f":"IF($B26=\"\",\"\",Scores!K15)","v":""},{"$f":"IF($B26=\"\",\"\",Scores!L15)","v":""},{"$f":"IF($B26=\"\",\"\",Scores!M15)","v":""},{"$f":"IF($B26=\"\",\"\",Scores!N15)","v":""},{"$f":"IF($B26=\"\",\"\",Scores!O15)","v":""},{"$f":"IF($B26=\"\",\"\",Scores!P15)","v":""},{"$f":"IF($B26=\"\",\"\",Scores!Q15)","v":""},{"$f":"IF($B26=\"\",\"\",Scores!R15)","v":""}]
[23,{"$f":"IF(Scores!B16=\"\",\"\",Scores!B16)","v":""},{"$f":"IF(Scores!D16=\"\",\"\",Scores!D16)","v":""},{"$f":"IF($B27=\"\",\"\",Scores!F16)","v":""},{"$f":"IF($B27=\"\",\"\",Scores!G16)","v":""},{"$f":"IF($B27=\"\",\"\",Scores!H16)","v":""},{"$f":"IF($B27=\"\",\"\",Scores!I16)","v":""},{"$f":"IF($B27=\"\",\"\",Scores!J16)","v":""},{"$f":"IF($B27=\"\",\"\",Scores!K16)","v":""},{"$f":"IF($B27=\"\",\"\",Scores!L16)","v":""},{"$f":"IF($B27=\"\",\"\",Scores!M16)","v":""},{"$f":"IF($B27=\"\",\"\",Scores!N16)","v":""},{"$f":"IF($B27=\"\",\"\",Scores!O16)","v":""},{"$f":"IF($B27=\"\",\"\",Scores!P16)","v":""},{"$f":"IF($B27=\"\",\"\",Scores!Q16)","v":""},{"$f":"IF($B27=\"\",\"\",Scores!R16)","v":""}]
[24,{"$f":"IF(Scores!B17=\"\",\"\",Scores!B17)","v":""},{"$f":"IF(Scores!D17=\"\",\"\",Scores!D17)","v":""},{"$f":"IF($B28=\"\",\"\",Scores!F17)","v":""},{"$f":"IF($B28=\"\",\"\",Scores!G17)","v":""},{"$f":"IF($B28=\"\",\"\",Scores!H17)","v":""},{"$f":"IF($B28=\"\",\"\",Scores!I17)","v":""},{"$f":"IF($B28=\"\",\"\",Scores!J17)","v":""},{"$f":"IF($B28=\"\",\"\",Scores!K17)","v":""},{"$f":"IF($B28=\"\",\"\",Scores!L17)","v":""},{"$f":"IF($B28=\"\",\"\",Scores!M17)","v":""},{"$f":"IF($B28=\"\",\"\",Scores!N17)","v":""},{"$f":"IF($B28=\"\",\"\",Scores!O17)","v":""},{"$f":"IF($B28=\"\",\"\",Scores!P17)","v":""},{"$f":"IF($B28=\"\",\"\",Scores!Q17)","v":""},{"$f":"IF($B28=\"\",\"\",Scores!R17)","v":""}]
[25,{"$f":"IF(Scores!B18=\"\",\"\",Scores!B18)","v":""},{"$f":"IF(Scores!D18=\"\",\"\",Scores!D18)","v":""},{"$f":"IF($B29=\"\",\"\",Scores!F18)","v":""},{"$f":"IF($B29=\"\",\"\",Scores!G18)","v":""},{"$f":"IF($B29=\"\",\"\",Scores!H18)","v":""},{"$f":"IF($B29=\"\",\"\",Scores!I18)","v":""},{"$f":"IF($B29=\"\",\"\",Scores!J18)","v":""},{"$f":"IF($B29=\"\",\"\",Scores!K18)","v":""},{"$f":"IF($B29=\"\",\"\",Scores!L18)","v":""},{"$f":"IF($B29=\"\",\"\",Scores!M18)","v":""},{"$f":"IF($B29=\"\",\"\",Scores!N18)","v":""},{"$f":"IF($B29=\"\",\"\",Scores!O18)","v":""},{"$f":"IF($B29=\"\",\"\",Scores!P18)","v":""},{"$f":"IF($B29=\"\",\"\",Scores!Q18)","v":""},{"$f":"IF($B29=\"\",\"\",Scores!R18)","v":""}]
[26,{"$f":"IF(Scores!B19=\"\",\"\",Scores!B19)","v":""},{"$f":"IF(Scores!D19=\"\",\"\",Scores!D19)","v":""},{"$f":"IF($B30=\"\",\"\",Scores!F19)","v":""},{"$f":"IF($B30=\"\",\"\",Scores!G19)","v":""},{"$f":"IF($B30=\"\",\"\",Scores!H19)","v":""},{"$f":"IF($B30=\"\",\"\",Scores!I19)","v":""},{"$f":"IF($B30=\"\",\"\",Scores!J19)","v":""},{"$f":"IF($B30=\"\",\"\",Scores!K19)","v":""},{"$f":"IF($B30=\"\",\"\",Scores!L19)","v":""},{"$f":"IF($B30=\"\",\"\",Scores!M19)","v":""},{"$f":"IF($B30=\"\",\"\",Scores!N19)","v":""},{"$f":"IF($B30=\"\",\"\",Scores!O19)","v":""},{"$f":"IF($B30=\"\",\"\",Scores!P19)","v":""},{"$f":"IF($B30=\"\",\"\",Scores!Q19)","v":""},{"$f":"IF($B30=\"\",\"\",Scores!R19)","v":""}]
[27,{"$f":"IF(Scores!B20=\"\",\"\",Scores!B20)","v":""},{"$f":"IF(Scores!D20=\"\",\"\",Scores!D20)","v":""},{"$f":"IF($B31=\"\",\"\",Scores!F20)","v":""},{"$f":"IF($B31=\"\",\"\",Scores!G20)","v":""},{"$f":"IF($B31=\"\",\"\",Scores!H20)","v":""},{"$f":"IF($B31=\"\",\"\",Scores!I20)","v":""},{"$f":"IF($B31=\"\",\"\",Scores!J20)","v":""},{"$f":"IF($B31=\"\",\"\",Scores!K20)","v":""},{"$f":"IF($B31=\"\",\"\",Scores!L20)","v":""},{"$f":"IF($B31=\"\",\"\",Scores!M20)","v":""},{"$f":"IF($B31=\"\",\"\",Scores!N20)","v":""},{"$f":"IF($B31=\"\",\"\",Scores!O20)","v":""},{"$f":"IF($B31=\"\",\"\",Scores!P20)","v":""},{"$f":"IF($B31=\"\",\"\",Scores!Q20)","v":""},{"$f":"IF($B31=\"\",\"\",Scores!R20)","v":""}]
[28,{"$f":"IF(Scores!B21=\"\",\"\",Scores!B21)","v":""},{"$f":"IF(Scores!D21=\"\",\"\",Scores!D21)","v":""},{"$f":"IF($B32=\"\",\"\",Scores!F21)","v":""},{"$f":"IF($B32=\"\",\"\",Scores!G21)","v":""},{"$f":"IF($B32=\"\",\"\",Scores!H21)","v":""},{"$f":"IF($B32=\"\",\"\",Scores!I21)","v":""},{"$f":"IF($B32=\"\",\"\",Scores!J21)","v":""},{"$f":"IF($B32=\"\",\"\",Scores!K21)","v":""},{"$f":"IF($B32=\"\",\"\",Scores!L21)","v":""},{"$f":"IF($B32=\"\",\"\",Scores!M21)","v":""},{"$f":"IF($B32=\"\",\"\",Scores!N21)","v":""},{"$f":"IF($B32=\"\",\"\",Scores!O21)","v":""},{"$f":"IF($B32=\"\",\"\",Scores!P21)","v":""},{"$f":"IF($B32=\"\",\"\",Scores!Q21)","v":""},{"$f":"IF($B32=\"\",\"\",Scores!R21)","v":""}]
[29,{"$f":"IF(Scores!B22=\"\",\"\",Scores!B22)","v":""},{"$f":"IF(Scores!D22=\"\",\"\",Scores!D22)","v":""},{"$f":"IF($B33=\"\",\"\",Scores!F22)","v":""},{"$f":"IF($B33=\"\",\"\",Scores!G22)","v":""},{"$f":"IF($B33=\"\",\"\",Scores!H22)","v":""},{"$f":"IF($B33=\"\",\"\",Scores!I22)","v":""},{"$f":"IF($B33=\"\",\"\",Scores!J22)","v":""},{"$f":"IF($B33=\"\",\"\",Scores!K22)","v":""},{"$f":"IF($B33=\"\",\"\",Scores!L22)","v":""},{"$f":"IF($B33=\"\",\"\",Scores!M22)","v":""},{"$f":"IF($B33=\"\",\"\",Scores!N22)","v":""},{"$f":"IF($B33=\"\",\"\",Scores!O22)","v":""},{"$f":"IF($B33=\"\",\"\",Scores!P22)","v":""},{"$f":"IF($B33=\"\",\"\",Scores!Q22)","v":""},{"$f":"IF($B33=\"\",\"\",Scores!R22)","v":""}]
[30,{"$f":"IF(Scores!B23=\"\",\"\",Scores!B23)","v":""},{"$f":"IF(Scores!D23=\"\",\"\",Scores!D23)","v":""},{"$f":"IF($B34=\"\",\"\",Scores!F23)","v":""},{"$f":"IF($B34=\"\",\"\",Scores!G23)","v":""},{"$f":"IF($B34=\"\",\"\",Scores!H23)","v":""},{"$f":"IF($B34=\"\",\"\",Scores!I23)","v":""},{"$f":"IF($B34=\"\",\"\",Scores!J23)","v":""},{"$f":"IF($B34=\"\",\"\",Scores!K23)","v":""},{"$f":"IF($B34=\"\",\"\",Scores!L23)","v":""},{"$f":"IF($B34=\"\",\"\",Scores!M23)","v":""},{"$f":"IF($B34=\"\",\"\",Scores!N23)","v":""},{"$f":"IF($B34=\"\",\"\",Scores!O23)","v":""},{"$f":"IF($B34=\"\",\"\",Scores!P23)","v":""},{"$f":"IF($B34=\"\",\"\",Scores!Q23)","v":""},{"$f":"IF($B34=\"\",\"\",Scores!R23)","v":""}]
[31,{"$f":"IF(Scores!B24=\"\",\"\",Scores!B24)","v":""},{"$f":"IF(Scores!D24=\"\",\"\",Scores!D24)","v":""},{"$f":"IF($B35=\"\",\"\",Scores!F24)","v":""},{"$f":"IF($B35=\"\",\"\",Scores!G24)","v":""},{"$f":"IF($B35=\"\",\"\",Scores!H24)","v":""},{"$f":"IF($B35=\"\",\"\",Scores!I24)","v":""},{"$f":"IF($B35=\"\",\"\",Scores!J24)","v":""},{"$f":"IF($B35=\"\",\"\",Scores!K24)","v":""},{"$f":"IF($B35=\"\",\"\",Scores!L24)","v":""},{"$f":"IF($B35=\"\",\"\",Scores!M24)","v":""},{"$f":"IF($B35=\"\",\"\",Scores!N24)","v":""},{"$f":"IF($B35=\"\",\"\",Scores!O24)","v":""},{"$f":"IF($B35=\"\",\"\",Scores!P24)","v":""},{"$f":"IF($B35=\"\",\"\",Scores!Q24)","v":""},{"$f":"IF($B35=\"\",\"\",Scores!R24)","v":""}]
[32,{"$f":"IF(Scores!B25=\"\",\"\",Scores!B25)","v":""},{"$f":"IF(Scores!D25=\"\",\"\",Scores!D25)","v":""},{"$f":"IF($B36=\"\",\"\",Scores!F25)","v":""},{"$f":"IF($B36=\"\",\"\",Scores!G25)","v":""},{"$f":"IF($B36=\"\",\"\",Scores!H25)","v":""},{"$f":"IF($B36=\"\",\"\",Scores!I25)","v":""},{"$f":"IF($B36=\"\",\"\",Scores!J25)","v":""},{"$f":"IF($B36=\"\",\"\",Scores!K25)","v":""},{"$f":"IF($B36=\"\",\"\",Scores!L25)","v":""},{"$f":"IF($B36=\"\",\"\",Scores!M25)","v":""},{"$f":"IF($B36=\"\",\"\",Scores!N25)","v":""},{"$f":"IF($B36=\"\",\"\",Scores!O25)","v":""},{"$f":"IF($B36=\"\",\"\",Scores!P25)","v":""},{"$f":"IF($B36=\"\",\"\",Scores!Q25)","v":""},{"$f":"IF($B36=\"\",\"\",Scores!R25)","v":""}]
[33,{"$f":"IF(Scores!B26=\"\",\"\",Scores!B26)","v":""},{"$f":"IF(Scores!D26=\"\",\"\",Scores!D26)","v":""},{"$f":"IF($B37=\"\",\"\",Scores!F26)","v":""},{"$f":"IF($B37=\"\",\"\",Scores!G26)","v":""},{"$f":"IF($B37=\"\",\"\",Scores!H26)","v":""},{"$f":"IF($B37=\"\",\"\",Scores!I26)","v":""},{"$f":"IF($B37=\"\",\"\",Scores!J26)","v":""},{"$f":"IF($B37=\"\",\"\",Scores!K26)","v":""},{"$f":"IF($B37=\"\",\"\",Scores!L26)","v":""},{"$f":"IF($B37=\"\",\"\",Scores!M26)","v":""},{"$f":"IF($B37=\"\",\"\",Scores!N26)","v":""},{"$f":"IF($B37=\"\",\"\",Scores!O26)","v":""},{"$f":"IF($B37=\"\",\"\",Scores!P26)","v":""},{"$f":"IF($B37=\"\",\"\",Scores!Q26)","v":""},{"$f":"IF($B37=\"\",\"\",Scores!R26)","v":""}]
[34,{"$f":"IF(Scores!B27=\"\",\"\",Scores!B27)","v":""},{"$f":"IF(Scores!D27=\"\",\"\",Scores!D27)","v":""},{"$f":"IF($B38=\"\",\"\",Scores!F27)","v":""},{"$f":"IF($B38=\"\",\"\",Scores!G27)","v":""},{"$f":"IF($B38=\"\",\"\",Scores!H27)","v":""},{"$f":"IF($B38=\"\",\"\",Scores!I27)","v":""},{"$f":"IF($B38=\"\",\"\",Scores!J27)","v":""},{"$f":"IF($B38=\"\",\"\",Scores!K27)","v":""},{"$f":"IF($B38=\"\",\"\",Scores!L27)","v":""},{"$f":"IF($B38=\"\",\"\",Scores!M27)","v":""},{"$f":"IF($B38=\"\",\"\",Scores!N27)","v":""},{"$f":"IF($B38=\"\",\"\",Scores!O27)","v":""},{"$f":"IF($B38=\"\",\"\",Scores!P27)","v":""},{"$f":"IF($B38=\"\",\"\",Scores!Q27)","v":""},{"$f":"IF($B38=\"\",\"\",Scores!R27)","v":""}]
[35,{"$f":"IF(Scores!B28=\"\",\"\",Scores!B28)","v":""},{"$f":"IF(Scores!D28=\"\",\"\",Scores!D28)","v":""},{"$f":"IF($B39=\"\",\"\",Scores!F28)","v":""},{"$f":"IF($B39=\"\",\"\",Scores!G28)","v":""},{"$f":"IF($B39=\"\",\"\",Scores!H28)","v":""},{"$f":"IF($B39=\"\",\"\",Scores!I28)","v":""},{"$f":"IF($B39=\"\",\"\",Scores!J28)","v":""},{"$f":"IF($B39=\"\",\"\",Scores!K28)","v":""},{"$f":"IF($B39=\"\",\"\",Scores!L28)","v":""},{"$f":"IF($B39=\"\",\"\",Scores!M28)","v":""},{"$f":"IF($B39=\"\",\"\",Scores!N28)","v":""},{"$f":"IF($B39=\"\",\"\",Scores!O28)","v":""},{"$f":"IF($B39=\"\",\"\",Scores!P28)","v":""},{"$f":"IF($B39=\"\",\"\",Scores!Q28)","v":""},{"$f":"IF($B39=\"\",\"\",Scores!R28)","v":""}]
[36,{"$f":"IF(Scores!B29=\"\",\"\",Scores!B29)","v":""},{"$f":"IF(Scores!D29=\"\",\"\",Scores!D29)","v":""},{"$f":"IF($B40=\"\",\"\",Scores!F29)","v":""},{"$f":"IF($B40=\"\",\"\",Scores!G29)","v":""},{"$f":"IF($B40=\"\",\"\",Scores!H29)","v":""},{"$f":"IF($B40=\"\",\"\",Scores!I29)","v":""},{"$f":"IF($B40=\"\",\"\",Scores!J29)","v":""},{"$f":"IF($B40=\"\",\"\",Scores!K29)","v":""},{"$f":"IF($B40=\"\",\"\",Scores!L29)","v":""},{"$f":"IF($B40=\"\",\"\",Scores!M29)","v":""},{"$f":"IF($B40=\"\",\"\",Scores!N29)","v":""},{"$f":"IF($B40=\"\",\"\",Scores!O29)","v":""},{"$f":"IF($B40=\"\",\"\",Scores!P29)","v":""},{"$f":"IF($B40=\"\",\"\",Scores!Q29)","v":""},{"$f":"IF($B40=\"\",\"\",Scores!R29)","v":""}]
[37,{"$f":"IF(Scores!B30=\"\",\"\",Scores!B30)","v":""},{"$f":"IF(Scores!D30=\"\",\"\",Scores!D30)","v":""},{"$f":"IF($B41=\"\",\"\",Scores!F30)","v":""},{"$f":"IF($B41=\"\",\"\",Scores!G30)","v":""},{"$f":"IF($B41=\"\",\"\",Scores!H30)","v":""},{"$f":"IF($B41=\"\",\"\",Scores!I30)","v":""},{"$f":"IF($B41=\"\",\"\",Scores!J30)","v":""},{"$f":"IF($B41=\"\",\"\",Scores!K30)","v":""},{"$f":"IF($B41=\"\",\"\",Scores!L30)","v":""},{"$f":"IF($B41=\"\",\"\",Scores!M30)","v":""},{"$f":"IF($B41=\"\",\"\",Scores!N30)","v":""},{"$f":"IF($B41=\"\",\"\",Scores!O30)","v":""},{"$f":"IF($B41=\"\",\"\",Scores!P30)","v":""},{"$f":"IF($B41=\"\",\"\",Scores!Q30)","v":""},{"$f":"IF($B41=\"\",\"\",Scores!R30)","v":""}]
[38,{"$f":"IF(Scores!B31=\"\",\"\",Scores!B31)","v":""},{"$f":"IF(Scores!D31=\"\",\"\",Scores!D31)","v":""},{"$f":"IF($B42=\"\",\"\",Scores!F31)","v":""},{"$f":"IF($B42=\"\",\"\",Scores!G31)","v":""},{"$f":"IF($B42=\"\",\"\",Scores!H31)","v":""},{"$f":"IF($B42=\"\",\"\",Scores!I31)","v":""},{"$f":"IF($B42=\"\",\"\",Scores!J31)","v":""},{"$f":"IF($B42=\"\",\"\",Scores!K31)","v":""},{"$f":"IF($B42=\"\",\"\",Scores!L31)","v":""},{"$f":"IF($B42=\"\",\"\",Scores!M31)","v":""},{"$f":"IF($B42=\"\",\"\",Scores!N31)","v":""},{"$f":"IF($B42=\"\",\"\",Scores!O31)","v":""},{"$f":"IF($B42=\"\",\"\",Scores!P31)","v":""},{"$f":"IF($B42=\"\",\"\",Scores!Q31)","v":""},{"$f":"IF($B42=\"\",\"\",Scores!R31)","v":""}]
[39,{"$f":"IF(Scores!B32=\"\",\"\",Scores!B32)","v":""},{"$f":"IF(Scores!D32=\"\",\"\",Scores!D32)","v":""},{"$f":"IF($B43=\"\",\"\",Scores!F32)","v":""},{"$f":"IF($B43=\"\",\"\",Scores!G32)","v":""},{"$f":"IF($B43=\"\",\"\",Scores!H32)","v":""},{"$f":"IF($B43=\"\",\"\",Scores!I32)","v":""},{"$f":"IF($B43=\"\",\"\",Scores!J32)","v":""},{"$f":"IF($B43=\"\",\"\",Scores!K32)","v":""},{"$f":"IF($B43=\"\",\"\",Scores!L32)","v":""},{"$f":"IF($B43=\"\",\"\",Scores!M32)","v":""},{"$f":"IF($B43=\"\",\"\",Scores!N32)","v":""},{"$f":"IF($B43=\"\",\"\",Scores!O32)","v":""},{"$f":"IF($B43=\"\",\"\",Scores!P32)","v":""},{"$f":"IF($B43=\"\",\"\",Scores!Q32)","v":""},{"$f":"IF($B43=\"\",\"\",Scores!R32)","v":""}]
[40,{"$f":"IF(Scores!B33=\"\",\"\",Scores!B33)","v":""},{"$f":"IF(Scores!D33=\"\",\"\",Scores!D33)","v":""},{"$f":"IF($B44=\"\",\"\",Scores!F33)","v":""},{"$f":"IF($B44=\"\",\"\",Scores!G33)","v":""},{"$f":"IF($B44=\"\",\"\",Scores!H33)","v":""},{"$f":"IF($B44=\"\",\"\",Scores!I33)","v":""},{"$f":"IF($B44=\"\",\"\",Scores!J33)","v":""},{"$f":"IF($B44=\"\",\"\",Scores!K33)","v":""},{"$f":"IF($B44=\"\",\"\",Scores!L33)","v":""},{"$f":"IF($B44=\"\",\"\",Scores!M33)","v":""},{"$f":"IF($B44=\"\",\"\",Scores!N33)","v":""},{"$f":"IF($B44=\"\",\"\",Scores!O33)","v":""},{"$f":"IF($B44=\"\",\"\",Scores!P33)","v":""},{"$f":"IF($B44=\"\",\"\",Scores!Q33)","v":""},{"$f":"IF($B44=\"\",\"\",Scores!R33)","v":""}]
[41,{"$f":"IF(Scores!B34=\"\",\"\",Scores!B34)","v":""},{"$f":"IF(Scores!D34=\"\",\"\",Scores!D34)","v":""},{"$f":"IF($B45=\"\",\"\",Scores!F34)","v":""},{"$f":"IF($B45=\"\",\"\",Scores!G34)","v":""},{"$f":"IF($B45=\"\",\"\",Scores!H34)","v":""},{"$f":"IF($B45=\"\",\"\",Scores!I34)","v":""},{"$f":"IF($B45=\"\",\"\",Scores!J34)","v":""},{"$f":"IF($B45=\"\",\"\",Scores!K34)","v":""},{"$f":"IF($B45=\"\",\"\",Scores!L34)","v":""},{"$f":"IF($B45=\"\",\"\",Scores!M34)","v":""},{"$f":"IF($B45=\"\",\"\",Scores!N34)","v":""},{"$f":"IF($B45=\"\",\"\",Scores!O34)","v":""},{"$f":"IF($B45=\"\",\"\",Scores!P34)","v":""},{"$f":"IF($B45=\"\",\"\",Scores!Q34)","v":""},{"$f":"IF($B45=\"\",\"\",Scores!R34)","v":""}]
[42,{"$f":"IF(Scores!B35=\"\",\"\",Scores!B35)","v":""},{"$f":"IF(Scores!D35=\"\",\"\",Scores!D35)","v":""},{"$f":"IF($B46=\"\",\"\",Scores!F35)","v":""},{"$f":"IF($B46=\"\",\"\",Scores!G35)","v":""},{"$f":"IF($B46=\"\",\"\",Scores!H35)","v":""},{"$f":"IF($B46=\"\",\"\",Scores!I35)","v":""},{"$f":"IF($B46=\"\",\"\",Scores!J35)","v":""},{"$f":"IF($B46=\"\",\"\",Scores!K35)","v":""},{"$f":"IF($B46=\"\",\"\",Scores!L35)","v":""},{"$f":"IF($B46=\"\",\"\",Scores!M35)","v":""},{"$f":"IF($B46=\"\",\"\",Scores!N35)","v":""},{"$f":"IF($B46=\"\",\"\",Scores!O35)","v":""},{"$f":"IF($B46=\"\",\"\",Scores!P35)","v":""},{"$f":"IF($B46=\"\",\"\",Scores!Q35)","v":""},{"$f":"IF($B46=\"\",\"\",Scores!R35)","v":""}]
[43,{"$f":"IF(Scores!B36=\"\",\"\",Scores!B36)","v":""},{"$f":"IF(Scores!D36=\"\",\"\",Scores!D36)","v":""},{"$f":"IF($B47=\"\",\"\",Scores!F36)","v":""},{"$f":"IF($B47=\"\",\"\",Scores!G36)","v":""},{"$f":"IF($B47=\"\",\"\",Scores!H36)","v":""},{"$f":"IF($B47=\"\",\"\",Scores!I36)","v":""},{"$f":"IF($B47=\"\",\"\",Scores!J36)","v":""},{"$f":"IF($B47=\"\",\"\",Scores!K36)","v":""},{"$f":"IF($B47=\"\",\"\",Scores!L36)","v":""},{"$f":"IF($B47=\"\",\"\",Scores!M36)","v":""},{"$f":"IF($B47=\"\",\"\",Scores!N36)","v":""},{"$f":"IF($B47=\"\",\"\",Scores!O36)","v":""},{"$f":"IF($B47=\"\",\"\",Scores!P36)","v":""},{"$f":"IF($B47=\"\",\"\",Scores!Q36)","v":""},{"$f":"IF($B47=\"\",\"\",Scores!R36)","v":""}]
[44,{"$f":"IF(Scores!B37=\"\",\"\",Scores!B37)","v":""},{"$f":"IF(Scores!D37=\"\",\"\",Scores!D37)","v":""},{"$f":"IF($B48=\"\",\"\",Scores!F37)","v":""},{"$f":"IF($B48=\"\",\"\",Scores!G37)","v":""},{"$f":"IF($B48=\"\",\"\",Scores!H37)","v":""},{"$f":"IF($B48=\"\",\"\",Scores!I37)","v":""},{"$f":"IF($B48=\"\",\"\",Scores!J37)","v":""},{"$f":"IF($B48=\"\",\"\",Scores!K37)","v":""},{"$f":"IF($B48=\"\",\"\",Scores!L37)","v":""},{"$f":"IF($B48=\"\",\"\",Scores!M37)","v":""},{"$f":"IF($B48=\"\",\"\",Scores!N37)","v":""},{"$f":"IF($B48=\"\",\"\",Scores!O37)","v":""},{"$f":"IF($B48=\"\",\"\",Scores!P37)","v":""},{"$f":"IF($B48=\"\",\"\",Scores!Q37)","v":""},{"$f":"IF($B48=\"\",\"\",Scores!R37)","v":""}]
[45,{"$f":"IF(Scores!B38=\"\",\"\",Scores!B38)","v":""},{"$f":"IF(Scores!D38=\"\",\"\",Scores!D38)","v":""},{"$f":"IF($B49=\"\",\"\",Scores!F38)","v":""},{"$f":"IF($B49=\"\",\"\",Scores!G38)","v":""},{"$f":"IF($B49=\"\",\"\",Scores!H38)","v":""},{"$f":"IF($B49=\"\",\"\",Scores!I38)","v":""},{"$f":"IF($B49=\"\",\"\",Scores!J38)","v":""},{"$f":"IF($B49=\"\",\"\",Scores!K38)","v":""},{"$f":"IF($B49=\"\",\"\",Scores!L38)","v":""},{"$f":"IF($B49=\"\",\"\",Scores!M38)","v":""},{"$f":"IF($B49=\"\",\"\",Scores!N38)","v":""},{"$f":"IF($B49=\"\",\"\",Scores!O38)","v":""},{"$f":"IF($B49=\"\",\"\",Scores!P38)","v":""},{"$f":"IF($B49=\"\",\"\",Scores!Q38)","v":""},{"$f":"IF($B49=\"\",\"\",Scores!R38)","v":""}]
[46,{"$f":"IF(Scores!B39=\"\",\"\",Scores!B39)","v":""},{"$f":"IF(Scores!D39=\"\",\"\",Scores!D39)","v":""},{"$f":"IF($B50=\"\",\"\",Scores!F39)","v":""},{"$f":"IF($B50=\"\",\"\",Scores!G39)","v":""},{"$f":"IF($B50=\"\",\"\",Scores!H39)","v":""},{"$f":"IF($B50=\"\",\"\",Scores!I39)","v":""},{"$f":"IF($B50=\"\",\"\",Scores!J39)","v":""},{"$f":"IF($B50=\"\",\"\",Scores!K39)","v":""},{"$f":"IF($B50=\"\",\"\",Scores!L39)","v":""},{"$f":"IF($B50=\"\",\"\",Scores!M39)","v":""},{"$f":"IF($B50=\"\",\"\",Scores!N39)","v":""},{"$f":"IF($B50=\"\",\"\",Scores!O39)","v":""},{"$f":"IF($B50=\"\",\"\",Scores!P39)","v":""},{"$f":"IF($B50=\"\",\"\",Scores!Q39)","v":""},{"$f":"IF($B50=\"\",\"\",Scores!R39)","v":""}]
[47,{"$f":"IF(Scores!B40=\"\",\"\",Scores!B40)","v":""},{"$f":"IF(Scores!D40=\"\",\"\",Scores!D40)","v":""},{"$f":"IF($B51=\"\",\"\",Scores!F40)","v":""},{"$f":"IF($B51=\"\",\"\",Scores!G40)","v":""},{"$f":"IF($B51=\"\",\"\",Scores!H40)","v":""},{"$f":"IF($B51=\"\",\"\",Scores!I40)","v":""},{"$f":"IF($B51=\"\",\"\",Scores!J40)","v":""},{"$f":"IF($B51=\"\",\"\",Scores!K40)","v":""},{"$f":"IF($B51=\"\",\"\",Scores!L40)","v":""},{"$f":"IF($B51=\"\",\"\",Scores!M40)","v":""},{"$f":"IF($B51=\"\",\"\",Scores!N40)","v":""},{"$f":"IF($B51=\"\",\"\",Scores!O40)","v":""},{"$f":"IF($B51=\"\",\"\",Scores!P40)","v":""},{"$f":"IF($B51=\"\",\"\",Scores!Q40)","v":""},{"$f":"IF($B51=\"\",\"\",Scores!R40)","v":""}]
[48,{"$f":"IF(Scores!B41=\"\",\"\",Scores!B41)","v":""},{"$f":"IF(Scores!D41=\"\",\"\",Scores!D41)","v":""},{"$f":"IF($B52=\"\",\"\",Scores!F41)","v":""},{"$f":"IF($B52=\"\",\"\",Scores!G41)","v":""},{"$f":"IF($B52=\"\",\"\",Scores!H41)","v":""},{"$f":"IF($B52=\"\",\"\",Scores!I41)","v":""},{"$f":"IF($B52=\"\",\"\",Scores!J41)","v":""},{"$f":"IF($B52=\"\",\"\",Scores!K41)","v":""},{"$f":"IF($B52=\"\",\"\",Scores!L41)","v":""},{"$f":"IF($B52=\"\",\"\",Scores!M41)","v":""},{"$f":"IF($B52=\"\",\"\",Scores!N41)","v":""},{"$f":"IF($B52=\"\",\"\",Scores!O41)","v":""},{"$f":"IF($B52=\"\",\"\",Scores!P41)","v":""},{"$f":"IF($B52=\"\",\"\",Scores!Q41)","v":""},{"$f":"IF($B52=\"\",\"\",Scores!R41)","v":""}]
[49,{"$f":"IF(Scores!B42=\"\",\"\",Scores!B42)","v":""},{"$f":"IF(Scores!D42=\"\",\"\",Scores!D42)","v":""},{"$f":"IF($B53=\"\",\"\",Scores!F42)","v":""},{"$f":"IF($B53=\"\",\"\",Scores!G42)","v":""},{"$f":"IF($B53=\"\",\"\",Scores!H42)","v":""},{"$f":"IF($B53=\"\",\"\",Scores!I42)","v":""},{"$f":"IF($B53=\"\",\"\",Scores!J42)","v":""},{"$f":"IF($B53=\"\",\"\",Scores!K42)","v":""},{"$f":"IF($B53=\"\",\"\",Scores!L42)","v":""},{"$f":"IF($B53=\"\",\"\",Scores!M42)","v":""},{"$f":"IF($B53=\"\",\"\",Scores!N42)","v":""},{"$f":"IF($B53=\"\",\"\",Scores!O42)","v":""},{"$f":"IF($B53=\"\",\"\",Scores!P42)","v":""},{"$f":"IF($B53=\"\",\"\",Scores!Q42)","v":""},{"$f":"IF($B53=\"\",\"\",Scores!R42)","v":""}]
[50,{"$f":"IF(Scores!B43=\"\",\"\",Scores!B43)","v":""},{"$f":"IF(Scores!D43=\"\",\"\",Scores!D43)","v":""},{"$f":"IF($B54=\"\",\"\",Scores!F43)","v":""},{"$f":"IF($B54=\"\",\"\",Scores!G43)","v":""},{"$f":"IF($B54=\"\",\"\",Scores!H43)","v":""},{"$f":"IF($B54=\"\",\"\",Scores!I43)","v":""},{"$f":"IF($B54=\"\",\"\",Scores!J43)","v":""},{"$f":"IF($B54=\"\",\"\",Scores!K43)","v":""},{"$f":"IF($B54=\"\",\"\",Scores!L43)","v":""},{"$f":"IF($B54=\"\",\"\",Scores!M43)","v":""},{"$f":"IF($B54=\"\",\"\",Scores!N43)","v":""},{"$f":"IF($B54=\"\",\"\",Scores!O43)","v":""},{"$f":"IF($B54=\"\",\"\",Scores!P43)","v":""},{"$f":"IF($B54=\"\",\"\",Scores!Q43)","v":""},{"$f":"IF($B54=\"\",\"\",Scores!R43)","v":""}]
[51,{"$f":"IF(Scores!B14=\"\",\"\",Scores!B14)","v":""},{"$f":"IF(Scores!D14=\"\",\"\",Scores!D14)","v":""},{"$f":"IF($B55=\"\",\"\",Scores!F14)","v":""},{"$f":"IF($B55=\"\",\"\",Scores!G14)","v":""},{"$f":"IF($B55=\"\",\"\",Scores!H14)","v":""},{"$f":"IF($B55=\"\",\"\",Scores!I14)","v":""},{"$f":"IF($B55=\"\",\"\",Scores!J14)","v":""},{"$f":"IF($B55=\"\",\"\",Scores!K14)","v":""},{"$f":"IF($B55=\"\",\"\",Scores!L14)","v":""},{"$f":"IF($B55=\"\",\"\",Scores!M14)","v":""},{"$f":"IF($B55=\"\",\"\",Scores!N14)","v":""},{"$f":"IF($B55=\"\",\"\",Scores!O14)","v":""},{"$f":"IF($B55=\"\",\"\",Scores!P14)","v":""},{"$f":"IF($B55=\"\",\"\",Scores!Q14)","v":""},{"$f":"IF($B55=\"\",\"\",Scores!R14)","v":""}]
[52,{"$f":"IF(Scores!B15=\"\",\"\",Scores!B15)","v":""},{"$f":"IF(Scores!D15=\"\",\"\",Scores!D15)","v":""},{"$f":"IF($B56=\"\",\"\",Scores!F15)","v":""},{"$f":"IF($B56=\"\",\"\",Scores!G15)","v":""},{"$f":"IF($B56=\"\",\"\",Scores!H15)","v":""},{"$f":"IF($B56=\"\",\"\",Scores!I15)","v":""},{"$f":"IF($B56=\"\",\"\",Scores!J15)","v":""},{"$f":"IF($B56=\"\",\"\",Scores!K15)","v":""},{"$f":"IF($B56=\"\",\"\",Scores!L15)","v":""},{"$f":"IF($B56=\"\",\"\",Scores!M15)","v":""},{"$f":"IF($B56=\"\",\"\",Scores!N15)","v":""},{"$f":"IF($B56=\"\",\"\",Scores!O15)","v":""},{"$f":"IF($B56=\"\",\"\",Scores!P15)","v":""},{"$f":"IF($B56=\"\",\"\",Scores!Q15)","v":""},{"$f":"IF($B56=\"\",\"\",Scores!R15)","v":""}]
[53,{"$f":"IF(Scores!B16=\"\",\"\",Scores!B16)","v":""},{"$f":"IF(Scores!D16=\"\",\"\",Scores!D16)","v":""},{"$f":"IF($B57=\"\",\"\",Scores!F16)","v":""},{"$f":"IF($B57=\"\",\"\",Scores!G16)","v":""},{"$f":"IF($B57=\"\",\"\",Scores!H16)","v":""},{"$f":"IF($B57=\"\",\"\",Scores!I16)","v":""},{"$f":"IF($B57=\"\",\"\",Scores!J16)","v":""},{"$f":"IF($B57=\"\",\"\",Scores!K16)","v":""},{"$f":"IF($B57=\"\",\"\",Scores!L16)","v":""},{"$f":"IF($B57=\"\",\"\",Scores!M16)","v":""},{"$f":"IF($B57=\"\",\"\",Scores!N16)","v":""},{"$f":"IF($B57=\"\",\"\",Scores!O16)","v":""},{"$f":"IF($B57=\"\",\"\",Scores!P16)","v":""},{"$f":"IF($B57=\"\",\"\",Scores!Q16)","v":""},{"$f":"IF($B57=\"\",\"\",Scores!R16)","v":""}]
[54,{"$f":"IF(Scores!B17=\"\",\"\",Scores!B17)","v":""},{"$f":"IF(Scores!D17=\"\",\"\",Scores!D17)","v":""},{"$f":"IF($B58=\"\",\"\",Scores!F17)","v":""},{"$f":"IF($B58=\"\",\"\",Scores!G17)","v":""},{"$f":"IF($B58=\"\",\"\",Scores!H17)","v":""},{"$f":"IF($B58=\"\",\"\",Scores!I17)","v":""},{"$f":"IF($B58=\"\",\"\",Scores!J17)","v":""},{"$f":"IF($B58=\"\",\"\",Scores!K17)","v":""},{"$f":"IF($B58=\"\",\"\",Scores!L17)","v":""},{"$f":"IF($B58=\"\",\"\",Scores!M17)","v":""},{"$f":"IF($B58=\"\",\"\",Scores!N17)","v":""},{"$f":"IF($B58=\"\",\"\",Scores!O17)","v":""},{"$f":"IF($B58=\"\",\"\",Scores!P17)","v":""},{"$f":"IF($B58=\"\",\"\",Scores!Q17)","v":""},{"$f":"IF($B58=\"\",\"\",Scores!R17)","v":""}]
[55,{"$f":"IF(Scores!B18=\"\",\"\",Scores!B18)","v":""},{"$f":"IF(Scores!D18=\"\",\"\",Scores!D18)","v":""},{"$f":"IF($B59=\"\",\"\",Scores!F18)","v":""},{"$f":"IF($B59=\"\",\"\",Scores!G18)","v":""},{"$f":"IF($B59=\"\",\"\",Scores!H18)","v":""},{"$f":"IF($B59=\"\",\"\",Scores!I18)","v":""},{"$f":"IF($B59=\"\",\"\",Scores!J18)","v":""},{"$f":"IF($B59=\"\",\"\",Scores!K18)","v":""},{"$f":"IF($B59=\"\",\"\",Scores!L18)","v":""},{"$f":"IF($B59=\"\",\"\",Scores!M18)","v":""},{"$f":"IF($B59=\"\",\"\",Scores!N18)","v":""},{"$f":"IF($B59=\"\",\"\",Scores!O18)","v":""},{"$f":"IF($B59=\"\",\"\",Scores!P18)","v":""},{"$f":"IF($B59=\"\",\"\",Scores!Q18)","v":""},{"$f":"IF($B59=\"\",\"\",Scores!R18)","v":""}]
[56,{"$f":"IF(Scores!B19=\"\",\"\",Scores!B19)","v":""},{"$f":"IF(Scores!D19=\"\",\"\",Scores!D19)","v":""},{"$f":"IF($B60=\"\",\"\",Scores!F19)","v":""},{"$f":"IF($B60=\"\",\"\",Scores!G19)","v":""},{"$f":"IF($B60=\"\",\"\",Scores!H19)","v":""},{"$f":"IF($B60=\"\",\"\",Scores!I19)","v":""},{"$f":"IF($B60=\"\",\"\",Scores!J19)","v":""},{"$f":"IF($B60=\"\",\"\",Scores!K19)","v":""},{"$f":"IF($B60=\"\",\"\",Scores!L19)","v":""},{"$f":"IF($B60=\"\",\"\",Scores!M19)","v":""},{"$f":"IF($B60=\"\",\"\",Scores!N19)","v":""},{"$f":"IF($B60=\"\",\"\",Scores!O19)","v":""},{"$f":"IF($B60=\"\",\"\",Scores!P19)","v":""},{"$f":"IF($B60=\"\",\"\",Scores!Q19)","v":""},{"$f":"IF($B60=\"\",\"\",Scores!R19)","v":""}]
[57,{"$f":"IF(Scores!B20=\"\",\"\",Scores!B20)","v":""},{"$f":"IF(Scores!D20=\"\",\"\",Scores!D20)","v":""},{"$f":"IF($B61=\"\",\"\",Scores!F20)","v":""},{"$f":"IF($B61=\"\",\"\",Scores!G20)","v":""},{"$f":"IF($B61=\"\",\"\",Scores!H20)","v":""},{"$f":"IF($B61=\"\",\"\",Scores!I20)","v":""},{"$f":"IF($B61=\"\",\"\",Scores!J20)","v":""},{"$f":"IF($B61=\"\",\"\",Scores!K20)","v":""},{"$f":"IF($B61=\"\",\"\",Scores!L20)","v":""},{"$f":"IF($B61=\"\",\"\",Scores!M20)","v":""},{"$f":"IF($B61=\"\",\"\",Scores!N20)","v":""},{"$f":"IF($B61=\"\",\"\",Scores!O20)","v":""},{"$f":"IF($B61=\"\",\"\",Scores!P20)","v":""},{"$f":"IF($B61=\"\",\"\",Scores!Q20)","v":""},{"$f":"IF($B61=\"\",\"\",Scores!R20)","v":""}]
[58,{"$f":"IF(Scores!B21=\"\",\"\",Scores!B21)","v":""},{"$f":"IF(Scores!D21=\"\",\"\",Scores!D21)","v":""},{"$f":"IF($B62=\"\",\"\",Scores!F21)","v":""},{"$f":"IF($B62=\"\",\"\",Scores!G21)","v":""},{"$f":"IF($B62=\"\",\"\",Scores!H21)","v":""},{"$f":"IF($B62=\"\",\"\",Scores!I21)","v":""},{"$f":"IF($B62=\"\",\"\",Scores!J21)","v":""},{"$f":"IF($B62=\"\",\"\",Scores!K21)","v":""},{"$f":"IF($B62=\"\",\"\",Scores!L21)","v":""},{"$f":"IF($B62=\"\",\"\",Scores!M21)","v":""},{"$f":"IF($B62=\"\",\"\",Scores!N21)","v":""},{"$f":"IF($B62=\"\",\"\",Scores!O21)","v":""},{"$f":"IF($B62=\"\",\"\",Scores!P21)","v":""},{"$f":"IF($B62=\"\",\"\",Scores!Q21)","v":""},{"$f":"IF($B62=\"\",\"\",Scores!R21)","v":""}]
[59,{"$f":"IF(Scores!B22=\"\",\"\",Scores!B22)","v":""},{"$f":"IF(Scores!D22=\"\",\"\",Scores!D22)","v":""},{"$f":"IF($B63=\"\",\"\",Scores!F22)","v":""},{"$f":"IF($B63=\"\",\"\",Scores!G22)","v":""},{"$f":"IF($B63=\"\",\"\",Scores!H22)","v":""},{"$f":"IF($B63=\"\",\"\",Scores!I22)","v":""},{"$f":"IF($B63=\"\",\"\",Scores!J22)","v":""},{"$f":"IF($B63=\"\",\"\",Scores!K22)","v":""},{"$f":"IF($B63=\"\",\"\",Scores!L22)","v":""},{"$f":"IF($B63=\"\",\"\",Scores!M22)","v":""},{"$f":"IF($B63=\"\",\"\",Scores!N22)","v":""},{"$f":"IF($B63=\"\",\"\",Scores!O22)","v":""},{"$f":"IF($B63=\"\",\"\",Scores!P22)","v":""},{"$f":"IF($B63=\"\",\"\",Scores!Q22)","v":""},{"$f":"IF($B63=\"\",\"\",Scores!R22)","v":""}]
[60,{"$f":"IF(Scores!B23=\"\",\"\",Scores!B23)","v":""},{"$f":"IF(Scores!D23=\"\",\"\",Scores!D23)","v":""},{"$f":"IF($B64=\"\",\"\",Scores!F23)","v":""},{"$f":"IF($B64=\"\",\"\",Scores!G23)","v":""},{"$f":"IF($B64=\"\",\"\",Scores!H23)","v":""},{"$f":"IF($B64=\"\",\"\",Scores!I23)","v":""},{"$f":"IF($B64=\"\",\"\",Scores!J23)","v":""},{"$f":"IF($B64=\"\",\"\",Scores!K23)","v":""},{"$f":"IF($B64=\"\",\"\",Scores!L23)","v":""},{"$f":"IF($B64=\"\",\"\",Scores!M23)","v":""},{"$f":"IF($B64=\"\",\"\",Scores!N23)","v":""},{"$f":"IF($B64=\"\",\"\",Scores!O23)","v":""},{"$f":"IF($B64=\"\",\"\",Scores!P23)","v":""},{"$f":"IF($B64=\"\",\"\",Scores!Q23)","v":""},{"$f":"IF($B64=\"\",\"\",Scores!R23)","v":""}]
[61,{"$f":"IF(Scores!B24=\"\",\"\",Scores!B24)","v":""},{"$f":"IF(Scores!D24=\"\",\"\",Scores!D24)","v":""},{"$f":"IF($B65=\"\",\"\",Scores!F24)","v":""},{"$f":"IF($B65=\"\",\"\",Scores!G24)","v":""},{"$f":"IF($B65=\"\",\"\",Scores!H24)","v":""},{"$f":"IF($B65=\"\",\"\",Scores!I24)","v":""},{"$f":"IF($B65=\"\",\"\",Scores!J24)","v":""},{"$f":"IF($B65=\"\",\"\",Scores!K24)","v":""},{"$f":"IF($B65=\"\",\"\",Scores!L24)","v":""},{"$f":"IF($B65=\"\",\"\",Scores!M24)","v":""},{"$f":"IF($B65=\"\",\"\",Scores!N24)","v":""},{"$f":"IF($B65=\"\",\"\",Scores!O24)","v":""},{"$f":"IF($B65=\"\",\"\",Scores!P24)","v":""},{"$f":"IF($B65=\"\",\"\",Scores!Q24)","v":""},{"$f":"IF($B65=\"\",\"\",Scores!R24)","v":""}]
[62,{"$f":"IF(Scores!B25=\"\",\"\",Scores!B25)","v":""},{"$f":"IF(Scores!D25=\"\",\"\",Scores!D25)","v":""},{"$f":"IF($B66=\"\",\"\",Scores!F25)","v":""},{"$f":"IF($B66=\"\",\"\",Scores!G25)","v":""},{"$f":"IF($B66=\"\",\"\",Scores!H25)","v":""},{"$f":"IF($B66=\"\",\"\",Scores!I25)","v":""},{"$f":"IF($B66=\"\",\"\",Scores!J25)","v":""},{"$f":"IF($B66=\"\",\"\",Scores!K25)","v":""},{"$f":"IF($B66=\"\",\"\",Scores!L25)","v":""},{"$f":"IF($B66=\"\",\"\",Scores!M25)","v":""},{"$f":"IF($B66=\"\",\"\",Scores!N25)","v":""},{"$f":"IF($B66=\"\",\"\",Scores!O25)","v":""},{"$f":"IF($B66=\"\",\"\",Scores!P25)","v":""},{"$f":"IF($B66=\"\",\"\",Scores!Q25)","v":""},{"$f":"IF($B66=\"\",\"\",Scores!R25)","v":""}]
[63,{"$f":"IF(Scores!B26=\"\",\"\",Scores!B26)","v":""},{"$f":"IF(Scores!D26=\"\",\"\",Scores!D26)","v":""},{"$f":"IF($B67=\"\",\"\",Scores!F26)","v":""},{"$f":"IF($B67=\"\",\"\",Scores!G26)","v":""},{"$f":"IF($B67=\"\",\"\",Scores!H26)","v":""},{"$f":"IF($B67=\"\",\"\",Scores!I26)","v":""},{"$f":"IF($B67=\"\",\"\",Scores!J26)","v":""},{"$f":"IF($B67=\"\",\"\",Scores!K26)","v":""},{"$f":"IF($B67=\"\",\"\",Scores!L26)","v":""},{"$f":"IF($B67=\"\",\"\",Scores!M26)","v":""},{"$f":"IF($B67=\"\",\"\",Scores!N26)","v":""},{"$f":"IF($B67=\"\",\"\",Scores!O26)","v":""},{"$f":"IF($B67=\"\",\"\",Scores!P26)","v":""},{"$f":"IF($B67=\"\",\"\",Scores!Q26)","v":""},{"$f":"IF($B67=\"\",\"\",Scores!R26)","v":""}]
[64,{"$f":"IF(Scores!B27=\"\",\"\",Scores!B27)","v":""},{"$f":"IF(Scores!D27=\"\",\"\",Scores!D27)","v":""},{"$f":"IF($B68=\"\",\"\",Scores!F27)","v":""},{"$f":"IF($B68=\"\",\"\",Scores!G27)","v":""},{"$f":"IF($B68=\"\",\"\",Scores!H27)","v":""},{"$f":"IF($B68=\"\",\"\",Scores!I27)","v":""},{"$f":"IF($B68=\"\",\"\",Scores!J27)","v":""},{"$f":"IF($B68=\"\",\"\",Scores!K27)","v":""},{"$f":"IF($B68=\"\",\"\",Scores!L27)","v":""},{"$f":"IF($B68=\"\",\"\",Scores!M27)","v":""},{"$f":"IF($B68=\"\",\"\",Scores!N27)","v":""},{"$f":"IF($B68=\"\",\"\",Scores!O27)","v":""},{"$f":"IF($B68=\"\",\"\",Scores!P27)","v":""},{"$f":"IF($B68=\"\",\"\",Scores!Q27)","v":""},{"$f":"IF($B68=\"\",\"\",Scores!R27)","v":""}]
[65,{"$f":"IF(Scores!B28=\"\",\"\",Scores!B28)","v":""},{"$f":"IF(Scores!D28=\"\",\"\",Scores!D28)","v":""},{"$f":"IF($B69=\"\",\"\",Scores!F28)","v":""},{"$f":"IF($B69=\"\",\"\",Scores!G28)","v":""},{"$f":"IF($B69=\"\",\"\",Scores!H28)","v":""},{"$f":"IF($B69=\"\",\"\",Scores!I28)","v":""},{"$f":"IF($B69=\"\",\"\",Scores!J28)","v":""},{"$f":"IF($B69=\"\",\"\",Scores!K28)","v":""},{"$f":"IF($B69=\"\",\"\",Scores!L28)","v":""},{"$f":"IF($B69=\"\",\"\",Scores!M28)","v":""},{"$f":"IF($B69=\"\",\"\",Scores!N28)","v":""},{"$f":"IF($B69=\"\",\"\",Scores!O28)","v":""},{"$f":"IF($B69=\"\",\"\",Scores!P28)","v":""},{"$f":"IF($B69=\"\",\"\",Scores!Q28)","v":""},{"$f":"IF($B69=\"\",\"\",Scores!R28)","v":""}]
[66,{"$f":"IF(Scores!B29=\"\",\"\",Scores!B29)","v":""},{"$f":"IF(Scores!D29=\"\",\"\",Scores!D29)","v":""},{"$f":"IF($B70=\"\",\"\",Scores!F29)","v":""},{"$f":"IF($B70=\"\",\"\",Scores!G29)","v":""},{"$f":"IF($B70=\"\",\"\",Scores!H29)","v":""},{"$f":"IF($B70=\"\",\"\",Scores!I29)","v":""},{"$f":"IF($B70=\"\",\"\",Scores!J29)","v":""},{"$f":"IF($B70=\"\",\"\",Scores!K29)","v":""},{"$f":"IF($B70=\"\",\"\",Scores!L29)","v":""},{"$f":"IF($B70=\"\",\"\",Scores!M29)","v":""},{"$f":"IF($B70=\"\",\"\",Scores!N29)","v":""},{"$f":"IF($B70=\"\",\"\",Scores!O29)","v":""},{"$f":"IF($B70=\"\",\"\",Scores!P29)","v":""},{"$f":"IF($B70=\"\",\"\",Scores!Q29)","v":""},{"$f":"IF($B70=\"\",\"\",Scores!R29)","v":""}]
[67,{"$f":"IF(Scores!B30=\"\",\"\",Scores!B30)","v":""},{"$f":"IF(Scores!D30=\"\",\"\",Scores!D30)","v":""},{"$f":"IF($B71=\"\",\"\",Scores!F30)","v":""},{"$f":"IF($B71=\"\",\"\",Scores!G30)","v":""},{"$f":"IF($B71=\"\",\"\",Scores!H30)","v":""},{"$f":"IF($B71=\"\",\"\",Scores!I30)","v":""},{"$f":"IF($B71=\"\",\"\",Scores!J30)","v":""},{"$f":"IF($B71=\"\",\"\",Scores!K30)","v":""},{"$f":"IF($B71=\"\",\"\",Scores!L30)","v":""},{"$f":"IF($B71=\"\",\"\",Scores!M30)","v":""},{"$f":"IF($B71=\"\",\"\",Scores!N30)","v":""},{"$f":"IF($B71=\"\",\"\",Scores!O30)","v":""},{"$f":"IF($B71=\"\",\"\",Scores!P30)","v":""},{"$f":"IF($B71=\"\",\"\",Scores!Q30)","v":""},{"$f":"IF($B71=\"\",\"\",Scores!R30)","v":""}]
[68,{"$f":"IF(Scores!B31=\"\",\"\",Scores!B31)","v":""},{"$f":"IF(Scores!D31=\"\",\"\",Scores!D31)","v":""},{"$f":"IF($B72=\"\",\"\",Scores!F31)","v":""},{"$f":"IF($B72=\"\",\"\",Scores!G31)","v":""},{"$f":"IF($B72=\"\",\"\",Scores!H31)","v":""},{"$f":"IF($B72=\"\",\"\",Scores!I31)","v":""},{"$f":"IF($B72=\"\",\"\",Scores!J31)","v":""},{"$f":"IF($B72=\"\",\"\",Scores!K31)","v":""},{"$f":"IF($B72=\"\",\"\",Scores!L31)","v":""},{"$f":"IF($B72=\"\",\"\",Scores!M31)","v":""},{"$f":"IF($B72=\"\",\"\",Scores!N31)","v":""},{"$f":"IF($B72=\"\",\"\",Scores!O31)","v":""},{"$f":"IF($B72=\"\",\"\",Scores!P31)","v":""},{"$f":"IF($B72=\"\",\"\",Scores!Q31)","v":""},{"$f":"IF($B72=\"\",\"\",Scores!R31)","v":""}]
[69,{"$f":"IF(Scores!B32=\"\",\"\",Scores!B32)","v":""},{"$f":"IF(Scores!D32=\"\",\"\",Scores!D32)","v":""},{"$f":"IF($B73=\"\",\"\",Scores!F32)","v":""},{"$f":"IF($B73=\"\",\"\",Scores!G32)","v":""},{"$f":"IF($B73=\"\",\"\",Scores!H32)","v":""},{"$f":"IF($B73=\"\",\"\",Scores!I32)","v":""},{"$f":"IF($B73=\"\",\"\",Scores!J32)","v":""},{"$f":"IF($B73=\"\",\"\",Scores!K32)","v":""},{"$f":"IF($B73=\"\",\"\",Scores!L32)","v":""},{"$f":"IF($B73=\"\",\"\",Scores!M32)","v":""},{"$f":"IF($B73=\"\",\"\",Scores!N32)","v":""},{"$f":"IF($B73=\"\",\"\",Scores!O32)","v":""},{"$f":"IF($B73=\"\",\"\",Scores!P32)","v":""},{"$f":"IF($B73=\"\",\"\",Scores!Q32)","v":""},{"$f":"IF($B73=\"\",\"\",Scores!R32)","v":""}]
[70,{"$f":"IF(Scores!B33=\"\",\"\",Scores!B33)","v":""},{"$f":"IF(Scores!D33=\"\",\"\",Scores!D33)","v":""},{"$f":"IF($B74=\"\",\"\",Scores!F33)","v":""},{"$f":"IF($B74=\"\",\"\",Scores!G33)","v":""},{"$f":"IF($B74=\"\",\"\",Scores!H33)","v":""},{"$f":"IF($B74=\"\",\"\",Scores!I33)","v":""},{"$f":"IF($B74=\"\",\"\",Scores!J33)","v":""},{"$f":"IF($B74=\"\",\"\",Scores!K33)","v":""},{"$f":"IF($B74=\"\",\"\",Scores!L33)","v":""},{"$f":"IF($B74=\"\",\"\",Scores!M33)","v":""},{"$f":"IF($B74=\"\",\"\",Scores!N33)","v":""},{"$f":"IF($B74=\"\",\"\",Scores!O33)","v":""},{"$f":"IF($B74=\"\",\"\",Scores!P33)","v":""},{"$f":"IF($B74=\"\",\"\",Scores!Q33)","v":""},{"$f":"IF($B74=\"\",\"\",Scores!R33)","v":""}]
[71,{"$f":"IF(Scores!B34=\"\",\"\",Scores!B34)","v":""},{"$f":"IF(Scores!D34=\"\",\"\",Scores!D34)","v":""},{"$f":"IF($B75=\"\",\"\",Scores!F34)","v":""},{"$f":"IF($B75=\"\",\"\",Scores!G34)","v":""},{"$f":"IF($B75=\"\",\"\",Scores!H34)","v":""},{"$f":"IF($B75=\"\",\"\",Scores!I34)","v":""},{"$f":"IF($B75=\"\",\"\",Scores!J34)","v":""},{"$f":"IF($B75=\"\",\"\",Scores!K34)","v":""},{"$f":"IF($B75=\"\",\"\",Scores!L34)","v":""},{"$f":"IF($B75=\"\",\"\",Scores!M34)","v":""},{"$f":"IF($B75=\"\",\"\",Scores!N34)","v":""},{"$f":"IF($B75=\"\",\"\",Scores!O34)","v":""},{"$f":"IF($B75=\"\",\"\",Scores!P34)","v":""},{"$f":"IF($B75=\"\",\"\",Scores!Q34)","v":""},{"$f":"IF($B75=\"\",\"\",Scores!R34)","v":""}]
[72,{"$f":"IF(Scores!B35=\"\",\"\",Scores!B35)","v":""},{"$f":"IF(Scores!D35=\"\",\"\",Scores!D35)","v":""},{"$f":"IF($B76=\"\",\"\",Scores!F35)","v":""},{"$f":"IF($B76=\"\",\"\",Scores!G35)","v":""},{"$f":"IF($B76=\"\",\"\",Scores!H35)","v":""},{"$f":"IF($B76=\"\",\"\",Scores!I35)","v":""},{"$f":"IF($B76=\"\",\"\",Scores!J35)","v":""},{"$f":"IF($B76=\"\",\"\",Scores!K35)","v":""},{"$f":"IF($B76=\"\",\"\",Scores!L35)","v":""},{"$f":"IF($B76=\"\",\"\",Scores!M35)","v":""},{"$f":"IF($B76=\"\",\"\",Scores!N35)","v":""},{"$f":"IF($B76=\"\",\"\",Scores!O35)","v":""},{"$f":"IF($B76=\"\",\"\",Scores!P35)","v":""},{"$f":"IF($B76=\"\",\"\",Scores!Q35)","v":""},{"$f":"IF($B76=\"\",\"\",Scores!R35)","v":""}]
[73,{"$f":"IF(Scores!B36=\"\",\"\",Scores!B36)","v":""},{"$f":"IF(Scores!D36=\"\",\"\",Scores!D36)","v":""},{"$f":"IF($B77=\"\",\"\",Scores!F36)","v":""},{"$f":"IF($B77=\"\",\"\",Scores!G36)","v":""},{"$f":"IF($B77=\"\",\"\",Scores!H36)","v":""},{"$f":"IF($B77=\"\",\"\",Scores!I36)","v":""},{"$f":"IF($B77=\"\",\"\",Scores!J36)","v":""},{"$f":"IF($B77=\"\",\"\",Scores!K36)","v":""},{"$f":"IF($B77=\"\",\"\",Scores!L36)","v":""},{"$f":"IF($B77=\"\",\"\",Scores!M36)","v":""},{"$f":"IF($B77=\"\",\"\",Scores!N36)","v":""},{"$f":"IF($B77=\"\",\"\",Scores!O36)","v":""},{"$f":"IF($B77=\"\",\"\",Scores!P36)","v":""},{"$f":"IF($B77=\"\",\"\",Scores!Q36)","v":""},{"$f":"IF($B77=\"\",\"\",Scores!R36)","v":""}]
[74,{"$f":"IF(Scores!B37=\"\",\"\",Scores!B37)","v":""},{"$f":"IF(Scores!D37=\"\",\"\",Scores!D37)","v":""},{"$f":"IF($B78=\"\",\"\",Scores!F37)","v":""},{"$f":"IF($B78=\"\",\"\",Scores!G37)","v":""},{"$f":"IF($B78=\"\",\"\",Scores!H37)","v":""},{"$f":"IF($B78=\"\",\"\",Scores!I37)","v":""},{"$f":"IF($B78=\"\",\"\",Scores!J37)","v":""},{"$f":"IF($B78=\"\",\"\",Scores!K37)","v":""},{"$f":"IF($B78=\"\",\"\",Scores!L37)","v":""},{"$f":"IF($B78=\"\",\"\",Scores!M37)","v":""},{"$f":"IF($B78=\"\",\"\",Scores!N37)","v":""},{"$f":"IF($B78=\"\",\"\",Scores!O37)","v":""},{"$f":"IF($B78=\"\",\"\",Scores!P37)","v":""},{"$f":"IF($B78=\"\",\"\",Scores!Q37)","v":""},{"$f":"IF($B78=\"\",\"\",Scores!R37)","v":""}]
[75,{"$f":"IF(Scores!B38=\"\",\"\",Scores!B38)","v":""},{"$f":"IF(Scores!D38=\"\",\"\",Scores!D38)","v":""},{"$f":"IF($B79=\"\",\"\",Scores!F38)","v":""},{"$f":"IF($B79=\"\",\"\",Scores!G38)","v":""},{"$f":"IF($B79=\"\",\"\",Scores!H38)","v":""},{"$f":"IF($B79=\"\",\"\",Scores!I38)","v":""},{"$f":"IF($B79=\"\",\"\",Scores!J38)","v":""},{"$f":"IF($B79=\"\",\"\",Scores!K38)","v":""},{"$f":"IF($B79=\"\",\"\",Scores!L38)","v":""},{"$f":"IF($B79=\"\",\"\",Scores!M38)","v":""},{"$f":"IF($B79=\"\",\"\",Scores!N38)","v":""},{"$f":"IF($B79=\"\",\"\",Scores!O38)","v":""},{"$f":"IF($B79=\"\",\"\",Scores!P38)","v":""},{"$f":"IF($B79=\"\",\"\",Scores!Q38)","v":""},{"$f":"IF($B79=\"\",\"\",Scores!R38)","v":""}]
[76,{"$f":"IF(Scores!B39=\"\",\"\",Scores!B39)","v":""},{"$f":"IF(Scores!D39=\"\",\"\",Scores!D39)","v":""},{"$f":"IF($B80=\"\",\"\",Scores!F39)","v":""},{"$f":"IF($B80=\"\",\"\",Scores!G39)","v":""},{"$f":"IF($B80=\"\",\"\",Scores!H39)","v":""},{"$f":"IF($B80=\"\",\"\",Scores!I39)","v":""},{"$f":"IF($B80=\"\",\"\",Scores!J39)","v":""},{"$f":"IF($B80=\"\",\"\",Scores!K39)","v":""},{"$f":"IF($B80=\"\",\"\",Scores!L39)","v":""},{"$f":"IF($B80=\"\",\"\",Scores!M39)","v":""},{"$f":"IF($B80=\"\",\"\",Scores!N39)","v":""},{"$f":"IF($B80=\"\",\"\",Scores!O39)","v":""},{"$f":"IF($B80=\"\",\"\",Scores!P39)","v":""},{"$f":"IF($B80=\"\",\"\",Scores!Q39)","v":""},{"$f":"IF($B80=\"\",\"\",Scores!R39)","v":""}]
[77,{"$f":"IF(Scores!B40=\"\",\"\",Scores!B40)","v":""},{"$f":"IF(Scores!D40=\"\",\"\",Scores!D40)","v":""},{"$f":"IF($B81=\"\",\"\",Scores!F40)","v":""},{"$f":"IF($B81=\"\",\"\",Scores!G40)","v":""},{"$f":"IF($B81=\"\",\"\",Scores!H40)","v":""},{"$f":"IF($B81=\"\",\"\",Scores!I40)","v":""},{"$f":"IF($B81=\"\",\"\",Scores!J40)","v":""},{"$f":"IF($B81=\"\",\"\",Scores!K40)","v":""},{"$f":"IF($B81=\"\",\"\",Scores!L40)","v":""},{"$f":"IF($B81=\"\",\"\",Scores!M40)","v":""},{"$f":"IF($B81=\"\",\"\",Scores!N40)","v":""},{"$f":"IF($B81=\"\",\"\",Scores!O40)","v":""},{"$f":"IF($B81=\"\",\"\",Scores!P40)","v":""},{"$f":"IF($B81=\"\",\"\",Scores!Q40)","v":""},{"$f":"IF($B81=\"\",\"\",Scores!R40)","v":""}]
[78,{"$f":"IF(Scores!B41=\"\",\"\",Scores!B41)","v":""},{"$f":"IF(Scores!D41=\"\",\"\",Scores!D41)","v":""},{"$f":"IF($B82=\"\",\"\",Scores!F41)","v":""},{"$f":"IF($B82=\"\",\"\",Scores!G41)","v":""},{"$f":"IF($B82=\"\",\"\",Scores!H41)","v":""},{"$f":"IF($B82=\"\",\"\",Scores!I41)","v":""},{"$f":"IF($B82=\"\",\"\",Scores!J41)","v":""},{"$f":"IF($B82=\"\",\"\",Scores!K41)","v":""},{"$f":"IF($B82=\"\",\"\",Scores!L41)","v":""},{"$f":"IF($B82=\"\",\"\",Scores!M41)","v":""},{"$f":"IF($B82=\"\",\"\",Scores!N41)","v":""},{"$f":"IF($B82=\"\",\"\",Scores!O41)","v":""},{"$f":"IF($B82=\"\",\"\",Scores!P41)","v":""},{"$f":"IF($B82=\"\",\"\",Scores!Q41)","v":""},{"$f":"IF($B82=\"\",\"\",Scores!R41)","v":""}]
[79,{"$f":"IF(Scores!B42=\"\",\"\",Scores!B42)","v":""},{"$f":"IF(Scores!D42=\"\",\"\",Scores!D42)","v":""},{"$f":"IF($B83=\"\",\"\",Scores!F42)","v":""},{"$f":"IF($B83=\"\",\"\",Scores!G42)","v":""},{"$f":"IF($B83=\"\",\"\",Scores!H42)","v":""},{"$f":"IF($B83=\"\",\"\",Scores!I42)","v":""},{"$f":"IF($B83=\"\",\"\",Scores!J42)","v":""},{"$f":"IF($B83=\"\",\"\",Scores!K42)","v":""},{"$f":"IF($B83=\"\",\"\",Scores!L42)","v":""},{"$f":"IF($B83=\"\",\"\",Scores!M42)","v":""},{"$f":"IF($B83=\"\",\"\",Scores!N42)","v":""},{"$f":"IF($B83=\"\",\"\",Scores!O42)","v":""},{"$f":"IF($B83=\"\",\"\",Scores!P42)","v":""},{"$f":"IF($B83=\"\",\"\",Scores!Q42)","v":""},{"$f":"IF($B83=\"\",\"\",Scores!R42)","v":""}]
[80,{"$f":"IF(Scores!B43=\"\",\"\",Scores!B43)","v":""},{"$f":"IF(Scores!D43=\"\",\"\",Scores!D43)","v":""},{"$f":"IF($B84=\"\",\"\",Scores!F43)","v":""},{"$f":"IF($B84=\"\",\"\",Scores!G43)","v":""},{"$f":"IF($B84=\"\",\"\",Scores!H43)","v":""},{"$f":"IF($B84=\"\",\"\",Scores!I43)","v":""},{"$f":"IF($B84=\"\",\"\",Scores!J43)","v":""},{"$f":"IF($B84=\"\",\"\",Scores!K43)","v":""},{"$f":"IF($B84=\"\",\"\",Scores!L43)","v":""},{"$f":"IF($B84=\"\",\"\",Scores!M43)","v":""},{"$f":"IF($B84=\"\",\"\",Scores!N43)","v":""},{"$f":"IF($B84=\"\",\"\",Scores!O43)","v":""},{"$f":"IF($B84=\"\",\"\",Scores!P43)","v":""},{"$f":"IF($B84=\"\",\"\",Scores!Q43)","v":""},{"$f":"IF($B84=\"\",\"\",Scores!R43)","v":""}]
[]
[null,"ADD ROWS TO ACCOMMODATE NEW SHOOTERS. DELETE BLANK ROWS BEFORE SORTING."]

{"sheet":"Match HTML","index":4,"n_rows":83,"n_cols":29,"rows_kept":83,"cut":false,"hidden":true,"merged":[[1,5,1,15],[1,17,1,27]]}
[]
[null,null,null,null,null,"ROTATION 1",null,null,null,null,null,null,null,null,null,null,null,"ROTATION 2"]
[null,"NAME",null,"TTL",null,1,null,2,null,3,null,4,null,5,null,"1st",null,1,null,2,null,3,null,4,null,5,null,"1st"]
["<tr align=\"center\">###<td class=\"Bld\">",{"$f":"Sorts!B5","v":""},{"$f":"IF(D4=80,\"</td><td class='ClnMatch'>\",\"</td><td class='Bld'>\")","v":"</td><td class='Bld'>"},{"$f":"Sorts!D5","v":""},{"$f":"IF(F4=8,\"</td>###<td class='ClnPos'>\",\"</td>###<td>\")","v":"</td>###<td>"},{"$f":"Sorts!E5","v":""},{"$f":"IF(H4=8,\"</td><td class='ClnPos'>\",\"</td><td>\")","v":"</td><td>"},{"$f":"Sorts!F5","v":""},{"$f":"IF(J4=8,\"</td><td class='ClnPos'>\",\"</td><td>\")","v":"</td><td>"},{"$f":"Sorts!G5","v":""},{"$f":"IF(L4=8,\"</td><td class='ClnPos'>\",\"</td><td>\")","v":"</td><td>"},{"$f":"Sorts!H5","v":""},{"$f":"IF(N4=8,\"</td><td class='ClnPos'>\",\"</td><td>\")","v":"</td><td>"},{"$f":"Sorts!I5","v":""},{"$f":"IF(P4=40,\"</td><td class='ClnRelay'>\",\"</td><td class='Bld'>\")","v":"</td><td class='Bld'>"},{"$f":"Sorts!J5","v":""},{"$f":"IF(R4=8,\"</td>###<td class='ClnPos'>\",\"</td>###<td>\")","v":"</td>###<td>"},{"$f":"Sorts!K5","v":""},{"$f":"IF(T4=8,\"</td><td class='ClnPos'>\",\"</td><td>\")","v":"</td><td>"},{"$f":"Sorts!L5","v":""},{"$f":"IF(V4=8,\"</td><td class='ClnPos'>\",\"</td><td>\")","v":"</td><td>"},{"$f":"Sorts!M5","v":""},{"$f":"IF(X4=8,\"</td><td class='ClnPos'>\",\"</td><td>\")","v":"</td><td>"},{"$f":"Sorts!N5","v":""},{"$f":"IF(Z4=8,\"</td><td class='ClnPos'>\",\"</td><td>\")","v":"</td><td>"},{"$f":"Sorts!O5","v":""},{"$f":"IF(AB4=40,\"</td><td class='ClnRelay'>\",\"</td><td class='Bld'>\")","v":"</td><td class='Bld'>"},{"$f":"Sorts!P5","v":""},"</td>###</tr>"]
["<tr align=\"center\">###<td class=\"Bld\">",{"$f":"Sorts!B6","v":""},{"$f":"IF(D5=80,\"</td><td class='ClnMatch'>\",\"</td><td class='Bld'>\")","v":"</td><td class='Bld'>"},{"$f":"Sorts!D6","v":""},{"$f":"IF(F5=8,\"</td>###<td class='ClnPos'>\",\"</td>###<td>\")","v":"</td>###<td>"},{"$f":"Sorts!E6","v":""},{"$f":"IF(H5=8,\"</td><td class='ClnPos'>\",\"</td><td>\")","v":"</td><td>"},{"$f":"Sorts!F6","v":""},{"$f":"IF(J5=8,\"</td><td class='ClnPos'>\",\"</td><td>\")","v":"</td><td>"},{"$f":"Sorts!G6","v":""},{"$f":"IF(L5=8,\"</td><td class='ClnPos'>\",\"</td><td>\")","v":"</td><td>"},{"$f":"Sorts!H6","v":""},{"$f":"IF(N5=8,\"</td><td class='ClnPos'>\",\"</td><td>\")","v":"</td><td>"},{"$f":"Sorts!I6","v":""},{"$f":"IF(P5=40,\"</td><td class='ClnRelay'>\",\"</td><td class='Bld'>\")","v":"</td><td class='Bld'>"},{"$f":"Sorts!J6","v":""},{"$f":"IF(R5=8,\"</td>###<td class='ClnPos'>\",\"</td>###<td>\")","v":"</td>###<td>"},{"$f":"Sorts!K6","v":""},{"$f":"IF(T5=8,\"</td><td class='ClnPos'>\",\"</td><td>\")","v":"</td><td>"},{"$f":"Sorts!L6","v":""},{"$f":"IF(V5=8,\"</td><td class='ClnPos'>\",\"</td><td>\")","v":"</td><td>"},{"$f":"Sorts!M6","v":""},{"$f":"IF(X5=8,\"</td><td class='ClnPos'>\",\"</td><td>\")","v":"</td><td>"},{"$f":"Sorts!N6","v":""},{"$f":"IF(Z5=8,\"</td><td class='ClnPos'>\",\"</td><td>\")","v":"</td><td>"},{"$f":"Sorts!O6","v":""},{"$f":"IF(AB5=40,\"</td><td class='ClnRelay'>\",\"</td><td class='Bld'>\")","v":"</td><td class='Bld'>"},{"$f":"Sorts!P6","v":""},"</td>###</tr>"]
["<tr align=\"center\">###<td class=\"Bld\">",{"$f":"Sorts!B7","v":""},"</td><td class='Bld'>",{"$f":"Sorts!D7","v":""},"</td>###<td>",{"$f":"Sorts!E7","v":""},"</td><td>",{"$f":"Sorts!F7","v":""},"</td><td>",{"$f":"Sorts!G7","v":""},"</td><td>",{"$f":"Sorts!H7","v":""},"</td><td>",{"$f":"Sorts!I7","v":""},"</td><td class='Bld'>",{"$f":"Sorts!J7","v":""},"</td>###<td>",{"$f":"Sorts!K7","v":""},"</td><td>",{"$f":"Sorts!L7","v":""},"</td><td>",{"$f":"Sorts!M7","v":""},"</td><td>",{"$f":"Sorts!N7","v":""},"</td><td>",{"$f":"Sorts!O7","v":""},"</td><td class='Bld'>",{"$f":"Sorts!P7","v":""},"</td>###</tr>"]
["<tr align=\"center\">###<td class=\"Bld\">",{"$f":"Sorts!B8","v":""},"</td><td class='Bld'>",{"$f":"Sorts!D8","v":""},"</td>###<td>",{"$f":"Sorts!E8","v":""},"</td><td>",{"$f":"Sorts!F8","v":""},"</td><td>",{"$f":"Sorts!G8","v":""},"</td><td>",{"$f":"Sorts!H8","v":""},"</td><td>",{"$f":"Sorts!I8","v":""},"</td><td class='Bld'>",{"$f":"Sorts!J8","v":""},"</td>###<td>",{"$f":"Sorts!K8","v":""},"</td><td>",{"$f":"Sorts!L8","v":""},"</td><td>",{"$f":"Sorts!M8","v":""},"</td><td>",{"$f":"Sorts!N8","v":""},"</td><td>",{"$f":"Sorts!O8","v":""},"</td><td class='Bld'>",{"$f":"Sorts!P8","v":""},"</td>###</tr>"]
["<tr align=\"center\">###<td class=\"Bld\">",{"$f":"Sorts!B9","v":""},"</td><td class='Bld'>",{"$f":"Sorts!D9","v":""},"</td>###<td>",{"$f":"Sorts!E9","v":""},"</td><td>",{"$f":"Sorts!F9","v":""},"</td><td>",{"$f":"Sorts!G9","v":""},"</td><td>",{"$f":"Sorts!H9","v":""},"</td><td>",{"$f":"Sorts!I9","v":""},"</td><td class='Bld'>",{"$f":"Sorts!J9","v":""},"</td>###<td>",{"$f":"Sorts!K9","v":""},"</td><td>",{"$f":"Sorts!L9","v":""},"</td><td>",{"$f":"Sorts!M9","v":""},"</td><td>",{"$f":"Sorts!N9","v":""},"</td><td>",{"$f":"Sorts!O9","v":""},"</td><td class='Bld'>",{"$f":"Sorts!P9","v":""},"</td>###</tr>"]
["<tr align=\"center\">###<td class=\"Bld\">",{"$f":"Sorts!B10","v":""},"</td><td class='Bld'>",{"$f":"Sorts!D10","v":""},"</td>###<td>",{"$f":"Sorts!E10","v":""},"</td><td>",{"$f":"Sorts!F10","v":""},"</td><td>",{"$f":"Sorts!G10","v":""},"</td><td>",{"$f":"Sorts!H10","v":""},"</td><td>",{"$f":"Sorts!I10","v":""},"</td><td class='Bld'>",{"$f":"Sorts!J10","v":""},"</td>###<td>",{"$f":"Sorts!K10","v":""},"</td><td>",{"$f":"Sorts!L10","v":""},"</td><td>",{"$f":"Sorts!M10","v":""},"</td><td>",{"$f":"Sorts!N10","v":""},"</td><td>",{"$f":"Sorts!O10","v":""},"</td><td class='Bld'>",{"$f":"Sorts!P10","v":""},"</td>###</tr>"]
["<tr align=\"center\">###<td class=\"Bld\">",{"$f":"Sorts!B11","v":""},"</td><td class='Bld'>",{"$f":"Sorts!D11","v":""},"</td>###<td>",{"$f":"Sorts!E11","v":""},"</td><td>",{"$f":"Sorts!F11","v":""},"</td><td>",{"$f":"Sorts!G11","v":""},"</td><td>",{"$f":"Sorts!H11","v":""},"</td><td>",{"$f":"Sorts!I11","v":""},"</td><td class='Bld'>",{"$f":"Sorts!J11","v":""},"</td>###<td>",{"$f":"Sorts!K11","v":""},"</td><td>",{"$f":"Sorts!L11","v":""},"</td><td>",{"$f":"Sorts!M11","v":""},"</td><td>",{"$f":"Sorts!N11","v":""},"</td><td>",{"$f":"Sorts!O11","v":""},"</td><td class='Bld'>",{"$f":"Sorts!P11","v":""},"</td>###</tr>"]
["<tr align=\"center\">###<td class=\"Bld\">",{"$f":"Sorts!B12","v":""},"</td><td class='Bld'>",{"$f":"Sorts!D12","v":""},"</td>###<td>",{"$f":"Sorts!E12","v":""},"</td><td>",{"$f":"Sorts!F12","v":""},"</td><td>",{"$f":"Sorts!G12","v":""},"</td><td>",{"$f":"Sorts!H12","v":""},"</td><td>",{"$f":"Sorts!I12","v":""},"</td><td class='Bld'>",{"$f":"Sorts!J12","v":""},"</td>###<td>",{"$f":"Sorts!K12","v":""},"</td><td>",{"$f":"Sorts!L12","v":""},"</td><td>",{"$f":"Sorts!M12","v":""},"</td><td>",{"$f":"Sorts!N12","v":""},"</td><td>",{"$f":"Sorts!O12","v":""},"</td><td class='Bld'>",{"$f":"Sorts!P12","v":""},"</td>###</tr>"]
["<tr align=\"center\">###<td class=\"Bld\">",{"$f":"Sorts!B13","v":""},"</td><td class='Bld'>",{"$f":"Sorts!D13","v":""},"</td>###<td>",{"$f":"Sorts!E13","v":""},"</td><td>",{"$f":"Sorts!F13","v":""},"</td><td>",{"$f":"Sorts!G13","v":""},"</td><td>",{"$f":"Sorts!H13","v":""},"</td><td>",{"$f":"Sorts!I13","v":""},"</td><td class='Bld'>",{"$f":"Sorts!J13","v":""},"</td>###<td>",{"$f":"Sorts!K13","v":""},"</td><td>",{"$f":"Sorts!L13","v":""},"</td><td>",{"$f":"Sorts!M13","v":""},"</td><td>",{"$f":"Sorts!N13","v":""},"</td><td>",{"$f":"Sorts!O13","v":""},"</td><td class='Bld'>",{"$f":"Sorts!P13","v":""},"</td>###</tr>"]
["<tr align=\"center\">###<td class=\"Bld\">",{"$f":"Sorts!B14","v":""},"</td><td class='Bld'>",{"$f":"Sorts!D14","v":""},"</td>###<td>",{"$f":"Sorts!E14","v":""},"</td><td>",{"$f":"Sorts!F14","v":""},"</td><td>",{"$f":"Sorts!G14","v":""},"</td><td>",{"$f":"Sorts!H14","v":""},"</td><td>",{"$f":"Sorts!I14","v":""},"</td><td class='Bld'>",{"$f":"Sorts!J14","v":""},"</td>###<td>",{"$f":"Sorts!K14","v":""},"</td><td>",{"$f":"Sorts!L14","v":""},"</td><td>",{"$f":"Sorts!M14","v":""},"</td><td>",{"$f":"Sorts!N14","v":""},"</td><td>",{"$f":"Sorts!O14","v":""},"</td><td class='Bld'>",{"$f":"Sorts!P14","v":""},"</td>###</tr>"]
["<tr align=\"center\">###<td class=\"Bld\">",{"$f":"Sorts!B15","v":""},"</td><td class='Bld'>",{"$f":"Sorts!D15","v":""},"</td>###<td>",{"$f":"Sorts!E15","v":""},"</td><td>",{"$f":"Sorts!F15","v":""},"</td><td>",{"$f":"Sorts!G15","v":""},"</td><td>",{"$f":"Sorts!H15","v":""},"</td><td>",{"$f":"Sorts!I15","v":""},"</td><td class='Bld'>",{"$f":"Sorts!J15","v":""},"</td>###<td>",{"$f":"Sorts!K15","v":""},"</td><td>",{"$f":"Sorts!L15","v":""},"</td><td>",{"$f":"Sorts!M15","v":""},"</td><td>",{"$f":"Sorts!N15","v":""},"</td><td>",{"$f":"Sorts!O15","v":""},"</td><td class='Bld'>",{"$f":"Sorts!P15","v":""},"</td>###</tr>"]
["<tr align=\"center\">###<td class=\"Bld\">",{"$f":"Sorts!B16","v":""},"</td><td class='Bld'>",{"$f":"Sorts!D16","v":""},"</td>###<td>",{"$f":"Sorts!E16","v":""},"</td><td>",{"$f":"Sorts!F16","v":""},"</td><td>",{"$f":"Sorts!G16","v":""},"</td><td>",{"$f":"Sorts!H16","v":""},"</td><td>",{"$f":"Sorts!I16","v":""},"</td><td class='Bld'>",{"$f":"Sorts!J16","v":""},"</td>###<td>",{"$f":"Sorts!K16","v":""},"</td><td>",{"$f":"Sorts!L16","v":""},"</td><td>",{"$f":"Sorts!M16","v":""},"</td><td>",{"$f":"Sorts!N16","v":""},"</td><td>",{"$f":"Sorts!O16","v":""},"</td><td class='Bld'>",{"$f":"Sorts!P16","v":""},"</td>###</tr>"]
["<tr align=\"center\">###<td class=\"Bld\">",{"$f":"Sorts!B17","v":""},"</td><td class='Bld'>",{"$f":"Sorts!D17","v":""},"</td>###<td>",{"$f":"Sorts!E17","v":""},"</td><td>",{"$f":"Sorts!F17","v":""},"</td><td>",{"$f":"Sorts!G17","v":""},"</td><td>",{"$f":"Sorts!H17","v":""},"</td><td>",{"$f":"Sorts!I17","v":""},"</td><td class='Bld'>",{"$f":"Sorts!J17","v":""},"</td>###<td>",{"$f":"Sorts!K17","v":""},"</td><td>",{"$f":"Sorts!L17","v":""},"</td><td>",{"$f":"Sorts!M17","v":""},"</td><td>",{"$f":"Sorts!N17","v":""},"</td><td>",{"$f":"Sorts!O17","v":""},"</td><td class='Bld'>",{"$f":"Sorts!P17","v":""},"</td>###</tr>"]
["<tr align=\"center\">###<td class=\"Bld\">",{"$f":"Sorts!B18","v":""},"</td><td class='Bld'>",{"$f":"Sorts!D18","v":""},"</td>###<td>",{"$f":"Sorts!E18","v":""},"</td><td>",{"$f":"Sorts!F18","v":""},"</td><td>",{"$f":"Sorts!G18","v":""},"</td><td>",{"$f":"Sorts!H18","v":""},"</td><td>",{"$f":"Sorts!I18","v":""},"</td><td class='Bld'>",{"$f":"Sorts!J18","v":""},"</td>###<td>",{"$f":"Sorts!K18","v":""},"</td><td>",{"$f":"Sorts!L18","v":""},"</td><td>",{"$f":"Sorts!M18","v":""},"</td><td>",{"$f":"Sorts!N18","v":""},"</td><td>",{"$f":"Sorts!O18","v":""},"</td><td class='Bld'>",{"$f":"Sorts!P18","v":""},"</td>###</tr>"]
["<tr align=\"center\">###<td class=\"Bld\">",{"$f":"Sorts!B19","v":""},"</td><td class='Bld'>",{"$f":"Sorts!D19","v":""},"</td>###<td>",{"$f":"Sorts!E19","v":""},"</td><td>",{"$f":"Sorts!F19","v":""},"</td><td>",{"$f":"Sorts!G19","v":""},"</td><td>",{"$f":"Sorts!H19","v":""},"</td><td>",{"$f":"Sorts!I19","v":""},"</td><td class='Bld'>",{"$f":"Sorts!J19","v":""},"</td>###<td>",{"$f":"Sorts!K19","v":""},"</td><td>",{"$f":"Sorts!L19","v":""},"</td><td>",{"$f":"Sorts!M19","v":""},"</td><td>",{"$f":"Sorts!N19","v":""},"</td><td>",{"$f":"Sorts!O19","v":""},"</td><td class='Bld'>",{"$f":"Sorts!P19","v":""},"</td>###</tr>"]
["<tr align=\"center\">###<td class=\"Bld\">",{"$f":"Sorts!B20","v":""},"</td><td class='Bld'>",{"$f":"Sorts!D20","v":""},"</td>###<td>",{"$f":"Sorts!E20","v":""},"</td><td>",{"$f":"Sorts!F20","v":""},"</td><td>",{"$f":"Sorts!G20","v":""},"</td><td>",{"$f":"Sorts!H20","v":""},"</td><td>",{"$f":"Sorts!I20","v":""},"</td><td class='Bld'>",{"$f":"Sorts!J20","v":""},"</td>###<td>",{"$f":"Sorts!K20","v":""},"</td><td>",{"$f":"Sorts!L20","v":""},"</td><td>",{"$f":"Sorts!M20","v":""},"</td><td>",{"$f":"Sorts!N20","v":""},"</td><td>",{"$f":"Sorts!O20","v":""},"</td><td class='Bld'>",{"$f":"Sorts!P20","v":""},"</td>###</tr>"]
["<tr align=\"center\">###<td class=\"Bld\">",{"$f":"Sorts!B21","v":""},"</td><td class='Bld'>",{"$f":"Sorts!D21","v":""},"</td>###<td>",{"$f":"Sorts!E21","v":""},"</td><td>",{"$f":"Sorts!F21","v":""},"</td><td>",{"$f":"Sorts!G21","v":""},"</td><td>",{"$f":"Sorts!H21","v":""},"</td><td>",{"$f":"Sorts!I21","v":""},"</td><td class='Bld'>",{"$f":"Sorts!J21","v":""},"</td>###<td>",{"$f":"Sorts!K21","v":""},"</td><td>",{"$f":"Sorts!L21","v":""},"</td><td>",{"$f":"Sorts!M21","v":""},"</td><td>",{"$f":"Sorts!N21","v":""},"</td><td>",{"$f":"Sorts!O21","v":""},"</td><td class='Bld'>",{"$f":"Sorts!P21","v":""},"</td>###</tr>"]
["<tr align=\"center\">###<td class=\"Bld\">",{"$f":"Sorts!B22","v":""},"</td><td class='Bld'>",{"$f":"Sorts!D22","v":""},"</td>###<td>",{"$f":"Sorts!E22","v":""},"</td><td>",{"$f":"Sorts!F22","v":""},"</td><td>",{"$f":"Sorts!G22","v":""},"</td><td>",{"$f":"Sorts!H22","v":""},"</td><td>",{"$f":"Sorts!I22","v":""},"</td><td class='Bld'>",{"$f":"Sorts!J22","v":""},"</td>###<td>",{"$f":"Sorts!K22","v":""},"</td><td>",{"$f":"Sorts!L22","v":""},"</td><td>",{"$f":"Sorts!M22","v":""},"</td><td>",{"$f":"Sorts!N22","v":""},"</td><td>",{"$f":"Sorts!O22","v":""},"</td><td class='Bld'>",{"$f":"Sorts!P22","v":""},"</td>###</tr>"]
["<tr align=\"center\">###<td class=\"Bld\">",{"$f":"Sorts!B23","v":""},"</td><td class='Bld'>",{"$f":"Sorts!D23","v":""},"</td>###<td>",{"$f":"Sorts!E23","v":""},"</td><td>",{"$f":"Sorts!F23","v":""},"</td><td>",{"$f":"Sorts!G23","v":""},"</td><td>",{"$f":"Sorts!H23","v":""},"</td><td>",{"$f":"Sorts!I23","v":""},"</td><td class='Bld'>",{"$f":"Sorts!J23","v":""},"</td>###<td>",{"$f":"Sorts!K23","v":""},"</td><td>",{"$f":"Sorts!L23","v":""},"</td><td>",{"$f":"Sorts!M23","v":""},"</td><td>",{"$f":"Sorts!N23","v":""},"</td><td>",{"$f":"Sorts!O23","v":""},"</td><td class='Bld'>",{"$f":"Sorts!P23","v":""},"</td>###</tr>"]
["<tr align=\"center\">###<td class=\"Bld\">",{"$f":"Sorts!B24","v":""},"</td><td class='Bld'>",{"$f":"Sorts!D24","v":""},"</td>###<td>",{"$f":"Sorts!E24","v":""},"</td><td>",{"$f":"Sorts!F24","v":""},"</td><td>",{"$f":"Sorts!G24","v":""},"</td><td>",{"$f":"Sorts!H24","v":""},"</td><td>",{"$f":"Sorts!I24","v":""},"</td><td class='Bld'>",{"$f":"Sorts!J24","v":""},"</td>###<td>",{"$f":"Sorts!K24","v":""},"</td><td>",{"$f":"Sorts!L24","v":""},"</td><td>",{"$f":"Sorts!M24","v":""},"</td><td>",{"$f":"Sorts!N24","v":""},"</td><td>",{"$f":"Sorts!O24","v":""},"</td><td class='Bld'>",{"$f":"Sorts!P24","v":""},"</td>###</tr>"]
["<tr align=\"center\">###<td class=\"Bld\">",{"$f":"Sorts!B25","v":""},"</td><td class='Bld'>",{"$f":"Sorts!D25","v":""},"</td>###<td>",{"$f":"Sorts!E25","v":""},"</td><td>",{"$f":"Sorts!F25","v":""},"</td><td>",{"$f":"Sorts!G25","v":""},"</td><td>",{"$f":"Sorts!H25","v":""},"</td><td>",{"$f":"Sorts!I25","v":""},"</td><td class='Bld'>",{"$f":"Sorts!J25","v":""},"</td>###<td>",{"$f":"Sorts!K25","v":""},"</td><td>",{"$f":"Sorts!L25","v":""},"</td><td>",{"$f":"Sorts!M25","v":""},"</td><td>",{"$f":"Sorts!N25","v":""},"</td><td>",{"$f":"Sorts!O25","v":""},"</td><td class='Bld'>",{"$f":"Sorts!P25","v":""},"</td>###</tr>"]
["<tr align=\"center\">###<td class=\"Bld\">",{"$f":"Sorts!B26","v":""},"</td><td class='Bld'>",{"$f":"Sorts!D26","v":""},"</td>###<td>",{"$f":"Sorts!E26","v":""},"</td><td>",{"$f":"Sorts!F26","v":""},"</td><td>",{"$f":"Sorts!G26","v":""},"</td><td>",{"$f":"Sorts!H26","v":""},"</td><td>",{"$f":"Sorts!I26","v":""},"</td><td class='Bld'>",{"$f":"Sorts!J26","v":""},"</td>###<td>",{"$f":"Sorts!K26","v":""},"</td><td>",{"$f":"Sorts!L26","v":""},"</td><td>",{"$f":"Sorts!M26","v":""},"</td><td>",{"$f":"Sorts!N26","v":""},"</td><td>",{"$f":"Sorts!O26","v":""},"</td><td class='Bld'>",{"$f":"Sorts!P26","v":""},"</td>###</tr>"]
["<tr align=\"center\">###<td class=\"Bld\">",{"$f":"Sorts!B27","v":""},"</td><td class='Bld'>",{"$f":"Sorts!D27","v":""},"</td>###<td>",{"$f":"Sorts!E27","v":""},"</td><td>",{"$f":"Sorts!F27","v":""},"</td><td>",{"$f":"Sorts!G27","v":""},"</td><td>",{"$f":"Sorts!H27","v":""},"</td><td>",{"$f":"Sorts!I27","v":""},"</td><td class='Bld'>",{"$f":"Sorts!J27","v":""},"</td>###<td>",{"$f":"Sorts!K27","v":""},"</td><td>",{"$f":"Sorts!L27","v":""},"</td><td>",{"$f":"Sorts!M27","v":""},"</td><td>",{"$f":"Sorts!N27","v":""},"</td><td>",{"$f":"Sorts!O27","v":""},"</td><td class='Bld'>",{"$f":"Sorts!P27","v":""},"</td>###</tr>"]
["<tr align=\"center\">###<td class=\"Bld\">",{"$f":"Sorts!B28","v":""},"</td><td class='Bld'>",{"$f":"Sorts!D28","v":""},"</td>###<td>",{"$f":"Sorts!E28","v":""},"</td><td>",{"$f":"Sorts!F28","v":""},"</td><td>",{"$f":"Sorts!G28","v":""},"</td><td>",{"$f":"Sorts!H28","v":""},"</td><td>",{"$f":"Sorts!I28","v":""},"</td><td class='Bld'>",{"$f":"Sorts!J28","v":""},"</td>###<td>",{"$f":"Sorts!K28","v":""},"</td><td>",{"$f":"Sorts!L28","v":""},"</td><td>",{"$f":"Sorts!M28","v":""},"</td><td>",{"$f":"Sorts!N28","v":""},"</td><td>",{"$f":"Sorts!O28","v":""},"</td><td class='Bld'>",{"$f":"Sorts!P28","v":""},"</td>###</tr>"]
["<tr align=\"center\">###<td class=\"Bld\">",{"$f":"Sorts!B29","v":""},"</td><td class='Bld'>",{"$f":"Sorts!D29","v":""},"</td>###<td>",{"$f":"Sorts!E29","v":""},"</td><td>",{"$f":"Sorts!F29","v":""},"</td><td>",{"$f":"Sorts!G29","v":""},"</td><td>",{"$f":"Sorts!H29","v":""},"</td><td>",{"$f":"Sorts!I29","v":""},"</td><td class='Bld'>",{"$f":"Sorts!J29","v":""},"</td>###<td>",{"$f":"Sorts!K29","v":""},"</td><td>",{"$f":"Sorts!L29","v":""},"</td><td>",{"$f":"Sorts!M29","v":""},"</td><td>",{"$f":"Sorts!N29","v":""},"</td><td>",{"$f":"Sorts!O29","v":""},"</td><td class='Bld'>",{"$f":"Sorts!P29","v":""},"</td>###</tr>"]
["<tr align=\"center\">###<td class=\"Bld\">",{"$f":"Sorts!B30","v":""},"</td><td class='Bld'>",{"$f":"Sorts!D30","v":""},"</td>###<td>",{"$f":"Sorts!E30","v":""},"</td><td>",{"$f":"Sorts!F30","v":""},"</td><td>",{"$f":"Sorts!G30","v":""},"</td><td>",{"$f":"Sorts!H30","v":""},"</td><td>",{"$f":"Sorts!I30","v":""},"</td><td class='Bld'>",{"$f":"Sorts!J30","v":""},"</td>###<td>",{"$f":"Sorts!K30","v":""},"</td><td>",{"$f":"Sorts!L30","v":""},"</td><td>",{"$f":"Sorts!M30","v":""},"</td><td>",{"$f":"Sorts!N30","v":""},"</td><td>",{"$f":"Sorts!O30","v":""},"</td><td class='Bld'>",{"$f":"Sorts!P30","v":""},"</td>###</tr>"]
["<tr align=\"center\">###<td class=\"Bld\">",{"$f":"Sorts!B31","v":""},"</td><td class='Bld'>",{"$f":"Sorts!D31","v":""},"</td>###<td>",{"$f":"Sorts!E31","v":""},"</td><td>",{"$f":"Sorts!F31","v":""},"</td><td>",{"$f":"Sorts!G31","v":""},"</td><td>",{"$f":"Sorts!H31","v":""},"</td><td>",{"$f":"Sorts!I31","v":""},"</td><td class='Bld'>",{"$f":"Sorts!J31","v":""},"</td>###<td>",{"$f":"Sorts!K31","v":""},"</td><td>",{"$f":"Sorts!L31","v":""},"</td><td>",{"$f":"Sorts!M31","v":""},"</td><td>",{"$f":"Sorts!N31","v":""},"</td><td>",{"$f":"Sorts!O31","v":""},"</td><td class='Bld'>",{"$f":"Sorts!P31","v":""},"</td>###</tr>"]
["<tr align=\"center\">###<td class=\"Bld\">",{"$f":"Sorts!B32","v":""},"</td><td class='Bld'>",{"$f":"Sorts!D32","v":""},"</td>###<td>",{"$f":"Sorts!E32","v":""},"</td><td>",{"$f":"Sorts!F32","v":""},"</td><td>",{"$f":"Sorts!G32","v":""},"</td><td>",{"$f":"Sorts!H32","v":""},"</td><td>",{"$f":"Sorts!I32","v":""},"</td><td class='Bld'>",{"$f":"Sorts!J32","v":""},"</td>###<td>",{"$f":"Sorts!K32","v":""},"</td><td>",{"$f":"Sorts!L32","v":""},"</td><td>",{"$f":"Sorts!M32","v":""},"</td><td>",{"$f":"Sorts!N32","v":""},"</td><td>",{"$f":"Sorts!O32","v":""},"</td><td class='Bld'>",{"$f":"Sorts!P32","v":""},"</td>###</tr>"]
["<tr align=\"center\">###<td class=\"Bld\">",{"$f":"Sorts!B33","v":""},"</td><td class='Bld'>",{"$f":"Sorts!D33","v":""},"</td>###<td>",{"$f":"Sorts!E33","v":""},"</td><td>",{"$f":"Sorts!F33","v":""},"</td><td>",{"$f":"Sorts!G33","v":""},"</td><td>",{"$f":"Sorts!H33","v":""},"</td><td>",{"$f":"Sorts!I33","v":""},"</td><td class='Bld'>",{"$f":"Sorts!J33","v":""},"</td>###<td>",{"$f":"Sorts!K33","v":""},"</td><td>",{"$f":"Sorts!L33","v":""},"</td><td>",{"$f":"Sorts!M33","v":""},"</td><td>",{"$f":"Sorts!N33","v":""},"</td><td>",{"$f":"Sorts!O33","v":""},"</td><td class='Bld'>",{"$f":"Sorts!P33","v":""},"</td>###</tr>"]
["<tr align=\"center\">###<td class=\"Bld\">",{"$f":"Sorts!B34","v":""},"</td><td class='Bld'>",{"$f":"Sorts!D34","v":""},"</td>###<td>",{"$f":"Sorts!E34","v":""},"</td><td>",{"$f":"Sorts!F34","v":""},"</td><td>",{"$f":"Sorts!G34","v":""},"</td><td>",{"$f":"Sorts!H34","v":""},"</td><td>",{"$f":"Sorts!I34","v":""},"</td><td class='Bld'>",{"$f":"Sorts!J34","v":""},"</td>###<td>",{"$f":"Sorts!K34","v":""},"</td><td>",{"$f":"Sorts!L34","v":""},"</td><td>",{"$f":"Sorts!M34","v":""},"</td><td>",{"$f":"Sorts!N34","v":""},"</td><td>",{"$f":"Sorts!O34","v":""},"</td><td class='Bld'>",{"$f":"Sorts!P34","v":""},"</td>###</tr>"]
["<tr align=\"center\">###<td class=\"Bld\">",{"$f":"Sorts!B35","v":""},"</td><td class='Bld'>",{"$f":"Sorts!D35","v":""},"</td>###<td>",{"$f":"Sorts!E35","v":""},"</td><td>",{"$f":"Sorts!F35","v":""},"</td><td>",{"$f":"Sorts!G35","v":""},"</td><td>",{"$f":"Sorts!H35","v":""},"</td><td>",{"$f":"Sorts!I35","v":""},"</td><td class='Bld'>",{"$f":"Sorts!J35","v":""},"</td>###<td>",{"$f":"Sorts!K35","v":""},"</td><td>",{"$f":"Sorts!L35","v":""},"</td><td>",{"$f":"Sorts!M35","v":""},"</td><td>",{"$f":"Sorts!N35","v":""},"</td><td>",{"$f":"Sorts!O35","v":""},"</td><td class='Bld'>",{"$f":"Sorts!P35","v":""},"</td>###</tr>"]
["<tr align=\"center\">###<td class=\"Bld\">",{"$f":"Sorts!B36","v":""},"</td><td class='Bld'>",{"$f":"Sorts!D36","v":""},"</td>###<td>",{"$f":"Sorts!E36","v":""},"</td><td>",{"$f":"Sorts!F36","v":""},"</td><td>",{"$f":"Sorts!G36","v":""},"</td><td>",{"$f":"Sorts!H36","v":""},"</td><td>",{"$f":"Sorts!I36","v":""},"</td><td class='Bld'>",{"$f":"Sorts!J36","v":""},"</td>###<td>",{"$f":"Sorts!K36","v":""},"</td><td>",{"$f":"Sorts!L36","v":""},"</td><td>",{"$f":"Sorts!M36","v":""},"</td><td>",{"$f":"Sorts!N36","v":""},"</td><td>",{"$f":"Sorts!O36","v":""},"</td><td class='Bld'>",{"$f":"Sorts!P36","v":""},"</td>###</tr>"]
["<tr align=\"center\">###<td class=\"Bld\">",{"$f":"Sorts!B37","v":""},"</td><td class='Bld'>",{"$f":"Sorts!D37","v":""},"</td>###<td>",{"$f":"Sorts!E37","v":""},"</td><td>",{"$f":"Sorts!F37","v":""},"</td><td>",{"$f":"Sorts!G37","v":""},"</td><td>",{"$f":"Sorts!H37","v":""},"</td><td>",{"$f":"Sorts!I37","v":""},"</td><td class='Bld'>",{"$f":"Sorts!J37","v":""},"</td>###<td>",{"$f":"Sorts!K37","v":""},"</td><td>",{"$f":"Sorts!L37","v":""},"</td><td>",{"$f":"Sorts!M37","v":""},"</td><td>",{"$f":"Sorts!N37","v":""},"</td><td>",{"$f":"Sorts!O37","v":""},"</td><td class='Bld'>",{"$f":"Sorts!P37","v":""},"</td>###</tr>"]
["<tr align=\"center\">###<td class=\"Bld\">",{"$f":"Sorts!B38","v":""},"</td><td class='Bld'>",{"$f":"Sorts!D38","v":""},"</td>###<td>",{"$f":"Sorts!E38","v":""},"</td><td>",{"$f":"Sorts!F38","v":""},"</td><td>",{"$f":"Sorts!G38","v":""},"</td><td>",{"$f":"Sorts!H38","v":""},"</td><td>",{"$f":"Sorts!I38","v":""},"</td><td class='Bld'>",{"$f":"Sorts!J38","v":""},"</td>###<td>",{"$f":"Sorts!K38","v":""},"</td><td>",{"$f":"Sorts!L38","v":""},"</td><td>",{"$f":"Sorts!M38","v":""},"</td><td>",{"$f":"Sorts!N38","v":""},"</td><td>",{"$f":"Sorts!O38","v":""},"</td><td class='Bld'>",{"$f":"Sorts!P38","v":""},"</td>###</tr>"]
["<tr align=\"center\">###<td class=\"Bld\">",{"$f":"Sorts!B39","v":""},"</td><td class='Bld'>",{"$f":"Sorts!D39","v":""},"</td>###<td>",{"$f":"Sorts!E39","v":""},"</td><td>",{"$f":"Sorts!F39","v":""},"</td><td>",{"$f":"Sorts!G39","v":""},"</td><td>",{"$f":"Sorts!H39","v":""},"</td><td>",{"$f":"Sorts!I39","v":""},"</td><td class='Bld'>",{"$f":"Sorts!J39","v":""},"</td>###<td>",{"$f":"Sorts!K39","v":""},"</td><td>",{"$f":"Sorts!L39","v":""},"</td><td>",{"$f":"Sorts!M39","v":""},"</td><td>",{"$f":"Sorts!N39","v":""},"</td><td>",{"$f":"Sorts!O39","v":""},"</td><td class='Bld'>",{"$f":"Sorts!P39","v":""},"</td>###</tr>"]
["<tr align=\"center\">###<td class=\"Bld\">",{"$f":"Sorts!B40","v":""},"</td><td class='Bld'>",{"$f":"Sorts!D40","v":""},"</td>###<td>",{"$f":"Sorts!E40","v":""},"</td><td>",{"$f":"Sorts!F40","v":""},"</td><td>",{"$f":"Sorts!G40","v":""},"</td><td>",{"$f":"Sorts!H40","v":""},"</td><td>",{"$f":"Sorts!I40","v":""},"</td><td class='Bld'>",{"$f":"Sorts!J40","v":""},"</td>###<td>",{"$f":"Sorts!K40","v":""},"</td><td>",{"$f":"Sorts!L40","v":""},"</td><td>",{"$f":"Sorts!M40","v":""},"</td><td>",{"$f":"Sorts!N40","v":""},"</td><td>",{"$f":"Sorts!O40","v":""},"</td><td class='Bld'>",{"$f":"Sorts!P40","v":""},"</td>###</tr>"]
["<tr align=\"center\">###<td class=\"Bld\">",{"$f":"Sorts!B41","v":""},"</td><td class='Bld'>",{"$f":"Sorts!D41","v":""},"</td>###<td>",{"$f":"Sorts!E41","v":""},"</td><td>",{"$f":"Sorts!F41","v":""},"</td><td>",{"$f":"Sorts!G41","v":""},"</td><td>",{"$f":"Sorts!H41","v":""},"</td><td>",{"$f":"Sorts!I41","v":""},"</td><td class='Bld'>",{"$f":"Sorts!J41","v":""},"</td>###<td>",{"$f":"Sorts!K41","v":""},"</td><td>",{"$f":"Sorts!L41","v":""},"</td><td>",{"$f":"Sorts!M41","v":""},"</td><td>",{"$f":"Sorts!N41","v":""},"</td><td>",{"$f":"Sorts!O41","v":""},"</td><td class='Bld'>",{"$f":"Sorts!P41","v":""},"</td>###</tr>"]
["<tr align=\"center\">###<td class=\"Bld\">",{"$f":"Sorts!B42","v":""},"</td><td class='Bld'>",{"$f":"Sorts!D42","v":""},"</td>###<td>",{"$f":"Sorts!E42","v":""},"</td><td>",{"$f":"Sorts!F42","v":""},"</td><td>",{"$f":"Sorts!G42","v":""},"</td><td>",{"$f":"Sorts!H42","v":""},"</td><td>",{"$f":"Sorts!I42","v":""},"</td><td class='Bld'>",{"$f":"Sorts!J42","v":""},"</td>###<td>",{"$f":"Sorts!K42","v":""},"</td><td>",{"$f":"Sorts!L42","v":""},"</td><td>",{"$f":"Sorts!M42","v":""},"</td><td>",{"$f":"Sorts!N42","v":""},"</td><td>",{"$f":"Sorts!O42","v":""},"</td><td class='Bld'>",{"$f":"Sorts!P42","v":""},"</td>###</tr>"]
["<tr align=\"center\">###<td class=\"Bld\">",{"$f":"Sorts!B43","v":""},"</td><td class='Bld'>",{"$f":"Sorts!D43","v":""},"</td>###<td>",{"$f":"Sorts!E43","v":""},"</td><td>",{"$f":"Sorts!F43","v":""},"</td><td>",{"$f":"Sorts!G43","v":""},"</td><td>",{"$f":"Sorts!H43","v":""},"</td><td>",{"$f":"Sorts!I43","v":""},"</td><td class='Bld'>",{"$f":"Sorts!J43","v":""},"</td>###<td>",{"$f":"Sorts!K43","v":""},"</td><td>",{"$f":"Sorts!L43","v":""},"</td><td>",{"$f":"Sorts!M43","v":""},"</td><td>",{"$f":"Sorts!N43","v":""},"</td><td>",{"$f":"Sorts!O43","v":""},"</td><td class='Bld'>",{"$f":"Sorts!P43","v":""},"</td>###</tr>"]
["<tr align=\"center\">###<td class=\"Bld\">",{"$f":"Sorts!B44","v":""},"</td><td class='Bld'>",{"$f":"Sorts!D44","v":""},"</td>###<td>",{"$f":"Sorts!E44","v":""},"</td><td>",{"$f":"Sorts!F44","v":""},"</td><td>",{"$f":"Sorts!G44","v":""},"</td><td>",{"$f":"Sorts!H44","v":""},"</td><td>",{"$f":"Sorts!I44","v":""},"</td><td class='Bld'>",{"$f":"Sorts!J44","v":""},"</td>###<td>",{"$f":"Sorts!K44","v":""},"</td><td>",{"$f":"Sorts!L44","v":""},"</td><td>",{"$f":"Sorts!M44","v":""},"</td><td>",{"$f":"Sorts!N44","v":""},"</td><td>",{"$f":"Sorts!O44","v":""},"</td><td class='Bld'>",{"$f":"Sorts!P44","v":""},"</td>###</tr>"]
["<tr align=\"center\">###<td class=\"Bld\">",{"$f":"Sorts!B45","v":""},"</td><td class='Bld'>",{"$f":"Sorts!D45","v":""},"</td>###<td>",{"$f":"Sorts!E45","v":""},"</td><td>",{"$f":"Sorts!F45","v":""},"</td><td>",{"$f":"Sorts!G45","v":""},"</td><td>",{"$f":"Sorts!H45","v":""},"</td><td>",{"$f":"Sorts!I45","v":""},"</td><td class='Bld'>",{"$f":"Sorts!J45","v":""},"</td>###<td>",{"$f":"Sorts!K45","v":""},"</td><td>",{"$f":"Sorts!L45","v":""},"</td><td>",{"$f":"Sorts!M45","v":""},"</td><td>",{"$f":"Sorts!N45","v":""},"</td><td>",{"$f":"Sorts!O45","v":""},"</td><td class='Bld'>",{"$f":"Sorts!P45","v":""},"</td>###</tr>"]
["<tr align=\"center\">###<td class=\"Bld\">",{"$f":"Sorts!B46","v":""},"</td><td class='Bld'>",{"$f":"Sorts!D46","v":""},"</td>###<td>",{"$f":"Sorts!E46","v":""},"</td><td>",{"$f":"Sorts!F46","v":""},"</td><td>",{"$f":"Sorts!G46","v":""},"</td><td>",{"$f":"Sorts!H46","v":""},"</td><td>",{"$f":"Sorts!I46","v":""},"</td><td class='Bld'>",{"$f":"Sorts!J46","v":""},"</td>###<td>",{"$f":"Sorts!K46","v":""},"</td><td>",{"$f":"Sorts!L46","v":""},"</td><td>",{"$f":"Sorts!M46","v":""},"</td><td>",{"$f":"Sorts!N46","v":""},"</td><td>",{"$f":"Sorts!O46","v":""},"</td><td class='Bld'>",{"$f":"Sorts!P46","v":""},"</td>###</tr>"]
["<tr align=\"center\">###<td class=\"Bld\">",{"$f":"Sorts!B47","v":""},"</td><td class='Bld'>",{"$f":"Sorts!D47","v":""},"</td>###<td>",{"$f":"Sorts!E47","v":""},"</td><td>",{"$f":"Sorts!F47","v":""},"</td><td>",{"$f":"Sorts!G47","v":""},"</td><td>",{"$f":"Sorts!H47","v":""},"</td><td>",{"$f":"Sorts!I47","v":""},"</td><td class='Bld'>",{"$f":"Sorts!J47","v":""},"</td>###<td>",{"$f":"Sorts!K47","v":""},"</td><td>",{"$f":"Sorts!L47","v":""},"</td><td>",{"$f":"Sorts!M47","v":""},"</td><td>",{"$f":"Sorts!N47","v":""},"</td><td>",{"$f":"Sorts!O47","v":""},"</td><td class='Bld'>",{"$f":"Sorts!P47","v":""},"</td>###</tr>"]
["<tr align=\"center\">###<td class=\"Bld\">",{"$f":"Sorts!B48","v":""},"</td><td class='Bld'>",{"$f":"Sorts!D48","v":""},"</td>###<td>",{"$f":"Sorts!E48","v":""},"</td><td>",{"$f":"Sorts!F48","v":""},"</td><td>",{"$f":"Sorts!G48","v":""},"</td><td>",{"$f":"Sorts!H48","v":""},"</td><td>",{"$f":"Sorts!I48","v":""},"</td><td class='Bld'>",{"$f":"Sorts!J48","v":""},"</td>###<td>",{"$f":"Sorts!K48","v":""},"</td><td>",{"$f":"Sorts!L48","v":""},"</td><td>",{"$f":"Sorts!M48","v":""},"</td><td>",{"$f":"Sorts!N48","v":""},"</td><td>",{"$f":"Sorts!O48","v":""},"</td><td class='Bld'>",{"$f":"Sorts!P48","v":""},"</td>###</tr>"]
["<tr align=\"center\">###<td class=\"Bld\">",{"$f":"Sorts!B49","v":""},"</td><td class='Bld'>",{"$f":"Sorts!D49","v":""},"</td>###<td>",{"$f":"Sorts!E49","v":""},"</td><td>",{"$f":"Sorts!F49","v":""},"</td><td>",{"$f":"Sorts!G49","v":""},"</td><td>",{"$f":"Sorts!H49","v":""},"</td><td>",{"$f":"Sorts!I49","v":""},"</td><td class='Bld'>",{"$f":"Sorts!J49","v":""},"</td>###<td>",{"$f":"Sorts!K49","v":""},"</td><td>",{"$f":"Sorts!L49","v":""},"</td><td>",{"$f":"Sorts!M49","v":""},"</td><td>",{"$f":"Sorts!N49","v":""},"</td><td>",{"$f":"Sorts!O49","v":""},"</td><td class='Bld'>",{"$f":"Sorts!P49","v":""},"</td>###</tr>"]
["<tr align=\"center\">###<td class=\"Bld\">",{"$f":"Sorts!B50","v":""},"</td><td class='Bld'>",{"$f":"Sorts!D50","v":""},"</td>###<td>",{"$f":"Sorts!E50","v":""},"</td><td>",{"$f":"Sorts!F50","v":""},"</td><td>",{"$f":"Sorts!G50","v":""},"</td><td>",{"$f":"Sorts!H50","v":""},"</td><td>",{"$f":"Sorts!I50","v":""},"</td><td class='Bld'>",{"$f":"Sorts!J50","v":""},"</td>###<td>",{"$f":"Sorts!K50","v":""},"</td><td>",{"$f":"Sorts!L50","v":""},"</td><td>",{"$f":"Sorts!M50","v":""},"</td><td>",{"$f":"Sorts!N50","v":""},"</td><td>",{"$f":"Sorts!O50","v":""},"</td><td class='Bld'>",{"$f":"Sorts!P50","v":""},"</td>###</tr>"]
["<tr align=\"center\">###<td class=\"Bld\">",{"$f":"Sorts!B51","v":""},"</td><td class='Bld'>",{"$f":"Sorts!D51","v":""},"</td>###<td>",{"$f":"Sorts!E51","v":""},"</td><td>",{"$f":"Sorts!F51","v":""},"</td><td>",{"$f":"Sorts!G51","v":""},"</td><td>",{"$f":"Sorts!H51","v":""},"</td><td>",{"$f":"Sorts!I51","v":""},"</td><td class='Bld'>",{"$f":"Sorts!J51","v":""},"</td>###<td>",{"$f":"Sorts!K51","v":""},"</td><td>",{"$f":"Sorts!L51","v":""},"</td><td>",{"$f":"Sorts!M51","v":""},"</td><td>",{"$f":"Sorts!N51","v":""},"</td><td>",{"$f":"Sorts!O51","v":""},"</td><td class='Bld'>",{"$f":"Sorts!P51","v":""},"</td>###</tr>"]
["<tr align=\"center\">###<td class=\"Bld\">",{"$f":"Sorts!B52","v":""},"</td><td class='Bld'>",{"$f":"Sorts!D52","v":""},"</td>###<td>",{"$f":"Sorts!E52","v":""},"</td><td>",{"$f":"Sorts!F52","v":""},"</td><td>",{"$f":"Sorts!G52","v":""},"</td><td>",{"$f":"Sorts!H52","v":""},"</td><td>",{"$f":"Sorts!I52","v":""},"</td><td class='Bld'>",{"$f":"Sorts!J52","v":""},"</td>###<td>",{"$f":"Sorts!K52","v":""},"</td><td>",{"$f":"Sorts!L52","v":""},"</td><td>",{"$f":"Sorts!M52","v":""},"</td><td>",{"$f":"Sorts!N52","v":""},"</td><td>",{"$f":"Sorts!O52","v":""},"</td><td class='Bld'>",{"$f":"Sorts!P52","v":""},"</td>###</tr>"]
["<tr align=\"center\">###<td class=\"Bld\">",{"$f":"Sorts!B53","v":""},"</td><td class='Bld'>",{"$f":"Sorts!D53","v":""},"</td>###<td>",{"$f":"Sorts!E53","v":""},"</td><td>",{"$f":"Sorts!F53","v":""},"</td><td>",{"$f":"Sorts!G53","v":""},"</td><td>",{"$f":"Sorts!H53","v":""},"</td><td>",{"$f":"Sorts!I53","v":""},"</td><td class='Bld'>",{"$f":"Sorts!J53","v":""},"</td>###<td>",{"$f":"Sorts!K53","v":""},"</td><td>",{"$f":"Sorts!L53","v":""},"</td><td>",{"$f":"Sorts!M53","v":""},"</td><td>",{"$f":"Sorts!N53","v":""},"</td><td>",{"$f":"Sorts!O53","v":""},"</td><td class='Bld'>",{"$f":"Sorts!P53","v":""},"</td>###</tr>"]
["<tr align=\"center\">###<td class=\"Bld\">",{"$f":"Sorts!B54","v":""},"</td><td class='Bld'>",{"$f":"Sorts!D54","v":""},"</td>###<td>",{"$f":"Sorts!E54","v":""},"</td><td>",{"$f":"Sorts!F54","v":""},"</td><td>",{"$f":"Sorts!G54","v":""},"</td><td>",{"$f":"Sorts!H54","v":""},"</td><td>",{"$f":"Sorts!I54","v":""},"</td><td class='Bld'>",{"$f":"Sorts!J54","v":""},"</td>###<td>",{"$f":"Sorts!K54","v":""},"</td><td>",{"$f":"Sorts!L54","v":""},"</td><td>",{"$f":"Sorts!M54","v":""},"</td><td>",{"$f":"Sorts!N54","v":""},"</td><td>",{"$f":"Sorts!O54","v":""},"</td><td class='Bld'>",{"$f":"Sorts!P54","v":""},"</td>###</tr>"]
["<tr align=\"center\">###<td class=\"Bld\">",{"$f":"Sorts!B55","v":""},"</td><td class='Bld'>",{"$f":"Sorts!D55","v":""},"</td>###<td>",{"$f":"Sorts!E55","v":""},"</td><td>",{"$f":"Sorts!F55","v":""},"</td><td>",{"$f":"Sorts!G55","v":""},"</td><td>",{"$f":"Sorts!H55","v":""},"</td><td>",{"$f":"Sorts!I55","v":""},"</td><td class='Bld'>",{"$f":"Sorts!J55","v":""},"</td>###<td>",{"$f":"Sorts!K55","v":""},"</td><td>",{"$f":"Sorts!L55","v":""},"</td><td>",{"$f":"Sorts!M55","v":""},"</td><td>",{"$f":"Sorts!N55","v":""},"</td><td>",{"$f":"Sorts!O55","v":""},"</td><td class='Bld'>",{"$f":"Sorts!P55","v":""},"</td>###</tr>"]
["<tr align=\"center\">###<td class=\"Bld\">",{"$f":"Sorts!B56","v":""},"</td><td class='Bld'>",{"$f":"Sorts!D56","v":""},"</td>###<td>",{"$f":"Sorts!E56","v":""},"</td><td>",{"$f":"Sorts!F56","v":""},"</td><td>",{"$f":"Sorts!G56","v":""},"</td><td>",{"$f":"Sorts!H56","v":""},"</td><td>",{"$f":"Sorts!I56","v":""},"</td><td class='Bld'>",{"$f":"Sorts!J56","v":""},"</td>###<td>",{"$f":"Sorts!K56","v":""},"</td><td>",{"$f":"Sorts!L56","v":""},"</td><td>",{"$f":"Sorts!M56","v":""},"</td><td>",{"$f":"Sorts!N56","v":""},"</td><td>",{"$f":"Sorts!O56","v":""},"</td><td class='Bld'>",{"$f":"Sorts!P56","v":""},"</td>###</tr>"]
["<tr align=\"center\">###<td class=\"Bld\">",{"$f":"Sorts!B57","v":""},"</td><td class='Bld'>",{"$f":"Sorts!D57","v":""},"</td>###<td>",{"$f":"Sorts!E57","v":""},"</td><td>",{"$f":"Sorts!F57","v":""},"</td><td>",{"$f":"Sorts!G57","v":""},"</td><td>",{"$f":"Sorts!H57","v":""},"</td><td>",{"$f":"Sorts!I57","v":""},"</td><td class='Bld'>",{"$f":"Sorts!J57","v":""},"</td>###<td>",{"$f":"Sorts!K57","v":""},"</td><td>",{"$f":"Sorts!L57","v":""},"</td><td>",{"$f":"Sorts!M57","v":""},"</td><td>",{"$f":"Sorts!N57","v":""},"</td><td>",{"$f":"Sorts!O57","v":""},"</td><td class='Bld'>",{"$f":"Sorts!P57","v":""},"</td>###</tr>"]
["<tr align=\"center\">###<td class=\"Bld\">",{"$f":"Sorts!B58","v":""},"</td><td class='Bld'>",{"$f":"Sorts!D58","v":""},"</td>###<td>",{"$f":"Sorts!E58","v":""},"</td><td>",{"$f":"Sorts!F58","v":""},"</td><td>",{"$f":"Sorts!G58","v":""},"</td><td>",{"$f":"Sorts!H58","v":""},"</td><td>",{"$f":"Sorts!I58","v":""},"</td><td class='Bld'>",{"$f":"Sorts!J58","v":""},"</td>###<td>",{"$f":"Sorts!K58","v":""},"</td><td>",{"$f":"Sorts!L58","v":""},"</td><td>",{"$f":"Sorts!M58","v":""},"</td><td>",{"$f":"Sorts!N58","v":""},"</td><td>",{"$f":"Sorts!O58","v":""},"</td><td class='Bld'>",{"$f":"Sorts!P58","v":""},"</td>###</tr>"]
["<tr align=\"center\">###<td class=\"Bld\">",{"$f":"Sorts!B59","v":""},"</td><td class='Bld'>",{"$f":"Sorts!D59","v":""},"</td>###<td>",{"$f":"Sorts!E59","v":""},"</td><td>",{"$f":"Sorts!F59","v":""},"</td><td>",{"$f":"Sorts!G59","v":""},"</td><td>",{"$f":"Sorts!H59","v":""},"</td><td>",{"$f":"Sorts!I59","v":""},"</td><td class='Bld'>",{"$f":"Sorts!J59","v":""},"</td>###<td>",{"$f":"Sorts!K59","v":""},"</td><td>",{"$f":"Sorts!L59","v":""},"</td><td>",{"$f":"Sorts!M59","v":""},"</td><td>",{"$f":"Sorts!N59","v":""},"</td><td>",{"$f":"Sorts!O59","v":""},"</td><td class='Bld'>",{"$f":"Sorts!P59","v":""},"</td>###</tr>"]
["<tr align=\"center\">###<td class=\"Bld\">",{"$f":"Sorts!B60","v":""},"</td><td class='Bld'>",{"$f":"Sorts!D60","v":""},"</td>###<td>",{"$f":"Sorts!E60","v":""},"</td><td>",{"$f":"Sorts!F60","v":""},"</td><td>",{"$f":"Sorts!G60","v":""},"</td><td>",{"$f":"Sorts!H60","v":""},"</td><td>",{"$f":"Sorts!I60","v":""},"</td><td class='Bld'>",{"$f":"Sorts!J60","v":""},"</td>###<td>",{"$f":"Sorts!K60","v":""},"</td><td>",{"$f":"Sorts!L60","v":""},"</td><td>",{"$f":"Sorts!M60","v":""},"</td><td>",{"$f":"Sorts!N60","v":""},"</td><td>",{"$f":"Sorts!O60","v":""},"</td><td class='Bld'>",{"$f":"Sorts!P60","v":""},"</td>###</tr>"]
["<tr align=\"center\">###<td class=\"Bld\">",{"$f":"Sorts!B61","v":""},"</td><td class='Bld'>",{"$f":"Sorts!D61","v":""},"</td>###<td>",{"$f":"Sorts!E61","v":""},"</td><td>",{"$f":"Sorts!F61","v":""},"</td><td>",{"$f":"Sorts!G61","v":""},"</td><td>",{"$f":"Sorts!H61","v":""},"</td><td>",{"$f":"Sorts!I61","v":""},"</td><td class='Bld'>",{"$f":"Sorts!J61","v":""},"</td>###<td>",{"$f":"Sorts!K61","v":""},"</td><td>",{"$f":"Sorts!L61","v":""},"</td><td>",{"$f":"Sorts!M61","v":""},"</td><td>",{"$f":"Sorts!N61","v":""},"</td><td>",{"$f":"Sorts!O61","v":""},"</td><td class='Bld'>",{"$f":"Sorts!P61","v":""},"</td>###</tr>"]
["<tr align=\"center\">###<td class=\"Bld\">",{"$f":"Sorts!B62","v":""},"</td><td class='Bld'>",{"$f":"Sorts!D62","v":""},"</td>###<td>",{"$f":"Sorts!E62","v":""},"</td><td>",{"$f":"Sorts!F62","v":""},"</td><td>",{"$f":"Sorts!G62","v":""},"</td><td>",{"$f":"Sorts!H62","v":""},"</td><td>",{"$f":"Sorts!I62","v":""},"</td><td class='Bld'>",{"$f":"Sorts!J62","v":""},"</td>###<td>",{"$f":"Sorts!K62","v":""},"</td><td>",{"$f":"Sorts!L62","v":""},"</td><td>",{"$f":"Sorts!M62","v":""},"</td><td>",{"$f":"Sorts!N62","v":""},"</td><td>",{"$f":"Sorts!O62","v":""},"</td><td class='Bld'>",{"$f":"Sorts!P62","v":""},"</td>###</tr>"]
["<tr align=\"center\">###<td class=\"Bld\">",{"$f":"Sorts!B63","v":""},"</td><td class='Bld'>",{"$f":"Sorts!D63","v":""},"</td>###<td>",{"$f":"Sorts!E63","v":""},"</td><td>",{"$f":"Sorts!F63","v":""},"</td><td>",{"$f":"Sorts!G63","v":""},"</td><td>",{"$f":"Sorts!H63","v":""},"</td><td>",{"$f":"Sorts!I63","v":""},"</td><td class='Bld'>",{"$f":"Sorts!J63","v":""},"</td>###<td>",{"$f":"Sorts!K63","v":""},"</td><td>",{"$f":"Sorts!L63","v":""},"</td><td>",{"$f":"Sorts!M63","v":""},"</td><td>",{"$f":"Sorts!N63","v":""},"</td><td>",{"$f":"Sorts!O63","v":""},"</td><td class='Bld'>",{"$f":"Sorts!P63","v":""},"</td>###</tr>"]
["<tr align=\"center\">###<td class=\"Bld\">",{"$f":"Sorts!B64","v":""},"</td><td class='Bld'>",{"$f":"Sorts!D64","v":""},"</td>###<td>",{"$f":"Sorts!E64","v":""},"</td><td>",{"$f":"Sorts!F64","v":""},"</td><td>",{"$f":"Sorts!G64","v":""},"</td><td>",{"$f":"Sorts!H64","v":""},"</td><td>",{"$f":"Sorts!I64","v":""},"</td><td class='Bld'>",{"$f":"Sorts!J64","v":""},"</td>###<td>",{"$f":"Sorts!K64","v":""},"</td><td>",{"$f":"Sorts!L64","v":""},"</td><td>",{"$f":"Sorts!M64","v":""},"</td><td>",{"$f":"Sorts!N64","v":""},"</td><td>",{"$f":"Sorts!O64","v":""},"</td><td class='Bld'>",{"$f":"Sorts!P64","v":""},"</td>###</tr>"]
["<tr align=\"center\">###<td class=\"Bld\">",{"$f":"Sorts!B65","v":""},"</td><td class='Bld'>",{"$f":"Sorts!D65","v":""},"</td>###<td>",{"$f":"Sorts!E65","v":""},"</td><td>",{"$f":"Sorts!F65","v":""},"</td><td>",{"$f":"Sorts!G65","v":""},"</td><td>",{"$f":"Sorts!H65","v":""},"</td><td>",{"$f":"Sorts!I65","v":""},"</td><td class='Bld'>",{"$f":"Sorts!J65","v":""},"</td>###<td>",{"$f":"Sorts!K65","v":""},"</td><td>",{"$f":"Sorts!L65","v":""},"</td><td>",{"$f":"Sorts!M65","v":""},"</td><td>",{"$f":"Sorts!N65","v":""},"</td><td>",{"$f":"Sorts!O65","v":""},"</td><td class='Bld'>",{"$f":"Sorts!P65","v":""},"</td>###</tr>"]
["<tr align=\"center\">###<td class=\"Bld\">",{"$f":"Sorts!B66","v":""},"</td><td class='Bld'>",{"$f":"Sorts!D66","v":""},"</td>###<td>",{"$f":"Sorts!E66","v":""},"</td><td>",{"$f":"Sorts!F66","v":""},"</td><td>",{"$f":"Sorts!G66","v":""},"</td><td>",{"$f":"Sorts!H66","v":""},"</td><td>",{"$f":"Sorts!I66","v":""},"</td><td class='Bld'>",{"$f":"Sorts!J66","v":""},"</td>###<td>",{"$f":"Sorts!K66","v":""},"</td><td>",{"$f":"Sorts!L66","v":""},"</td><td>",{"$f":"Sorts!M66","v":""},"</td><td>",{"$f":"Sorts!N66","v":""},"</td><td>",{"$f":"Sorts!O66","v":""},"</td><td class='Bld'>",{"$f":"Sorts!P66","v":""},"</td>###</tr>"]
["<tr align=\"center\">###<td class=\"Bld\">",{"$f":"Sorts!B67","v":""},"</td><td class='Bld'>",{"$f":"Sorts!D67","v":""},"</td>###<td>",{"$f":"Sorts!E67","v":""},"</td><td>",{"$f":"Sorts!F67","v":""},"</td><td>",{"$f":"Sorts!G67","v":""},"</td><td>",{"$f":"Sorts!H67","v":""},"</td><td>",{"$f":"Sorts!I67","v":""},"</td><td class='Bld'>",{"$f":"Sorts!J67","v":""},"</td>###<td>",{"$f":"Sorts!K67","v":""},"</td><td>",{"$f":"Sorts!L67","v":""},"</td><td>",{"$f":"Sorts!M67","v":""},"</td><td>",{"$f":"Sorts!N67","v":""},"</td><td>",{"$f":"Sorts!O67","v":""},"</td><td class='Bld'>",{"$f":"Sorts!P67","v":""},"</td>###</tr>"]
["<tr align=\"center\">###<td class=\"Bld\">",{"$f":"Sorts!B68","v":""},"</td><td class='Bld'>",{"$f":"Sorts!D68","v":""},"</td>###<td>",{"$f":"Sorts!E68","v":""},"</td><td>",{"$f":"Sorts!F68","v":""},"</td><td>",{"$f":"Sorts!G68","v":""},"</td><td>",{"$f":"Sorts!H68","v":""},"</td><td>",{"$f":"Sorts!I68","v":""},"</td><td class='Bld'>",{"$f":"Sorts!J68","v":""},"</td>###<td>",{"$f":"Sorts!K68","v":""},"</td><td>",{"$f":"Sorts!L68","v":""},"</td><td>",{"$f":"Sorts!M68","v":""},"</td><td>",{"$f":"Sorts!N68","v":""},"</td><td>",{"$f":"Sorts!O68","v":""},"</td><td class='Bld'>",{"$f":"Sorts!P68","v":""},"</td>###</tr>"]
["<tr align=\"center\">###<td class=\"Bld\">",{"$f":"Sorts!B69","v":""},"</td><td class='Bld'>",{"$f":"Sorts!D69","v":""},"</td>###<td>",{"$f":"Sorts!E69","v":""},"</td><td>",{"$f":"Sorts!F69","v":""},"</td><td>",{"$f":"Sorts!G69","v":""},"</td><td>",{"$f":"Sorts!H69","v":""},"</td><td>",{"$f":"Sorts!I69","v":""},"</td><td class='Bld'>",{"$f":"Sorts!J69","v":""},"</td>###<td>",{"$f":"Sorts!K69","v":""},"</td><td>",{"$f":"Sorts!L69","v":""},"</td><td>",{"$f":"Sorts!M69","v":""},"</td><td>",{"$f":"Sorts!N69","v":""},"</td><td>",{"$f":"Sorts!O69","v":""},"</td><td class='Bld'>",{"$f":"Sorts!P69","v":""},"</td>###</tr>"]
["<tr align=\"center\">###<td class=\"Bld\">",{"$f":"Sorts!B70","v":""},{"$f":"IF(D69=80,\"</td><td class='ClnMatch'>\",\"</td><td class='Bld'>\")","v":"</td><td class='Bld'>"},{"$f":"Sorts!D70","v":""},{"$f":"IF(F69=8,\"</td>###<td class='ClnPos'>\",\"</td>###<td>\")","v":"</td>###<td>"},{"$f":"Sorts!E70","v":""},{"$f":"IF(H69=8,\"</td><td class='ClnPos'>\",\"</td><td>\")","v":"</td><td>"},{"$f":"Sorts!F70","v":""},{"$f":"IF(J69=8,\"</td><td class='ClnPos'>\",\"</td><td>\")","v":"</td><td>"},{"$f":"Sorts!G70","v":""},{"$f":"IF(L69=8,\"</td><td class='ClnPos'>\",\"</td><td>\")","v":"</td><td>"},{"$f":"Sorts!H70","v":""},{"$f":"IF(N69=8,\"</td><td class='ClnPos'>\",\"</td><td>\")","v":"</td><td>"},{"$f":"Sorts!I70","v":""},{"$f":"IF(P69=40,\"</td><td class='ClnRelay'>\",\"</td><td class='Bld'>\")","v":"</td><td class='Bld'>"},{"$f":"Sorts!J70","v":""},{"$f":"IF(R69=8,\"</td>###<td class='ClnPos'>\",\"</td>###<td>\")","v":"</td>###<td>"},{"$f":"Sorts!K70","v":""},{"$f":"IF(T69=8,\"</td><td class='ClnPos'>\",\"</td><td>\")","v":"</td><td>"},{"$f":"Sorts!L70","v":""},{"$f":"IF(V69=8,\"</td><td class='ClnPos'>\",\"</td><td>\")","v":"</td><td>"},{"$f":"Sorts!M70","v":""},{"$f":"IF(X69=8,\"</td><td class='ClnPos'>\",\"</td><td>\")","v":"</td><td>"},{"$f":"Sorts!N70","v":""},{"$f":"IF(Z69=8,\"</td><td class='ClnPos'>\",\"</td><td>\")","v":"</td><td>"},{"$f":"Sorts!O70","v":""},{"$f":"IF(AB69=40,\"</td><td class='ClnRelay'>\",\"</td><td class='Bld'>\")","v":"</td><td class='Bld'>"},{"$f":"Sorts!P70","v":""},"</td>###</tr>"]
["<tr align=\"center\">###<td class=\"Bld\">",{"$f":"Sorts!B71","v":""},"</td><td class='Bld'>",{"$f":"Sorts!D71","v":""},"</td>###<td>",{"$f":"Sorts!E71","v":""},"</td><td>",{"$f":"Sorts!F71","v":""},"</td><td>",{"$f":"Sorts!G71","v":""},"</td><td>",{"$f":"Sorts!H71","v":""},"</td><td>",{"$f":"Sorts!I71","v":""},"</td><td class='Bld'>",{"$f":"Sorts!J71","v":""},"</td>###<td>",{"$f":"Sorts!K71","v":""},"</td><td>",{"$f":"Sorts!L71","v":""},"</td><td>",{"$f":"Sorts!M71","v":""},"</td><td>",{"$f":"Sorts!N71","v":""},"</td><td>",{"$f":"Sorts!O71","v":""},"</td><td class='Bld'>",{"$f":"Sorts!P71","v":""},"</td>###</tr>"]
["<tr align=\"center\">###<td class=\"Bld\">",{"$f":"Sorts!B72","v":""},"</td><td class='Bld'>",{"$f":"Sorts!D72","v":""},"</td>###<td>",{"$f":"Sorts!E72","v":""},"</td><td>",{"$f":"Sorts!F72","v":""},"</td><td>",{"$f":"Sorts!G72","v":""},"</td><td>",{"$f":"Sorts!H72","v":""},"</td><td>",{"$f":"Sorts!I72","v":""},"</td><td class='Bld'>",{"$f":"Sorts!J72","v":""},"</td>###<td>",{"$f":"Sorts!K72","v":""},"</td><td>",{"$f":"Sorts!L72","v":""},"</td><td>",{"$f":"Sorts!M72","v":""},"</td><td>",{"$f":"Sorts!N72","v":""},"</td><td>",{"$f":"Sorts!O72","v":""},"</td><td class='Bld'>",{"$f":"Sorts!P72","v":""},"</td>###</tr>"]
["<tr align=\"center\">###<td class=\"Bld\">",{"$f":"Sorts!B73","v":""},"</td><td class='Bld'>",{"$f":"Sorts!D73","v":""},"</td>###<td>",{"$f":"Sorts!E73","v":""},"</td><td>",{"$f":"Sorts!F73","v":""},"</td><td>",{"$f":"Sorts!G73","v":""},"</td><td>",{"$f":"Sorts!H73","v":""},"</td><td>",{"$f":"Sorts!I73","v":""},"</td><td class='Bld'>",{"$f":"Sorts!J73","v":""},"</td>###<td>",{"$f":"Sorts!K73","v":""},"</td><td>",{"$f":"Sorts!L73","v":""},"</td><td>",{"$f":"Sorts!M73","v":""},"</td><td>",{"$f":"Sorts!N73","v":""},"</td><td>",{"$f":"Sorts!O73","v":""},"</td><td class='Bld'>",{"$f":"Sorts!P73","v":""},"</td>###</tr>"]
["<tr align=\"center\">###<td class=\"Bld\">",{"$f":"Sorts!B74","v":""},"</td><td class='Bld'>",{"$f":"Sorts!D74","v":""},"</td>###<td>",{"$f":"Sorts!E74","v":""},"</td><td>",{"$f":"Sorts!F74","v":""},"</td><td>",{"$f":"Sorts!G74","v":""},"</td><td>",{"$f":"Sorts!H74","v":""},"</td><td>",{"$f":"Sorts!I74","v":""},"</td><td class='Bld'>",{"$f":"Sorts!J74","v":""},"</td>###<td>",{"$f":"Sorts!K74","v":""},"</td><td>",{"$f":"Sorts!L74","v":""},"</td><td>",{"$f":"Sorts!M74","v":""},"</td><td>",{"$f":"Sorts!N74","v":""},"</td><td>",{"$f":"Sorts!O74","v":""},"</td><td class='Bld'>",{"$f":"Sorts!P74","v":""},"</td>###</tr>"]
["<tr align=\"center\">###<td class=\"Bld\">",{"$f":"Sorts!B75","v":""},"</td><td class='Bld'>",{"$f":"Sorts!D75","v":""},"</td>###<td>",{"$f":"Sorts!E75","v":""},"</td><td>",{"$f":"Sorts!F75","v":""},"</td><td>",{"$f":"Sorts!G75","v":""},"</td><td>",{"$f":"Sorts!H75","v":""},"</td><td>",{"$f":"Sorts!I75","v":""},"</td><td class='Bld'>",{"$f":"Sorts!J75","v":""},"</td>###<td>",{"$f":"Sorts!K75","v":""},"</td><td>",{"$f":"Sorts!L75","v":""},"</td><td>",{"$f":"Sorts!M75","v":""},"</td><td>",{"$f":"Sorts!N75","v":""},"</td><td>",{"$f":"Sorts!O75","v":""},"</td><td class='Bld'>",{"$f":"Sorts!P75","v":""},"</td>###</tr>"]
["<tr align=\"center\">###<td class=\"Bld\">",{"$f":"Sorts!B76","v":""},"</td><td class='Bld'>",{"$f":"Sorts!D76","v":""},"</td>###<td>",{"$f":"Sorts!E76","v":""},"</td><td>",{"$f":"Sorts!F76","v":""},"</td><td>",{"$f":"Sorts!G76","v":""},"</td><td>",{"$f":"Sorts!H76","v":""},"</td><td>",{"$f":"Sorts!I76","v":""},"</td><td class='Bld'>",{"$f":"Sorts!J76","v":""},"</td>###<td>",{"$f":"Sorts!K76","v":""},"</td><td>",{"$f":"Sorts!L76","v":""},"</td><td>",{"$f":"Sorts!M76","v":""},"</td><td>",{"$f":"Sorts!N76","v":""},"</td><td>",{"$f":"Sorts!O76","v":""},"</td><td class='Bld'>",{"$f":"Sorts!P76","v":""},"</td>###</tr>"]
["<tr align=\"center\">###<td class=\"Bld\">",{"$f":"Sorts!B77","v":""},"</td><td class='Bld'>",{"$f":"Sorts!D77","v":""},"</td>###<td>",{"$f":"Sorts!E77","v":""},"</td><td>",{"$f":"Sorts!F77","v":""},"</td><td>",{"$f":"Sorts!G77","v":""},"</td><td>",{"$f":"Sorts!H77","v":""},"</td><td>",{"$f":"Sorts!I77","v":""},"</td><td class='Bld'>",{"$f":"Sorts!J77","v":""},"</td>###<td>",{"$f":"Sorts!K77","v":""},"</td><td>",{"$f":"Sorts!L77","v":""},"</td><td>",{"$f":"Sorts!M77","v":""},"</td><td>",{"$f":"Sorts!N77","v":""},"</td><td>",{"$f":"Sorts!O77","v":""},"</td><td class='Bld'>",{"$f":"Sorts!P77","v":""},"</td>###</tr>"]
["<tr align=\"center\">###<td class=\"Bld\">",{"$f":"Sorts!B78","v":""},"</td><td class='Bld'>",{"$f":"Sorts!D78","v":""},"</td>###<td>",{"$f":"Sorts!E78","v":""},"</td><td>",{"$f":"Sorts!F78","v":""},"</td><td>",{"$f":"Sorts!G78","v":""},"</td><td>",{"$f":"Sorts!H78","v":""},"</td><td>",{"$f":"Sorts!I78","v":""},"</td><td class='Bld'>",{"$f":"Sorts!J78","v":""},"</td>###<td>",{"$f":"Sorts!K78","v":""},"</td><td>",{"$f":"Sorts!L78","v":""},"</td><td>",{"$f":"Sorts!M78","v":""},"</td><td>",{"$f":"Sorts!N78","v":""},"</td><td>",{"$f":"Sorts!O78","v":""},"</td><td class='Bld'>",{"$f":"Sorts!P78","v":""},"</td>###</tr>"]
["<tr align=\"center\">###<td class=\"Bld\">",{"$f":"Sorts!B79","v":""},"</td><td class='Bld'>",{"$f":"Sorts!D79","v":""},"</td>###<td>",{"$f":"Sorts!E79","v":""},"</td><td>",{"$f":"Sorts!F79","v":""},"</td><td>",{"$f":"Sorts!G79","v":""},"</td><td>",{"$f":"Sorts!H79","v":""},"</td><td>",{"$f":"Sorts!I79","v":""},"</td><td class='Bld'>",{"$f":"Sorts!J79","v":""},"</td>###<td>",{"$f":"Sorts!K79","v":""},"</td><td>",{"$f":"Sorts!L79","v":""},"</td><td>",{"$f":"Sorts!M79","v":""},"</td><td>",{"$f":"Sorts!N79","v":""},"</td><td>",{"$f":"Sorts!O79","v":""},"</td><td class='Bld'>",{"$f":"Sorts!P79","v":""},"</td>###</tr>"]
["<tr align=\"center\">###<td class=\"Bld\">",{"$f":"Sorts!B80","v":""},"</td><td class='Bld'>",{"$f":"Sorts!D80","v":""},"</td>###<td>",{"$f":"Sorts!E80","v":""},"</td><td>",{"$f":"Sorts!F80","v":""},"</td><td>",{"$f":"Sorts!G80","v":""},"</td><td>",{"$f":"Sorts!H80","v":""},"</td><td>",{"$f":"Sorts!I80","v":""},"</td><td class='Bld'>",{"$f":"Sorts!J80","v":""},"</td>###<td>",{"$f":"Sorts!K80","v":""},"</td><td>",{"$f":"Sorts!L80","v":""},"</td><td>",{"$f":"Sorts!M80","v":""},"</td><td>",{"$f":"Sorts!N80","v":""},"</td><td>",{"$f":"Sorts!O80","v":""},"</td><td class='Bld'>",{"$f":"Sorts!P80","v":""},"</td>###</tr>"]
["<tr align=\"center\">###<td class=\"Bld\">",{"$f":"Sorts!B81","v":""},"</td><td class='Bld'>",{"$f":"Sorts!D81","v":""},"</td>###<td>",{"$f":"Sorts!E81","v":""},"</td><td>",{"$f":"Sorts!F81","v":""},"</td><td>",{"$f":"Sorts!G81","v":""},"</td><td>",{"$f":"Sorts!H81","v":""},"</td><td>",{"$f":"Sorts!I81","v":""},"</td><td class='Bld'>",{"$f":"Sorts!J81","v":""},"</td>###<td>",{"$f":"Sorts!K81","v":""},"</td><td>",{"$f":"Sorts!L81","v":""},"</td><td>",{"$f":"Sorts!M81","v":""},"</td><td>",{"$f":"Sorts!N81","v":""},"</td><td>",{"$f":"Sorts!O81","v":""},"</td><td class='Bld'>",{"$f":"Sorts!P81","v":""},"</td>###</tr>"]
["<tr align=\"center\">###<td class=\"Bld\">",{"$f":"Sorts!B82","v":""},"</td><td class='Bld'>",{"$f":"Sorts!D82","v":""},"</td>###<td>",{"$f":"Sorts!E82","v":""},"</td><td>",{"$f":"Sorts!F82","v":""},"</td><td>",{"$f":"Sorts!G82","v":""},"</td><td>",{"$f":"Sorts!H82","v":""},"</td><td>",{"$f":"Sorts!I82","v":""},"</td><td class='Bld'>",{"$f":"Sorts!J82","v":""},"</td>###<td>",{"$f":"Sorts!K82","v":""},"</td><td>",{"$f":"Sorts!L82","v":""},"</td><td>",{"$f":"Sorts!M82","v":""},"</td><td>",{"$f":"Sorts!N82","v":""},"</td><td>",{"$f":"Sorts!O82","v":""},"</td><td class='Bld'>",{"$f":"Sorts!P82","v":""},"</td>###</tr>"]
["<tr align=\"center\">###<td class=\"Bld\">",{"$f":"Sorts!B83","v":""},"</td><td class='Bld'>",{"$f":"Sorts!D83","v":""},"</td>###<td>",{"$f":"Sorts!E83","v":""},"</td><td>",{"$f":"Sorts!F83","v":""},"</td><td>",{"$f":"Sorts!G83","v":""},"</td><td>",{"$f":"Sorts!H83","v":""},"</td><td>",{"$f":"Sorts!I83","v":""},"</td><td class='Bld'>",{"$f":"Sorts!J83","v":""},"</td>###<td>",{"$f":"Sorts!K83","v":""},"</td><td>",{"$f":"Sorts!L83","v":""},"</td><td>",{"$f":"Sorts!M83","v":""},"</td><td>",{"$f":"Sorts!N83","v":""},"</td><td>",{"$f":"Sorts!O83","v":""},"</td><td class='Bld'>",{"$f":"Sorts!P83","v":""},"</td>###</tr>"]
["<tr align=\"center\">###<td class=\"Bld\">",{"$f":"Sorts!B84","v":""},"</td><td class='Bld'>",{"$f":"Sorts!D84","v":""},"</td>###<td>",{"$f":"Sorts!E84","v":""},"</td><td>",{"$f":"Sorts!F84","v":""},"</td><td>",{"$f":"Sorts!G84","v":""},"</td><td>",{"$f":"Sorts!H84","v":""},"</td><td>",{"$f":"Sorts!I84","v":""},"</td><td class='Bld'>",{"$f":"Sorts!J84","v":""},"</td>###<td>",{"$f":"Sorts!K84","v":""},"</td><td>",{"$f":"Sorts!L84","v":""},"</td><td>",{"$f":"Sorts!M84","v":""},"</td><td>",{"$f":"Sorts!N84","v":""},"</td><td>",{"$f":"Sorts!O84","v":""},"</td><td class='Bld'>",{"$f":"Sorts!P84","v":""},"</td>###</tr>"]

{"sheet":"Tag Team HTML","index":5,"n_rows":29,"n_cols":19,"rows_kept":29,"cut":false,"hidden":true,"merged":[]}
[{"$f":"'Tag Teams'!A3:F3","v":"MATCH #1"}]
[{"$f":"IF(B2=\"Team BLUE\",\"<tr align='center' class='BluTeam'>###<td>\",IF(B2=\"Team GREEN\",\"<tr align='center' class='GrnTeam'>###<td>\",IF(B2=\"Team RED\",\"<tr align='center' class='RedTeam'>###<td>\",IF(B2=\"Team WHITE\",\"<tr align='center' class='WhtTeam'>###<td>\",\"\"))))","v":"<tr align='center' class='BluTeam'>###<td>"},{"$f":"'Tag Teams'!A4","v":"Team BLUE"},"</td>###<td align='left'>",{"$f":"IF('Tag Teams'!B4=\"\",\"\",'Tag Teams'!B4)","v":""},{"$f":"IF('Tag Teams'!C4=\"\",\"\",\",&nbsp;&nbsp;\")","v":""},{"$f":"IF('Tag Teams'!C4=\"\",\"\",'Tag Teams'!C4)","v":""},{"$f":"IF('Tag Teams'!D4=\"\",\"\",\",&nbsp;&nbsp;\")","v":""},{"$f":"IF('Tag Teams'!D4=\"\",\"\",'Tag Teams'!D4)","v":""},{"$f":"IF('Tag Teams'!E4=\"\",\"\",\",&nbsp;&nbsp;\")","v":""},{"$f":"IF('Tag Teams'!E4=\"\",\"\",'Tag Teams'!E4)","v":""},{"$f":"IF('Tag Teams'!F4=\"\",\"\",\",&nbsp;&nbsp;\")","v":""},{"$f":"IF('Tag Teams'!F4=\"\",\"\",'Tag Teams'!F4)","v":""},{"$f":"IF('Tag Teams'!G4=\"\",\"\",\",&nbsp;&nbsp;\")","v":""},{"$f":"IF('Tag Teams'!G4=\"\",\"\",'Tag Teams'!G4)","v":""},{"$f":"IF('Tag Teams'!H4=\"\",\"\",\",&nbsp;&nbsp;\")","v":""},{"$f":"IF('Tag Teams'!H4=\"\",\"\",'Tag Teams'!H4)","v":""},"</td><td>",{"$f":"IF('Tag Teams'!I4=0,\"\",'Tag Teams'!I4)","v":""},"</td>###</tr>"]
[{"$f":"IF(B3=\"Team BLUE\",\"<tr align='center' class='BluTeam'>###<td>\",IF(B3=\"Team GREEN\",\"<tr align='center' class='GrnTeam'>###<td>\",IF(B3=\"Team RED\",\"<tr align='center' class='RedTeam'>###<td>\",IF(B3=\"Team WHITE\",\"<tr align='center' class='WhtTeam'>###<td>\",\"\"))))","v":"<tr align='center' class='GrnTeam'>###<td>"},{"$f":"'Tag Teams'!A5","v":"Team GREEN"},"</td>###<td align='left'>",{"$f":"IF('Tag Teams'!B5=\"\",\"\",'Tag Teams'!B5)","v":""},{"$f":"IF('Tag Teams'!C5=\"\",\"\",\",&nbsp;&nbsp;\")","v":""},{"$f":"IF('Tag Teams'!C5=\"\",\"\",'Tag Teams'!C5)","v":""},{"$f":"IF('Tag Teams'!D5=\"\",\"\",\",&nbsp;&nbsp;\")","v":""},{"$f":"IF('Tag Teams'!D5=\"\",\"\",'Tag Teams'!D5)","v":""},{"$f":"IF('Tag Teams'!E5=\"\",\"\",\",&nbsp;&nbsp;\")","v":""},{"$f":"IF('Tag Teams'!E5=\"\",\"\",'Tag Teams'!E5)","v":""},{"$f":"IF('Tag Teams'!F5=\"\",\"\",\",&nbsp;&nbsp;\")","v":""},{"$f":"IF('Tag Teams'!F5=\"\",\"\",'Tag Teams'!F5)","v":""},{"$f":"IF('Tag Teams'!G5=\"\",\"\",\",&nbsp;&nbsp;\")","v":""},{"$f":"IF('Tag Teams'!G5=\"\",\"\",'Tag Teams'!G5)","v":""},{"$f":"IF('Tag Teams'!H5=\"\",\"\",\",&nbsp;&nbsp;\")","v":""},{"$f":"IF('Tag Teams'!H5=\"\",\"\",'Tag Teams'!H5)","v":""},"</td><td>",{"$f":"IF('Tag Teams'!I5=0,\"\",'Tag Teams'!I5)","v":""},"</td>###</tr>"]
[{"$f":"IF(B4=\"Team BLUE\",\"<tr align='center' class='BluTeam'>###<td>\",IF(B4=\"Team GREEN\",\"<tr align='center' class='GrnTeam'>###<td>\",IF(B4=\"Team RED\",\"<tr align='center' class='RedTeam'>###<td>\",IF(B4=\"Team WHITE\",\"<tr align='center' class='WhtTeam'>###<td>\",\"\"))))","v":"<tr align='center' class='RedTeam'>###<td>"},{"$f":"'Tag Teams'!A6","v":"Team RED"},"</td>###<td align='left'>",{"$f":"IF('Tag Teams'!B6=\"\",\"\",'Tag Teams'!B6)","v":""},{"$f":"IF('Tag Teams'!C6=\"\",\"\",\",&nbsp;&nbsp;\")","v":""},{"$f":"IF('Tag Teams'!C6=\"\",\"\",'Tag Teams'!C6)","v":""},{"$f":"IF('Tag Teams'!D6=\"\",\"\",\",&nbsp;&nbsp;\")","v":""},{"$f":"IF('Tag Teams'!D6=\"\",\"\",'Tag Teams'!D6)","v":""},{"$f":"IF('Tag Teams'!E6=\"\",\"\",\",&nbsp;&nbsp;\")","v":""},{"$f":"IF('Tag Teams'!E6=\"\",\"\",'Tag Teams'!E6)","v":""},{"$f":"IF('Tag Teams'!F6=\"\",\"\",\",&nbsp;&nbsp;\")","v":""},{"$f":"IF('Tag Teams'!F6=\"\",\"\",'Tag Teams'!F6)","v":""},{"$f":"IF('Tag Teams'!G6=\"\",\"\",\",&nbsp;&nbsp;\")","v":""},{"$f":"IF('Tag Teams'!G6=\"\",\"\",'Tag Teams'!G6)","v":""},{"$f":"IF('Tag Teams'!H6=\"\",\"\",\",&nbsp;&nbsp;\")","v":""},{"$f":"IF('Tag Teams'!H6=\"\",\"\",'Tag Teams'!H6)","v":""},"</td><td>",{"$f":"IF('Tag Teams'!I6=0,\"\",'Tag Teams'!I6)","v":""},"</td>###</tr>"]
[{"$f":"IF(B5=\"Team BLUE\",\"<tr align='center' class='BluTeam'>###<td>\",IF(B5=\"Team GREEN\",\"<tr align='center' class='GrnTeam'>###<td>\",IF(B5=\"Team RED\",\"<tr align='center' class='RedTeam'>###<td>\",IF(B5=\"Team WHITE\",\"<tr align='center' class='WhtTeam'>###<td>\",\"\"))))","v":"<tr align='center' class='WhtTeam'>###<td>"},{"$f":"'Tag Teams'!A7","v":"Team WHITE"},"</td>###<td align='left'>",{"$f":"IF('Tag Teams'!B7=\"\",\"\",'Tag Teams'!B7)","v":""},{"$f":"IF('Tag Teams'!C7=\"\",\"\",\",&nbsp;&nbsp;\")","v":""},{"$f":"IF('Tag Teams'!C7=\"\",\"\",'Tag Teams'!C7)","v":""},{"$f":"IF('Tag Teams'!D7=\"\",\"\",\",&nbsp;&nbsp;\")","v":""},{"$f":"IF('Tag Teams'!D7=\"\",\"\",'Tag Teams'!D7)","v":""},{"$f":"IF('Tag Teams'!E7=\"\",\"\",\",&nbsp;&nbsp;\")","v":""},{"$f":"IF('Tag Teams'!E7=\"\",\"\",'Tag Teams'!E7)","v":""},{"$f":"IF('Tag Teams'!F7=\"\",\"\",\",&nbsp;&nbsp;\")","v":""},{"$f":"IF('Tag Teams'!F7=\"\",\"\",'Tag Teams'!F7)","v":""},{"$f":"IF('Tag Teams'!G7=\"\",\"\",\",&nbsp;&nbsp;\")","v":""},{"$f":"IF('Tag Teams'!G7=\"\",\"\",'Tag Teams'!G7)","v":""},{"$f":"IF('Tag Teams'!H7=\"\",\"\",\",&nbsp;&nbsp;\")","v":""},{"$f":"IF('Tag Teams'!H7=\"\",\"\",'Tag Teams'!H7)","v":""},"</td><td>",{"$f":"IF('Tag Teams'!I7=0,\"\",'Tag Teams'!I7)","v":""},"</td>###</tr>"]
[]
[{"$f":"'Tag Teams'!A9:F9","v":"MATCH #2"}]
[{"$f":"IF(B8=\"Team BLUE\",\"<tr align='center' class='BluTeam'>###<td>\",IF(B8=\"Team GREEN\",\"<tr align='center' class='GrnTeam'>###<td>\",IF(B8=\"Team RED\",\"<tr align='center' class='RedTeam'>###<td>\",IF(B8=\"Team WHITE\",\"<tr align='center' class='WhtTeam'>###<td>\",\"\"))))","v":"<tr align='center' class='BluTeam'>###<td>"},{"$f":"'Tag Teams'!A10","v":"Team BLUE"},"</td>###<td align='left'>",{"$f":"IF('Tag Teams'!B10=\"\",\"\",'Tag Teams'!B10)","v":""},{"$f":"IF('Tag Teams'!C10=\"\",\"\",\",&nbsp;&nbsp;\")","v":""},{"$f":"IF('Tag Teams'!C10=\"\",\"\",'Tag Teams'!C10)","v":""},{"$f":"IF('Tag Teams'!D10=\"\",\"\",\",&nbsp;&nbsp;\")","v":""},{"$f":"IF('Tag Teams'!D10=\"\",\"\",'Tag Teams'!D10)","v":""},{"$f":"IF('Tag Teams'!E10=\"\",\"\",\",&nbsp;&nbsp;\")","v":""},{"$f":"IF('Tag Teams'!E10=\"\",\"\",'Tag Teams'!E10)","v":""},{"$f":"IF('Tag Teams'!F10=\"\",\"\",\",&nbsp;&nbsp;\")","v":""},{"$f":"IF('Tag Teams'!F10=\"\",\"\",'Tag Teams'!F10)","v":""},{"$f":"IF('Tag Teams'!G10=\"\",\"\",\",&nbsp;&nbsp;\")","v":""},{"$f":"IF('Tag Teams'!G10=\"\",\"\",'Tag Teams'!G10)","v":""},{"$f":"IF('Tag Teams'!H10=\"\",\"\",\",&nbsp;&nbsp;\")","v":""},{"$f":"IF('Tag Teams'!H10=\"\",\"\",'Tag Teams'!H10)","v":""},"</td><td>",{"$f":"IF('Tag Teams'!I10=0,\"\",'Tag Teams'!I10)","v":""},"</td>###</tr>"]
[{"$f":"IF(B9=\"Team BLUE\",\"<tr align='center' class='BluTeam'>###<td>\",IF(B9=\"Team GREEN\",\"<tr align='center' class='GrnTeam'>###<td>\",IF(B9=\"Team RED\",\"<tr align='center' class='RedTeam'>###<td>\",IF(B9=\"Team WHITE\",\"<tr align='center' class='WhtTeam'>###<td>\",\"\"))))","v":"<tr align='center' class='GrnTeam'>###<td>"},{"$f":"'Tag Teams'!A11","v":"Team GREEN"},"</td>###<td align='left'>",{"$f":"IF('Tag Teams'!B11=\"\",\"\",'Tag Teams'!B11)","v":""},{"$f":"IF('Tag Teams'!C11=\"\",\"\",\",&nbsp;&nbsp;\")","v":""},{"$f":"IF('Tag Teams'!C11=\"\",\"\",'Tag Teams'!C11)","v":""},{"$f":"IF('Tag Teams'!D11=\"\",\"\",\",&nbsp;&nbsp;\")","v":""},{"$f":"IF('Tag Teams'!D11=\"\",\"\",'Tag Teams'!D11)","v":""},{"$f":"IF('Tag Teams'!E11=\"\",\"\",\",&nbsp;&nbsp;\")","v":""},{"$f":"IF('Tag Teams'!E11=\"\",\"\",'Tag Teams'!E11)","v":""},{"$f":"IF('Tag Teams'!F11=\"\",\"\",\",&nbsp;&nbsp;\")","v":""},{"$f":"IF('Tag Teams'!F11=\"\",\"\",'Tag Teams'!F11)","v":""},{"$f":"IF('Tag Teams'!G11=\"\",\"\",\",&nbsp;&nbsp;\")","v":""},{"$f":"IF('Tag Teams'!G11=\"\",\"\",'Tag Teams'!G11)","v":""},{"$f":"IF('Tag Teams'!H11=\"\",\"\",\",&nbsp;&nbsp;\")","v":""},{"$f":"IF('Tag Teams'!H11=\"\",\"\",'Tag Teams'!H11)","v":""},"</td><td>",{"$f":"IF('Tag Teams'!I11=0,\"\",'Tag Teams'!I11)","v":""},"</td>###</tr>"]
[{"$f":"IF(B10=\"Team BLUE\",\"<tr align='center' class='BluTeam'>###<td>\",IF(B10=\"Team GREEN\",\"<tr align='center' class='GrnTeam'>###<td>\",IF(B10=\"Team RED\",\"<tr align='center' class='RedTeam'>###<td>\",IF(B10=\"Team WHITE\",\"<tr align='center' class='WhtTeam'>###<td>\",\"\"))))","v":"<tr align='center' class='RedTeam'>###<td>"},{"$f":"'Tag Teams'!A12","v":"Team RED"},"</td>###<td align='left'>",{"$f":"IF('Tag Teams'!B12=\"\",\"\",'Tag Teams'!B12)","v":""},{"$f":"IF('Tag Teams'!C12=\"\",\"\",\",&nbsp;&nbsp;\")","v":""},{"$f":"IF('Tag Teams'!C12=\"\",\"\",'Tag Teams'!C12)","v":""},{"$f":"IF('Tag Teams'!D12=\"\",\"\",\",&nbsp;&nbsp;\")","v":""},{"$f":"IF('Tag Teams'!D12=\"\",\"\",'Tag Teams'!D12)","v":""},{"$f":"IF('Tag Teams'!E12=\"\",\"\",\",&nbsp;&nbsp;\")","v":""},{"$f":"IF('Tag Teams'!E12=\"\",\"\",'Tag Teams'!E12)","v":""},{"$f":"IF('Tag Teams'!F12=\"\",\"\",\",&nbsp;&nbsp;\")","v":""},{"$f":"IF('Tag Teams'!F12=\"\",\"\",'Tag Teams'!F12)","v":""},{"$f":"IF('Tag Teams'!G12=\"\",\"\",\",&nbsp;&nbsp;\")","v":""},{"$f":"IF('Tag Teams'!G12=\"\",\"\",'Tag Teams'!G12)","v":""},{"$f":"IF('Tag Teams'!H12=\"\",\"\",\",&nbsp;&nbsp;\")","v":""},{"$f":"IF('Tag Teams'!H12=\"\",\"\",'Tag Teams'!H12)","v":""},"</td><td>",{"$f":"IF('Tag Teams'!I12=0,\"\",'Tag Teams'!I12)","v":""},"</td>###</tr>"]
[{"$f":"IF(B11=\"Team BLUE\",\"<tr align='center' class='BluTeam'>###<td>\",IF(B11=\"Team GREEN\",\"<tr align='center' class='GrnTeam'>###<td>\",IF(B11=\"Team RED\",\"<tr align='center' class='RedTeam'>###<td>\",IF(B11=\"Team WHITE\",\"<tr align='center' class='WhtTeam'>###<td>\",\"\"))))","v":"<tr align='center' class='WhtTeam'>###<td>"},{"$f":"'Tag Teams'!A13","v":"Team WHITE"},"</td>###<td align='left'>",{"$f":"IF('Tag Teams'!B13=\"\",\"\",'Tag Teams'!B13)","v":""},{"$f":"IF('Tag Teams'!C13=\"\",\"\",\",&nbsp;&nbsp;\")","v":""},{"$f":"IF('Tag Teams'!C13=\"\",\"\",'Tag Teams'!C13)","v":""},{"$f":"IF('Tag Teams'!D13=\"\",\"\",\",&nbsp;&nbsp;\")","v":""},{"$f":"IF('Tag Teams'!D13=\"\",\"\",'Tag Teams'!D13)","v":""},{"$f":"IF('Tag Teams'!E13=\"\",\"\",\",&nbsp;&nbsp;\")","v":""},{"$f":"IF('Tag Teams'!E13=\"\",\"\",'Tag Teams'!E13)","v":""},{"$f":"IF('Tag Teams'!F13=\"\",\"\",\",&nbsp;&nbsp;\")","v":""},{"$f":"IF('Tag Teams'!F13=\"\",\"\",'Tag Teams'!F13)","v":""},{"$f":"IF('Tag Teams'!G13=\"\",\"\",\",&nbsp;&nbsp;\")","v":""},{"$f":"IF('Tag Teams'!G13=\"\",\"\",'Tag Teams'!G13)","v":""},{"$f":"IF('Tag Teams'!H13=\"\",\"\",\",&nbsp;&nbsp;\")","v":""},{"$f":"IF('Tag Teams'!H13=\"\",\"\",'Tag Teams'!H13)","v":""},"</td><td>",{"$f":"IF('Tag Teams'!I13=0,\"\",'Tag Teams'!I13)","v":""},"</td>###</tr>"]
[]
[{"$f":"'Tag Teams'!A15:F15","v":"MATCH #3"}]
[{"$f":"IF(B14=\"Team BLUE\",\"<tr align='center' class='BluTeam'>###<td>\",IF(B14=\"Team GREEN\",\"<tr align='center' class='GrnTeam'>###<td>\",IF(B14=\"Team RED\",\"<tr align='center' class='RedTeam'>###<td>\",IF(B14=\"Team WHITE\",\"<tr align='center' class='WhtTeam'>###<td>\",\"\"))))","v":"<tr align='center' class='BluTeam'>###<td>"},{"$f":"'Tag Teams'!A16","v":"Team BLUE"},"</td>###<td align='left'>",{"$f":"IF('Tag Teams'!B16=\"\",\"\",'Tag Teams'!B16)","v":""},{"$f":"IF('Tag Teams'!C16=\"\",\"\",\",&nbsp;&nbsp;\")","v":""},{"$f":"IF('Tag Teams'!C16=\"\",\"\",'Tag Teams'!C16)","v":""},{"$f":"IF('Tag Teams'!D16=\"\",\"\",\",&nbsp;&nbsp;\")","v":""},{"$f":"IF('Tag Teams'!D16=\"\",\"\",'Tag Teams'!D16)","v":""},{"$f":"IF('Tag Teams'!E16=\"\",\"\",\",&nbsp;&nbsp;\")","v":""},{"$f":"IF('Tag Teams'!E16=\"\",\"\",'Tag Teams'!E16)","v":""},{"$f":"IF('Tag Teams'!F16=\"\",\"\",\",&nbsp;&nbsp;\")","v":""},{"$f":"IF('Tag Teams'!F16=\"\",\"\",'Tag Teams'!F16)","v":""},{"$f":"IF('Tag Teams'!G16=\"\",\"\",\",&nbsp;&nbsp;\")","v":""},{"$f":"IF('Tag Teams'!G16=\"\",\"\",'Tag Teams'!G16)","v":""},{"$f":"IF('Tag Teams'!H16=\"\",\"\",\",&nbsp;&nbsp;\")","v":""},{"$f":"IF('Tag Teams'!H16=\"\",\"\",'Tag Teams'!H16)","v":""},"</td><td>",{"$f":"IF('Tag Teams'!I16=0,\"\",'Tag Teams'!I16)","v":""},"</td>###</tr>"]
[{"$f":"IF(B15=\"Team BLUE\",\"<tr align='center' class='BluTeam'>###<td>\",IF(B15=\"Team GREEN\",\"<tr align='center' class='GrnTeam'>###<td>\",IF(B15=\"Team RED\",\"<tr align='center' class='RedTeam'>###<td>\",IF(B15=\"Team WHITE\",\"<tr align='center' class='WhtTeam'>###<td>\",\"\"))))","v":"<tr align='center' class='GrnTeam'>###<td>"},{"$f":"'Tag Teams'!A17","v":"Team GREEN"},"</td>###<td align='left'>",{"$f":"IF('Tag Teams'!B17=\"\",\"\",'Tag Teams'!B17)","v":""},{"$f":"IF('Tag Teams'!C17=\"\",\"\",\",&nbsp;&nbsp;\")","v":""},{"$f":"IF('Tag Teams'!C17=\"\",\"\",'Tag Teams'!C17)","v":""},{"$f":"IF('Tag Teams'!D17=\"\",\"\",\",&nbsp;&nbsp;\")","v":""},{"$f":"IF('Tag Teams'!D17=\"\",\"\",'Tag Teams'!D17)","v":""},{"$f":"IF('Tag Teams'!E17=\"\",\"\",\",&nbsp;&nbsp;\")","v":""},{"$f":"IF('Tag Teams'!E17=\"\",\"\",'Tag Teams'!E17)","v":""},{"$f":"IF('Tag Teams'!F17=\"\",\"\",\",&nbsp;&nbsp;\")","v":""},{"$f":"IF('Tag Teams'!F17=\"\",\"\",'Tag Teams'!F17)","v":""},{"$f":"IF('Tag Teams'!G17=\"\",\"\",\",&nbsp;&nbsp;\")","v":""},{"$f":"IF('Tag Teams'!G17=\"\",\"\",'Tag Teams'!G17)","v":""},{"$f":"IF('Tag Teams'!H17=\"\",\"\",\",&nbsp;&nbsp;\")","v":""},{"$f":"IF('Tag Teams'!H17=\"\",\"\",'Tag Teams'!H17)","v":""},"</td><td>",{"$f":"IF('Tag Teams'!I17=0,\"\",'Tag Teams'!I17)","v":""},"</td>###</tr>"]
[{"$f":"IF(B16=\"Team BLUE\",\"<tr align='center' class='BluTeam'>###<td>\",IF(B16=\"Team GREEN\",\"<tr align='center' class='GrnTeam'>###<td>\",IF(B16=\"Team RED\",\"<tr align='center' class='RedTeam'>###<td>\",IF(B16=\"Team WHITE\",\"<tr align='center' class='WhtTeam'>###<td>\",\"\"))))","v":"<tr align='center' class='RedTeam'>###<td>"},{"$f":"'Tag Teams'!A18","v":"Team RED"},"</td>###<td align='left'>",{"$f":"IF('Tag Teams'!B18=\"\",\"\",'Tag Teams'!B18)","v":""},{"$f":"IF('Tag Teams'!C18=\"\",\"\",\",&nbsp;&nbsp;\")","v":""},{"$f":"IF('Tag Teams'!C18=\"\",\"\",'Tag Teams'!C18)","v":""},{"$f":"IF('Tag Teams'!D18=\"\",\"\",\",&nbsp;&nbsp;\")","v":""},{"$f":"IF('Tag Teams'!D18=\"\",\"\",'Tag Teams'!D18)","v":""},{"$f":"IF('Tag Teams'!E18=\"\",\"\",\",&nbsp;&nbsp;\")","v":""},{"$f":"IF('Tag Teams'!E18=\"\",\"\",'Tag Teams'!E18)","v":""},{"$f":"IF('Tag Teams'!F18=\"\",\"\",\",&nbsp;&nbsp;\")","v":""},{"$f":"IF('Tag Teams'!F18=\"\",\"\",'Tag Teams'!F18)","v":""},{"$f":"IF('Tag Teams'!G18=\"\",\"\",\",&nbsp;&nbsp;\")","v":""},{"$f":"IF('Tag Teams'!G18=\"\",\"\",'Tag Teams'!G18)","v":""},{"$f":"IF('Tag Teams'!H18=\"\",\"\",\",&nbsp;&nbsp;\")","v":""},{"$f":"IF('Tag Teams'!H18=\"\",\"\",'Tag Teams'!H18)","v":""},"</td><td>",{"$f":"IF('Tag Teams'!I18=0,\"\",'Tag Teams'!I18)","v":""},"</td>###</tr>"]
[{"$f":"IF(B17=\"Team BLUE\",\"<tr align='center' class='BluTeam'>###<td>\",IF(B17=\"Team GREEN\",\"<tr align='center' class='GrnTeam'>###<td>\",IF(B17=\"Team RED\",\"<tr align='center' class='RedTeam'>###<td>\",IF(B17=\"Team WHITE\",\"<tr align='center' class='WhtTeam'>###<td>\",\"\"))))","v":"<tr align='center' class='WhtTeam'>###<td>"},{"$f":"'Tag Teams'!A19","v":"Team WHITE"},"</td>###<td align='left'>",{"$f":"IF('Tag Teams'!B19=\"\",\"\",'Tag Teams'!B19)","v":""},{"$f":"IF('Tag Teams'!C19=\"\",\"\",\",&nbsp;&nbsp;\")","v":""},{"$f":"IF('Tag Teams'!C19=\"\",\"\",'Tag Teams'!C19)","v":""},{"$f":"IF('Tag Teams'!D19=\"\",\"\",\",&nbsp;&nbsp;\")","v":""},{"$f":"IF('Tag Teams'!D19=\"\",\"\",'Tag Teams'!D19)","v":""},{"$f":"IF('Tag Teams'!E19=\"\",\"\",\",&nbsp;&nbsp;\")","v":""},{"$f":"IF('Tag Teams'!E19=\"\",\"\",'Tag Teams'!E19)","v":""},{"$f":"IF('Tag Teams'!F19=\"\",\"\",\",&nbsp;&nbsp;\")","v":""},{"$f":"IF('Tag Teams'!F19=\"\",\"\",'Tag Teams'!F19)","v":""},{"$f":"IF('Tag Teams'!G19=\"\",\"\",\",&nbsp;&nbsp;\")","v":""},{"$f":"IF('Tag Teams'!G19=\"\",\"\",'Tag Teams'!G19)","v":""},{"$f":"IF('Tag Teams'!H19=\"\",\"\",\",&nbsp;&nbsp;\")","v":""},{"$f":"IF('Tag Teams'!H19=\"\",\"\",'Tag Teams'!H19)","v":""},"</td><td>",{"$f":"IF('Tag Teams'!I19=0,\"\",'Tag Teams'!I19)","v":""},"</td>###</tr>"]
[]
[{"$f":"'Tag Teams'!A21:F21","v":"MATCH #4"}]
[{"$f":"IF(B20=\"Team BLUE\",\"<tr align='center' class='BluTeam'>###<td>\",IF(B20=\"Team GREEN\",\"<tr align='center' class='GrnTeam'>###<td>\",IF(B20=\"Team RED\",\"<tr align='center' class='RedTeam'>###<td>\",IF(B20=\"Team WHITE\",\"<tr align='center' class='WhtTeam'>###<td>\",\"\"))))","v":"<tr align='center' class='BluTeam'>###<td>"},{"$f":"'Tag Teams'!A22","v":"Team BLUE"},"</td>###<td align='left'>",{"$f":"IF('Tag Teams'!B22=\"\",\"\",'Tag Teams'!B22)","v":""},{"$f":"IF('Tag Teams'!C22=\"\",\"\",\",&nbsp;&nbsp;\")","v":""},{"$f":"IF('Tag Teams'!C22=\"\",\"\",'Tag Teams'!C22)","v":""},{"$f":"IF('Tag Teams'!D22=\"\",\"\",\",&nbsp;&nbsp;\")","v":""},{"$f":"IF('Tag Teams'!D22=\"\",\"\",'Tag Teams'!D22)","v":""},{"$f":"IF('Tag Teams'!E22=\"\",\"\",\",&nbsp;&nbsp;\")","v":""},{"$f":"IF('Tag Teams'!E22=\"\",\"\",'Tag Teams'!E22)","v":""},{"$f":"IF('Tag Teams'!F22=\"\",\"\",\",&nbsp;&nbsp;\")","v":""},{"$f":"IF('Tag Teams'!F22=\"\",\"\",'Tag Teams'!F22)","v":""},{"$f":"IF('Tag Teams'!G22=\"\",\"\",\",&nbsp;&nbsp;\")","v":""},{"$f":"IF('Tag Teams'!G22=\"\",\"\",'Tag Teams'!G22)","v":""},{"$f":"IF('Tag Teams'!H22=\"\",\"\",\",&nbsp;&nbsp;\")","v":""},{"$f":"IF('Tag Teams'!H22=\"\",\"\",'Tag Teams'!H22)","v":""},"</td><td>",{"$f":"IF('Tag Teams'!I22=0,\"\",'Tag Teams'!I22)","v":""},"</td>###</tr>"]
[{"$f":"IF(B21=\"Team BLUE\",\"<tr align='center' class='BluTeam'>###<td>\",IF(B21=\"Team GREEN\",\"<tr align='center' class='GrnTeam'>###<td>\",IF(B21=\"Team RED\",\"<tr align='center' class='RedTeam'>###<td>\",IF(B21=\"Team WHITE\",\"<tr align='center' class='WhtTeam'>###<td>\",\"\"))))","v":"<tr align='center' class='GrnTeam'>###<td>"},{"$f":"'Tag Teams'!A23","v":"Team GREEN"},"</td>###<td align='left'>",{"$f":"IF('Tag Teams'!B23=\"\",\"\",'Tag Teams'!B23)","v":""},{"$f":"IF('Tag Teams'!C23=\"\",\"\",\",&nbsp;&nbsp;\")","v":""},{"$f":"IF('Tag Teams'!C23=\"\",\"\",'Tag Teams'!C23)","v":""},{"$f":"IF('Tag Teams'!D23=\"\",\"\",\",&nbsp;&nbsp;\")","v":""},{"$f":"IF('Tag Teams'!D23=\"\",\"\",'Tag Teams'!D23)","v":""},{"$f":"IF('Tag Teams'!E23=\"\",\"\",\",&nbsp;&nbsp;\")","v":""},{"$f":"IF('Tag Teams'!E23=\"\",\"\",'Tag Teams'!E23)","v":""},{"$f":"IF('Tag Teams'!F23=\"\",\"\",\",&nbsp;&nbsp;\")","v":""},{"$f":"IF('Tag Teams'!F23=\"\",\"\",'Tag Teams'!F23)","v":""},{"$f":"IF('Tag Teams'!G23=\"\",\"\",\",&nbsp;&nbsp;\")","v":""},{"$f":"IF('Tag Teams'!G23=\"\",\"\",'Tag Teams'!G23)","v":""},{"$f":"IF('Tag Teams'!H23=\"\",\"\",\",&nbsp;&nbsp;\")","v":""},{"$f":"IF('Tag Teams'!H23=\"\",\"\",'Tag Teams'!H23)","v":""},"</td><td>",{"$f":"IF('Tag Teams'!I23=0,\"\",'Tag Teams'!I23)","v":""},"</td>###</tr>"]
[{"$f":"IF(B22=\"Team BLUE\",\"<tr align='center' class='BluTeam'>###<td>\",IF(B22=\"Team GREEN\",\"<tr align='center' class='GrnTeam'>###<td>\",IF(B22=\"Team RED\",\"<tr align='center' class='RedTeam'>###<td>\",IF(B22=\"Team WHITE\",\"<tr align='center' class='WhtTeam'>###<td>\",\"\"))))","v":"<tr align='center' class='RedTeam'>###<td>"},{"$f":"'Tag Teams'!A24","v":"Team RED"},"</td>###<td align='left'>",{"$f":"IF('Tag Teams'!B24=\"\",\"\",'Tag Teams'!B24)","v":""},{"$f":"IF('Tag Teams'!C24=\"\",\"\",\",&nbsp;&nbsp;\")","v":""},{"$f":"IF('Tag Teams'!C24=\"\",\"\",'Tag Teams'!C24)","v":""},{"$f":"IF('Tag Teams'!D24=\"\",\"\",\",&nbsp;&nbsp;\")","v":""},{"$f":"IF('Tag Teams'!D24=\"\",\"\",'Tag Teams'!D24)","v":""},{"$f":"IF('Tag Teams'!E24=\"\",\"\",\",&nbsp;&nbsp;\")","v":""},{"$f":"IF('Tag Teams'!E24=\"\",\"\",'Tag Teams'!E24)","v":""},{"$f":"IF('Tag Teams'!F24=\"\",\"\",\",&nbsp;&nbsp;\")","v":""},{"$f":"IF('Tag Teams'!F24=\"\",\"\",'Tag Teams'!F24)","v":""},{"$f":"IF('Tag Teams'!G24=\"\",\"\",\",&nbsp;&nbsp;\")","v":""},{"$f":"IF('Tag Teams'!G24=\"\",\"\",'Tag Teams'!G24)","v":""},{"$f":"IF('Tag Teams'!H24=\"\",\"\",\",&nbsp;&nbsp;\")","v":""},{"$f":"IF('Tag Teams'!H24=\"\",\"\",'Tag Teams'!H24)","v":""},"</td><td>",{"$f":"IF('Tag Teams'!I24=0,\"\",'Tag Teams'!I24)","v":""},"</td>###</tr>"]
[{"$f":"IF(B23=\"Team BLUE\",\"<tr align='center' class='BluTeam'>###<td>\",IF(B23=\"Team GREEN\",\"<tr align='center' class='GrnTeam'>###<td>\",IF(B23=\"Team RED\",\"<tr align='center' class='RedTeam'>###<td>\",IF(B23=\"Team WHITE\",\"<tr align='center' class='WhtTeam'>###<td>\",\"\"))))","v":"<tr align='center' class='WhtTeam'>###<td>"},{"$f":"'Tag Teams'!A25","v":"Team WHITE"},"</td>###<td align='left'>",{"$f":"IF('Tag Teams'!B25=\"\",\"\",'Tag Teams'!B25)","v":""},{"$f":"IF('Tag Teams'!C25=\"\",\"\",\",&nbsp;&nbsp;\")","v":""},{"$f":"IF('Tag Teams'!C25=\"\",\"\",'Tag Teams'!C25)","v":""},{"$f":"IF('Tag Teams'!D25=\"\",\"\",\",&nbsp;&nbsp;\")","v":""},{"$f":"IF('Tag Teams'!D25=\"\",\"\",'Tag Teams'!D25)","v":""},{"$f":"IF('Tag Teams'!E25=\"\",\"\",\",&nbsp;&nbsp;\")","v":""},{"$f":"IF('Tag Teams'!E25=\"\",\"\",'Tag Teams'!E25)","v":""},{"$f":"IF('Tag Teams'!F25=\"\",\"\",\",&nbsp;&nbsp;\")","v":""},{"$f":"IF('Tag Teams'!F25=\"\",\"\",'Tag Teams'!F25)","v":""},{"$f":"IF('Tag Teams'!G25=\"\",\"\",\",&nbsp;&nbsp;\")","v":""},{"$f":"IF('Tag Teams'!G25=\"\",\"\",'Tag Teams'!G25)","v":""},{"$f":"IF('Tag Teams'!H25=\"\",\"\",\",&nbsp;&nbsp;\")","v":""},{"$f":"IF('Tag Teams'!H25=\"\",\"\",'Tag Teams'!H25)","v":""},"</td><td>",{"$f":"IF('Tag Teams'!I25=0,\"\",'Tag Teams'!I25)","v":""},"</td>###</tr>"]
[]
[{"$f":"'Tag Teams'!A27:F27","v":"MATCH #5"}]
[{"$f":"IF(B26=\"Team BLUE\",\"<tr align='center' class='BluTeam'>###<td>\",IF(B26=\"Team GREEN\",\"<tr align='center' class='GrnTeam'>###<td>\",IF(B26=\"Team RED\",\"<tr align='center' class='RedTeam'>###<td>\",IF(B26=\"Team WHITE\",\"<tr align='center' class='WhtTeam'>###<td>\",\"\"))))","v":"<tr align='center' class='BluTeam'>###<td>"},{"$f":"'Tag Teams'!A28","v":"Team BLUE"},"</td>###<td align='left'>",{"$f":"IF('Tag Teams'!B28=\"\",\"\",'Tag Teams'!B28)","v":""},{"$f":"IF('Tag Teams'!C28=\"\",\"\",\",&nbsp;&nbsp;\")","v":""},{"$f":"IF('Tag Teams'!C28=\"\",\"\",'Tag Teams'!C28)","v":""},{"$f":"IF('Tag Teams'!D28=\"\",\"\",\",&nbsp;&nbsp;\")","v":""},{"$f":"IF('Tag Teams'!D28=\"\",\"\",'Tag Teams'!D28)","v":""},{"$f":"IF('Tag Teams'!E28=\"\",\"\",\",&nbsp;&nbsp;\")","v":""},{"$f":"IF('Tag Teams'!E28=\"\",\"\",'Tag Teams'!E28)","v":""},{"$f":"IF('Tag Teams'!F28=\"\",\"\",\",&nbsp;&nbsp;\")","v":""},{"$f":"IF('Tag Teams'!F28=\"\",\"\",'Tag Teams'!F28)","v":""},{"$f":"IF('Tag Teams'!G28=\"\",\"\",\",&nbsp;&nbsp;\")","v":""},{"$f":"IF('Tag Teams'!G28=\"\",\"\",'Tag Teams'!G28)","v":""},{"$f":"IF('Tag Teams'!H28=\"\",\"\",\",&nbsp;&nbsp;\")","v":""},{"$f":"IF('Tag Teams'!H28=\"\",\"\",'Tag Teams'!H28)","v":""},"</td><td>",{"$f":"IF('Tag Teams'!I28=0,\"\",'Tag Teams'!I28)","v":""},"</td>###</tr>"]
[{"$f":"IF(B27=\"Team BLUE\",\"<tr align='center' class='BluTeam'>###<td>\",IF(B27=\"Team GREEN\",\"<tr align='center' class='GrnTeam'>###<td>\",IF(B27=\"Team RED\",\"<tr align='center' class='RedTeam'>###<td>\",IF(B27=\"Team WHITE\",\"<tr align='center' class='WhtTeam'>###<td>\",\"\"))))","v":"<tr align='center' class='GrnTeam'>###<td>"},{"$f":"'Tag Teams'!A29","v":"Team GREEN"},"</td>###<td align='left'>",{"$f":"IF('Tag Teams'!B29=\"\",\"\",'Tag Teams'!B29)","v":""},{"$f":"IF('Tag Teams'!C29=\"\",\"\",\",&nbsp;&nbsp;\")","v":""},{"$f":"IF('Tag Teams'!C29=\"\",\"\",'Tag Teams'!C29)","v":""},{"$f":"IF('Tag Teams'!D29=\"\",\"\",\",&nbsp;&nbsp;\")","v":""},{"$f":"IF('Tag Teams'!D29=\"\",\"\",'Tag Teams'!D29)","v":""},{"$f":"IF('Tag Teams'!E29=\"\",\"\",\",&nbsp;&nbsp;\")","v":""},{"$f":"IF('Tag Teams'!E29=\"\",\"\",'Tag Teams'!E29)","v":""},{"$f":"IF('Tag Teams'!F29=\"\",\"\",\",&nbsp;&nbsp;\")","v":""},{"$f":"IF('Tag Teams'!F29=\"\",\"\",'Tag Teams'!F29)","v":""},{"$f":"IF('Tag Teams'!G29=\"\",\"\",\",&nbsp;&nbsp;\")","v":""},{"$f":"IF('Tag Teams'!G29=\"\",\"\",'Tag Teams'!G29)","v":""},{"$f":"IF('Tag Teams'!H29=\"\",\"\",\",&nbsp;&nbsp;\")","v":""},{"$f":"IF('Tag Teams'!H29=\"\",\"\",'Tag Teams'!H29)","v":""},"</td><td>",{"$f":"IF('Tag Teams'!I29=0,\"\",'Tag Teams'!I29)","v":""},"</td>###</tr>"]
[{"$f":"IF(B28=\"Team BLUE\",\"<tr align='center' class='BluTeam'>###<td>\",IF(B28=\"Team GREEN\",\"<tr align='center' class='GrnTeam'>###<td>\",IF(B28=\"Team RED\",\"<tr align='center' class='RedTeam'>###<td>\",IF(B28=\"Team WHITE\",\"<tr align='center' class='WhtTeam'>###<td>\",\"\"))))","v":"<tr align='center' class='RedTeam'>###<td>"},{"$f":"'Tag Teams'!A30","v":"Team RED"},"</td>###<td align='left'>",{"$f":"IF('Tag Teams'!B30=\"\",\"\",'Tag Teams'!B30)","v":""},{"$f":"IF('Tag Teams'!C30=\"\",\"\",\",&nbsp;&nbsp;\")","v":""},{"$f":"IF('Tag Teams'!C30=\"\",\"\",'Tag Teams'!C30)","v":""},{"$f":"IF('Tag Teams'!D30=\"\",\"\",\",&nbsp;&nbsp;\")","v":""},{"$f":"IF('Tag Teams'!D30=\"\",\"\",'Tag Teams'!D30)","v":""},{"$f":"IF('Tag Teams'!E30=\"\",\"\",\",&nbsp;&nbsp;\")","v":""},{"$f":"IF('Tag Teams'!E30=\"\",\"\",'Tag Teams'!E30)","v":""},{"$f":"IF('Tag Teams'!F30=\"\",\"\",\",&nbsp;&nbsp;\")","v":""},{"$f":"IF('Tag Teams'!F30=\"\",\"\",'Tag Teams'!F30)","v":""},{"$f":"IF('Tag Teams'!G30=\"\",\"\",\",&nbsp;&nbsp;\")","v":""},{"$f":"IF('Tag Teams'!G30=\"\",\"\",'Tag Teams'!G30)","v":""},{"$f":"IF('Tag Teams'!H30=\"\",\"\",\",&nbsp;&nbsp;\")","v":""},{"$f":"IF('Tag Teams'!H30=\"\",\"\",'Tag Teams'!H30)","v":""},"</td><td>",{"$f":"IF('Tag Teams'!I30=0,\"\",'Tag Teams'!I30)","v":""},"</td>###</tr>"]
[{"$f":"IF(B29=\"Team BLUE\",\"<tr align='center' class='BluTeam'>###<td>\",IF(B29=\"Team GREEN\",\"<tr align='center' class='GrnTeam'>###<td>\",IF(B29=\"Team RED\",\"<tr align='center' class='RedTeam'>###<td>\",IF(B29=\"Team WHITE\",\"<tr align='center' class='WhtTeam'>###<td>\",\"\"))))","v":"<tr align='center' class='WhtTeam'>###<td>"},{"$f":"'Tag Teams'!A31","v":"Team WHITE"},"</td>###<td align='left'>",{"$f":"IF('Tag Teams'!B31=\"\",\"\",'Tag Teams'!B31)","v":""},{"$f":"IF('Tag Teams'!C31=\"\",\"\",\",&nbsp;&nbsp;\")","v":""},{"$f":"IF('Tag Teams'!C31=\"\",\"\",'Tag Teams'!C31)","v":""},{"$f":"IF('Tag Teams'!D31=\"\",\"\",\",&nbsp;&nbsp;\")","v":""},{"$f":"IF('Tag Teams'!D31=\"\",\"\",'Tag Teams'!D31)","v":""},{"$f":"IF('Tag Teams'!E31=\"\",\"\",\",&nbsp;&nbsp;\")","v":""},{"$f":"IF('Tag Teams'!E31=\"\",\"\",'Tag Teams'!E31)","v":""},{"$f":"IF('Tag Teams'!F31=\"\",\"\",\",&nbsp;&nbsp;\")","v":""},{"$f":"IF('Tag Teams'!F31=\"\",\"\",'Tag Teams'!F31)","v":""},{"$f":"IF('Tag Teams'!G31=\"\",\"\",\",&nbsp;&nbsp;\")","v":""},{"$f":"IF('Tag Teams'!G31=\"\",\"\",'Tag Teams'!G31)","v":""},{"$f":"IF('Tag Teams'!H31=\"\",\"\",\",&nbsp;&nbsp;\")","v":""},{"$f":"IF('Tag Teams'!H31=\"\",\"\",'Tag Teams'!H31)","v":""},"</td><td>",{"$f":"IF('Tag Teams'!I31=0,\"\",'Tag Teams'!I31)","v":""},"</td>###</tr>"]

{"sheet":"Head-Head HTML","index":6,"n_rows":23,"n_cols":5,"rows_kept":23,"cut":false,"hidden":true,"merged":[]}
[]
["HEAD TO HEAD MATCHUPS"]
[]
["<tr align=\"center\"><td class=\"Bld\">",{"$f":"'Head to Head'!B3&\" vs \"&'Head to Head'!C3","v":" vs "},"</td><td class=\"Bld\">",{"$f":"'Head to Head'!D3","v":0},"</td></tr>"]
["<tr align=\"center\"><td class=\"Bld\">",{"$f":"'Head to Head'!B4&\" vs \"&'Head to Head'!C4","v":" vs "},"</td><td class=\"Bld\">",{"$f":"'Head to Head'!D4","v":0},"</td></tr>"]
["<tr align=\"center\"><td class=\"Bld\">",{"$f":"'Head to Head'!B5&\" vs \"&'Head to Head'!C5","v":" vs "},"</td><td class=\"Bld\">",{"$f":"'Head to Head'!D5","v":0},"</td></tr>"]
["<tr align=\"center\"><td class=\"Bld\">",{"$f":"'Head to Head'!B6&\" vs \"&'Head to Head'!C6","v":" vs "},"</td><td class=\"Bld\">",{"$f":"'Head to Head'!D6","v":0},"</td></tr>"]
["<tr align=\"center\"><td class=\"Bld\">",{"$f":"'Head to Head'!B7&\" vs \"&'Head to Head'!C7","v":" vs "},"</td><td class=\"Bld\">",{"$f":"'Head to Head'!D7","v":0},"</td></tr>"]
["<tr align=\"center\"><td class=\"Bld\">",{"$f":"'Head to Head'!B8&\" vs \"&'Head to Head'!C8","v":" vs "},"</td><td class=\"Bld\">",{"$f":"'Head to Head'!D8","v":0},"</td></tr>"]
["<tr align=\"center\"><td class=\"Bld\">",{"$f":"'Head to Head'!B9&\" vs \"&'Head to Head'!C9","v":" vs "},"</td><td class=\"Bld\">",{"$f":"'Head to Head'!D9","v":0},"</td></tr>"]
["<tr align=\"center\"><td class=\"Bld\">",{"$f":"'Head to Head'!B10&\" vs \"&'Head to Head'!C10","v":" vs "},"</td><td class=\"Bld\">",{"$f":"'Head to Head'!D10","v":0},"</td></tr>"]
["<tr align=\"center\"><td class=\"Bld\">",{"$f":"'Head to Head'!B11&\" vs \"&'Head to Head'!C11","v":" vs "},"</td><td class=\"Bld\">",{"$f":"'Head to Head'!D11","v":0},"</td></tr>"]
["<tr align=\"center\"><td class=\"Bld\">",{"$f":"'Head to Head'!B12&\" vs \"&'Head to Head'!C12","v":" vs "},"</td><td class=\"Bld\">",{"$f":"'Head to Head'!D12","v":0},"</td></tr>"]
["<tr align=\"center\"><td class=\"Bld\">",{"$f":"'Head to Head'!B13&\" vs \"&'Head to Head'!C13","v":" vs "},"</td><td class=\"Bld\">",{"$f":"'Head to Head'!D13","v":0},"</td></tr>"]
["<tr align=\"center\"><td class=\"Bld\">",{"$f":"'Head to Head'!B14&\" vs \"&'Head to Head'!C14","v":" vs "},"</td><td class=\"Bld\">",{"$f":"'Head to Head'!D14","v":0},"</td></tr>"]
["<tr align=\"center\"><td class=\"Bld\">",{"$f":"'Head to Head'!B15&\" vs \"&'Head to Head'!C15","v":" vs "},"</td><td class=\"Bld\">",{"$f":"'Head to Head'!D15","v":0},"</td></tr>"]
["<tr align=\"center\"><td class=\"Bld\">",{"$f":"'Head to Head'!B16&\" vs \"&'Head to Head'!C16","v":" vs "},"</td><td class=\"Bld\">",{"$f":"'Head to Head'!D16","v":0},"</td></tr>"]
["<tr align=\"center\"><td class=\"Bld\">",{"$f":"'Head to Head'!B17&\" vs \"&'Head to Head'!C17","v":" vs "},"</td><td class=\"Bld\">",{"$f":"'Head to Head'!D17","v":0},"</td></tr>"]
["<tr align=\"center\"><td class=\"Bld\">",{"$f":"'Head to Head'!B18&\" vs \"&'Head to Head'!C18","v":" vs "},"</td><td class=\"Bld\">",{"$f":"'Head to Head'!D18","v":0},"</td></tr>"]
["<tr align=\"center\"><td class=\"Bld\">",{"$f":"'Head to Head'!B19&\" vs \"&'Head to Head'!C19","v":" vs "},"</td><td class=\"Bld\">",{"$f":"'Head to Head'!D19","v":0},"</td></tr>"]
["<tr align=\"center\"><td class=\"Bld\">",{"$f":"'Head to Head'!B20&\" vs \"&'Head to Head'!C20","v":" vs "},"</td><td class=\"Bld\">",{"$f":"'Head to Head'!D20","v":0},"</td></tr>"]
["<tr align=\"center\"><td class=\"Bld\">",{"$f":"'Head to Head'!B21&\" vs \"&'Head to Head'!C21","v":" vs "},"</td><td class=\"Bld\">",{"$f":"'Head to Head'!D21","v":0},"</td></tr>"]
["<tr align=\"center\"><td class=\"Bld\">",{"$f":"'Head to Head'!B22&\" vs \"&'Head to Head'!C22","v":" vs "},"</td><td class=\"Bld\">",{"$f":"'Head to Head'!D22","v":0},"</td></tr>"]

{"sheet":"Lists","index":7,"n_rows":83,"n_cols":11,"rows_kept":83,"cut":false,"hidden":true,"merged":[[2,5,2,6],[0,0,0,3],[0,5,0,6]]}
[".22 PLATE SHOOT",null,null,null,null,{"$f":"Scores!M1","v":"DATE"}]
[]
[null,null,"Row Labels","CPFGC#",null,"GUNS"]
[1,null,"(blank)",null,null,"IB",{"$f":"COUNTIF(tblScores[[SHOOTER]:[DIV]],Lists!F4)","v":0},null,"SHOOTERS",{"$f":"COUNTA($C$4:$C$83)-COUNTIF($C$4:$C$83,\"(blank)\")","v":0}]
[2,null,null,{"$f":"IFERROR(IF(VLOOKUP(C5,tblScores[[SHOOTER]:[CPFG'#]],2,FALSE)=0,\"\",VLOOKUP(C5,tblScores[[SHOOTER]:[CPFG'#]],2,FALSE)),\"\")","v":""},null,"IH",{"$f":"COUNTIF(tblScores[[SHOOTER]:[DIV]],Lists!F5)","v":0},null,"MEMBERS",{"$f":"COUNT(D4:D83)","v":0}]
[3,null,null,{"$f":"IFERROR(IF(VLOOKUP(C6,tblScores[[SHOOTER]:[CPFG'#]],2,FALSE)=0,\"\",VLOOKUP(C6,tblScores[[SHOOTER]:[CPFG'#]],2,FALSE)),\"\")","v":""},null,"IL",{"$f":"COUNTIF(tblScores[[SHOOTER]:[DIV]],Lists!F6)","v":0},null,"NONMEMBERS",{"$f":"J4-J5","v":0}]
[4,null,null,{"$f":"IFERROR(IF(VLOOKUP(C7,tblScores[[SHOOTER]:[CPFG'#]],2,FALSE)=0,\"\",VLOOKUP(C7,tblScores[[SHOOTER]:[CPFG'#]],2,FALSE)),\"\")","v":""},null,"IP",{"$f":"COUNTIF(tblScores[[SHOOTER]:[DIV]],Lists!F7)","v":0}]
[5,null,null,{"$f":"IFERROR(IF(VLOOKUP(C8,tblScores[[SHOOTER]:[CPFG'#]],2,FALSE)=0,\"\",VLOOKUP(C8,tblScores[[SHOOTER]:[CPFG'#]],2,FALSE)),\"\")","v":""},null,"IS",{"$f":"COUNTIF(tblScores[[SHOOTER]:[DIV]],Lists!F8)","v":0},null,"GUNS",{"$f":"SUM($G$4:$G$33)","v":0}]
[6,null,null,{"$f":"IFERROR(IF(VLOOKUP(C9,tblScores[[SHOOTER]:[CPFG'#]],2,FALSE)=0,\"\",VLOOKUP(C9,tblScores[[SHOOTER]:[CPFG'#]],2,FALSE)),\"\")","v":""},null,"RB",{"$f":"COUNTIF(tblScores[[SHOOTER]:[DIV]],Lists!F9)","v":0}]
[7,null,null,{"$f":"IFERROR(IF(VLOOKUP(C10,tblScores[[SHOOTER]:[CPFG'#]],2,FALSE)=0,\"\",VLOOKUP(C10,tblScores[[SHOOTER]:[CPFG'#]],2,FALSE)),\"\")","v":""},null,"RH",{"$f":"COUNTIF(tblScores[[SHOOTER]:[DIV]],Lists!F10)","v":0},null,"CLEAN MATCH",{"$f":"COUNTIF(tblScores[HITS],80)","v":0}]
[8,null,null,{"$f":"IFERROR(IF(VLOOKUP(C11,tblScores[[SHOOTER]:[CPFG'#]],2,FALSE)=0,\"\",VLOOKUP(C11,tblScores[[SHOOTER]:[CPFG'#]],2,FALSE)),\"\")","v":""},null,"RL",{"$f":"COUNTIF(tblScores[[SHOOTER]:[DIV]],Lists!F11)","v":0}]
[9,null,null,{"$f":"IFERROR(IF(VLOOKUP(C12,tblScores[[SHOOTER]:[CPFG'#]],2,FALSE)=0,\"\",VLOOKUP(C12,tblScores[[SHOOTER]:[CPFG'#]],2,FALSE)),\"\")","v":""},null,"RP",{"$f":"COUNTIF(tblScores[[SHOOTER]:[DIV]],Lists!F12)","v":0}]
[10,null,null,{"$f":"IFERROR(IF(VLOOKUP(C13,tblScores[[SHOOTER]:[CPFG'#]],2,FALSE)=0,\"\",VLOOKUP(C13,tblScores[[SHOOTER]:[CPFG'#]],2,FALSE)),\"\")","v":""},null,"RS",{"$f":"COUNTIF(tblScores[[SHOOTER]:[DIV]],Lists!F13)","v":0},null,"COSTS"]
[11,null,null,{"$f":"IFERROR(IF(VLOOKUP(C14,tblScores[[SHOOTER]:[CPFG'#]],2,FALSE)=0,\"\",VLOOKUP(C14,tblScores[[SHOOTER]:[CPFG'#]],2,FALSE)),\"\")","v":""},null,"SB",{"$f":"COUNTIF(tblScores[[SHOOTER]:[DIV]],Lists!F14)","v":0},null,"Members",6,{"$f":"SUMIF(tblScores[PAID],\"<8\")","v":0}]
[12,null,null,{"$f":"IFERROR(IF(VLOOKUP(C15,tblScores[[SHOOTER]:[CPFG'#]],2,FALSE)=0,\"\",VLOOKUP(C15,tblScores[[SHOOTER]:[CPFG'#]],2,FALSE)),\"\")","v":""},null,"SH",{"$f":"COUNTIF(tblScores[[SHOOTER]:[DIV]],Lists!F15)","v":0},null,"Nonmembers",8,{"$f":"SUMIF(tblScores[PAID],J15)","v":0}]
[13,null,null,{"$f":"IFERROR(IF(VLOOKUP(C16,tblScores[[SHOOTER]:[CPFG'#]],2,FALSE)=0,\"\",VLOOKUP(C16,tblScores[[SHOOTER]:[CPFG'#]],2,FALSE)),\"\")","v":""},null,"SL",{"$f":"COUNTIF(tblScores[[SHOOTER]:[DIV]],Lists!F16)","v":0},null,"Total Income",null,{"$f":"SUM(K14:K15)","v":0}]
[14,null,null,{"$f":"IFERROR(IF(VLOOKUP(C17,tblScores[[SHOOTER]:[CPFG'#]],2,FALSE)=0,\"\",VLOOKUP(C17,tblScores[[SHOOTER]:[CPFG'#]],2,FALSE)),\"\")","v":""},null,"SP",{"$f":"COUNTIF(tblScores[[SHOOTER]:[DIV]],Lists!F17)","v":0}]
[15,null,null,{"$f":"IFERROR(IF(VLOOKUP(C18,tblScores[[SHOOTER]:[CPFG'#]],2,FALSE)=0,\"\",VLOOKUP(C18,tblScores[[SHOOTER]:[CPFG'#]],2,FALSE)),\"\")","v":""},null,"SS",{"$f":"COUNTIF(tblScores[[SHOOTER]:[DIV]],Lists!F18)","v":0}]
[16,null,null,{"$f":"IFERROR(IF(VLOOKUP(C19,tblScores[[SHOOTER]:[CPFG'#]],2,FALSE)=0,\"\",VLOOKUP(C19,tblScores[[SHOOTER]:[CPFG'#]],2,FALSE)),\"\")","v":""},null,"IB-J",{"$f":"COUNTIF(tblScores[[SHOOTER]:[DIV]],Lists!F19)","v":0}]
[17,null,null,{"$f":"IFERROR(IF(VLOOKUP(C20,tblScores[[SHOOTER]:[CPFG'#]],2,FALSE)=0,\"\",VLOOKUP(C20,tblScores[[SHOOTER]:[CPFG'#]],2,FALSE)),\"\")","v":""},null,"IH-J",{"$f":"COUNTIF(tblScores[[SHOOTER]:[DIV]],Lists!F20)","v":0}]
[18,null,null,{"$f":"IFERROR(IF(VLOOKUP(C21,tblScores[[SHOOTER]:[CPFG'#]],2,FALSE)=0,\"\",VLOOKUP(C21,tblScores[[SHOOTER]:[CPFG'#]],2,FALSE)),\"\")","v":""},null,"IL-J",{"$f":"COUNTIF(tblScores[[SHOOTER]:[DIV]],Lists!F21)","v":0}]
[19,null,null,{"$f":"IFERROR(IF(VLOOKUP(C22,tblScores[[SHOOTER]:[CPFG'#]],2,FALSE)=0,\"\",VLOOKUP(C22,tblScores[[SHOOTER]:[CPFG'#]],2,FALSE)),\"\")","v":""},null,"IP-J",{"$f":"COUNTIF(tblScores[[SHOOTER]:[DIV]],Lists!F22)","v":0}]
[20,null,null,{"$f":"IFERROR(IF(VLOOKUP(C23,tblScores[[SHOOTER]:[CPFG'#]],2,FALSE)=0,\"\",VLOOKUP(C23,tblScores[[SHOOTER]:[CPFG'#]],2,FALSE)),\"\")","v":""},null,"IS-J",{"$f":"COUNTIF(tblScores[[SHOOTER]:[DIV]],Lists!F23)","v":0}]
[21,null,null,{"$f":"IFERROR(IF(VLOOKUP(C24,tblScores[[SHOOTER]:[CPFG'#]],2,FALSE)=0,\"\",VLOOKUP(C24,tblScores[[SHOOTER]:[CPFG'#]],2,FALSE)),\"\")","v":""},null,"RB-J",{"$f":"COUNTIF(tblScores[[SHOOTER]:[DIV]],Lists!F24)","v":0}]
[22,null,null,{"$f":"IFERROR(IF(VLOOKUP(C25,tblScores[[SHOOTER]:[CPFG'#]],2,FALSE)=0,\"\",VLOOKUP(C25,tblScores[[SHOOTER]:[CPFG'#]],2,FALSE)),\"\")","v":""},null,"RH-J",{"$f":"COUNTIF(tblScores[[SHOOTER]:[DIV]],Lists!F25)","v":0}]
[23,null,null,{"$f":"IFERROR(IF(VLOOKUP(C26,tblScores[[SHOOTER]:[CPFG'#]],2,FALSE)=0,\"\",VLOOKUP(C26,tblScores[[SHOOTER]:[CPFG'#]],2,FALSE)),\"\")","v":""},null,"RL-J",{"$f":"COUNTIF(tblScores[[SHOOTER]:[DIV]],Lists!F26)","v":0}]
[24,null,null,{"$f":"IFERROR(IF(VLOOKUP(C27,tblScores[[SHOOTER]:[CPFG'#]],2,FALSE)=0,\"\",VLOOKUP(C27,tblScores[[SHOOTER]:[CPFG'#]],2,FALSE)),\"\")","v":""},null,"RP-J",{"$f":"COUNTIF(tblScores[[SHOOTER]:[DIV]],Lists!F27)","v":0}]
[25,null,null,{"$f":"IFERROR(IF(VLOOKUP(C28,tblScores[[SHOOTER]:[CPFG'#]],2,FALSE)=0,\"\",VLOOKUP(C28,tblScores[[SHOOTER]:[CPFG'#]],2,FALSE)),\"\")","v":""},null,"RS-J",{"$f":"COUNTIF(tblScores[[SHOOTER]:[DIV]],Lists!F28)","v":0}]
[26,null,null,{"$f":"IFERROR(IF(VLOOKUP(C29,tblScores[[SHOOTER]:[CPFG'#]],2,FALSE)=0,\"\",VLOOKUP(C29,tblScores[[SHOOTER]:[CPFG'#]],2,FALSE)),\"\")","v":""},null,"SB-J",{"$f":"COUNTIF(tblScores[[SHOOTER]:[DIV]],Lists!F29)","v":0}]
[27,null,null,{"$f":"IFERROR(IF(VLOOKUP(C30,tblScores[[SHOOTER]:[CPFG'#]],2,FALSE)=0,\"\",VLOOKUP(C30,tblScores[[SHOOTER]:[CPFG'#]],2,FALSE)),\"\")","v":""},null,"SH-J",{"$f":"COUNTIF(tblScores[[SHOOTER]:[DIV]],Lists!F30)","v":0}]
[28,null,null,{"$f":"IFERROR(IF(VLOOKUP(C31,tblScores[[SHOOTER]:[CPFG'#]],2,FALSE)=0,\"\",VLOOKUP(C31,tblScores[[SHOOTER]:[CPFG'#]],2,FALSE)),\"\")","v":""},null,"SL-J",{"$f":"COUNTIF(tblScores[[SHOOTER]:[DIV]],Lists!F31)","v":0}]
[29,null,null,{"$f":"IFERROR(IF(VLOOKUP(C32,tblScores[[SHOOTER]:[CPFG'#]],2,FALSE)=0,\"\",VLOOKUP(C32,tblScores[[SHOOTER]:[CPFG'#]],2,FALSE)),\"\")","v":""},null,"SP-J",{"$f":"COUNTIF(tblScores[[SHOOTER]:[DIV]],Lists!F32)","v":0}]
[30,null,null,{"$f":"IFERROR(IF(VLOOKUP(C33,tblScores[[SHOOTER]:[CPFG'#]],2,FALSE)=0,\"\",VLOOKUP(C33,tblScores[[SHOOTER]:[CPFG'#]],2,FALSE)),\"\")","v":""},null,"SS-J",{"$f":"COUNTIF(tblScores[[SHOOTER]:[DIV]],Lists!F33)","v":0}]
[31,null,null,{"$f":"IFERROR(IF(VLOOKUP(C34,tblScores[[SHOOTER]:[CPFG'#]],2,FALSE)=0,\"\",VLOOKUP(C34,tblScores[[SHOOTER]:[CPFG'#]],2,FALSE)),\"\")","v":""}]
[32,null,null,{"$f":"IFERROR(IF(VLOOKUP(C35,tblScores[[SHOOTER]:[CPFG'#]],2,FALSE)=0,\"\",VLOOKUP(C35,tblScores[[SHOOTER]:[CPFG'#]],2,FALSE)),\"\")","v":""}]
[33,null,null,{"$f":"IFERROR(IF(VLOOKUP(C36,tblScores[[SHOOTER]:[CPFG'#]],2,FALSE)=0,\"\",VLOOKUP(C36,tblScores[[SHOOTER]:[CPFG'#]],2,FALSE)),\"\")","v":""}]
[34,null,null,{"$f":"IFERROR(IF(VLOOKUP(C37,tblScores[[SHOOTER]:[CPFG'#]],2,FALSE)=0,\"\",VLOOKUP(C37,tblScores[[SHOOTER]:[CPFG'#]],2,FALSE)),\"\")","v":""}]
[35,null,null,{"$f":"IFERROR(IF(VLOOKUP(C38,tblScores[[SHOOTER]:[CPFG'#]],2,FALSE)=0,\"\",VLOOKUP(C38,tblScores[[SHOOTER]:[CPFG'#]],2,FALSE)),\"\")","v":""}]
[36,null,null,{"$f":"IFERROR(IF(VLOOKUP(C39,tblScores[[SHOOTER]:[CPFG'#]],2,FALSE)=0,\"\",VLOOKUP(C39,tblScores[[SHOOTER]:[CPFG'#]],2,FALSE)),\"\")","v":""}]
[37,null,null,{"$f":"IFERROR(IF(VLOOKUP(C40,tblScores[[SHOOTER]:[CPFG'#]],2,FALSE)=0,\"\",VLOOKUP(C40,tblScores[[SHOOTER]:[CPFG'#]],2,FALSE)),\"\")","v":""}]
[38,null,null,{"$f":"IFERROR(IF(VLOOKUP(C41,tblScores[[SHOOTER]:[CPFG'#]],2,FALSE)=0,\"\",VLOOKUP(C41,tblScores[[SHOOTER]:[CPFG'#]],2,FALSE)),\"\")","v":""}]
[39,null,null,{"$f":"IFERROR(IF(VLOOKUP(C42,tblScores[[SHOOTER]:[CPFG'#]],2,FALSE)=0,\"\",VLOOKUP(C42,tblScores[[SHOOTER]:[CPFG'#]],2,FALSE)),\"\")","v":""}]
[40,null,null,{"$f":"IFERROR(IF(VLOOKUP(C43,tblScores[[SHOOTER]:[CPFG'#]],2,FALSE)=0,\"\",VLOOKUP(C43,tblScores[[SHOOTER]:[CPFG'#]],2,FALSE)),\"\")","v":""}]
[41,null,null,{"$f":"IFERROR(IF(VLOOKUP(C44,tblScores[[SHOOTER]:[CPFG'#]],2,FALSE)=0,\"\",VLOOKUP(C44,tblScores[[SHOOTER]:[CPFG'#]],2,FALSE)),\"\")","v":""}]
[42,null,null,{"$f":"IFERROR(IF(VLOOKUP(C45,tblScores[[SHOOTER]:[CPFG'#]],2,FALSE)=0,\"\",VLOOKUP(C45,tblScores[[SHOOTER]:[CPFG'#]],2,FALSE)),\"\")","v":""}]
[43,null,null,{"$f":"IFERROR(IF(VLOOKUP(C46,tblScores[[SHOOTER]:[CPFG'#]],2,FALSE)=0,\"\",VLOOKUP(C46,tblScores[[SHOOTER]:[CPFG'#]],2,FALSE)),\"\")","v":""}]
[44,null,null,{"$f":"IFERROR(IF(VLOOKUP(C47,tblScores[[SHOOTER]:[CPFG'#]],2,FALSE)=0,\"\",VLOOKUP(C47,tblScores[[SHOOTER]:[CPFG'#]],2,FALSE)),\"\")","v":""}]
[45,null,null,{"$f":"IFERROR(IF(VLOOKUP(C48,tblScores[[SHOOTER]:[CPFG'#]],2,FALSE)=0,\"\",VLOOKUP(C48,tblScores[[SHOOTER]:[CPFG'#]],2,FALSE)),\"\")","v":""}]
[46,null,null,{"$f":"IFERROR(IF(VLOOKUP(C49,tblScores[[SHOOTER]:[CPFG'#]],2,FALSE)=0,\"\",VLOOKUP(C49,tblScores[[SHOOTER]:[CPFG'#]],2,FALSE)),\"\")","v":""}]
[47,null,null,{"$f":"IFERROR(IF(VLOOKUP(C50,tblScores[[SHOOTER]:[CPFG'#]],2,FALSE)=0,\"\",VLOOKUP(C50,tblScores[[SHOOTER]:[CPFG'#]],2,FALSE)),\"\")","v":""}]
[48,null,null,{"$f":"IFERROR(IF(VLOOKUP(C51,tblScores[[SHOOTER]:[CPFG'#]],2,FALSE)=0,\"\",VLOOKUP(C51,tblScores[[SHOOTER]:[CPFG'#]],2,FALSE)),\"\")","v":""}]
[49,null,null,{"$f":"IFERROR(IF(VLOOKUP(C52,tblScores[[SHOOTER]:[CPFG'#]],2,FALSE)=0,\"\",VLOOKUP(C52,tblScores[[SHOOTER]:[CPFG'#]],2,FALSE)),\"\")","v":""}]
[50,null,null,{"$f":"IFERROR(IF(VLOOKUP(C53,tblScores[[SHOOTER]:[CPFG'#]],2,FALSE)=0,\"\",VLOOKUP(C53,tblScores[[SHOOTER]:[CPFG'#]],2,FALSE)),\"\")","v":""}]
[51,null,null,{"$f":"IFERROR(IF(VLOOKUP(C54,tblScores[[SHOOTER]:[CPFG'#]],2,FALSE)=0,\"\",VLOOKUP(C54,tblScores[[SHOOTER]:[CPFG'#]],2,FALSE)),\"\")","v":""}]
[52,null,null,{"$f":"IFERROR(IF(VLOOKUP(C55,tblScores[[SHOOTER]:[CPFG'#]],2,FALSE)=0,\"\",VLOOKUP(C55,tblScores[[SHOOTER]:[CPFG'#]],2,FALSE)),\"\")","v":""}]
[53,null,null,{"$f":"IFERROR(IF(VLOOKUP(C56,tblScores[[SHOOTER]:[CPFG'#]],2,FALSE)=0,\"\",VLOOKUP(C56,tblScores[[SHOOTER]:[CPFG'#]],2,FALSE)),\"\")","v":""}]
[54,null,null,{"$f":"IFERROR(IF(VLOOKUP(C57,tblScores[[SHOOTER]:[CPFG'#]],2,FALSE)=0,\"\",VLOOKUP(C57,tblScores[[SHOOTER]:[CPFG'#]],2,FALSE)),\"\")","v":""}]
[55,null,null,{"$f":"IFERROR(IF(VLOOKUP(C58,tblScores[[SHOOTER]:[CPFG'#]],2,FALSE)=0,\"\",VLOOKUP(C58,tblScores[[SHOOTER]:[CPFG'#]],2,FALSE)),\"\")","v":""}]
[56,null,null,{"$f":"IFERROR(IF(VLOOKUP(C59,tblScores[[SHOOTER]:[CPFG'#]],2,FALSE)=0,\"\",VLOOKUP(C59,tblScores[[SHOOTER]:[CPFG'#]],2,FALSE)),\"\")","v":""}]
[57,null,null,{"$f":"IFERROR(IF(VLOOKUP(C60,tblScores[[SHOOTER]:[CPFG'#]],2,FALSE)=0,\"\",VLOOKUP(C60,tblScores[[SHOOTER]:[CPFG'#]],2,FALSE)),\"\")","v":""}]
[58,null,null,{"$f":"IFERROR(IF(VLOOKUP(C61,tblScores[[SHOOTER]:[CPFG'#]],2,FALSE)=0,\"\",VLOOKUP(C61,tblScores[[SHOOTER]:[CPFG'#]],2,FALSE)),\"\")","v":""}]
[59,null,null,{"$f":"IFERROR(IF(VLOOKUP(C62,tblScores[[SHOOTER]:[CPFG'#]],2,FALSE)=0,\"\",VLOOKUP(C62,tblScores[[SHOOTER]:[CPFG'#]],2,FALSE)),\"\")","v":""}]
[60,null,null,{"$f":"IFERROR(IF(VLOOKUP(C63,tblScores[[SHOOTER]:[CPFG'#]],2,FALSE)=0,\"\",VLOOKUP(C63,tblScores[[SHOOTER]:[CPFG'#]],2,FALSE)),\"\")","v":""}]
[61,null,null,{"$f":"IFERROR(IF(VLOOKUP(C64,tblScores[[SHOOTER]:[CPFG'#]],2,FALSE)=0,\"\",VLOOKUP(C64,tblScores[[SHOOTER]:[CPFG'#]],2,FALSE)),\"\")","v":""}]
[62,null,null,{"$f":"IFERROR(IF(VLOOKUP(C65,tblScores[[SHOOTER]:[CPFG'#]],2,FALSE)=0,\"\",VLOOKUP(C65,tblScores[[SHOOTER]:[CPFG'#]],2,FALSE)),\"\")","v":""}]
[63,null,null,{"$f":"IFERROR(IF(VLOOKUP(C66,tblScores[[SHOOTER]:[CPFG'#]],2,FALSE)=0,\"\",VLOOKUP(C66,tblScores[[SHOOTER]:[CPFG'#]],2,FALSE)),\"\")","v":""}]
[64,null,null,{"$f":"IFERROR(IF(VLOOKUP(C67,tblScores[[SHOOTER]:[CPFG'#]],2,FALSE)=0,\"\",VLOOKUP(C67,tblScores[[SHOOTER]:[CPFG'#]],2,FALSE)),\"\")","v":""}]
[65,null,null,{"$f":"IFERROR(IF(VLOOKUP(C68,tblScores[[SHOOTER]:[CPFG'#]],2,FALSE)=0,\"\",VLOOKUP(C68,tblScores[[SHOOTER]:[CPFG'#]],2,FALSE)),\"\")","v":""}]
[66,null,null,{"$f":"IFERROR(IF(VLOOKUP(C69,tblScores[[SHOOTER]:[CPFG'#]],2,FALSE)=0,\"\",VLOOKUP(C69,tblScores[[SHOOTER]:[CPFG'#]],2,FALSE)),\"\")","v":""}]
[67,null,null,{"$f":"IFERROR(IF(VLOOKUP(C70,tblScores[[SHOOTER]:[CPFG'#]],2,FALSE)=0,\"\",VLOOKUP(C70,tblScores[[SHOOTER]:[CPFG'#]],2,FALSE)),\"\")","v":""}]
[68,null,null,{"$f":"IFERROR(IF(VLOOKUP(C71,tblScores[[SHOOTER]:[CPFG'#]],2,FALSE)=0,\"\",VLOOKUP(C71,tblScores[[SHOOTER]:[CPFG'#]],2,FALSE)),\"\")","v":""}]
[69,null,null,{"$f":"IFERROR(IF(VLOOKUP(C72,tblScores[[SHOOTER]:[CPFG'#]],2,FALSE)=0,\"\",VLOOKUP(C72,tblScores[[SHOOTER]:[CPFG'#]],2,FALSE)),\"\")","v":""}]
[70,null,null,{"$f":"IFERROR(IF(VLOOKUP(C73,tblScores[[SHOOTER]:[CPFG'#]],2,FALSE)=0,\"\",VLOOKUP(C73,tblScores[[SHOOTER]:[CPFG'#]],2,FALSE)),\"\")","v":""}]
[71,null,null,{"$f":"IFERROR(IF(VLOOKUP(C74,tblScores[[SHOOTER]:[CPFG'#]],2,FALSE)=0,\"\",VLOOKUP(C74,tblScores[[SHOOTER]:[CPFG'#]],2,FALSE)),\"\")","v":""}]
[72,null,null,{"$f":"IFERROR(IF(VLOOKUP(C75,tblScores[[SHOOTER]:[CPFG'#]],2,FALSE)=0,\"\",VLOOKUP(C75,tblScores[[SHOOTER]:[CPFG'#]],2,FALSE)),\"\")","v":""}]
[73,null,null,{"$f":"IFERROR(IF(VLOOKUP(C76,tblScores[[SHOOTER]:[CPFG'#]],2,FALSE)=0,\"\",VLOOKUP(C76,tblScores[[SHOOTER]:[CPFG'#]],2,FALSE)),\"\")","v":""}]
[74,null,null,{"$f":"IFERROR(IF(VLOOKUP(C77,tblScores[[SHOOTER]:[CPFG'#]],2,FALSE)=0,\"\",VLOOKUP(C77,tblScores[[SHOOTER]:[CPFG'#]],2,FALSE)),\"\")","v":""}]
[75,null,null,{"$f":"IFERROR(IF(VLOOKUP(C78,tblScores[[SHOOTER]:[CPFG'#]],2,FALSE)=0,\"\",VLOOKUP(C78,tblScores[[SHOOTER]:[CPFG'#]],2,FALSE)),\"\")","v":""}]
[76,null,null,{"$f":"IFERROR(IF(VLOOKUP(C79,tblScores[[SHOOTER]:[CPFG'#]],2,FALSE)=0,\"\",VLOOKUP(C79,tblScores[[SHOOTER]:[CPFG'#]],2,FALSE)),\"\")","v":""}]
[77,null,null,{"$f":"IFERROR(IF(VLOOKUP(C80,tblScores[[SHOOTER]:[CPFG'#]],2,FALSE)=0,\"\",VLOOKUP(C80,tblScores[[SHOOTER]:[CPFG'#]],2,FALSE)),\"\")","v":""}]
[78,null,null,{"$f":"IFERROR(IF(VLOOKUP(C81,tblScores[[SHOOTER]:[CPFG'#]],2,FALSE)=0,\"\",VLOOKUP(C81,tblScores[[SHOOTER]:[CPFG'#]],2,FALSE)),\"\")","v":""}]
[79,null,null,{"$f":"IFERROR(IF(VLOOKUP(C82,tblScores[[SHOOTER]:[CPFG'#]],2,FALSE)=0,\"\",VLOOKUP(C82,tblScores[[SHOOTER]:[CPFG'#]],2,FALSE)),\"\")","v":""}]
[80,null,null,{"$f":"IFERROR(IF(VLOOKUP(C83,tblScores[[SHOOTER]:[CPFG'#]],2,FALSE)=0,\"\",VLOOKUP(C83,tblScores[[SHOOTER]:[CPFG'#]],2,FALSE)),\"\")","v":""}]