{"text_format":"1","workbook":"xlsx","n_sheets":4,"sheets":["Scores","Sort","HTML","Lists"],"not_rendered":{"charts":0,"images":0,"macros":1,"external_links":1,"defined_names":31,"comments":0,"pivot_tables":1},"unopened":[],"bounds":{"document_bytes":16777216,"sheet_cells":100000,"rows_first":2000,"rows_last":500,"rows_between":2000,"halvings":0,"cell_chars":16384,"cell_head_chars":4096},"cells_cut":0,"cells_raw":0,"read":"whole","date_system":"1900"}

{"sheet":"Scores","index":0,"n_rows":124,"n_cols":39,"rows_kept":124,"cut":false,"hidden":false,"merged":[[0,28,0,30],[1,24,1,26],[1,6,1,8],[1,9,1,11],[1,12,1,14],[1,15,1,17],[1,18,1,20],[1,21,1,23],[0,2,0,6],[0,8,0,11],[0,12,0,19],[0,21,0,22],[0,24,0,26]]}
[null,null,"CPF&G Centerfire Pistol Plate Shoot",null,null,null,null,null,"DATE",null,null,null,"For any rack not engaged, \nenter 18.0 seconds and 6 misses",null,null,null,null,null,null,null,null,"Miss Penalty\n(seconds)",null,2,"2017-05-29T07:39:24",null,null,null,"=LastSaved()"]
[null,null,null,null,{"$f":"SUM(E$5:E$124)","v":0},null,"GUN",null,null,"RACK 1",null,null,"RACK 2",null,null,"RACK 3",null,null,"RACK 4",null,null,"RACK 5",null,null,"RACK 6",null,null,null,"IR","IS","OR","OS","IR-J","IS-J","OR-J","OS-J","5R","5R-J","ZZ"]
[]
[null,null,"SHOOTER","CPF&G #","PAID","DIV","MFR","MODEL","CALIBER","TIME1","MISS1","NET1","TIME2","MISS2","NET2","TIME3","MISS3","NET3","TIME4","MISS4","NET4","TIME5","MISS5","NET5","TIME6","MISS6","NET6"]
[1,null,null,null,null,null,null,null,null,null,null,{"$f":"IF(AND(J5=\"\",K5=\"\"),0,J5+(K5*$X$1))","v":0},null,null,{"$f":"IF(AND(M5=\"\",N5=\"\"),0,M5+(N5*$X$1))","v":0},null,null,{"$f":"IF(AND(P5=\"\",Q5=\"\"),0,P5+(Q5*$X$1))","v":0},null,null,{"$f":"IF(AND(S5=\"\",T5=\"\"),0,S5+(T5*$X$1))","v":0},null,null,{"$f":"IF(AND(V5=\"\",W5=\"\"),0,V5+(W5*$X$1))","v":0},null,null,{"$f":"IF(AND(Y5=\"\",Z5=\"\"),0,Y5+(Z5*$X$1))","v":0}]
[2,null,null,null,null,null,null,null,null,null,null,0,null,null,0,null,null,0,null,null,0,null,null,0,null,null,0]
[3,null,null,null,null,null,null,null,null,null,null,0,null,null,0,null,null,0,null,null,0,null,null,0,null,null,0]
[4,null,null,null,null,null,null,null,null,null,null,0,null,null,0,null,null,0,null,null,0,null,null,0,null,null,0]
[5,null,null,null,null,null,null,null,null,null,null,0,null,null,0,null,null,0,null,null,0,null,null,0,null,null,0]
[6,null,null,null,null,null,null,null,null,null,null,0,null,null,0,null,null,0,null,null,0,null,null,0,null,null,0]
[7,null,null,null,null,null,null,null,null,null,null,0,null,null,0,null,null,0,null,null,0,null,null,0,null,null,0]
[8,null,null,null,null,null,null,null,null,null,null,0,null,null,0,null,null,0,null,null,0,null,null,0,null,null,0]
[9,null,null,null,null,null,null,null,null,null,null,0,null,null,0,null,null,0,null,null,0,null,null,0,null,null,0]
[10,null,null,null,null,null,null,null,null,null,null,0,null,null,0,null,null,0,null,null,0,null,null,0,null,null,0]
[11,null,null,null,null,null,null,null,null,null,null,0,null,null,0,null,null,0,null,null,0,null,null,0,null,null,0]
[12,null,null,null,null,null,null,null,null,null,null,0,null,null,0,null,null,0,null,null,0,null,null,0,null,null,0]
[13,null,null,null,null,null,null,null,null,null,null,0,null,null,0,null,null,0,null,null,0,null,null,0,null,null,0]
[14,null,null,null,null,null,null,null,null,null,null,0,null,null,0,null,null,0,null,null,0,null,null,0,null,null,0]
[15,null,null,null,null,null,null,null,null,null,null,0,null,null,0,null,null,0,null,null,0,null,null,0,null,null,0]
[16,null,null,null,null,null,null,null,null,null,null,0,null,null,0,null,null,0,null,null,0,null,null,0,null,null,0]
[17,null,null,null,null,null,null,null,null,null,null,0,null,null,0,null,null,0,null,null,0,null,null,0,null,null,0]
[18,null,null,null,null,null,null,null,null,null,null,0,null,null,0,null,null,0,null,null,0,null,null,0,null,null,0]
[19,null,null,null,null,null,null,null,null,null,null,0,null,null,0,null,null,0,null,null,0,null,null,0,null,null,0]
[20,null,null,null,null,null,null,null,null,null,null,0,null,null,0,null,null,0,null,null,0,null,null,0,null,null,0]
[21,null,null,null,null,null,null,null,null,null,null,0,null,null,0,null,null,0,null,null,0,null,null,0,null,null,0]
[22,null,null,null,null,null,null,null,null,null,null,0,null,null,0,null,null,0,null,null,0,null,null,0,null,null,0]
[23,null,null,null,null,null,null,null,null,null,null,0,null,null,0,null,null,0,null,null,0,null,null,0,null,null,0]
[24,null,null,null,null,null,null,null,null,null,null,0,null,null,0,null,null,0,null,null,0,null,null,0,null,null,0]
[25,null,null,null,null,null,null,null,null,null,null,0,null,null,0,null,null,0,null,null,0,null,null,0,null,null,0]
[26,null,null,null,null,null,null,null,null,null,null,0,null,null,0,null,null,0,null,null,0,null,null,0,null,null,0]
[27,null,null,null,null,null,null,null,null,null,null,0,null,null,0,null,null,0,null,null,0,null,null,0,null,null,0]
[28,null,null,null,null,null,null,null,null,null,null,0,null,null,0,null,null,0,null,null,0,null,null,0,null,null,0]
[29,null,null,null,null,null,null,null,null,null,null,0,null,null,0,null,null,0,null,null,0,null,null,0,null,null,0]
[30,null,null,null,null,null,null,null,null,null,null,0,null,null,0,null,null,0,null,null,0,null,null,0,null,null,0]
[31,null,null,null,null,null,null,null,null,null,null,0,null,null,0,null,null,0,null,null,0,null,null,0,null,null,0]
[32,null,null,null,null,null,null,null,null,null,null,0,null,null,0,null,null,0,null,null,0,null,null,0,null,null,0]
[33,null,null,null,null,null,null,null,null,null,null,{"$f":"IF(AND(J37=\"\",K37=\"\"),0,J37+(K37*$X$1))","v":0},null,null,{"$f":"IF(AND(M37=\"\",N37=\"\"),0,M37+(N37*$X$1))","v":0},null,null,{"$f":"IF(AND(P37=\"\",Q37=\"\"),0,P37+(Q37*$X$1))","v":0},null,null,{"$f":"IF(AND(S37=\"\",T37=\"\"),0,S37+(T37*$X$1))","v":0},null,null,{"$f":"IF(AND(V37=\"\",W37=\"\"),0,V37+(W37*$X$1))","v":0},null,null,{"$f":"IF(AND(Y37=\"\",Z37=\"\"),0,Y37+(Z37*$X$1))","v":0}]
[34,null,null,null,null,null,null,null,null,null,null,0,null,null,0,null,null,0,null,null,0,null,null,0,null,null,0]
[35,null,null,null,null,null,null,null,null,null,null,0,null,null,0,null,null,0,null,null,0,null,null,0,null,null,0]
[36,null,null,null,null,null,null,null,null,null,null,0,null,null,0,null,null,0,null,null,0,null,null,0,null,null,0]
[37,null,null,null,null,null,null,null,null,null,null,0,null,null,0,null,null,0,null,null,0,null,null,0,null,null,0]
[38,null,null,null,null,null,null,null,null,null,null,0,null,null,0,null,null,0,null,null,0,null,null,0,null,null,0]
[39,null,null,null,null,null,null,null,null,null,null,0,null,null,0,null,null,0,null,null,0,null,null,0,null,null,0]
[40,null,null,null,null,null,null,null,null,null,null,0,null,null,0,null,null,0,null,null,0,null,null,0,null,null,0]
[41,null,null,null,null,null,null,null,null,null,null,0,null,null,0,null,null,0,null,null,0,null,null,0,null,null,0]
[42,null,null,null,null,null,null,null,null,null,null,0,null,null,0,null,null,0,null,null,0,null,null,0,null,null,0]
[43,null,null,null,null,null,null,null,null,null,null,0,null,null,0,null,null,0,null,null,0,null,null,0,null,null,0]
[44,null,null,null,null,null,null,null,null,null,null,0,null,null,0,null,null,0,null,null,0,null,null,0,null,null,0]
[45,null,null,null,null,null,null,null,null,null,null,0,null,null,0,null,null,0,null,null,0,null,null,0,null,null,0]
[46,null,null,null,null,null,null,null,null,null,null,0,null,null,0,null,null,0,null,null,0,null,null,0,null,null,0]
[47,null,null,null,null,null,null,null,null,null,null,0,null,null,0,null,null,0,null,null,0,null,null,0,null,null,0]
[48,null,null,null,null,null,null,null,null,null,null,0,null,null,0,null,null,0,null,null,0,null,null,0,null,null,0]
[49,null,null,null,null,null,null,null,null,null,null,0,null,null,0,null,null,0,null,null,0,null,null,0,null,null,0]
[50,null,null,null,null,null,null,null,null,null,null,0,null,null,0,null,null,0,null,null,0,null,null,0,null,null,0]
[51,null,null,null,null,null,null,null,null,null,null,0,null,null,0,null,null,0,null,null,0,null,null,0,null,null,0]
[52,null,null,null,null,null,null,null,null,null,null,0,null,null,0,null,null,0,null,null,0,null,null,0,null,null,0]
[53,null,null,null,null,null,null,null,null,null,null,0,null,null,0,null,null,0,null,null,0,null,null,0,null,null,0]
[54,null,null,null,null,null,null,null,null,null,null,0,null,null,0,null,null,0,null,null,0,null,null,0,null,null,0]
[55,null,null,null,null,null,null,null,null,null,null,0,null,null,0,null,null,0,null,null,0,null,null,0,null,null,0]
[56,null,null,null,null,null,null,null,null,null,null,0,null,null,0,null,null,0,null,null,0,null,null,0,null,null,0]
[57,null,null,null,null,null,null,null,null,null,null,0,null,null,0,null,null,0,null,null,0,null,null,0,null,null,0]
[58,null,null,null,null,null,null,null,null,null,null,0,null,null,0,null,null,0,null,null,0,null,null,0,null,null,0]
[59,null,null,null,null,null,null,null,null,null,null,0,null,null,0,null,null,0,null,null,0,null,null,0,null,null,0]
[60,null,null,null,null,null,null,null,null,null,null,0,null,null,0,null,null,0,null,null,0,null,null,0,null,null,0]
[61,null,null,null,null,null,null,null,null,null,null,0,null,null,0,null,null,0,null,null,0,null,null,0,null,null,0]
[62,null,null,null,null,null,null,null,null,null,null,0,null,null,0,null,null,0,null,null,0,null,null,0,null,null,0]
[63,null,null,null,null,null,null,null,null,null,null,0,null,null,0,null,null,0,null,null,0,null,null,0,null,null,0]
[64,null,null,null,null,null,null,null,null,null,null,0,null,null,0,null,null,0,null,null,0,null,null,0,null,null,0]
[65,null,null,null,null,null,null,null,null,null,null,{"$f":"IF(AND(J69=\"\",K69=\"\"),0,J69+(K69*$X$1))","v":0},null,null,{"$f":"IF(AND(M69=\"\",N69=\"\"),0,M69+(N69*$X$1))","v":0},null,null,{"$f":"IF(AND(P69=\"\",Q69=\"\"),0,P69+(Q69*$X$1))","v":0},null,null,{"$f":"IF(AND(S69=\"\",T69=\"\"),0,S69+(T69*$X$1))","v":0},null,null,{"$f":"IF(AND(V69=\"\",W69=\"\"),0,V69+(W69*$X$1))","v":0},null,null,{"$f":"IF(AND(Y69=\"\",Z69=\"\"),0,Y69+(Z69*$X$1))","v":0}]
[66,null,null,null,null,null,null,null,null,null,null,0,null,null,0,null,null,0,null,null,0,null,null,0,null,null,0]
[67,null,null,null,null,null,null,null,null,null,null,0,null,null,0,null,null,0,null,null,0,null,null,0,null,null,0]
[68,null,null,null,null,null,null,null,null,null,null,0,null,null,0,null,null,0,null,null,0,null,null,0,null,null,0]
[69,null,null,null,null,null,null,null,null,null,null,0,null,null,0,null,null,0,null,null,0,null,null,0,null,null,0]
[70,null,null,null,null,null,null,null,null,null,null,0,null,null,0,null,null,0,null,null,0,null,null,0,null,null,0]
[71,null,null,null,null,null,null,null,null,null,null,0,null,null,0,null,null,0,null,null,0,null,null,0,null,null,0]
[72,null,null,null,null,null,null,null,null,null,null,0,null,null,0,null,null,0,null,null,0,null,null,0,null,null,0]
[73,null,null,null,null,null,null,null,null,null,null,0,null,null,0,null,null,0,null,null,0,null,null,0,null,null,0]
[74,null,null,null,null,null,null,null,null,null,null,0,null,null,0,null,null,0,null,null,0,null,null,0,null,null,0]
[75,null,null,null,null,null,null,null,null,null,null,0,null,null,0,null,null,0,null,null,0,null,null,0,null,null,0]
[76,null,null,null,null,null,null,null,null,null,null,0,null,null,0,null,null,0,null,null,0,null,null,0,null,null,0]
[77,null,null,null,null,null,null,null,null,null,null,0,null,null,0,null,null,0,null,null,0,null,null,0,null,null,0]
[78,null,null,null,null,null,null,null,null,null,null,0,null,null,0,null,null,0,null,null,0,null,null,0,null,null,0]
[79,null,null,null,null,null,null,null,null,null,null,0,null,null,0,null,null,0,null,null,0,null,null,0,null,null,0]
[80,null,null,null,null,null,null,null,null,null,null,0,null,null,0,null,null,0,null,null,0,null,null,0,null,null,0]
[81,null,null,null,null,null,null,null,null,null,null,0,null,null,0,null,null,0,null,null,0,null,null,0,null,null,0]
[82,null,null,null,null,null,null,null,null,null,null,0,null,null,0,null,null,0,null,null,0,null,null,0,null,null,0]
[83,null,null,null,null,null,null,null,null,null,null,0,null,null,0,null,null,0,null,null,0,null,null,0,null,null,0]
[84,null,null,null,null,null,null,null,null,null,null,0,null,null,0,null,null,0,null,null,0,null,null,0,null,null,0]
[85,null,null,null,null,null,null,null,null,null,null,0,null,null,0,null,null,0,null,null,0,null,null,0,null,null,0]
[86,null,null,null,null,null,null,null,null,null,null,0,null,null,0,null,null,0,null,null,0,null,null,0,null,null,0]
[87,null,null,null,null,null,null,null,null,null,null,0,null,null,0,null,null,0,null,null,0,null,null,0,null,null,0]
[88,null,null,null,null,null,null,null,null,null,null,0,null,null,0,null,null,0,null,null,0,null,null,0,null,null,0]
[89,null,null,null,null,null,null,null,null,null,null,0,null,null,0,null,null,0,null,null,0,null,null,0,null,null,0]
[90,null,null,null,null,null,null,null,null,null,null,0,null,null,0,null,null,0,null,null,0,null,null,0,null,null,0]
[91,null,null,null,null,null,null,null,null,null,null,0,null,null,0,null,null,0,null,null,0,null,null,0,null,null,0]
[92,null,null,null,null,null,null,null,null,null,null,0,null,null,0,null,null,0,null,null,0,null,null,0,null,null,0]
[93,null,null,null,null,null,null,null,null,null,null,0,null,null,0,null,null,0,null,null,0,null,null,0,null,null,0]
[94,null,null,null,null,null,null,null,null,null,null,0,null,null,0,null,null,0,null,null,0,null,null,0,null,null,0]
[95,null,null,null,null,null,null,null,null,null,null,0,null,null,0,null,null,0,null,null,0,null,null,0,null,null,0]
[96,null,null,null,null,null,null,null,null,null,null,0,null,null,0,null,null,0,null,null,0,null,null,0,null,null,0]
[97,null,null,null,null,null,null,null,null,null,null,{"$f":"IF(AND(J101=\"\",K101=\"\"),0,J101+(K101*$X$1))","v":0},null,null,{"$f":"IF(AND(M101=\"\",N101=\"\"),0,M101+(N101*$X$1))","v":0},null,null,{"$f":"IF(AND(P101=\"\",Q101=\"\"),0,P101+(Q101*$X$1))","v":0},null,null,{"$f":"IF(AND(S101=\"\",T101=\"\"),0,S101+(T101*$X$1))","v":0},null,null,{"$f":"IF(AND(V101=\"\",W101=\"\"),0,V101+(W101*$X$1))","v":0},null,null,{"$f":"IF(AND(Y101=\"\",Z101=\"\"),0,Y101+(Z101*$X$1))","v":0}]
[98,null,null,null,null,null,null,null,null,null,null,0,null,null,0,null,null,0,null,null,0,null,null,0,null,null,0]
[99,null,null,null,null,null,null,null,null,null,null,0,null,null,0,null,null,0,null,null,0,null,null,0,null,null,0]
[100,null,null,null,null,null,null,null,null,null,null,0,null,null,0,null,null,0,null,null,0,null,null,0,null,null,0]
[101,null,null,null,null,null,null,null,null,null,null,0,null,null,0,null,null,0,null,null,0,null,null,0,null,null,0]
[102,null,null,null,null,null,null,null,null,null,null,0,null,null,0,null,null,0,null,null,0,null,null,0,null,null,0]
[103,null,null,null,null,null,null,null,null,null,null,0,null,null,0,null,null,0,null,null,0,null,null,0,null,null,0]
[104,null,null,null,null,null,null,null,null,null,null,0,null,null,0,null,null,0,null,null,0,null,null,0,null,null,0]
[105,null,null,null,null,null,null,null,null,null,null,0,null,null,0,null,null,0,null,null,0,null,null,0,null,null,0]
[106,null,null,null,null,null,null,null,null,null,null,0,null,null,0,null,null,0,null,null,0,null,null,0,null,null,0]
[107,null,null,null,null,null,null,null,null,null,null,0,null,null,0,null,null,0,null,null,0,null,null,0,null,null,0]
[108,null,null,null,null,null,null,null,null,null,null,0,null,null,0,null,null,0,null,null,0,null,null,0,null,null,0]
[109,null,null,null,null,null,null,null,null,null,null,0,null,null,0,null,null,0,null,null,0,null,null,0,null,null,0]
[110,null,null,null,null,null,null,null,null,null,null,0,null,null,0,null,null,0,null,null,0,null,null,0,null,null,0]
[111,null,null,null,null,null,null,null,null,null,null,0,null,null,0,null,null,0,null,null,0,null,null,0,null,null,0]
[112,null,null,null,null,null,null,null,null,null,null,0,null,null,0,null,null,0,null,null,0,null,null,0,null,null,0]
[113,null,null,null,null,null,null,null,null,null,null,0,null,null,0,null,null,0,null,null,0,null,null,0,null,null,0]
[114,null,null,null,null,null,null,null,null,null,null,0,null,null,0,null,null,0,null,null,0,null,null,0,null,null,0]
[115,null,null,null,null,null,null,null,null,null,null,0,null,null,0,null,null,0,null,null,0,null,null,0,null,null,0]
[116,null,null,null,null,null,null,null,null,null,null,0,null,null,0,null,null,0,null,null,0,null,null,0,null,null,0]
[117,null,null,null,null,null,null,null,null,null,null,0,null,null,0,null,null,0,null,null,0,null,null,0,null,null,0]
[118,null,null,null,null,null,null,null,null,null,null,0,null,null,0,null,null,0,null,null,0,null,null,0,null,null,0]
[119,null,null,null,null,null,null,null,null,null,null,0,null,null,0,null,null,0,null,null,0,null,null,0,null,null,0]
[120,null,null,null,null,null,null,null,null,null,null,0,null,null,0,null,null,0,null,null,0,null,null,0,null,null,0]

{"sheet":"Sort","index":1,"n_rows":123,"n_cols":47,"rows_kept":123,"cut":false,"hidden":true,"merged":[[0,15,0,21],[0,4,0,12],[0,27,0,29],[1,25,1,27],[1,28,1,30],[1,7,1,9],[1,10,1,12],[1,13,1,15],[1,16,1,18],[1,19,1,21],[1,22,1,24],[1,4,1,6]]}
[null,"25 FT SORT",null,null,"Sort by Col AF (small to large) then by Col D (A to Z)",null,null,null,null,null,null,null,null,null,null,null,null,null,null,null,null,null,null,null,null,null,null,"Miss Penalty (seconds)",null,null,2]
[null,null,null,null,"GUN",null,null,"RACK 1",null,null,"RACK 2",null,null,"RACK 3",null,null,"RACK 4",null,null,"RACK 5",null,null,"RACK 6",null,null,"TOTALS",null,null,"AVERAGES",null,null,null,null,null,null,null,"IR","IS","OR","OS","IR-J","IS-J","OR-J","OS-J","5R","5R-J","ZZ"]
["No.","SHOOTER","CPF&G #","DIV","MFR","MODEL","CALIBER","TIME1","MISS1","NET1","TIME2","MISS2","NET2","TIME3","MISS3","NET3","TIME4","MISS4","NET4","TIME5","MISS5","NET5","TIME6","MISS6","NET6","TIME-T","MISS-T","NET-T","TIME-A","MISS-A","NET-A","SCORE","RANK","DIV RANK","EXTREME SPREAD"]
[1,{"$f":"IF(Scores!$C5=\"\",\"\",Scores!C5)","v":""},{"$f":"IF(Scores!D5=\"\",\"\",Scores!D5)","v":""},{"$f":"IF(Scores!F5=\"\",\"ZZ\",Scores!F5)","v":"ZZ"},{"$f":"IF(Scores!G5=\"\",\"\",Scores!G5)","v":""},{"$f":"IF(Scores!H5=\"\",\"\",Scores!H5)","v":""},{"$f":"IF(Scores!I5=\"\",\"\",Scores!I5)","v":""},{"$f":"IF(Scores!J5=\"\",\"\",Scores!J5)","v":""},{"$f":"IF(Scores!K5=\"\",\"\",Scores!K5)","v":""},{"$f":"IF(Scores!L5=\"\",\"\",Scores!L5)","v":0},{"$f":"IF(Scores!M5=\"\",\"\",Scores!M5)","v":""},{"$f":"IF(Scores!N5=\"\",\"\",Scores!N5)","v":""},{"$f":"IF(Scores!O5=\"\",\"\",Scores!O5)","v":0},{"$f":"IF(Scores!P5=\"\",\"\",Scores!P5)","v":""},{"$f":"IF(Scores!Q5=\"\",\"\",Scores!Q5)","v":""},{"$f":"IF(Scores!R5=\"\",\"\",Scores!R5)","v":0},{"$f":"IF(Scores!S5=\"\",\"\",Scores!S5)","v":""},{"$f":"IF(Scores!T5=\"\",\"\",Scores!T5)","v":""},{"$f":"IF(Scores!U5=\"\",\"\",Scores!U5)","v":0},{"$f":"IF(Scores!V5=\"\",\"\",Scores!V5)","v":""},{"$f":"IF(Scores!W5=\"\",\"\",Scores!W5)","v":""},{"$f":"IF(Scores!X5=\"\",\"\",Scores!X5)","v":0},{"$f":"IF(Scores!Y5=\"\",\"\",Scores!Y5)","v":""},{"$f":"IF(Scores!Z5=\"\",\"\",Scores!Z5)","v":""},{"$f":"IF(Scores!AA5=\"\",\"\",Scores!AA5)","v":0},{"$f":"IF(B4=\"\",\"\",SUM(H4,K4,N4,Q4,T4,W4))","v":""},{"$f":"IF(B4=\"\",\"\",SUM(I4,L4,O4,R4,U4,X4))","v":""},{"$f":"IF(B4=\"\",\"\",SUM(J4,M4,P4,S4,V4,Y4))","v":""},{"$f":"IF(B4=\"\",\"\",ROUND(AVERAGE(H4,K4,N4,Q4,T4,W4),2))","v":""},{"$f":"IF(B4=\"\",\"\",ROUND(AVERAGE(I4,L4,O4,R4,U4,X4),1))","v":""},{"$f":"IF(B4=\"\",\"\",ROUND(AVERAGE(J4,M4,P4,S4,V4,Y4),2))","v":""},{"$f":"IF(B4=\"\",\"\",SUM(J4,M4,P4,S4,V4,Y4)-MAX(J4,M4,P4,S4,V4,Y4))","v":""},{"$f":"IF(Table2[[#This Row],[SCORE]]=\"\",\"\",_xlfn.RANK.EQ(Table2[[#This Row],[SCORE]],Table2[SCORE],1))","v":""},{"$f":"IF(AF4=\"\",\"\",SUMPRODUCT(--(D4=$D$4:$D$123),--(AF4>$AF$4:$AF$123))+1)","v":""},{"$f":"IF(B4=\"\",\"\",MAX(H4,K4,N4,Q4,T4,W4)-MIN(H4,K4,N4,Q4,T4,W4,))","v":""}]
[2,{"$f":"IF(Scores!$C6=\"\",\"\",Scores!C6)","v":""},{"$f":"IF(Scores!D6=\"\",\"\",Scores!D6)","v":""},{"$f":"IF(Scores!F6=\"\",\"ZZ\",Scores!F6)","v":"ZZ"},{"$f":"IF(Scores!G6=\"\",\"\",Scores!G6)","v":""},{"$f":"IF(Scores!H6=\"\",\"\",Scores!H6)","v":""},{"$f":"IF(Scores!I6=\"\",\"\",Scores!I6)","v":""},{"$f":"IF(Scores!J6=\"\",\"\",Scores!J6)","v":""},{"$f":"IF(Scores!K6=\"\",\"\",Scores!K6)","v":""},{"$f":"IF(Scores!L6=\"\",\"\",Scores!L6)","v":0},{"$f":"IF(Scores!M6=\"\",\"\",Scores!M6)","v":""},{"$f":"IF(Scores!N6=\"\",\"\",Scores!N6)","v":""},{"$f":"IF(Scores!O6=\"\",\"\",Scores!O6)","v":0},{"$f":"IF(Scores!P6=\"\",\"\",Scores!P6)","v":""},{"$f":"IF(Scores!Q6=\"\",\"\",Scores!Q6)","v":""},{"$f":"IF(Scores!R6=\"\",\"\",Scores!R6)","v":0},{"$f":"IF(Scores!S6=\"\",\"\",Scores!S6)","v":""},{"$f":"IF(Scores!T6=\"\",\"\",Scores!T6)","v":""},{"$f":"IF(Scores!U6=\"\",\"\",Scores!U6)","v":0},{"$f":"IF(Scores!V6=\"\",\"\",Scores!V6)","v":""},{"$f":"IF(Scores!W6=\"\",\"\",Scores!W6)","v":""},{"$f":"IF(Scores!X6=\"\",\"\",Scores!X6)","v":0},{"$f":"IF(Scores!Y6=\"\",\"\",Scores!Y6)","v":""},{"$f":"IF(Scores!Z6=\"\",\"\",Scores!Z6)","v":""},{"$f":"IF(Scores!AA6=\"\",\"\",Scores!AA6)","v":0},"","","","","","","",{"$f":"IF(Table2[[#This Row],[SCORE]]=\"\",\"\",_xlfn.RANK.EQ(Table2[[#This Row],[SCORE]],Table2[SCORE],1))","v":""},"",""]
[3,{"$f":"IF(Scores!$C7=\"\",\"\",Scores!C7)","v":""},{"$f":"IF(Scores!D7=\"\",\"\",Scores!D7)","v":""},{"$f":"IF(Scores!F7=\"\",\"ZZ\",Scores!F7)","v":"ZZ"},{"$f":"IF(Scores!G7=\"\",\"\",Scores!G7)","v":""},{"$f":"IF(Scores!H7=\"\",\"\",Scores!H7)","v":""},{"$f":"IF(Scores!I7=\"\",\"\",Scores!I7)","v":""},{"$f":"IF(Scores!J7=\"\",\"\",Scores!J7)","v":""},{"$f":"IF(Scores!K7=\"\",\"\",Scores!K7)","v":""},{"$f":"IF(Scores!L7=\"\",\"\",Scores!L7)","v":0},{"$f":"IF(Scores!M7=\"\",\"\",Scores!M7)","v":""},{"$f":"IF(Scores!N7=\"\",\"\",Scores!N7)","v":""},{"$f":"IF(Scores!O7=\"\",\"\",Scores!O7)","v":0},{"$f":"IF(Scores!P7=\"\",\"\",Scores!P7)","v":""},{"$f":"IF(Scores!Q7=\"\",\"\",Scores!Q7)","v":""},{"$f":"IF(Scores!R7=\"\",\"\",Scores!R7)","v":0},{"$f":"IF(Scores!S7=\"\",\"\",Scores!S7)","v":""},{"$f":"IF(Scores!T7=\"\",\"\",Scores!T7)","v":""},{"$f":"IF(Scores!U7=\"\",\"\",Scores!U7)","v":0},{"$f":"IF(Scores!V7=\"\",\"\",Scores!V7)","v":""},{"$f":"IF(Scores!W7=\"\",\"\",Scores!W7)","v":""},{"$f":"IF(Scores!X7=\"\",\"\",Scores!X7)","v":0},{"$f":"IF(Scores!Y7=\"\",\"\",Scores!Y7)","v":""},{"$f":"IF(Scores!Z7=\"\",\"\",Scores!Z7)","v":""},{"$f":"IF(Scores!AA7=\"\",\"\",Scores!AA7)","v":0},"","","","","","","",{"$f":"IF(Table2[[#This Row],[SCORE]]=\"\",\"\",_xlfn.RANK.EQ(Table2[[#This Row],[SCORE]],Table2[SCORE],1))","v":""},"",""]
[4,{"$f":"IF(Scores!$C8=\"\",\"\",Scores!C8)","v":""},{"$f":"IF(Scores!D8=\"\",\"\",Scores!D8)","v":""},{"$f":"IF(Scores!F8=\"\",\"ZZ\",Scores!F8)","v":"ZZ"},{"$f":"IF(Scores!G8=\"\",\"\",Scores!G8)","v":""},{"$f":"IF(Scores!H8=\"\",\"\",Scores!H8)","v":""},{"$f":"IF(Scores!I8=\"\",\"\",Scores!I8)","v":""},{"$f":"IF(Scores!J8=\"\",\"\",Scores!J8)","v":""},{"$f":"IF(Scores!K8=\"\",\"\",Scores!K8)","v":""},{"$f":"IF(Scores!L8=\"\",\"\",Scores!L8)","v":0},{"$f":"IF(Scores!M8=\"\",\"\",Scores!M8)","v":""},{"$f":"IF(Scores!N8=\"\",\"\",Scores!N8)","v":""},{"$f":"IF(Scores!O8=\"\",\"\",Scores!O8)","v":0},{"$f":"IF(Scores!P8=\"\",\"\",Scores!P8)","v":""},{"$f":"IF(Scores!Q8=\"\",\"\",Scores!Q8)","v":""},{"$f":"IF(Scores!R8=\"\",\"\",Scores!R8)","v":0},{"$f":"IF(Scores!S8=\"\",\"\",Scores!S8)","v":""},{"$f":"IF(Scores!T8=\"\",\"\",Scores!T8)","v":""},{"$f":"IF(Scores!U8=\"\",\"\",Scores!U8)","v":0},{"$f":"IF(Scores!V8=\"\",\"\",Scores!V8)","v":""},{"$f":"IF(Scores!W8=\"\",\"\",Scores!W8)","v":""},{"$f":"IF(Scores!X8=\"\",\"\",Scores!X8)","v":0},{"$f":"IF(Scores!Y8=\"\",\"\",Scores!Y8)","v":""},{"$f":"IF(Scores!Z8=\"\",\"\",Scores!Z8)","v":""},{"$f":"IF(Scores!AA8=\"\",\"\",Scores!AA8)","v":0},"","","","","","","",{"$f":"IF(Table2[[#This Row],[SCORE]]=\"\",\"\",_xlfn.RANK.EQ(Table2[[#This Row],[SCORE]],Table2[SCORE],1))","v":""},"",""]
[5,{"$f":"IF(Scores!$C9=\"\",\"\",Scores!C9)","v":""},{"$f":"IF(Scores!D9=\"\",\"\",Scores!D9)","v":""},{"$f":"IF(Scores!F9=\"\",\"ZZ\",Scores!F9)","v":"ZZ"},{"$f":"IF(Scores!G9=\"\",\"\",Scores!G9)","v":""},{"$f":"IF(Scores!H9=\"\",\"\",Scores!H9)","v":""},{"$f":"IF(Scores!I9=\"\",\"\",Scores!I9)","v":""},{"$f":"IF(Scores!J9=\"\",\"\",Scores!J9)","v":""},{"$f":"IF(Scores!K9=\"\",\"\",Scores!K9)","v":""},{"$f":"IF(Scores!L9=\"\",\"\",Scores!L9)","v":0},{"$f":"IF(Scores!M9=\"\",\"\",Scores!M9)","v":""},{"$f":"IF(Scores!N9=\"\",\"\",Scores!N9)","v":""},{"$f":"IF(Scores!O9=\"\",\"\",Scores!O9)","v":0},{"$f":"IF(Scores!P9=\"\",\"\",Scores!P9)","v":""},{"$f":"IF(Scores!Q9=\"\",\"\",Scores!Q9)","v":""},{"$f":"IF(Scores!R9=\"\",\"\",Scores!R9)","v":0},{"$f":"IF(Scores!S9=\"\",\"\",Scores!S9)","v":""},{"$f":"IF(Scores!T9=\"\",\"\",Scores!T9)","v":""},{"$f":"IF(Scores!U9=\"\",\"\",Scores!U9)","v":0},{"$f":"IF(Scores!V9=\"\",\"\",Scores!V9)","v":""},{"$f":"IF(Scores!W9=\"\",\"\",Scores!W9)","v":""},{"$f":"IF(Scores!X9=\"\",\"\",Scores!X9)","v":0},{"$f":"IF(Scores!Y9=\"\",\"\",Scores!Y9)","v":""},{"$f":"IF(Scores!Z9=\"\",\"\",Scores!Z9)","v":""},{"$f":"IF(Scores!AA9=\"\",\"\",Scores!AA9)","v":0},"","","","","","","",{"$f":"IF(Table2[[#This Row],[SCORE]]=\"\",\"\",_xlfn.RANK.EQ(Table2[[#This Row],[SCORE]],Table2[SCORE],1))","v":""},"",""]
[6,{"$f":"IF(Scores!$C10=\"\",\"\",Scores!C10)","v":""},{"$f":"IF(Scores!D10=\"\",\"\",Scores!D10)","v":""},{"$f":"IF(Scores!F10=\"\",\"ZZ\",Scores!F10)","v":"ZZ"},{"$f":"IF(Scores!G10=\"\",\"\",Scores!G10)","v":""},{"$f":"IF(Scores!H10=\"\",\"\",Scores!H10)","v":""},{"$f":"IF(Scores!I10=\"\",\"\",Scores!I10)","v":""},{"$f":"IF(Scores!J10=\"\",\"\",Scores!J10)","v":""},{"$f":"IF(Scores!K10=\"\",\"\",Scores!K10)","v":""},{"$f":"IF(Scores!L10=\"\",\"\",Scores!L10)","v":0},{"$f":"IF(Scores!M10=\"\",\"\",Scores!M10)","v":""},{"$f":"IF(Scores!N10=\"\",\"\",Scores!N10)","v":""},{"$f":"IF(Scores!O10=\"\",\"\",Scores!O10)","v":0},{"$f":"IF(Scores!P10=\"\",\"\",Scores!P10)","v":""},{"$f":"IF(Scores!Q10=\"\",\"\",Scores!Q10)","v":""},{"$f":"IF(Scores!R10=\"\",\"\",Scores!R10)","v":0},{"$f":"IF(Scores!S10=\"\",\"\",Scores!S10)","v":""},{"$f":"IF(Scores!T10=\"\",\"\",Scores!T10)","v":""},{"$f":"IF(Scores!U10=\"\",\"\",Scores!U10)","v":0},{"$f":"IF(Scores!V10=\"\",\"\",Scores!V10)","v":""},{"$f":"IF(Scores!W10=\"\",\"\",Scores!W10)","v":""},{"$f":"IF(Scores!X10=\"\",\"\",Scores!X10)","v":0},{"$f":"IF(Scores!Y10=\"\",\"\",Scores!Y10)","v":""},{"$f":"IF(Scores!Z10=\"\",\"\",Scores!Z10)","v":""},{"$f":"IF(Scores!AA10=\"\",\"\",Scores!AA10)","v":0},"","","","","","","",{"$f":"IF(Table2[[#This Row],[SCORE]]=\"\",\"\",_xlfn.RANK.EQ(Table2[[#This Row],[SCORE]],Table2[SCORE],1))","v":""},"",""]
[7,{"$f":"IF(Scores!$C11=\"\",\"\",Scores!C11)","v":""},{"$f":"IF(Scores!D11=\"\",\"\",Scores!D11)","v":""},{"$f":"IF(Scores!F11=\"\",\"ZZ\",Scores!F11)","v":"ZZ"},{"$f":"IF(Scores!G11=\"\",\"\",Scores!G11)","v":""},{"$f":"IF(Scores!H11=\"\",\"\",Scores!H11)","v":""},{"$f":"IF(Scores!I11=\"\",\"\",Scores!I11)","v":""},{"$f":"IF(Scores!J11=\"\",\"\",Scores!J11)","v":""},{"$f":"IF(Scores!K11=\"\",\"\",Scores!K11)","v":""},{"$f":"IF(Scores!L11=\"\",\"\",Scores!L11)","v":0},{"$f":"IF(Scores!M11=\"\",\"\",Scores!M11)","v":""},{"$f":"IF(Scores!N11=\"\",\"\",Scores!N11)","v":""},{"$f":"IF(Scores!O11=\"\",\"\",Scores!O11)","v":0},{"$f":"IF(Scores!P11=\"\",\"\",Scores!P11)","v":""},{"$f":"IF(Scores!Q11=\"\",\"\",Scores!Q11)","v":""},{"$f":"IF(Scores!R11=\"\",\"\",Scores!R11)","v":0},{"$f":"IF(Scores!S11=\"\",\"\",Scores!S11)","v":""},{"$f":"IF(Scores!T11=\"\",\"\",Scores!T11)","v":""},{"$f":"IF(Scores!U11=\"\",\"\",Scores!U11)","v":0},{"$f":"IF(Scores!V11=\"\",\"\",Scores!V11)","v":""},{"$f":"IF(Scores!W11=\"\",\"\",Scores!W11)","v":""},{"$f":"IF(Scores!X11=\"\",\"\",Scores!X11)","v":0},{"$f":"IF(Scores!Y11=\"\",\"\",Scores!Y11)","v":""},{"$f":"IF(Scores!Z11=\"\",\"\",Scores!Z11)","v":""},{"$f":"IF(Scores!AA11=\"\",\"\",Scores!AA11)","v":0},"","","","","","","",{"$f":"IF(Table2[[#This Row],[SCORE]]=\"\",\"\",_xlfn.RANK.EQ(Table2[[#This Row],[SCORE]],Table2[SCORE],1))","v":""},"",""]
[8,{"$f":"IF(Scores!$C12=\"\",\"\",Scores!C12)","v":""},{"$f":"IF(Scores!D12=\"\",\"\",Scores!D12)","v":""},{"$f":"IF(Scores!F12=\"\",\"ZZ\",Scores!F12)","v":"ZZ"},{"$f":"IF(Scores!G12=\"\",\"\",Scores!G12)","v":""},{"$f":"IF(Scores!H12=\"\",\"\",Scores!H12)","v":""},{"$f":"IF(Scores!I12=\"\",\"\",Scores!I12)","v":""},{"$f":"IF(Scores!J12=\"\",\"\",Scores!J12)","v":""},{"$f":"IF(Scores!K12=\"\",\"\",Scores!K12)","v":""},{"$f":"IF(Scores!L12=\"\",\"\",Scores!L12)","v":0},{"$f":"IF(Scores!M12=\"\",\"\",Scores!M12)","v":""},{"$f":"IF(Scores!N12=\"\",\"\",Scores!N12)","v":""},{"$f":"IF(Scores!O12=\"\",\"\",Scores!O12)","v":0},{"$f":"IF(Scores!P12=\"\",\"\",Scores!P12)","v":""},{"$f":"IF(Scores!Q12=\"\",\"\",Scores!Q12)","v":""},{"$f":"IF(Scores!R12=\"\",\"\",Scores!R12)","v":0},{"$f":"IF(Scores!S12=\"\",\"\",Scores!S12)","v":""},{"$f":"IF(Scores!T12=\"\",\"\",Scores!T12)","v":""},{"$f":"IF(Scores!U12=\"\",\"\",Scores!U12)","v":0},{"$f":"IF(Scores!V12=\"\",\"\",Scores!V12)","v":""},{"$f":"IF(Scores!W12=\"\",\"\",Scores!W12)","v":""},{"$f":"IF(Scores!X12=\"\",\"\",Scores!X12)","v":0},{"$f":"IF(Scores!Y12=\"\",\"\",Scores!Y12)","v":""},{"$f":"IF(Scores!Z12=\"\",\"\",Scores!Z12)","v":""},{"$f":"IF(Scores!AA12=\"\",\"\",Scores!AA12)","v":0},"","","","","","","",{"$f":"IF(Table2[[#This Row],[SCORE]]=\"\",\"\",_xlfn.RANK.EQ(Table2[[#This Row],[SCORE]],Table2[SCORE],1))","v":""},"",""]
[9,{"$f":"IF(Scores!$C13=\"\",\"\",Scores!C13)","v":""},{"$f":"IF(Scores!D13=\"\",\"\",Scores!D13)","v":""},{"$f":"IF(Scores!F13=\"\",\"ZZ\",Scores!F13)","v":"ZZ"},{"$f":"IF(Scores!G13=\"\",\"\",Scores!G13)","v":""},{"$f":"IF(Scores!H13=\"\",\"\",Scores!H13)","v":""},{"$f":"IF(Scores!I13=\"\",\"\",Scores!I13)","v":""},{"$f":"IF(Scores!J13=\"\",\"\",Scores!J13)","v":""},{"$f":"IF(Scores!K13=\"\",\"\",Scores!K13)","v":""},{"$f":"IF(Scores!L13=\"\",\"\",Scores!L13)","v":0},{"$f":"IF(Scores!M13=\"\",\"\",Scores!M13)","v":""},{"$f":"IF(Scores!N13=\"\",\"\",Scores!N13)","v":""},{"$f":"IF(Scores!O13=\"\",\"\",Scores!O13)","v":0},{"$f":"IF(Scores!P13=\"\",\"\",Scores!P13)","v":""},{"$f":"IF(Scores!Q13=\"\",\"\",Scores!Q13)","v":""},{"$f":"IF(Scores!R13=\"\",\"\",Scores!R13)","v":0},{"$f":"IF(Scores!S13=\"\",\"\",Scores!S13)","v":""},{"$f":"IF(Scores!T13=\"\",\"\",Scores!T13)","v":""},{"$f":"IF(Scores!U13=\"\",\"\",Scores!U13)","v":0},{"$f":"IF(Scores!V13=\"\",\"\",Scores!V13)","v":""},{"$f":"IF(Scores!W13=\"\",\"\",Scores!W13)","v":""},{"$f":"IF(Scores!X13=\"\",\"\",Scores!X13)","v":0},{"$f":"IF(Scores!Y13=\"\",\"\",Scores!Y13)","v":""},{"$f":"IF(Scores!Z13=\"\",\"\",Scores!Z13)","v":""},{"$f":"IF(Scores!AA13=\"\",\"\",Scores!AA13)","v":0},"","","","","","","",{"$f":"IF(Table2[[#This Row],[SCORE]]=\"\",\"\",_xlfn.RANK.EQ(Table2[[#This Row],[SCORE]],Table2[SCORE],1))","v":""},"",""]
[10,{"$f":"IF(Scores!$C14=\"\",\"\",Scores!C14)","v":""},{"$f":"IF(Scores!D14=\"\",\"\",Scores!D14)","v":""},{"$f":"IF(Scores!F14=\"\",\"ZZ\",Scores!F14)","v":"ZZ"},{"$f":"IF(Scores!G14=\"\",\"\",Scores!G14)","v":""},{"$f":"IF(Scores!H14=\"\",\"\",Scores!H14)","v":""},{"$f":"IF(Scores!I14=\"\",\"\",Scores!I14)","v":""},{"$f":"IF(Scores!J14=\"\",\"\",Scores!J14)","v":""},{"$f":"IF(Scores!K14=\"\",\"\",Scores!K14)","v":""},{"$f":"IF(Scores!L14=\"\",\"\",Scores!L14)","v":0},{"$f":"IF(Scores!M14=\"\",\"\",Scores!M14)","v":""},{"$f":"IF(Scores!N14=\"\",\"\",Scores!N14)","v":""},{"$f":"IF(Scores!O14=\"\",\"\",Scores!O14)","v":0},{"$f":"IF(Scores!P14=\"\",\"\",Scores!P14)","v":""},{"$f":"IF(Scores!Q14=\"\",\"\",Scores!Q14)","v":""},{"$f":"IF(Scores!R14=\"\",\"\",Scores!R14)","v":0},{"$f":"IF(Scores!S14=\"\",\"\",Scores!S14)","v":""},{"$f":"IF(Scores!T14=\"\",\"\",Scores!T14)","v":""},{"$f":"IF(Scores!U14=\"\",\"\",Scores!U14)","v":0},{"$f":"IF(Scores!V14=\"\",\"\",Scores!V14)","v":""},{"$f":"IF(Scores!W14=\"\",\"\",Scores!W14)","v":""},{"$f":"IF(Scores!X14=\"\",\"\",Scores!X14)","v":0},{"$f":"IF(Scores!Y14=\"\",\"\",Scores!Y14)","v":""},{"$f":"IF(Scores!Z14=\"\",\"\",Scores!Z14)","v":""},{"$f":"IF(Scores!AA14=\"\",\"\",Scores!AA14)","v":0},"","","","","","","",{"$f":"IF(Table2[[#This Row],[SCORE]]=\"\",\"\",_xlfn.RANK.EQ(Table2[[#This Row],[SCORE]],Table2[SCORE],1))","v":""},"",""]
[11,{"$f":"IF(Scores!$C15=\"\",\"\",Scores!C15)","v":""},{"$f":"IF(Scores!D15=\"\",\"\",Scores!D15)","v":""},{"$f":"IF(Scores!F15=\"\",\"ZZ\",Scores!F15)","v":"ZZ"},{"$f":"IF(Scores!G15=\"\",\"\",Scores!G15)","v":""},{"$f":"IF(Scores!H15=\"\",\"\",Scores!H15)","v":""},{"$f":"IF(Scores!I15=\"\",\"\",Scores!I15)","v":""},{"$f":"IF(Scores!J15=\"\",\"\",Scores!J15)","v":""},{"$f":"IF(Scores!K15=\"\",\"\",Scores!K15)","v":""},{"$f":"IF(Scores!L15=\"\",\"\",Scores!L15)","v":0},{"$f":"IF(Scores!M15=\"\",\"\",Scores!M15)","v":""},{"$f":"IF(Scores!N15=\"\",\"\",Scores!N15)","v":""},{"$f":"IF(Scores!O15=\"\",\"\",Scores!O15)","v":0},{"$f":"IF(Scores!P15=\"\",\"\",Scores!P15)","v":""},{"$f":"IF(Scores!Q15=\"\",\"\",Scores!Q15)","v":""},{"$f":"IF(Scores!R15=\"\",\"\",Scores!R15)","v":0},{"$f":"IF(Scores!S15=\"\",\"\",Scores!S15)","v":""},{"$f":"IF(Scores!T15=\"\",\"\",Scores!T15)","v":""},{"$f":"IF(Scores!U15=\"\",\"\",Scores!U15)","v":0},{"$f":"IF(Scores!V15=\"\",\"\",Scores!V15)","v":""},{"$f":"IF(Scores!W15=\"\",\"\",Scores!W15)","v":""},{"$f":"IF(Scores!X15=\"\",\"\",Scores!X15)","v":0},{"$f":"IF(Scores!Y15=\"\",\"\",Scores!Y15)","v":""},{"$f":"IF(Scores!Z15=\"\",\"\",Scores!Z15)","v":""},{"$f":"IF(Scores!AA15=\"\",\"\",Scores!AA15)","v":0},"","","","","","","",{"$f":"IF(Table2[[#This Row],[SCORE]]=\"\",\"\",_xlfn.RANK.EQ(Table2[[#This Row],[SCORE]],Table2[SCORE],1))","v":""},"",""]
[12,{"$f":"IF(Scores!$C16=\"\",\"\",Scores!C16)","v":""},{"$f":"IF(Scores!D16=\"\",\"\",Scores!D16)","v":""},{"$f":"IF(Scores!F16=\"\",\"ZZ\",Scores!F16)","v":"ZZ"},{"$f":"IF(Scores!G16=\"\",\"\",Scores!G16)","v":""},{"$f":"IF(Scores!H16=\"\",\"\",Scores!H16)","v":""},{"$f":"IF(Scores!I16=\"\",\"\",Scores!I16)","v":""},{"$f":"IF(Scores!J16=\"\",\"\",Scores!J16)","v":""},{"$f":"IF(Scores!K16=\"\",\"\",Scores!K16)","v":""},{"$f":"IF(Scores!L16=\"\",\"\",Scores!L16)","v":0},{"$f":"IF(Scores!M16=\"\",\"\",Scores!M16)","v":""},{"$f":"IF(Scores!N16=\"\",\"\",Scores!N16)","v":""},{"$f":"IF(Scores!O16=\"\",\"\",Scores!O16)","v":0},{"$f":"IF(Scores!P16=\"\",\"\",Scores!P16)","v":""},{"$f":"IF(Scores!Q16=\"\",\"\",Scores!Q16)","v":""},{"$f":"IF(Scores!R16=\"\",\"\",Scores!R16)","v":0},{"$f":"IF(Scores!S16=\"\",\"\",Scores!S16)","v":""},{"$f":"IF(Scores!T16=\"\",\"\",Scores!T16)","v":""},{"$f":"IF(Scores!U16=\"\",\"\",Scores!U16)","v":0},{"$f":"IF(Scores!V16=\"\",\"\",Scores!V16)","v":""},{"$f":"IF(Scores!W16=\"\",\"\",Scores!W16)","v":""},{"$f":"IF(Scores!X16=\"\",\"\",Scores!X16)","v":0},{"$f":"IF(Scores!Y16=\"\",\"\",Scores!Y16)","v":""},{"$f":"IF(Scores!Z16=\"\",\"\",Scores!Z16)","v":""},{"$f":"IF(Scores!AA16=\"\",\"\",Scores!AA16)","v":0},"","","","","","","",{"$f":"IF(Table2[[#This Row],[SCORE]]=\"\",\"\",_xlfn.RANK.EQ(Table2[[#This Row],[SCORE]],Table2[SCORE],1))","v":""},"",""]
[13,{"$f":"IF(Scores!$C17=\"\",\"\",Scores!C17)","v":""},{"$f":"IF(Scores!D17=\"\",\"\",Scores!D17)","v":""},{"$f":"IF(Scores!F17=\"\",\"ZZ\",Scores!F17)","v":"ZZ"},{"$f":"IF(Scores!G17=\"\",\"\",Scores!G17)","v":""},{"$f":"IF(Scores!H17=\"\",\"\",Scores!H17)","v":""},{"$f":"IF(Scores!I17=\"\",\"\",Scores!I17)","v":""},{"$f":"IF(Scores!J17=\"\",\"\",Scores!J17)","v":""},{"$f":"IF(Scores!K17=\"\",\"\",Scores!K17)","v":""},{"$f":"IF(Scores!L17=\"\",\"\",Scores!L17)","v":0},{"$f":"IF(Scores!M17=\"\",\"\",Scores!M17)","v":""},{"$f":"IF(Scores!N17=\"\",\"\",Scores!N17)","v":""},{"$f":"IF(Scores!O17=\"\",\"\",Scores!O17)","v":0},{"$f":"IF(Scores!P17=\"\",\"\",Scores!P17)","v":""},{"$f":"IF(Scores!Q17=\"\",\"\",Scores!Q17)","v":""},{"$f":"IF(Scores!R17=\"\",\"\",Scores!R17)","v":0},{"$f":"IF(Scores!S17=\"\",\"\",Scores!S17)","v":""},{"$f":"IF(Scores!T17=\"\",\"\",Scores!T17)","v":""},{"$f":"IF(Scores!U17=\"\",\"\",Scores!U17)","v":0},{"$f":"IF(Scores!V17=\"\",\"\",Scores!V17)","v":""},{"$f":"IF(Scores!W17=\"\",\"\",Scores!W17)","v":""},{"$f":"IF(Scores!X17=\"\",\"\",Scores!X17)","v":0},{"$f":"IF(Scores!Y17=\"\",\"\",Scores!Y17)","v":""},{"$f":"IF(Scores!Z17=\"\",\"\",Scores!Z17)","v":""},{"$f":"IF(Scores!AA17=\"\",\"\",Scores!AA17)","v":0},"","","","","","","",{"$f":"IF(Table2[[#This Row],[SCORE]]=\"\",\"\",_xlfn.RANK.EQ(Table2[[#This Row],[SCORE]],Table2[SCORE],1))","v":""},"",""]
[14,{"$f":"IF(Scores!$C18=\"\",\"\",Scores!C18)","v":""},{"$f":"IF(Scores!D18=\"\",\"\",Scores!D18)","v":""},{"$f":"IF(Scores!F18=\"\",\"ZZ\",Scores!F18)","v":"ZZ"},{"$f":"IF(Scores!G18=\"\",\"\",Scores!G18)","v":""},{"$f":"IF(Scores!H18=\"\",\"\",Scores!H18)","v":""},{"$f":"IF(Scores!I18=\"\",\"\",Scores!I18)","v":""},{"$f":"IF(Scores!J18=\"\",\"\",Scores!J18)","v":""},{"$f":"IF(Scores!K18=\"\",\"\",Scores!K18)","v":""},{"$f":"IF(Scores!L18=\"\",\"\",Scores!L18)","v":0},{"$f":"IF(Scores!M18=\"\",\"\",Scores!M18)","v":""},{"$f":"IF(Scores!N18=\"\",\"\",Scores!N18)","v":""},{"$f":"IF(Scores!O18=\"\",\"\",Scores!O18)","v":0},{"$f":"IF(Scores!P18=\"\",\"\",Scores!P18)","v":""},{"$f":"IF(Scores!Q18=\"\",\"\",Scores!Q18)","v":""},{"$f":"IF(Scores!R18=\"\",\"\",Scores!R18)","v":0},{"$f":"IF(Scores!S18=\"\",\"\",Scores!S18)","v":""},{"$f":"IF(Scores!T18=\"\",\"\",Scores!T18)","v":""},{"$f":"IF(Scores!U18=\"\",\"\",Scores!U18)","v":0},{"$f":"IF(Scores!V18=\"\",\"\",Scores!V18)","v":""},{"$f":"IF(Scores!W18=\"\",\"\",Scores!W18)","v":""},{"$f":"IF(Scores!X18=\"\",\"\",Scores!X18)","v":0},{"$f":"IF(Scores!Y18=\"\",\"\",Scores!Y18)","v":""},{"$f":"IF(Scores!Z18=\"\",\"\",Scores!Z18)","v":""},{"$f":"IF(Scores!AA18=\"\",\"\",Scores!AA18)","v":0},"","","","","","","",{"$f":"IF(Table2[[#This Row],[SCORE]]=\"\",\"\",_xlfn.RANK.EQ(Table2[[#This Row],[SCORE]],Table2[SCORE],1))","v":""},"",""]
[15,{"$f":"IF(Scores!$C19=\"\",\"\",Scores!C19)","v":""},{"$f":"IF(Scores!D19=\"\",\"\",Scores!D19)","v":""},{"$f":"IF(Scores!F19=\"\",\"ZZ\",Scores!F19)","v":"ZZ"},{"$f":"IF(Scores!G19=\"\",\"\",Scores!G19)","v":""},{"$f":"IF(Scores!H19=\"\",\"\",Scores!H19)","v":""},{"$f":"IF(Scores!I19=\"\",\"\",Scores!I19)","v":""},{"$f":"IF(Scores!J19=\"\",\"\",Scores!J19)","v":""},{"$f":"IF(Scores!K19=\"\",\"\",Scores!K19)","v":""},{"$f":"IF(Scores!L19=\"\",\"\",Scores!L19)","v":0},{"$f":"IF(Scores!M19=\"\",\"\",Scores!M19)","v":""},{"$f":"IF(Scores!N19=\"\",\"\",Scores!N19)","v":""},{"$f":"IF(Scores!O19=\"\",\"\",Scores!O19)","v":0},{"$f":"IF(Scores!P19=\"\",\"\",Scores!P19)","v":""},{"$f":"IF(Scores!Q19=\"\",\"\",Scores!Q19)","v":""},{"$f":"IF(Scores!R19=\"\",\"\",Scores!R19)","v":0},{"$f":"IF(Scores!S19=\"\",\"\",Scores!S19)","v":""},{"$f":"IF(Scores!T19=\"\",\"\",Scores!T19)","v":""},{"$f":"IF(Scores!U19=\"\",\"\",Scores!U19)","v":0},{"$f":"IF(Scores!V19=\"\",\"\",Scores!V19)","v":""},{"$f":"IF(Scores!W19=\"\",\"\",Scores!W19)","v":""},{"$f":"IF(Scores!X19=\"\",\"\",Scores!X19)","v":0},{"$f":"IF(Scores!Y19=\"\",\"\",Scores!Y19)","v":""},{"$f":"IF(Scores!Z19=\"\",\"\",Scores!Z19)","v":""},{"$f":"IF(Scores!AA19=\"\",\"\",Scores!AA19)","v":0},"","","","","","","",{"$f":"IF(Table2[[#This Row],[SCORE]]=\"\",\"\",_xlfn.RANK.EQ(Table2[[#This Row],[SCORE]],Table2[SCORE],1))","v":""},"",""]
[16,{"$f":"IF(Scores!$C20=\"\",\"\",Scores!C20)","v":""},{"$f":"IF(Scores!D20=\"\",\"\",Scores!D20)","v":""},{"$f":"IF(Scores!F20=\"\",\"ZZ\",Scores!F20)","v":"ZZ"},{"$f":"IF(Scores!G20=\"\",\"\",Scores!G20)","v":""},{"$f":"IF(Scores!H20=\"\",\"\",Scores!H20)","v":""},{"$f":"IF(Scores!I20=\"\",\"\",Scores!I20)","v":""},{"$f":"IF(Scores!J20=\"\",\"\",Scores!J20)","v":""},{"$f":"IF(Scores!K20=\"\",\"\",Scores!K20)","v":""},{"$f":"IF(Scores!L20=\"\",\"\",Scores!L20)","v":0},{"$f":"IF(Scores!M20=\"\",\"\",Scores!M20)","v":""},{"$f":"IF(Scores!N20=\"\",\"\",Scores!N20)","v":""},{"$f":"IF(Scores!O20=\"\",\"\",Scores!O20)","v":0},{"$f":"IF(Scores!P20=\"\",\"\",Scores!P20)","v":""},{"$f":"IF(Scores!Q20=\"\",\"\",Scores!Q20)","v":""},{"$f":"IF(Scores!R20=\"\",\"\",Scores!R20)","v":0},{"$f":"IF(Scores!S20=\"\",\"\",Scores!S20)","v":""},{"$f":"IF(Scores!T20=\"\",\"\",Scores!T20)","v":""},{"$f":"IF(Scores!U20=\"\",\"\",Scores!U20)","v":0},{"$f":"IF(Scores!V20=\"\",\"\",Scores!V20)","v":""},{"$f":"IF(Scores!W20=\"\",\"\",Scores!W20)","v":""},{"$f":"IF(Scores!X20=\"\",\"\",Scores!X20)","v":0},{"$f":"IF(Scores!Y20=\"\",\"\",Scores!Y20)","v":""},{"$f":"IF(Scores!Z20=\"\",\"\",Scores!Z20)","v":""},{"$f":"IF(Scores!AA20=\"\",\"\",Scores!AA20)","v":0},"","","","","","","",{"$f":"IF(Table2[[#This Row],[SCORE]]=\"\",\"\",_xlfn.RANK.EQ(Table2[[#This Row],[SCORE]],Table2[SCORE],1))","v":""},"",""]
[17,{"$f":"IF(Scores!$C21=\"\",\"\",Scores!C21)","v":""},{"$f":"IF(Scores!D21=\"\",\"\",Scores!D21)","v":""},{"$f":"IF(Scores!F21=\"\",\"ZZ\",Scores!F21)","v":"ZZ"},{"$f":"IF(Scores!G21=\"\",\"\",Scores!G21)","v":""},{"$f":"IF(Scores!H21=\"\",\"\",Scores!H21)","v":""},{"$f":"IF(Scores!I21=\"\",\"\",Scores!I21)","v":""},{"$f":"IF(Scores!J21=\"\",\"\",Scores!J21)","v":""},{"$f":"IF(Scores!K21=\"\",\"\",Scores!K21)","v":""},{"$f":"IF(Scores!L21=\"\",\"\",Scores!L21)","v":0},{"$f":"IF(Scores!M21=\"\",\"\",Scores!M21)","v":""},{"$f":"IF(Scores!N21=\"\",\"\",Scores!N21)","v":""},{"$f":"IF(Scores!O21=\"\",\"\",Scores!O21)","v":0},{"$f":"IF(Scores!P21=\"\",\"\",Scores!P21)","v":""},{"$f":"IF(Scores!Q21=\"\",\"\",Scores!Q21)","v":""},{"$f":"IF(Scores!R21=\"\",\"\",Scores!R21)","v":0},{"$f":"IF(Scores!S21=\"\",\"\",Scores!S21)","v":""},{"$f":"IF(Scores!T21=\"\",\"\",Scores!T21)","v":""},{"$f":"IF(Scores!U21=\"\",\"\",Scores!U21)","v":0},{"$f":"IF(Scores!V21=\"\",\"\",Scores!V21)","v":""},{"$f":"IF(Scores!W21=\"\",\"\",Scores!W21)","v":""},{"$f":"IF(Scores!X21=\"\",\"\",Scores!X21)","v":0},{"$f":"IF(Scores!Y21=\"\",\"\",Scores!Y21)","v":""},{"$f":"IF(Scores!Z21=\"\",\"\",Scores!Z21)","v":""},{"$f":"IF(Scores!AA21=\"\",\"\",Scores!AA21)","v":0},"","","","","","","",{"$f":"IF(Table2[[#This Row],[SCORE]]=\"\",\"\",_xlfn.RANK.EQ(Table2[[#This Row],[SCORE]],Table2[SCORE],1))","v":""},"",""]
[18,{"$f":"IF(Scores!$C22=\"\",\"\",Scores!C22)","v":""},{"$f":"IF(Scores!D22=\"\",\"\",Scores!D22)","v":""},{"$f":"IF(Scores!F22=\"\",\"ZZ\",Scores!F22)","v":"ZZ"},{"$f":"IF(Scores!G22=\"\",\"\",Scores!G22)","v":""},{"$f":"IF(Scores!H22=\"\",\"\",Scores!H22)","v":""},{"$f":"IF(Scores!I22=\"\",\"\",Scores!I22)","v":""},{"$f":"IF(Scores!J22=\"\",\"\",Scores!J22)","v":""},{"$f":"IF(Scores!K22=\"\",\"\",Scores!K22)","v":""},{"$f":"IF(Scores!L22=\"\",\"\",Scores!L22)","v":0},{"$f":"IF(Scores!M22=\"\",\"\",Scores!M22)","v":""},{"$f":"IF(Scores!N22=\"\",\"\",Scores!N22)","v":""},{"$f":"IF(Scores!O22=\"\",\"\",Scores!O22)","v":0},{"$f":"IF(Scores!P22=\"\",\"\",Scores!P22)","v":""},{"$f":"IF(Scores!Q22=\"\",\"\",Scores!Q22)","v":""},{"$f":"IF(Scores!R22=\"\",\"\",Scores!R22)","v":0},{"$f":"IF(Scores!S22=\"\",\"\",Scores!S22)","v":""},{"$f":"IF(Scores!T22=\"\",\"\",Scores!T22)","v":""},{"$f":"IF(Scores!U22=\"\",\"\",Scores!U22)","v":0},{"$f":"IF(Scores!V22=\"\",\"\",Scores!V22)","v":""},{"$f":"IF(Scores!W22=\"\",\"\",Scores!W22)","v":""},{"$f":"IF(Scores!X22=\"\",\"\",Scores!X22)","v":0},{"$f":"IF(Scores!Y22=\"\",\"\",Scores!Y22)","v":""},{"$f":"IF(Scores!Z22=\"\",\"\",Scores!Z22)","v":""},{"$f":"IF(Scores!AA22=\"\",\"\",Scores!AA22)","v":0},"","","","","","","",{"$f":"IF(Table2[[#This Row],[SCORE]]=\"\",\"\",_xlfn.RANK.EQ(Table2[[#This Row],[SCORE]],Table2[SCORE],1))","v":""},"",""]
[19,{"$f":"IF(Scores!$C23=\"\",\"\",Scores!C23)","v":""},{"$f":"IF(Scores!D23=\"\",\"\",Scores!D23)","v":""},{"$f":"IF(Scores!F23=\"\",\"ZZ\",Scores!F23)","v":"ZZ"},{"$f":"IF(Scores!G23=\"\",\"\",Scores!G23)","v":""},{"$f":"IF(Scores!H23=\"\",\"\",Scores!H23)","v":""},{"$f":"IF(Scores!I23=\"\",\"\",Scores!I23)","v":""},{"$f":"IF(Scores!J23=\"\",\"\",Scores!J23)","v":""},{"$f":"IF(Scores!K23=\"\",\"\",Scores!K23)","v":""},{"$f":"IF(Scores!L23=\"\",\"\",Scores!L23)","v":0},{"$f":"IF(Scores!M23=\"\",\"\",Scores!M23)","v":""},{"$f":"IF(Scores!N23=\"\",\"\",Scores!N23)","v":""},{"$f":"IF(Scores!O23=\"\",\"\",Scores!O23)","v":0},{"$f":"IF(Scores!P23=\"\",\"\",Scores!P23)","v":""},{"$f":"IF(Scores!Q23=\"\",\"\",Scores!Q23)","v":""},{"$f":"IF(Scores!R23=\"\",\"\",Scores!R23)","v":0},{"$f":"IF(Scores!S23=\"\",\"\",Scores!S23)","v":""},{"$f":"IF(Scores!T23=\"\",\"\",Scores!T23)","v":""},{"$f":"IF(Scores!U23=\"\",\"\",Scores!U23)","v":0},{"$f":"IF(Scores!V23=\"\",\"\",Scores!V23)","v":""},{"$f":"IF(Scores!W23=\"\",\"\",Scores!W23)","v":""},{"$f":"IF(Scores!X23=\"\",\"\",Scores!X23)","v":0},{"$f":"IF(Scores!Y23=\"\",\"\",Scores!Y23)","v":""},{"$f":"IF(Scores!Z23=\"\",\"\",Scores!Z23)","v":""},{"$f":"IF(Scores!AA23=\"\",\"\",Scores!AA23)","v":0},"","","","","","","",{"$f":"IF(Table2[[#This Row],[SCORE]]=\"\",\"\",_xlfn.RANK.EQ(Table2[[#This Row],[SCORE]],Table2[SCORE],1))","v":""},"",""]
[20,{"$f":"IF(Scores!$C24=\"\",\"\",Scores!C24)","v":""},{"$f":"IF(Scores!D24=\"\",\"\",Scores!D24)","v":""},{"$f":"IF(Scores!F24=\"\",\"ZZ\",Scores!F24)","v":"ZZ"},{"$f":"IF(Scores!G24=\"\",\"\",Scores!G24)","v":""},{"$f":"IF(Scores!H24=\"\",\"\",Scores!H24)","v":""},{"$f":"IF(Scores!I24=\"\",\"\",Scores!I24)","v":""},{"$f":"IF(Scores!J24=\"\",\"\",Scores!J24)","v":""},{"$f":"IF(Scores!K24=\"\",\"\",Scores!K24)","v":""},{"$f":"IF(Scores!L24=\"\",\"\",Scores!L24)","v":0},{"$f":"IF(Scores!M24=\"\",\"\",Scores!M24)","v":""},{"$f":"IF(Scores!N24=\"\",\"\",Scores!N24)","v":""},{"$f":"IF(Scores!O24=\"\",\"\",Scores!O24)","v":0},{"$f":"IF(Scores!P24=\"\",\"\",Scores!P24)","v":""},{"$f":"IF(Scores!Q24=\"\",\"\",Scores!Q24)","v":""},{"$f":"IF(Scores!R24=\"\",\"\",Scores!R24)","v":0},{"$f":"IF(Scores!S24=\"\",\"\",Scores!S24)","v":""},{"$f":"IF(Scores!T24=\"\",\"\",Scores!T24)","v":""},{"$f":"IF(Scores!U24=\"\",\"\",Scores!U24)","v":0},{"$f":"IF(Scores!V24=\"\",\"\",Scores!V24)","v":""},{"$f":"IF(Scores!W24=\"\",\"\",Scores!W24)","v":""},{"$f":"IF(Scores!X24=\"\",\"\",Scores!X24)","v":0},{"$f":"IF(Scores!Y24=\"\",\"\",Scores!Y24)","v":""},{"$f":"IF(Scores!Z24=\"\",\"\",Scores!Z24)","v":""},{"$f":"IF(Scores!AA24=\"\",\"\",Scores!AA24)","v":0},"","","","","","","",{"$f":"IF(Table2[[#This Row],[SCORE]]=\"\",\"\",_xlfn.RANK.EQ(Table2[[#This Row],[SCORE]],Table2[SCORE],1))","v":""},"",""]
[21,{"$f":"IF(Scores!$C25=\"\",\"\",Scores!C25)","v":""},{"$f":"IF(Scores!D25=\"\",\"\",Scores!D25)","v":""},{"$f":"IF(Scores!F25=\"\",\"ZZ\",Scores!F25)","v":"ZZ"},{"$f":"IF(Scores!G25=\"\",\"\",Scores!G25)","v":""},{"$f":"IF(Scores!H25=\"\",\"\",Scores!H25)","v":""},{"$f":"IF(Scores!I25=\"\",\"\",Scores!I25)","v":""},{"$f":"IF(Scores!J25=\"\",\"\",Scores!J25)","v":""},{"$f":"IF(Scores!K25=\"\",\"\",Scores!K25)","v":""},{"$f":"IF(Scores!L25=\"\",\"\",Scores!L25)","v":0},{"$f":"IF(Scores!M25=\"\",\"\",Scores!M25)","v":""},{"$f":"IF(Scores!N25=\"\",\"\",Scores!N25)","v":""},{"$f":"IF(Scores!O25=\"\",\"\",Scores!O25)","v":0},{"$f":"IF(Scores!P25=\"\",\"\",Scores!P25)","v":""},{"$f":"IF(Scores!Q25=\"\",\"\",Scores!Q25)","v":""},{"$f":"IF(Scores!R25=\"\",\"\",Scores!R25)","v":0},{"$f":"IF(Scores!S25=\"\",\"\",Scores!S25)","v":""},{"$f":"IF(Scores!T25=\"\",\"\",Scores!T25)","v":""},{"$f":"IF(Scores!U25=\"\",\"\",Scores!U25)","v":0},{"$f":"IF(Scores!V25=\"\",\"\",Scores!V25)","v":""},{"$f":"IF(Scores!W25=\"\",\"\",Scores!W25)","v":""},{"$f":"IF(Scores!X25=\"\",\"\",Scores!X25)","v":0},{"$f":"IF(Scores!Y25=\"\",\"\",Scores!Y25)","v":""},{"$f":"IF(Scores!Z25=\"\",\"\",Scores!Z25)","v":""},{"$f":"IF(Scores!AA25=\"\",\"\",Scores!AA25)","v":0},"","","","","","","",{"$f":"IF(Table2[[#This Row],[SCORE]]=\"\",\"\",_xlfn.RANK.EQ(Table2[[#This Row],[SCORE]],Table2[SCORE],1))","v":""},"",""]
[22,{"$f":"IF(Scores!$C26=\"\",\"\",Scores!C26)","v":""},{"$f":"IF(Scores!D26=\"\",\"\",Scores!D26)","v":""},{"$f":"IF(Scores!F26=\"\",\"ZZ\",Scores!F26)","v":"ZZ"},{"$f":"IF(Scores!G26=\"\",\"\",Scores!G26)","v":""},{"$f":"IF(Scores!H26=\"\",\"\",Scores!H26)","v":""},{"$f":"IF(Scores!I26=\"\",\"\",Scores!I26)","v":""},{"$f":"IF(Scores!J26=\"\",\"\",Scores!J26)","v":""},{"$f":"IF(Scores!K26=\"\",\"\",Scores!K26)","v":""},{"$f":"IF(Scores!L26=\"\",\"\",Scores!L26)","v":0},{"$f":"IF(Scores!M26=\"\",\"\",Scores!M26)","v":""},{"$f":"IF(Scores!N26=\"\",\"\",Scores!N26)","v":""},{"$f":"IF(Scores!O26=\"\",\"\",Scores!O26)","v":0},{"$f":"IF(Scores!P26=\"\",\"\",Scores!P26)","v":""},{"$f":"IF(Scores!Q26=\"\",\"\",Scores!Q26)","v":""},{"$f":"IF(Scores!R26=\"\",\"\",Scores!R26)","v":0},{"$f":"IF(Scores!S26=\"\",\"\",Scores!S26)","v":""},{"$f":"IF(Scores!T26=\"\",\"\",Scores!T26)","v":""},{"$f":"IF(Scores!U26=\"\",\"\",Scores!U26)","v":0},{"$f":"IF(Scores!V26=\"\",\"\",Scores!V26)","v":""},{"$f":"IF(Scores!W26=\"\",\"\",Scores!W26)","v":""},{"$f":"IF(Scores!X26=\"\",\"\",Scores!X26)","v":0},{"$f":"IF(Scores!Y26=\"\",\"\",Scores!Y26)","v":""},{"$f":"IF(Scores!Z26=\"\",\"\",Scores!Z26)","v":""},{"$f":"IF(Scores!AA26=\"\",\"\",Scores!AA26)","v":0},"","","","","","","",{"$f":"IF(Table2[[#This Row],[SCORE]]=\"\",\"\",_xlfn.RANK.EQ(Table2[[#This Row],[SCORE]],Table2[SCORE],1))","v":""},"",""]
[23,{"$f":"IF(Scores!$C27=\"\",\"\",Scores!C27)","v":""},{"$f":"IF(Scores!D27=\"\",\"\",Scores!D27)","v":""},{"$f":"IF(Scores!F27=\"\",\"ZZ\",Scores!F27)","v":"ZZ"},{"$f":"IF(Scores!G27=\"\",\"\",Scores!G27)","v":""},{"$f":"IF(Scores!H27=\"\",\"\",Scores!H27)","v":""},{"$f":"IF(Scores!I27=\"\",\"\",Scores!I27)","v":""},{"$f":"IF(Scores!J27=\"\",\"\",Scores!J27)","v":""},{"$f":"IF(Scores!K27=\"\",\"\",Scores!K27)","v":""},{"$f":"IF(Scores!L27=\"\",\"\",Scores!L27)","v":0},{"$f":"IF(Scores!M27=\"\",\"\",Scores!M27)","v":""},{"$f":"IF(Scores!N27=\"\",\"\",Scores!N27)","v":""},{"$f":"IF(Scores!O27=\"\",\"\",Scores!O27)","v":0},{"$f":"IF(Scores!P27=\"\",\"\",Scores!P27)","v":""},{"$f":"IF(Scores!Q27=\"\",\"\",Scores!Q27)","v":""},{"$f":"IF(Scores!R27=\"\",\"\",Scores!R27)","v":0},{"$f":"IF(Scores!S27=\"\",\"\",Scores!S27)","v":""},{"$f":"IF(Scores!T27=\"\",\"\",Scores!T27)","v":""},{"$f":"IF(Scores!U27=\"\",\"\",Scores!U27)","v":0},{"$f":"IF(Scores!V27=\"\",\"\",Scores!V27)","v":""},{"$f":"IF(Scores!W27=\"\",\"\",Scores!W27)","v":""},{"$f":"IF(Scores!X27=\"\",\"\",Scores!X27)","v":0},{"$f":"IF(Scores!Y27=\"\",\"\",Scores!Y27)","v":""},{"$f":"IF(Scores!Z27=\"\",\"\",Scores!Z27)","v":""},{"$f":"IF(Scores!AA27=\"\",\"\",Scores!AA27)","v":0},"","","","","","","",{"$f":"IF(Table2[[#This Row],[SCORE]]=\"\",\"\",_xlfn.RANK.EQ(Table2[[#This Row],[SCORE]],Table2[SCORE],1))","v":""},"",""]
[24,{"$f":"IF(Scores!$C28=\"\",\"\",Scores!C28)","v":""},{"$f":"IF(Scores!D28=\"\",\"\",Scores!D28)","v":""},{"$f":"IF(Scores!F28=\"\",\"ZZ\",Scores!F28)","v":"ZZ"},{"$f":"IF(Scores!G28=\"\",\"\",Scores!G28)","v":""},{"$f":"IF(Scores!H28=\"\",\"\",Scores!H28)","v":""},{"$f":"IF(Scores!I28=\"\",\"\",Scores!I28)","v":""},{"$f":"IF(Scores!J28=\"\",\"\",Scores!J28)","v":""},{"$f":"IF(Scores!K28=\"\",\"\",Scores!K28)","v":""},{"$f":"IF(Scores!L28=\"\",\"\",Scores!L28)","v":0},{"$f":"IF(Scores!M28=\"\",\"\",Scores!M28)","v":""},{"$f":"IF(Scores!N28=\"\",\"\",Scores!N28)","v":""},{"$f":"IF(Scores!O28=\"\",\"\",Scores!O28)","v":0},{"$f":"IF(Scores!P28=\"\",\"\",Scores!P28)","v":""},{"$f":"IF(Scores!Q28=\"\",\"\",Scores!Q28)","v":""},{"$f":"IF(Scores!R28=\"\",\"\",Scores!R28)","v":0},{"$f":"IF(Scores!S28=\"\",\"\",Scores!S28)","v":""},{"$f":"IF(Scores!T28=\"\",\"\",Scores!T28)","v":""},{"$f":"IF(Scores!U28=\"\",\"\",Scores!U28)","v":0},{"$f":"IF(Scores!V28=\"\",\"\",Scores!V28)","v":""},{"$f":"IF(Scores!W28=\"\",\"\",Scores!W28)","v":""},{"$f":"IF(Scores!X28=\"\",\"\",Scores!X28)","v":0},{"$f":"IF(Scores!Y28=\"\",\"\",Scores!Y28)","v":""},{"$f":"IF(Scores!Z28=\"\",\"\",Scores!Z28)","v":""},{"$f":"IF(Scores!AA28=\"\",\"\",Scores!AA28)","v":0},"","","","","","","",{"$f":"IF(Table2[[#This Row],[SCORE]]=\"\",\"\",_xlfn.RANK.EQ(Table2[[#This Row],[SCORE]],Table2[SCORE],1))","v":""},"",""]
[25,{"$f":"IF(Scores!$C29=\"\",\"\",Scores!C29)","v":""},{"$f":"IF(Scores!D29=\"\",\"\",Scores!D29)","v":""},{"$f":"IF(Scores!F29=\"\",\"ZZ\",Scores!F29)","v":"ZZ"},{"$f":"IF(Scores!G29=\"\",\"\",Scores!G29)","v":""},{"$f":"IF(Scores!H29=\"\",\"\",Scores!H29)","v":""},{"$f":"IF(Scores!I29=\"\",\"\",Scores!I29)","v":""},{"$f":"IF(Scores!J29=\"\",\"\",Scores!J29)","v":""},{"$f":"IF(Scores!K29=\"\",\"\",Scores!K29)","v":""},{"$f":"IF(Scores!L29=\"\",\"\",Scores!L29)","v":0},{"$f":"IF(Scores!M29=\"\",\"\",Scores!M29)","v":""},{"$f":"IF(Scores!N29=\"\",\"\",Scores!N29)","v":""},{"$f":"IF(Scores!O29=\"\",\"\",Scores!O29)","v":0},{"$f":"IF(Scores!P29=\"\",\"\",Scores!P29)","v":""},{"$f":"IF(Scores!Q29=\"\",\"\",Scores!Q29)","v":""},{"$f":"IF(Scores!R29=\"\",\"\",Scores!R29)","v":0},{"$f":"IF(Scores!S29=\"\",\"\",Scores!S29)","v":""},{"$f":"IF(Scores!T29=\"\",\"\",Scores!T29)","v":""},{"$f":"IF(Scores!U29=\"\",\"\",Scores!U29)","v":0},{"$f":"IF(Scores!V29=\"\",\"\",Scores!V29)","v":""},{"$f":"IF(Scores!W29=\"\",\"\",Scores!W29)","v":""},{"$f":"IF(Scores!X29=\"\",\"\",Scores!X29)","v":0},{"$f":"IF(Scores!Y29=\"\",\"\",Scores!Y29)","v":""},{"$f":"IF(Scores!Z29=\"\",\"\",Scores!Z29)","v":""},{"$f":"IF(Scores!AA29=\"\",\"\",Scores!AA29)","v":0},"","","","","","","",{"$f":"IF(Table2[[#This Row],[SCORE]]=\"\",\"\",_xlfn.RANK.EQ(Table2[[#This Row],[SCORE]],Table2[SCORE],1))","v":""},"",""]
[26,{"$f":"IF(Scores!$C30=\"\",\"\",Scores!C30)","v":""},{"$f":"IF(Scores!D30=\"\",\"\",Scores!D30)","v":""},{"$f":"IF(Scores!F30=\"\",\"ZZ\",Scores!F30)","v":"ZZ"},{"$f":"IF(Scores!G30=\"\",\"\",Scores!G30)","v":""},{"$f":"IF(Scores!H30=\"\",\"\",Scores!H30)","v":""},{"$f":"IF(Scores!I30=\"\",\"\",Scores!I30)","v":""},{"$f":"IF(Scores!J30=\"\",\"\",Scores!J30)","v":""},{"$f":"IF(Scores!K30=\"\",\"\",Scores!K30)","v":""},{"$f":"IF(Scores!L30=\"\",\"\",Scores!L30)","v":0},{"$f":"IF(Scores!M30=\"\",\"\",Scores!M30)","v":""},{"$f":"IF(Scores!N30=\"\",\"\",Scores!N30)","v":""},{"$f":"IF(Scores!O30=\"\",\"\",Scores!O30)","v":0},{"$f":"IF(Scores!P30=\"\",\"\",Scores!P30)","v":""},{"$f":"IF(Scores!Q30=\"\",\"\",Scores!Q30)","v":""},{"$f":"IF(Scores!R30=\"\",\"\",Scores!R30)","v":0},{"$f":"IF(Scores!S30=\"\",\"\",Scores!S30)","v":""},{"$f":"IF(Scores!T30=\"\",\"\",Scores!T30)","v":""},{"$f":"IF(Scores!U30=\"\",\"\",Scores!U30)","v":0},{"$f":"IF(Scores!V30=\"\",\"\",Scores!V30)","v":""},{"$f":"IF(Scores!W30=\"\",\"\",Scores!W30)","v":""},{"$f":"IF(Scores!X30=\"\",\"\",Scores!X30)","v":0},{"$f":"IF(Scores!Y30=\"\",\"\",Scores!Y30)","v":""},{"$f":"IF(Scores!Z30=\"\",\"\",Scores!Z30)","v":""},{"$f":"IF(Scores!AA30=\"\",\"\",Scores!AA30)","v":0},"","","","","","","",{"$f":"IF(Table2[[#This Row],[SCORE]]=\"\",\"\",_xlfn.RANK.EQ(Table2[[#This Row],[SCORE]],Table2[SCORE],1))","v":""},"",""]
[27,{"$f":"IF(Scores!$C31=\"\",\"\",Scores!C31)","v":""},{"$f":"IF(Scores!D31=\"\",\"\",Scores!D31)","v":""},{"$f":"IF(Scores!F31=\"\",\"ZZ\",Scores!F31)","v":"ZZ"},{"$f":"IF(Scores!G31=\"\",\"\",Scores!G31)","v":""},{"$f":"IF(Scores!H31=\"\",\"\",Scores!H31)","v":""},{"$f":"IF(Scores!I31=\"\",\"\",Scores!I31)","v":""},{"$f":"IF(Scores!J31=\"\",\"\",Scores!J31)","v":""},{"$f":"IF(Scores!K31=\"\",\"\",Scores!K31)","v":""},{"$f":"IF(Scores!L31=\"\",\"\",Scores!L31)","v":0},{"$f":"IF(Scores!M31=\"\",\"\",Scores!M31)","v":""},{"$f":"IF(Scores!N31=\"\",\"\",Scores!N31)","v":""},{"$f":"IF(Scores!O31=\"\",\"\",Scores!O31)","v":0},{"$f":"IF(Scores!P31=\"\",\"\",Scores!P31)","v":""},{"$f":"IF(Scores!Q31=\"\",\"\",Scores!Q31)","v":""},{"$f":"IF(Scores!R31=\"\",\"\",Scores!R31)","v":0},{"$f":"IF(Scores!S31=\"\",\"\",Scores!S31)","v":""},{"$f":"IF(Scores!T31=\"\",\"\",Scores!T31)","v":""},{"$f":"IF(Scores!U31=\"\",\"\",Scores!U31)","v":0},{"$f":"IF(Scores!V31=\"\",\"\",Scores!V31)","v":""},{"$f":"IF(Scores!W31=\"\",\"\",Scores!W31)","v":""},{"$f":"IF(Scores!X31=\"\",\"\",Scores!X31)","v":0},{"$f":"IF(Scores!Y31=\"\",\"\",Scores!Y31)","v":""},{"$f":"IF(Scores!Z31=\"\",\"\",Scores!Z31)","v":""},{"$f":"IF(Scores!AA31=\"\",\"\",Scores!AA31)","v":0},"","","","","","","",{"$f":"IF(Table2[[#This Row],[SCORE]]=\"\",\"\",_xlfn.RANK.EQ(Table2[[#This Row],[SCORE]],Table2[SCORE],1))","v":""},"",""]
[28,{"$f":"IF(Scores!$C32=\"\",\"\",Scores!C32)","v":""},{"$f":"IF(Scores!D32=\"\",\"\",Scores!D32)","v":""},{"$f":"IF(Scores!F32=\"\",\"ZZ\",Scores!F32)","v":"ZZ"},{"$f":"IF(Scores!G32=\"\",\"\",Scores!G32)","v":""},{"$f":"IF(Scores!H32=\"\",\"\",Scores!H32)","v":""},{"$f":"IF(Scores!I32=\"\",\"\",Scores!I32)","v":""},{"$f":"IF(Scores!J32=\"\",\"\",Scores!J32)","v":""},{"$f":"IF(Scores!K32=\"\",\"\",Scores!K32)","v":""},{"$f":"IF(Scores!L32=\"\",\"\",Scores!L32)","v":0},{"$f":"IF(Scores!M32=\"\",\"\",Scores!M32)","v":""},{"$f":"IF(Scores!N32=\"\",\"\",Scores!N32)","v":""},{"$f":"IF(Scores!O32=\"\",\"\",Scores!O32)","v":0},{"$f":"IF(Scores!P32=\"\",\"\",Scores!P32)","v":""},{"$f":"IF(Scores!Q32=\"\",\"\",Scores!Q32)","v":""},{"$f":"IF(Scores!R32=\"\",\"\",Scores!R32)","v":0},{"$f":"IF(Scores!S32=\"\",\"\",Scores!S32)","v":""},{"$f":"IF(Scores!T32=\"\",\"\",Scores!T32)","v":""},{"$f":"IF(Scores!U32=\"\",\"\",Scores!U32)","v":0},{"$f":"IF(Scores!V32=\"\",\"\",Scores!V32)","v":""},{"$f":"IF(Scores!W32=\"\",\"\",Scores!W32)","v":""},{"$f":"IF(Scores!X32=\"\",\"\",Scores!X32)","v":0},{"$f":"IF(Scores!Y32=\"\",\"\",Scores!Y32)","v":""},{"$f":"IF(Scores!Z32=\"\",\"\",Scores!Z32)","v":""},{"$f":"IF(Scores!AA32=\"\",\"\",Scores!AA32)","v":0},"","","","","","","",{"$f":"IF(Table2[[#This Row],[SCORE]]=\"\",\"\",_xlfn.RANK.EQ(Table2[[#This Row],[SCORE]],Table2[SCORE],1))","v":""},"",""]
[29,{"$f":"IF(Scores!$C33=\"\",\"\",Scores!C33)","v":""},{"$f":"IF(Scores!D33=\"\",\"\",Scores!D33)","v":""},{"$f":"IF(Scores!F33=\"\",\"ZZ\",Scores!F33)","v":"ZZ"},{"$f":"IF(Scores!G33=\"\",\"\",Scores!G33)","v":""},{"$f":"IF(Scores!H33=\"\",\"\",Scores!H33)","v":""},{"$f":"IF(Scores!I33=\"\",\"\",Scores!I33)","v":""},{"$f":"IF(Scores!J33=\"\",\"\",Scores!J33)","v":""},{"$f":"IF(Scores!K33=\"\",\"\",Scores!K33)","v":""},{"$f":"IF(Scores!L33=\"\",\"\",Scores!L33)","v":0},{"$f":"IF(Scores!M33=\"\",\"\",Scores!M33)","v":""},{"$f":"IF(Scores!N33=\"\",\"\",Scores!N33)","v":""},{"$f":"IF(Scores!O33=\"\",\"\",Scores!O33)","v":0},{"$f":"IF(Scores!P33=\"\",\"\",Scores!P33)","v":""},{"$f":"IF(Scores!Q33=\"\",\"\",Scores!Q33)","v":""},{"$f":"IF(Scores!R33=\"\",\"\",Scores!R33)","v":0},{"$f":"IF(Scores!S33=\"\",\"\",Scores!S33)","v":""},{"$f":"IF(Scores!T33=\"\",\"\",Scores!T33)","v":""},{"$f":"IF(Scores!U33=\"\",\"\",Scores!U33)","v":0},{"$f":"IF(Scores!V33=\"\",\"\",Scores!V33)","v":""},{"$f":"IF(Scores!W33=\"\",\"\",Scores!W33)","v":""},{"$f":"IF(Scores!X33=\"\",\"\",Scores!X33)","v":0},{"$f":"IF(Scores!Y33=\"\",\"\",Scores!Y33)","v":""},{"$f":"IF(Scores!Z33=\"\",\"\",Scores!Z33)","v":""},{"$f":"IF(Scores!AA33=\"\",\"\",Scores!AA33)","v":0},"","","","","","","",{"$f":"IF(Table2[[#This Row],[SCORE]]=\"\",\"\",_xlfn.RANK.EQ(Table2[[#This Row],[SCORE]],Table2[SCORE],1))","v":""},"",""]
[30,{"$f":"IF(Scores!$C34=\"\",\"\",Scores!C34)","v":""},{"$f":"IF(Scores!D34=\"\",\"\",Scores!D34)","v":""},{"$f":"IF(Scores!F34=\"\",\"ZZ\",Scores!F34)","v":"ZZ"},{"$f":"IF(Scores!G34=\"\",\"\",Scores!G34)","v":""},{"$f":"IF(Scores!H34=\"\",\"\",Scores!H34)","v":""},{"$f":"IF(Scores!I34=\"\",\"\",Scores!I34)","v":""},{"$f":"IF(Scores!J34=\"\",\"\",Scores!J34)","v":""},{"$f":"IF(Scores!K34=\"\",\"\",Scores!K34)","v":""},{"$f":"IF(Scores!L34=\"\",\"\",Scores!L34)","v":0},{"$f":"IF(Scores!M34=\"\",\"\",Scores!M34)","v":""},{"$f":"IF(Scores!N34=\"\",\"\",Scores!N34)","v":""},{"$f":"IF(Scores!O34=\"\",\"\",Scores!O34)","v":0},{"$f":"IF(Scores!P34=\"\",\"\",Scores!P34)","v":""},{"$f":"IF(Scores!Q34=\"\",\"\",Scores!Q34)","v":""},{"$f":"IF(Scores!R34=\"\",\"\",Scores!R34)","v":0},{"$f":"IF(Scores!S34=\"\",\"\",Scores!S34)","v":""},{"$f":"IF(Scores!T34=\"\",\"\",Scores!T34)","v":""},{"$f":"IF(Scores!U34=\"\",\"\",Scores!U34)","v":0},{"$f":"IF(Scores!V34=\"\",\"\",Scores!V34)","v":""},{"$f":"IF(Scores!W34=\"\",\"\",Scores!W34)","v":""},{"$f":"IF(Scores!X34=\"\",\"\",Scores!X34)","v":0},{"$f":"IF(Scores!Y34=\"\",\"\",Scores!Y34)","v":""},{"$f":"IF(Scores!Z34=\"\",\"\",Scores!Z34)","v":""},{"$f":"IF(Scores!AA34=\"\",\"\",Scores!AA34)","v":0},"","","","","","","",{"$f":"IF(Table2[[#This Row],[SCORE]]=\"\",\"\",_xlfn.RANK.EQ(Table2[[#This Row],[SCORE]],Table2[SCORE],1))","v":""},"",""]
[31,{"$f":"IF(Scores!$C35=\"\",\"\",Scores!C35)","v":""},{"$f":"IF(Scores!D35=\"\",\"\",Scores!D35)","v":""},{"$f":"IF(Scores!F35=\"\",\"ZZ\",Scores!F35)","v":"ZZ"},{"$f":"IF(Scores!G35=\"\",\"\",Scores!G35)","v":""},{"$f":"IF(Scores!H35=\"\",\"\",Scores!H35)","v":""},{"$f":"IF(Scores!I35=\"\",\"\",Scores!I35)","v":""},{"$f":"IF(Scores!J35=\"\",\"\",Scores!J35)","v":""},{"$f":"IF(Scores!K35=\"\",\"\",Scores!K35)","v":""},{"$f":"IF(Scores!L35=\"\",\"\",Scores!L35)","v":0},{"$f":"IF(Scores!M35=\"\",\"\",Scores!M35)","v":""},{"$f":"IF(Scores!N35=\"\",\"\",Scores!N35)","v":""},{"$f":"IF(Scores!O35=\"\",\"\",Scores!O35)","v":0},{"$f":"IF(Scores!P35=\"\",\"\",Scores!P35)","v":""},{"$f":"IF(Scores!Q35=\"\",\"\",Scores!Q35)","v":""},{"$f":"IF(Scores!R35=\"\",\"\",Scores!R35)","v":0},{"$f":"IF(Scores!S35=\"\",\"\",Scores!S35)","v":""},{"$f":"IF(Scores!T35=\"\",\"\",Scores!T35)","v":""},{"$f":"IF(Scores!U35=\"\",\"\",Scores!U35)","v":0},{"$f":"IF(Scores!V35=\"\",\"\",Scores!V35)","v":""},{"$f":"IF(Scores!W35=\"\",\"\",Scores!W35)","v":""},{"$f":"IF(Scores!X35=\"\",\"\",Scores!X35)","v":0},{"$f":"IF(Scores!Y35=\"\",\"\",Scores!Y35)","v":""},{"$f":"IF(Scores!Z35=\"\",\"\",Scores!Z35)","v":""},{"$f":"IF(Scores!AA35=\"\",\"\",Scores!AA35)","v":0},"","","","","","","",{"$f":"IF(Table2[[#This Row],[SCORE]]=\"\",\"\",_xlfn.RANK.EQ(Table2[[#This Row],[SCORE]],Table2[SCORE],1))","v":""},"",""]
[32,{"$f":"IF(Scores!$C36=\"\",\"\",Scores!C36)","v":""},{"$f":"IF(Scores!D36=\"\",\"\",Scores!D36)","v":""},{"$f":"IF(Scores!F36=\"\",\"ZZ\",Scores!F36)","v":"ZZ"},{"$f":"IF(Scores!G36=\"\",\"\",Scores!G36)","v":""},{"$f":"IF(Scores!H36=\"\",\"\",Scores!H36)","v":""},{"$f":"IF(Scores!I36=\"\",\"\",Scores!I36)","v":""},{"$f":"IF(Scores!J36=\"\",\"\",Scores!J36)","v":""},{"$f":"IF(Scores!K36=\"\",\"\",Scores!K36)","v":""},{"$f":"IF(Scores!L36=\"\",\"\",Scores!L36)","v":0},{"$f":"IF(Scores!M36=\"\",\"\",Scores!M36)","v":""},{"$f":"IF(Scores!N36=\"\",\"\",Scores!N36)","v":""},{"$f":"IF(Scores!O36=\"\",\"\",Scores!O36)","v":0},{"$f":"IF(Scores!P36=\"\",\"\",Scores!P36)","v":""},{"$f":"IF(Scores!Q36=\"\",\"\",Scores!Q36)","v":""},{"$f":"IF(Scores!R36=\"\",\"\",Scores!R36)","v":0},{"$f":"IF(Scores!S36=\"\",\"\",Scores!S36)","v":""},{"$f":"IF(Scores!T36=\"\",\"\",Scores!T36)","v":""},{"$f":"IF(Scores!U36=\"\",\"\",Scores!U36)","v":0},{"$f":"IF(Scores!V36=\"\",\"\",Scores!V36)","v":""},{"$f":"IF(Scores!W36=\"\",\"\",Scores!W36)","v":""},{"$f":"IF(Scores!X36=\"\",\"\",Scores!X36)","v":0},{"$f":"IF(Scores!Y36=\"\",\"\",Scores!Y36)","v":""},{"$f":"IF(Scores!Z36=\"\",\"\",Scores!Z36)","v":""},{"$f":"IF(Scores!AA36=\"\",\"\",Scores!AA36)","v":0},"","","","","","","",{"$f":"IF(Table2[[#This Row],[SCORE]]=\"\",\"\",_xlfn.RANK.EQ(Table2[[#This Row],[SCORE]],Table2[SCORE],1))","v":""},"",""]
[33,{"$f":"IF(Scores!$C37=\"\",\"\",Scores!C37)","v":""},{"$f":"IF(Scores!D37=\"\",\"\",Scores!D37)","v":""},{"$f":"IF(Scores!F37=\"\",\"ZZ\",Scores!F37)","v":"ZZ"},{"$f":"IF(Scores!G37=\"\",\"\",Scores!G37)","v":""},{"$f":"IF(Scores!H37=\"\",\"\",Scores!H37)","v":""},{"$f":"IF(Scores!I37=\"\",\"\",Scores!I37)","v":""},{"$f":"IF(Scores!J37=\"\",\"\",Scores!J37)","v":""},{"$f":"IF(Scores!K37=\"\",\"\",Scores!K37)","v":""},{"$f":"IF(Scores!L37=\"\",\"\",Scores!L37)","v":0},{"$f":"IF(Scores!M37=\"\",\"\",Scores!M37)","v":""},{"$f":"IF(Scores!N37=\"\",\"\",Scores!N37)","v":""},{"$f":"IF(Scores!O37=\"\",\"\",Scores!O37)","v":0},{"$f":"IF(Scores!P37=\"\",\"\",Scores!P37)","v":""},{"$f":"IF(Scores!Q37=\"\",\"\",Scores!Q37)","v":""},{"$f":"IF(Scores!R37=\"\",\"\",Scores!R37)","v":0},{"$f":"IF(Scores!S37=\"\",\"\",Scores!S37)","v":""},{"$f":"IF(Scores!T37=\"\",\"\",Scores!T37)","v":""},{"$f":"IF(Scores!U37=\"\",\"\",Scores!U37)","v":0},{"$f":"IF(Scores!V37=\"\",\"\",Scores!V37)","v":""},{"$f":"IF(Scores!W37=\"\",\"\",Scores!W37)","v":""},{"$f":"IF(Scores!X37=\"\",\"\",Scores!X37)","v":0},{"$f":"IF(Scores!Y37=\"\",\"\",Scores!Y37)","v":""},{"$f":"IF(Scores!Z37=\"\",\"\",Scores!Z37)","v":""},{"$f":"IF(Scores!AA37=\"\",\"\",Scores!AA37)","v":0},{"$f":"IF(B36=\"\",\"\",SUM(H36,K36,N36,Q36,T36,W36))","v":""},{"$f":"IF(B36=\"\",\"\",SUM(I36,L36,O36,R36,U36,X36))","v":""},{"$f":"IF(B36=\"\",\"\",SUM(J36,M36,P36,S36,V36,Y36))","v":""},{"$f":"IF(B36=\"\",\"\",ROUND(AVERAGE(H36,K36,N36,Q36,T36,W36),2))","v":""},{"$f":"IF(B36=\"\",\"\",ROUND(AVERAGE(I36,L36,O36,R36,U36,X36),1))","v":""},{"$f":"IF(B36=\"\",\"\",ROUND(AVERAGE(J36,M36,P36,S36,V36,Y36),2))","v":""},{"$f":"IF(B36=\"\",\"\",SUM(J36,M36,P36,S36,V36,Y36)-MAX(J36,M36,P36,S36,V36,Y36))","v":""},{"$f":"IF(Table2[[#This Row],[SCORE]]=\"\",\"\",_xlfn.RANK.EQ(Table2[[#This Row],[SCORE]],Table2[SCORE],1))","v":""},{"$f":"IF(AF36=\"\",\"\",SUMPRODUCT(--(D36=$D$4:$D$123),--(AF36>$AF$4:$AF$123))+1)","v":""},{"$f":"IF(B36=\"\",\"\",MAX(H36,K36,N36,Q36,T36,W36)-MIN(H36,K36,N36,Q36,T36,W36,))","v":""}]
[34,{"$f":"IF(Scores!$C38=\"\",\"\",Scores!C38)","v":""},{"$f":"IF(Scores!D38=\"\",\"\",Scores!D38)","v":""},{"$f":"IF(Scores!F38=\"\",\"ZZ\",Scores!F38)","v":"ZZ"},{"$f":"IF(Scores!G38=\"\",\"\",Scores!G38)","v":""},{"$f":"IF(Scores!H38=\"\",\"\",Scores!H38)","v":""},{"$f":"IF(Scores!I38=\"\",\"\",Scores!I38)","v":""},{"$f":"IF(Scores!J38=\"\",\"\",Scores!J38)","v":""},{"$f":"IF(Scores!K38=\"\",\"\",Scores!K38)","v":""},{"$f":"IF(Scores!L38=\"\",\"\",Scores!L38)","v":0},{"$f":"IF(Scores!M38=\"\",\"\",Scores!M38)","v":""},{"$f":"IF(Scores!N38=\"\",\"\",Scores!N38)","v":""},{"$f":"IF(Scores!O38=\"\",\"\",Scores!O38)","v":0},{"$f":"IF(Scores!P38=\"\",\"\",Scores!P38)","v":""},{"$f":"IF(Scores!Q38=\"\",\"\",Scores!Q38)","v":""},{"$f":"IF(Scores!R38=\"\",\"\",Scores!R38)","v":0},{"$f":"IF(Scores!S38=\"\",\"\",Scores!S38)","v":""},{"$f":"IF(Scores!T38=\"\",\"\",Scores!T38)","v":""},{"$f":"IF(Scores!U38=\"\",\"\",Scores!U38)","v":0},{"$f":"IF(Scores!V38=\"\",\"\",Scores!V38)","v":""},{"$f":"IF(Scores!W38=\"\",\"\",Scores!W38)","v":""},{"$f":"IF(Scores!X38=\"\",\"\",Scores!X38)","v":0},{"$f":"IF(Scores!Y38=\"\",\"\",Scores!Y38)","v":""},{"$f":"IF(Scores!Z38=\"\",\"\",Scores!Z38)","v":""},{"$f":"IF(Scores!AA38=\"\",\"\",Scores!AA38)","v":0},"","","","","","","",{"$f":"IF(Table2[[#This Row],[SCORE]]=\"\",\"\",_xlfn.RANK.EQ(Table2[[#This Row],[SCORE]],Table2[SCORE],1))","v":""},"",""]
[35,{"$f":"IF(Scores!$C39=\"\",\"\",Scores!C39)","v":""},{"$f":"IF(Scores!D39=\"\",\"\",Scores!D39)","v":""},{"$f":"IF(Scores!F39=\"\",\"ZZ\",Scores!F39)","v":"ZZ"},{"$f":"IF(Scores!G39=\"\",\"\",Scores!G39)","v":""},{"$f":"IF(Scores!H39=\"\",\"\",Scores!H39)","v":""},{"$f":"IF(Scores!I39=\"\",\"\",Scores!I39)","v":""},{"$f":"IF(Scores!J39=\"\",\"\",Scores!J39)","v":""},{"$f":"IF(Scores!K39=\"\",\"\",Scores!K39)","v":""},{"$f":"IF(Scores!L39=\"\",\"\",Scores!L39)","v":0},{"$f":"IF(Scores!M39=\"\",\"\",Scores!M39)","v":""},{"$f":"IF(Scores!N39=\"\",\"\",Scores!N39)","v":""},{"$f":"IF(Scores!O39=\"\",\"\",Scores!O39)","v":0},{"$f":"IF(Scores!P39=\"\",\"\",Scores!P39)","v":""},{"$f":"IF(Scores!Q39=\"\",\"\",Scores!Q39)","v":""},{"$f":"IF(Scores!R39=\"\",\"\",Scores!R39)","v":0},{"$f":"IF(Scores!S39=\"\",\"\",Scores!S39)","v":""},{"$f":"IF(Scores!T39=\"\",\"\",Scores!T39)","v":""},{"$f":"IF(Scores!U39=\"\",\"\",Scores!U39)","v":0},{"$f":"IF(Scores!V39=\"\",\"\",Scores!V39)","v":""},{"$f":"IF(Scores!W39=\"\",\"\",Scores!W39)","v":""},{"$f":"IF(Scores!X39=\"\",\"\",Scores!X39)","v":0},{"$f":"IF(Scores!Y39=\"\",\"\",Scores!Y39)","v":""},{"$f":"IF(Scores!Z39=\"\",\"\",Scores!Z39)","v":""},{"$f":"IF(Scores!AA39=\"\",\"\",Scores!AA39)","v":0},"","","","","","","",{"$f":"IF(Table2[[#This Row],[SCORE]]=\"\",\"\",_xlfn.RANK.EQ(Table2[[#This Row],[SCORE]],Table2[SCORE],1))","v":""},"",""]
[36,{"$f":"IF(Scores!$C40=\"\",\"\",Scores!C40)","v":""},{"$f":"IF(Scores!D40=\"\",\"\",Scores!D40)","v":""},{"$f":"IF(Scores!F40=\"\",\"ZZ\",Scores!F40)","v":"ZZ"},{"$f":"IF(Scores!G40=\"\",\"\",Scores!G40)","v":""},{"$f":"IF(Scores!H40=\"\",\"\",Scores!H40)","v":""},{"$f":"IF(Scores!I40=\"\",\"\",Scores!I40)","v":""},{"$f":"IF(Scores!J40=\"\",\"\",Scores!J40)","v":""},{"$f":"IF(Scores!K40=\"\",\"\",Scores!K40)","v":""},{"$f":"IF(Scores!L40=\"\",\"\",Scores!L40)","v":0},{"$f":"IF(Scores!M40=\"\",\"\",Scores!M40)","v":""},{"$f":"IF(Scores!N40=\"\",\"\",Scores!N40)","v":""},{"$f":"IF(Scores!O40=\"\",\"\",Scores!O40)","v":0},{"$f":"IF(Scores!P40=\"\",\"\",Scores!P40)","v":""},{"$f":"IF(Scores!Q40=\"\",\"\",Scores!Q40)","v":""},{"$f":"IF(Scores!R40=\"\",\"\",Scores!R40)","v":0},{"$f":"IF(Scores!S40=\"\",\"\",Scores!S40)","v":""},{"$f":"IF(Scores!T40=\"\",\"\",Scores!T40)","v":""},{"$f":"IF(Scores!U40=\"\",\"\",Scores!U40)","v":0},{"$f":"IF(Scores!V40=\"\",\"\",Scores!V40)","v":""},{"$f":"IF(Scores!W40=\"\",\"\",Scores!W40)","v":""},{"$f":"IF(Scores!X40=\"\",\"\",Scores!X40)","v":0},{"$f":"IF(Scores!Y40=\"\",\"\",Scores!Y40)","v":""},{"$f":"IF(Scores!Z40=\"\",\"\",Scores!Z40)","v":""},{"$f":"IF(Scores!AA40=\"\",\"\",Scores!AA40)","v":0},"","","","","","","",{"$f":"IF(Table2[[#This Row],[SCORE]]=\"\",\"\",_xlfn.RANK.EQ(Table2[[#This Row],[SCORE]],Table2[SCORE],1))","v":""},"",""]
[37,{"$f":"IF(Scores!$C41=\"\",\"\",Scores!C41)","v":""},{"$f":"IF(Scores!D41=\"\",\"\",Scores!D41)","v":""},{"$f":"IF(Scores!F41=\"\",\"ZZ\",Scores!F41)","v":"ZZ"},{"$f":"IF(Scores!G41=\"\",\"\",Scores!G41)","v":""},{"$f":"IF(Scores!H41=\"\",\"\",Scores!H41)","v":""},{"$f":"IF(Scores!I41=\"\",\"\",Scores!I41)","v":""},{"$f":"IF(Scores!J41=\"\",\"\",Scores!J41)","v":""},{"$f":"IF(Scores!K41=\"\",\"\",Scores!K41)","v":""},{"$f":"IF(Scores!L41=\"\",\"\",Scores!L41)","v":0},{"$f":"IF(Scores!M41=\"\",\"\",Scores!M41)","v":""},{"$f":"IF(Scores!N41=\"\",\"\",Scores!N41)","v":""},{"$f":"IF(Scores!O41=\"\",\"\",Scores!O41)","v":0},{"$f":"IF(Scores!P41=\"\",\"\",Scores!P41)","v":""},{"$f":"IF(Scores!Q41=\"\",\"\",Scores!Q41)","v":""},{"$f":"IF(Scores!R41=\"\",\"\",Scores!R41)","v":0},{"$f":"IF(Scores!S41=\"\",\"\",Scores!S41)","v":""},{"$f":"IF(Scores!T41=\"\",\"\",Scores!T41)","v":""},{"$f":"IF(Scores!U41=\"\",\"\",Scores!U41)","v":0},{"$f":"IF(Scores!V41=\"\",\"\",Scores!V41)","v":""},{"$f":"IF(Scores!W41=\"\",\"\",Scores!W41)","v":""},{"$f":"IF(Scores!X41=\"\",\"\",Scores!X41)","v":0},{"$f":"IF(Scores!Y41=\"\",\"\",Scores!Y41)","v":""},{"$f":"IF(Scores!Z41=\"\",\"\",Scores!Z41)","v":""},{"$f":"IF(Scores!AA41=\"\",\"\",Scores!AA41)","v":0},"","","","","","","",{"$f":"IF(Table2[[#This Row],[SCORE]]=\"\",\"\",_xlfn.RANK.EQ(Table2[[#This Row],[SCORE]],Table2[SCORE],1))","v":""},"",""]
[38,{"$f":"IF(Scores!$C42=\"\",\"\",Scores!C42)","v":""},{"$f":"IF(Scores!D42=\"\",\"\",Scores!D42)","v":""},{"$f":"IF(Scores!F42=\"\",\"ZZ\",Scores!F42)","v":"ZZ"},{"$f":"IF(Scores!G42=\"\",\"\",Scores!G42)","v":""},{"$f":"IF(Scores!H42=\"\",\"\",Scores!H42)","v":""},{"$f":"IF(Scores!I42=\"\",\"\",Scores!I42)","v":""},{"$f":"IF(Scores!J42=\"\",\"\",Scores!J42)","v":""},{"$f":"IF(Scores!K42=\"\",\"\",Scores!K42)","v":""},{"$f":"IF(Scores!L42=\"\",\"\",Scores!L42)","v":0},{"$f":"IF(Scores!M42=\"\",\"\",Scores!M42)","v":""},{"$f":"IF(Scores!N42=\"\",\"\",Scores!N42)","v":""},{"$f":"IF(Scores!O42=\"\",\"\",Scores!O42)","v":0},{"$f":"IF(Scores!P42=\"\",\"\",Scores!P42)","v":""},{"$f":"IF(Scores!Q42=\"\",\"\",Scores!Q42)","v":""},{"$f":"IF(Scores!R42=\"\",\"\",Scores!R42)","v":0},{"$f":"IF(Scores!S42=\"\",\"\",Scores!S42)","v":""},{"$f":"IF(Scores!T42=\"\",\"\",Scores!T42)","v":""},{"$f":"IF(Scores!U42=\"\",\"\",Scores!U42)","v":0},{"$f":"IF(Scores!V42=\"\",\"\",Scores!V42)","v":""},{"$f":"IF(Scores!W42=\"\",\"\",Scores!W42)","v":""},{"$f":"IF(Scores!X42=\"\",\"\",Scores!X42)","v":0},{"$f":"IF(Scores!Y42=\"\",\"\",Scores!Y42)","v":""},{"$f":"IF(Scores!Z42=\"\",\"\",Scores!Z42)","v":""},{"$f":"IF(Scores!AA42=\"\",\"\",Scores!AA42)","v":0},"","","","","","","",{"$f":"IF(Table2[[#This Row],[SCORE]]=\"\",\"\",_xlfn.RANK.EQ(Table2[[#This Row],[SCORE]],Table2[SCORE],1))","v":""},"",""]
[39,{"$f":"IF(Scores!$C43=\"\",\"\",Scores!C43)","v":""},{"$f":"IF(Scores!D43=\"\",\"\",Scores!D43)","v":""},{"$f":"IF(Scores!F43=\"\",\"ZZ\",Scores!F43)","v":"ZZ"},{"$f":"IF(Scores!G43=\"\",\"\",Scores!G43)","v":""},{"$f":"IF(Scores!H43=\"\",\"\",Scores!H43)","v":""},{"$f":"IF(Scores!I43=\"\",\"\",Scores!I43)","v":""},{"$f":"IF(Scores!J43=\"\",\"\",Scores!J43)","v":""},{"$f":"IF(Scores!K43=\"\",\"\",Scores!K43)","v":""},{"$f":"IF(Scores!L43=\"\",\"\",Scores!L43)","v":0},{"$f":"IF(Scores!M43=\"\",\"\",Scores!M43)","v":""},{"$f":"IF(Scores!N43=\"\",\"\",Scores!N43)","v":""},{"$f":"IF(Scores!O43=\"\",\"\",Scores!O43)","v":0},{"$f":"IF(Scores!P43=\"\",\"\",Scores!P43)","v":""},{"$f":"IF(Scores!Q43=\"\",\"\",Scores!Q43)","v":""},{"$f":"IF(Scores!R43=\"\",\"\",Scores!R43)","v":0},{"$f":"IF(Scores!S43=\"\",\"\",Scores!S43)","v":""},{"$f":"IF(Scores!T43=\"\",\"\",Scores!T43)","v":""},{"$f":"IF(Scores!U43=\"\",\"\",Scores!U43)","v":0},{"$f":"IF(Scores!V43=\"\",\"\",Scores!V43)","v":""},{"$f":"IF(Scores!W43=\"\",\"\",Scores!W43)","v":""},{"$f":"IF(Scores!X43=\"\",\"\",Scores!X43)","v":0},{"$f":"IF(Scores!Y43=\"\",\"\",Scores!Y43)","v":""},{"$f":"IF(Scores!Z43=\"\",\"\",Scores!Z43)","v":""},{"$f":"IF(Scores!AA43=\"\",\"\",Scores!AA43)","v":0},"","","","","","","",{"$f":"IF(Table2[[#This Row],[SCORE]]=\"\",\"\",_xlfn.RANK.EQ(Table2[[#This Row],[SCORE]],Table2[SCORE],1))","v":""},"",""]
[40,{"$f":"IF(Scores!$C44=\"\",\"\",Scores!C44)","v":""},{"$f":"IF(Scores!D44=\"\",\"\",Scores!D44)","v":""},{"$f":"IF(Scores!F44=\"\",\"ZZ\",Scores!F44)","v":"ZZ"},{"$f":"IF(Scores!G44=\"\",\"\",Scores!G44)","v":""},{"$f":"IF(Scores!H44=\"\",\"\",Scores!H44)","v":""},{"$f":"IF(Scores!I44=\"\",\"\",Scores!I44)","v":""},{"$f":"IF(Scores!J44=\"\",\"\",Scores!J44)","v":""},{"$f":"IF(Scores!K44=\"\",\"\",Scores!K44)","v":""},{"$f":"IF(Scores!L44=\"\",\"\",Scores!L44)","v":0},{"$f":"IF(Scores!M44=\"\",\"\",Scores!M44)","v":""},{"$f":"IF(Scores!N44=\"\",\"\",Scores!N44)","v":""},{"$f":"IF(Scores!O44=\"\",\"\",Scores!O44)","v":0},{"$f":"IF(Scores!P44=\"\",\"\",Scores!P44)","v":""},{"$f":"IF(Scores!Q44=\"\",\"\",Scores!Q44)","v":""},{"$f":"IF(Scores!R44=\"\",\"\",Scores!R44)","v":0},{"$f":"IF(Scores!S44=\"\",\"\",Scores!S44)","v":""},{"$f":"IF(Scores!T44=\"\",\"\",Scores!T44)","v":""},{"$f":"IF(Scores!U44=\"\",\"\",Scores!U44)","v":0},{"$f":"IF(Scores!V44=\"\",\"\",Scores!V44)","v":""},{"$f":"IF(Scores!W44=\"\",\"\",Scores!W44)","v":""},{"$f":"IF(Scores!X44=\"\",\"\",Scores!X44)","v":0},{"$f":"IF(Scores!Y44=\"\",\"\",Scores!Y44)","v":""},{"$f":"IF(Scores!Z44=\"\",\"\",Scores!Z44)","v":""},{"$f":"IF(Scores!AA44=\"\",\"\",Scores!AA44)","v":0},"","","","","","","",{"$f":"IF(Table2[[#This Row],[SCORE]]=\"\",\"\",_xlfn.RANK.EQ(Table2[[#This Row],[SCORE]],Table2[SCORE],1))","v":""},"",""]
[41,{"$f":"IF(Scores!$C45=\"\",\"\",Scores!C45)","v":""},{"$f":"IF(Scores!D45=\"\",\"\",Scores!D45)","v":""},{"$f":"IF(Scores!F45=\"\",\"ZZ\",Scores!F45)","v":"ZZ"},{"$f":"IF(Scores!G45=\"\",\"\",Scores!G45)","v":""},{"$f":"IF(Scores!H45=\"\",\"\",Scores!H45)","v":""},{"$f":"IF(Scores!I45=\"\",\"\",Scores!I45)","v":""},{"$f":"IF(Scores!J45=\"\",\"\",Scores!J45)","v":""},{"$f":"IF(Scores!K45=\"\",\"\",Scores!K45)","v":""},{"$f":"IF(Scores!L45=\"\",\"\",Scores!L45)","v":0},{"$f":"IF(Scores!M45=\"\",\"\",Scores!M45)","v":""},{"$f":"IF(Scores!N45=\"\",\"\",Scores!N45)","v":""},{"$f":"IF(Scores!O45=\"\",\"\",Scores!O45)","v":0},{"$f":"IF(Scores!P45=\"\",\"\",Scores!P45)","v":""},{"$f":"IF(Scores!Q45=\"\",\"\",Scores!Q45)","v":""},{"$f":"IF(Scores!R45=\"\",\"\",Scores!R45)","v":0},{"$f":"IF(Scores!S45=\"\",\"\",Scores!S45)","v":""},{"$f":"IF(Scores!T45=\"\",\"\",Scores!T45)","v":""},{"$f":"IF(Scores!U45=\"\",\"\",Scores!U45)","v":0},{"$f":"IF(Scores!V45=\"\",\"\",Scores!V45)","v":""},{"$f":"IF(Scores!W45=\"\",\"\",Scores!W45)","v":""},{"$f":"IF(Scores!X45=\"\",\"\",Scores!X45)","v":0},{"$f":"IF(Scores!Y45=\"\",\"\",Scores!Y45)","v":""},{"$f":"IF(Scores!Z45=\"\",\"\",Scores!Z45)","v":""},{"$f":"IF(Scores!AA45=\"\",\"\",Scores!AA45)","v":0},"","","","","","","",{"$f":"IF(Table2[[#This Row],[SCORE]]=\"\",\"\",_xlfn.RANK.EQ(Table2[[#This Row],[SCORE]],Table2[SCORE],1))","v":""},"",""]
[42,{"$f":"IF(Scores!$C46=\"\",\"\",Scores!C46)","v":""},{"$f":"IF(Scores!D46=\"\",\"\",Scores!D46)","v":""},{"$f":"IF(Scores!F46=\"\",\"ZZ\",Scores!F46)","v":"ZZ"},{"$f":"IF(Scores!G46=\"\",\"\",Scores!G46)","v":""},{"$f":"IF(Scores!H46=\"\",\"\",Scores!H46)","v":""},{"$f":"IF(Scores!I46=\"\",\"\",Scores!I46)","v":""},{"$f":"IF(Scores!J46=\"\",\"\",Scores!J46)","v":""},{"$f":"IF(Scores!K46=\"\",\"\",Scores!K46)","v":""},{"$f":"IF(Scores!L46=\"\",\"\",Scores!L46)","v":0},{"$f":"IF(Scores!M46=\"\",\"\",Scores!M46)","v":""},{"$f":"IF(Scores!N46=\"\",\"\",Scores!N46)","v":""},{"$f":"IF(Scores!O46=\"\",\"\",Scores!O46)","v":0},{"$f":"IF(Scores!P46=\"\",\"\",Scores!P46)","v":""},{"$f":"IF(Scores!Q46=\"\",\"\",Scores!Q46)","v":""},{"$f":"IF(Scores!R46=\"\",\"\",Scores!R46)","v":0},{"$f":"IF(Scores!S46=\"\",\"\",Scores!S46)","v":""},{"$f":"IF(Scores!T46=\"\",\"\",Scores!T46)","v":""},{"$f":"IF(Scores!U46=\"\",\"\",Scores!U46)","v":0},{"$f":"IF(Scores!V46=\"\",\"\",Scores!V46)","v":""},{"$f":"IF(Scores!W46=\"\",\"\",Scores!W46)","v":""},{"$f":"IF(Scores!X46=\"\",\"\",Scores!X46)","v":0},{"$f":"IF(Scores!Y46=\"\",\"\",Scores!Y46)","v":""},{"$f":"IF(Scores!Z46=\"\",\"\",Scores!Z46)","v":""},{"$f":"IF(Scores!AA46=\"\",\"\",Scores!AA46)","v":0},"","","","","","","",{"$f":"IF(Table2[[#This Row],[SCORE]]=\"\",\"\",_xlfn.RANK.EQ(Table2[[#This Row],[SCORE]],Table2[SCORE],1))","v":""},"",""]
[43,{"$f":"IF(Scores!$C47=\"\",\"\",Scores!C47)","v":""},{"$f":"IF(Scores!D47=\"\",\"\",Scores!D47)","v":""},{"$f":"IF(Scores!F47=\"\",\"ZZ\",Scores!F47)","v":"ZZ"},{"$f":"IF(Scores!G47=\"\",\"\",Scores!G47)","v":""},{"$f":"IF(Scores!H47=\"\",\"\",Scores!H47)","v":""},{"$f":"IF(Scores!I47=\"\",\"\",Scores!I47)","v":""},{"$f":"IF(Scores!J47=\"\",\"\",Scores!J47)","v":""},{"$f":"IF(Scores!K47=\"\",\"\",Scores!K47)","v":""},{"$f":"IF(Scores!L47=\"\",\"\",Scores!L47)","v":0},{"$f":"IF(Scores!M47=\"\",\"\",Scores!M47)","v":""},{"$f":"IF(Scores!N47=\"\",\"\",Scores!N47)","v":""},{"$f":"IF(Scores!O47=\"\",\"\",Scores!O47)","v":0},{"$f":"IF(Scores!P47=\"\",\"\",Scores!P47)","v":""},{"$f":"IF(Scores!Q47=\"\",\"\",Scores!Q47)","v":""},{"$f":"IF(Scores!R47=\"\",\"\",Scores!R47)","v":0},{"$f":"IF(Scores!S47=\"\",\"\",Scores!S47)","v":""},{"$f":"IF(Scores!T47=\"\",\"\",Scores!T47)","v":""},{"$f":"IF(Scores!U47=\"\",\"\",Scores!U47)","v":0},{"$f":"IF(Scores!V47=\"\",\"\",Scores!V47)","v":""},{"$f":"IF(Scores!W47=\"\",\"\",Scores!W47)","v":""},{"$f":"IF(Scores!X47=\"\",\"\",Scores!X47)","v":0},{"$f":"IF(Scores!Y47=\"\",\"\",Scores!Y47)","v":""},{"$f":"IF(Scores!Z47=\"\",\"\",Scores!Z47)","v":""},{"$f":"IF(Scores!AA47=\"\",\"\",Scores!AA47)","v":0},"","","","","","","",{"$f":"IF(Table2[[#This Row],[SCORE]]=\"\",\"\",_xlfn.RANK.EQ(Table2[[#This Row],[SCORE]],Table2[SCORE],1))","v":""},"",""]
[44,{"$f":"IF(Scores!$C48=\"\",\"\",Scores!C48)","v":""},{"$f":"IF(Scores!D48=\"\",\"\",Scores!D48)","v":""},{"$f":"IF(Scores!F48=\"\",\"ZZ\",Scores!F48)","v":"ZZ"},{"$f":"IF(Scores!G48=\"\",\"\",Scores!G48)","v":""},{"$f":"IF(Scores!H48=\"\",\"\",Scores!H48)","v":""},{"$f":"IF(Scores!I48=\"\",\"\",Scores!I48)","v":""},{"$f":"IF(Scores!J48=\"\",\"\",Scores!J48)","v":""},{"$f":"IF(Scores!K48=\"\",\"\",Scores!K48)","v":""},{"$f":"IF(Scores!L48=\"\",\"\",Scores!L48)","v":0},{"$f":"IF(Scores!M48=\"\",\"\",Scores!M48)","v":""},{"$f":"IF(Scores!N48=\"\",\"\",Scores!N48)","v":""},{"$f":"IF(Scores!O48=\"\",\"\",Scores!O48)","v":0},{"$f":"IF(Scores!P48=\"\",\"\",Scores!P48)","v":""},{"$f":"IF(Scores!Q48=\"\",\"\",Scores!Q48)","v":""},{"$f":"IF(Scores!R48=\"\",\"\",Scores!R48)","v":0},{"$f":"IF(Scores!S48=\"\",\"\",Scores!S48)","v":""},{"$f":"IF(Scores!T48=\"\",\"\",Scores!T48)","v":""},{"$f":"IF(Scores!U48=\"\",\"\",Scores!U48)","v":0},{"$f":"IF(Scores!V48=\"\",\"\",Scores!V48)","v":""},{"$f":"IF(Scores!W48=\"\",\"\",Scores!W48)","v":""},{"$f":"IF(Scores!X48=\"\",\"\",Scores!X48)","v":0},{"$f":"IF(Scores!Y48=\"\",\"\",Scores!Y48)","v":""},{"$f":"IF(Scores!Z48=\"\",\"\",Scores!Z48)","v":""},{"$f":"IF(Scores!AA48=\"\",\"\",Scores!AA48)","v":0},"","","","","","","",{"$f":"IF(Table2[[#This Row],[SCORE]]=\"\",\"\",_xlfn.RANK.EQ(Table2[[#This Row],[SCORE]],Table2[SCORE],1))","v":""},"",""]
[45,{"$f":"IF(Scores!$C49=\"\",\"\",Scores!C49)","v":""},{"$f":"IF(Scores!D49=\"\",\"\",Scores!D49)","v":""},{"$f":"IF(Scores!F49=\"\",\"ZZ\",Scores!F49)","v":"ZZ"},{"$f":"IF(Scores!G49=\"\",\"\",Scores!G49)","v":""},{"$f":"IF(Scores!H49=\"\",\"\",Scores!H49)","v":""},{"$f":"IF(Scores!I49=\"\",\"\",Scores!I49)","v":""},{"$f":"IF(Scores!J49=\"\",\"\",Scores!J49)","v":""},{"$f":"IF(Scores!K49=\"\",\"\",Scores!K49)","v":""},{"$f":"IF(Scores!L49=\"\",\"\",Scores!L49)","v":0},{"$f":"IF(Scores!M49=\"\",\"\",Scores!M49)","v":""},{"$f":"IF(Scores!N49=\"\",\"\",Scores!N49)","v":""},{"$f":"IF(Scores!O49=\"\",\"\",Scores!O49)","v":0},{"$f":"IF(Scores!P49=\"\",\"\",Scores!P49)","v":""},{"$f":"IF(Scores!Q49=\"\",\"\",Scores!Q49)","v":""},{"$f":"IF(Scores!R49=\"\",\"\",Scores!R49)","v":0},{"$f":"IF(Scores!S49=\"\",\"\",Scores!S49)","v":""},{"$f":"IF(Scores!T49=\"\",\"\",Scores!T49)","v":""},{"$f":"IF(Scores!U49=\"\",\"\",Scores!U49)","v":0},{"$f":"IF(Scores!V49=\"\",\"\",Scores!V49)","v":""},{"$f":"IF(Scores!W49=\"\",\"\",Scores!W49)","v":""},{"$f":"IF(Scores!X49=\"\",\"\",Scores!X49)","v":0},{"$f":"IF(Scores!Y49=\"\",\"\",Scores!Y49)","v":""},{"$f":"IF(Scores!Z49=\"\",\"\",Scores!Z49)","v":""},{"$f":"IF(Scores!AA49=\"\",\"\",Scores!AA49)","v":0},"","","","","","","",{"$f":"IF(Table2[[#This Row],[SCORE]]=\"\",\"\",_xlfn.RANK.EQ(Table2[[#This Row],[SCORE]],Table2[SCORE],1))","v":""},"",""]
[46,{"$f":"IF(Scores!$C50=\"\",\"\",Scores!C50)","v":""},{"$f":"IF(Scores!D50=\"\",\"\",Scores!D50)","v":""},{"$f":"IF(Scores!F50=\"\",\"ZZ\",Scores!F50)","v":"ZZ"},{"$f":"IF(Scores!G50=\"\",\"\",Scores!G50)","v":""},{"$f":"IF(Scores!H50=\"\",\"\",Scores!H50)","v":""},{"$f":"IF(Scores!I50=\"\",\"\",Scores!I50)","v":""},{"$f":"IF(Scores!J50=\"\",\"\",Scores!J50)","v":""},{"$f":"IF(Scores!K50=\"\",\"\",Scores!K50)","v":""},{"$f":"IF(Scores!L50=\"\",\"\",Scores!L50)","v":0},{"$f":"IF(Scores!M50=\"\",\"\",Scores!M50)","v":""},{"$f":"IF(Scores!N50=\"\",\"\",Scores!N50)","v":""},{"$f":"IF(Scores!O50=\"\",\"\",Scores!O50)","v":0},{"$f":"IF(Scores!P50=\"\",\"\",Scores!P50)","v":""},{"$f":"IF(Scores!Q50=\"\",\"\",Scores!Q50)","v":""},{"$f":"IF(Scores!R50=\"\",\"\",Scores!R50)","v":0},{"$f":"IF(Scores!S50=\"\",\"\",Scores!S50)","v":""},{"$f":"IF(Scores!T50=\"\",\"\",Scores!T50)","v":""},{"$f":"IF(Scores!U50=\"\",\"\",Scores!U50)","v":0},{"$f":"IF(Scores!V50=\"\",\"\",Scores!V50)","v":""},{"$f":"IF(Scores!W50=\"\",\"\",Scores!W50)","v":""},{"$f":"IF(Scores!X50=\"\",\"\",Scores!X50)","v":0},{"$f":"IF(Scores!Y50=\"\",\"\",Scores!Y50)","v":""},{"$f":"IF(Scores!Z50=\"\",\"\",Scores!Z50)","v":""},{"$f":"IF(Scores!AA50=\"\",\"\",Scores!AA50)","v":0},"","","","","","","",{"$f":"IF(Table2[[#This Row],[SCORE]]=\"\",\"\",_xlfn.RANK.EQ(Table2[[#This Row],[SCORE]],Table2[SCORE],1))","v":""},"",""]
[47,{"$f":"IF(Scores!$C51=\"\",\"\",Scores!C51)","v":""},{"$f":"IF(Scores!D51=\"\",\"\",Scores!D51)","v":""},{"$f":"IF(Scores!F51=\"\",\"ZZ\",Scores!F51)","v":"ZZ"},{"$f":"IF(Scores!G51=\"\",\"\",Scores!G51)","v":""},{"$f":"IF(Scores!H51=\"\",\"\",Scores!H51)","v":""},{"$f":"IF(Scores!I51=\"\",\"\",Scores!I51)","v":""},{"$f":"IF(Scores!J51=\"\",\"\",Scores!J51)","v":""},{"$f":"IF(Scores!K51=\"\",\"\",Scores!K51)","v":""},{"$f":"IF(Scores!L51=\"\",\"\",Scores!L51)","v":0},{"$f":"IF(Scores!M51=\"\",\"\",Scores!M51)","v":""},{"$f":"IF(Scores!N51=\"\",\"\",Scores!N51)","v":""},{"$f":"IF(Scores!O51=\"\",\"\",Scores!O51)","v":0},{"$f":"IF(Scores!P51=\"\",\"\",Scores!P51)","v":""},{"$f":"IF(Scores!Q51=\"\",\"\",Scores!Q51)","v":""},{"$f":"IF(Scores!R51=\"\",\"\",Scores!R51)","v":0},{"$f":"IF(Scores!S51=\"\",\"\",Scores!S51)","v":""},{"$f":"IF(Scores!T51=\"\",\"\",Scores!T51)","v":""},{"$f":"IF(Scores!U51=\"\",\"\",Scores!U51)","v":0},{"$f":"IF(Scores!V51=\"\",\"\",Scores!V51)","v":""},{"$f":"IF(Scores!W51=\"\",\"\",Scores!W51)","v":""},{"$f":"IF(Scores!X51=\"\",\"\",Scores!X51)","v":0},{"$f":"IF(Scores!Y51=\"\",\"\",Scores!Y51)","v":""},{"$f":"IF(Scores!Z51=\"\",\"\",Scores!Z51)","v":""},{"$f":"IF(Scores!AA51=\"\",\"\",Scores!AA51)","v":0},"","","","","","","",{"$f":"IF(Table2[[#This Row],[SCORE]]=\"\",\"\",_xlfn.RANK.EQ(Table2[[#This Row],[SCORE]],Table2[SCORE],1))","v":""},"",""]
[48,{"$f":"IF(Scores!$C52=\"\",\"\",Scores!C52)","v":""},{"$f":"IF(Scores!D52=\"\",\"\",Scores!D52)","v":""},{"$f":"IF(Scores!F52=\"\",\"ZZ\",Scores!F52)","v":"ZZ"},{"$f":"IF(Scores!G52=\"\",\"\",Scores!G52)","v":""},{"$f":"IF(Scores!H52=\"\",\"\",Scores!H52)","v":""},{"$f":"IF(Scores!I52=\"\",\"\",Scores!I52)","v":""},{"$f":"IF(Scores!J52=\"\",\"\",Scores!J52)","v":""},{"$f":"IF(Scores!K52=\"\",\"\",Scores!K52)","v":""},{"$f":"IF(Scores!L52=\"\",\"\",Scores!L52)","v":0},{"$f":"IF(Scores!M52=\"\",\"\",Scores!M52)","v":""},{"$f":"IF(Scores!N52=\"\",\"\",Scores!N52)","v":""},{"$f":"IF(Scores!O52=\"\",\"\",Scores!O52)","v":0},{"$f":"IF(Scores!P52=\"\",\"\",Scores!P52)","v":""},{"$f":"IF(Scores!Q52=\"\",\"\",Scores!Q52)","v":""},{"$f":"IF(Scores!R52=\"\",\"\",Scores!R52)","v":0},{"$f":"IF(Scores!S52=\"\",\"\",Scores!S52)","v":""},{"$f":"IF(Scores!T52=\"\",\"\",Scores!T52)","v":""},{"$f":"IF(Scores!U52=\"\",\"\",Scores!U52)","v":0},{"$f":"IF(Scores!V52=\"\",\"\",Scores!V52)","v":""},{"$f":"IF(Scores!W52=\"\",\"\",Scores!W52)","v":""},{"$f":"IF(Scores!X52=\"\",\"\",Scores!X52)","v":0},{"$f":"IF(Scores!Y52=\"\",\"\",Scores!Y52)","v":""},{"$f":"IF(Scores!Z52=\"\",\"\",Scores!Z52)","v":""},{"$f":"IF(Scores!AA52=\"\",\"\",Scores!AA52)","v":0},"","","","","","","",{"$f":"IF(Table2[[#This Row],[SCORE]]=\"\",\"\",_xlfn.RANK.EQ(Table2[[#This Row],[SCORE]],Table2[SCORE],1))","v":""},"",""]
[49,{"$f":"IF(Scores!$C53=\"\",\"\",Scores!C53)","v":""},{"$f":"IF(Scores!D53=\"\",\"\",Scores!D53)","v":""},{"$f":"IF(Scores!F53=\"\",\"ZZ\",Scores!F53)","v":"ZZ"},{"$f":"IF(Scores!G53=\"\",\"\",Scores!G53)","v":""},{"$f":"IF(Scores!H53=\"\",\"\",Scores!H53)","v":""},{"$f":"IF(Scores!I53=\"\",\"\",Scores!I53)","v":""},{"$f":"IF(Scores!J53=\"\",\"\",Scores!J53)","v":""},{"$f":"IF(Scores!K53=\"\",\"\",Scores!K53)","v":""},{"$f":"IF(Scores!L53=\"\",\"\",Scores!L53)","v":0},{"$f":"IF(Scores!M53=\"\",\"\",Scores!M53)","v":""},{"$f":"IF(Scores!N53=\"\",\"\",Scores!N53)","v":""},{"$f":"IF(Scores!O53=\"\",\"\",Scores!O53)","v":0},{"$f":"IF(Scores!P53=\"\",\"\",Scores!P53)","v":""},{"$f":"IF(Scores!Q53=\"\",\"\",Scores!Q53)","v":""},{"$f":"IF(Scores!R53=\"\",\"\",Scores!R53)","v":0},{"$f":"IF(Scores!S53=\"\",\"\",Scores!S53)","v":""},{"$f":"IF(Scores!T53=\"\",\"\",Scores!T53)","v":""},{"$f":"IF(Scores!U53=\"\",\"\",Scores!U53)","v":0},{"$f":"IF(Scores!V53=\"\",\"\",Scores!V53)","v":""},{"$f":"IF(Scores!W53=\"\",\"\",Scores!W53)","v":""},{"$f":"IF(Scores!X53=\"\",\"\",Scores!X53)","v":0},{"$f":"IF(Scores!Y53=\"\",\"\",Scores!Y53)","v":""},{"$f":"IF(Scores!Z53=\"\",\"\",Scores!Z53)","v":""},{"$f":"IF(Scores!AA53=\"\",\"\",Scores!AA53)","v":0},"","","","","","","",{"$f":"IF(Table2[[#This Row],[SCORE]]=\"\",\"\",_xlfn.RANK.EQ(Table2[[#This Row],[SCORE]],Table2[SCORE],1))","v":""},"",""]
[50,{"$f":"IF(Scores!$C54=\"\",\"\",Scores!C54)","v":""},{"$f":"IF(Scores!D54=\"\",\"\",Scores!D54)","v":""},{"$f":"IF(Scores!F54=\"\",\"ZZ\",Scores!F54)","v":"ZZ"},{"$f":"IF(Scores!G54=\"\",\"\",Scores!G54)","v":""},{"$f":"IF(Scores!H54=\"\",\"\",Scores!H54)","v":""},{"$f":"IF(Scores!I54=\"\",\"\",Scores!I54)","v":""},{"$f":"IF(Scores!J54=\"\",\"\",Scores!J54)","v":""},{"$f":"IF(Scores!K54=\"\",\"\",Scores!K54)","v":""},{"$f":"IF(Scores!L54=\"\",\"\",Scores!L54)","v":0},{"$f":"IF(Scores!M54=\"\",\"\",Scores!M54)","v":""},{"$f":"IF(Scores!N54=\"\",\"\",Scores!N54)","v":""},{"$f":"IF(Scores!O54=\"\",\"\",Scores!O54)","v":0},{"$f":"IF(Scores!P54=\"\",\"\",Scores!P54)","v":""},{"$f":"IF(Scores!Q54=\"\",\"\",Scores!Q54)","v":""},{"$f":"IF(Scores!R54=\"\",\"\",Scores!R54)","v":0},{"$f":"IF(Scores!S54=\"\",\"\",Scores!S54)","v":""},{"$f":"IF(Scores!T54=\"\",\"\",Scores!T54)","v":""},{"$f":"IF(Scores!U54=\"\",\"\",Scores!U54)","v":0},{"$f":"IF(Scores!V54=\"\",\"\",Scores!V54)","v":""},{"$f":"IF(Scores!W54=\"\",\"\",Scores!W54)","v":""},{"$f":"IF(Scores!X54=\"\",\"\",Scores!X54)","v":0},{"$f":"IF(Scores!Y54=\"\",\"\",Scores!Y54)","v":""},{"$f":"IF(Scores!Z54=\"\",\"\",Scores!Z54)","v":""},{"$f":"IF(Scores!AA54=\"\",\"\",Scores!AA54)","v":0},"","","","","","","",{"$f":"IF(Table2[[#This Row],[SCORE]]=\"\",\"\",_xlfn.RANK.EQ(Table2[[#This Row],[SCORE]],Table2[SCORE],1))","v":""},"",""]
[51,{"$f":"IF(Scores!$C55=\"\",\"\",Scores!C55)","v":""},{"$f":"IF(Scores!D55=\"\",\"\",Scores!D55)","v":""},{"$f":"IF(Scores!F55=\"\",\"ZZ\",Scores!F55)","v":"ZZ"},{"$f":"IF(Scores!G55=\"\",\"\",Scores!G55)","v":""},{"$f":"IF(Scores!H55=\"\",\"\",Scores!H55)","v":""},{"$f":"IF(Scores!I55=\"\",\"\",Scores!I55)","v":""},{"$f":"IF(Scores!J55=\"\",\"\",Scores!J55)","v":""},{"$f":"IF(Scores!K55=\"\",\"\",Scores!K55)","v":""},{"$f":"IF(Scores!L55=\"\",\"\",Scores!L55)","v":0},{"$f":"IF(Scores!M55=\"\",\"\",Scores!M55)","v":""},{"$f":"IF(Scores!N55=\"\",\"\",Scores!N55)","v":""},{"$f":"IF(Scores!O55=\"\",\"\",Scores!O55)","v":0},{"$f":"IF(Scores!P55=\"\",\"\",Scores!P55)","v":""},{"$f":"IF(Scores!Q55=\"\",\"\",Scores!Q55)","v":""},{"$f":"IF(Scores!R55=\"\",\"\",Scores!R55)","v":0},{"$f":"IF(Scores!S55=\"\",\"\",Scores!S55)","v":""},{"$f":"IF(Scores!T55=\"\",\"\",Scores!T55)","v":""},{"$f":"IF(Scores!U55=\"\",\"\",Scores!U55)","v":0},{"$f":"IF(Scores!V55=\"\",\"\",Scores!V55)","v":""},{"$f":"IF(Scores!W55=\"\",\"\",Scores!W55)","v":""},{"$f":"IF(Scores!X55=\"\",\"\",Scores!X55)","v":0},{"$f":"IF(Scores!Y55=\"\",\"\",Scores!Y55)","v":""},{"$f":"IF(Scores!Z55=\"\",\"\",Scores!Z55)","v":""},{"$f":"IF(Scores!AA55=\"\",\"\",Scores!AA55)","v":0},"","","","","","","",{"$f":"IF(Table2[[#This Row],[SCORE]]=\"\",\"\",_xlfn.RANK.EQ(Table2[[#This Row],[SCORE]],Table2[SCORE],1))","v":""},"",""]
[52,{"$f":"IF(Scores!$C56=\"\",\"\",Scores!C56)","v":""},{"$f":"IF(Scores!D56=\"\",\"\",Scores!D56)","v":""},{"$f":"IF(Scores!F56=\"\",\"ZZ\",Scores!F56)","v":"ZZ"},{"$f":"IF(Scores!G56=\"\",\"\",Scores!G56)","v":""},{"$f":"IF(Scores!H56=\"\",\"\",Scores!H56)","v":""},{"$f":"IF(Scores!I56=\"\",\"\",Scores!I56)","v":""},{"$f":"IF(Scores!J56=\"\",\"\",Scores!J56)","v":""},{"$f":"IF(Scores!K56=\"\",\"\",Scores!K56)","v":""},{"$f":"IF(Scores!L56=\"\",\"\",Scores!L56)","v":0},{"$f":"IF(Scores!M56=\"\",\"\",Scores!M56)","v":""},{"$f":"IF(Scores!N56=\"\",\"\",Scores!N56)","v":""},{"$f":"IF(Scores!O56=\"\",\"\",Scores!O56)","v":0},{"$f":"IF(Scores!P56=\"\",\"\",Scores!P56)","v":""},{"$f":"IF(Scores!Q56=\"\",\"\",Scores!Q56)","v":""},{"$f":"IF(Scores!R56=\"\",\"\",Scores!R56)","v":0},{"$f":"IF(Scores!S56=\"\",\"\",Scores!S56)","v":""},{"$f":"IF(Scores!T56=\"\",\"\",Scores!T56)","v":""},{"$f":"IF(Scores!U56=\"\",\"\",Scores!U56)","v":0},{"$f":"IF(Scores!V56=\"\",\"\",Scores!V56)","v":""},{"$f":"IF(Scores!W56=\"\",\"\",Scores!W56)","v":""},{"$f":"IF(Scores!X56=\"\",\"\",Scores!X56)","v":0},{"$f":"IF(Scores!Y56=\"\",\"\",Scores!Y56)","v":""},{"$f":"IF(Scores!Z56=\"\",\"\",Scores!Z56)","v":""},{"$f":"IF(Scores!AA56=\"\",\"\",Scores!AA56)","v":0},"","","","","","","",{"$f":"IF(Table2[[#This Row],[SCORE]]=\"\",\"\",_xlfn.RANK.EQ(Table2[[#This Row],[SCORE]],Table2[SCORE],1))","v":""},"",""]
[53,{"$f":"IF(Scores!$C57=\"\",\"\",Scores!C57)","v":""},{"$f":"IF(Scores!D57=\"\",\"\",Scores!D57)","v":""},{"$f":"IF(Scores!F57=\"\",\"ZZ\",Scores!F57)","v":"ZZ"},{"$f":"IF(Scores!G57=\"\",\"\",Scores!G57)","v":""},{"$f":"IF(Scores!H57=\"\",\"\",Scores!H57)","v":""},{"$f":"IF(Scores!I57=\"\",\"\",Scores!I57)","v":""},{"$f":"IF(Scores!J57=\"\",\"\",Scores!J57)","v":""},{"$f":"IF(Scores!K57=\"\",\"\",Scores!K57)","v":""},{"$f":"IF(Scores!L57=\"\",\"\",Scores!L57)","v":0},{"$f":"IF(Scores!M57=\"\",\"\",Scores!M57)","v":""},{"$f":"IF(Scores!N57=\"\",\"\",Scores!N57)","v":""},{"$f":"IF(Scores!O57=\"\",\"\",Scores!O57)","v":0},{"$f":"IF(Scores!P57=\"\",\"\",Scores!P57)","v":""},{"$f":"IF(Scores!Q57=\"\",\"\",Scores!Q57)","v":""},{"$f":"IF(Scores!R57=\"\",\"\",Scores!R57)","v":0},{"$f":"IF(Scores!S57=\"\",\"\",Scores!S57)","v":""},{"$f":"IF(Scores!T57=\"\",\"\",Scores!T57)","v":""},{"$f":"IF(Scores!U57=\"\",\"\",Scores!U57)","v":0},{"$f":"IF(Scores!V57=\"\",\"\",Scores!V57)","v":""},{"$f":"IF(Scores!W57=\"\",\"\",Scores!W57)","v":""},{"$f":"IF(Scores!X57=\"\",\"\",Scores!X57)","v":0},{"$f":"IF(Scores!Y57=\"\",\"\",Scores!Y57)","v":""},{"$f":"IF(Scores!Z57=\"\",\"\",Scores!Z57)","v":""},{"$f":"IF(Scores!AA57=\"\",\"\",Scores!AA57)","v":0},"","","","","","","",{"$f":"IF(Table2[[#This Row],[SCORE]]=\"\",\"\",_xlfn.RANK.EQ(Table2[[#This Row],[SCORE]],Table2[SCORE],1))","v":""},"",""]
[54,{"$f":"IF(Scores!$C58=\"\",\"\",Scores!C58)","v":""},{"$f":"IF(Scores!D58=\"\",\"\",Scores!D58)","v":""},{"$f":"IF(Scores!F58=\"\",\"ZZ\",Scores!F58)","v":"ZZ"},{"$f":"IF(Scores!G58=\"\",\"\",Scores!G58)","v":""},{"$f":"IF(Scores!H58=\"\",\"\",Scores!H58)","v":""},{"$f":"IF(Scores!I58=\"\",\"\",Scores!I58)","v":""},{"$f":"IF(Scores!J58=\"\",\"\",Scores!J58)","v":""},{"$f":"IF(Scores!K58=\"\",\"\",Scores!K58)","v":""},{"$f":"IF(Scores!L58=\"\",\"\",Scores!L58)","v":0},{"$f":"IF(Scores!M58=\"\",\"\",Scores!M58)","v":""},{"$f":"IF(Scores!N58=\"\",\"\",Scores!N58)","v":""},{"$f":"IF(Scores!O58=\"\",\"\",Scores!O58)","v":0},{"$f":"IF(Scores!P58=\"\",\"\",Scores!P58)","v":""},{"$f":"IF(Scores!Q58=\"\",\"\",Scores!Q58)","v":""},{"$f":"IF(Scores!R58=\"\",\"\",Scores!R58)","v":0},{"$f":"IF(Scores!S58=\"\",\"\",Scores!S58)","v":""},{"$f":"IF(Scores!T58=\"\",\"\",Scores!T58)","v":""},{"$f":"IF(Scores!U58=\"\",\"\",Scores!U58)","v":0},{"$f":"IF(Scores!V58=\"\",\"\",Scores!V58)","v":""},{"$f":"IF(Scores!W58=\"\",\"\",Scores!W58)","v":""},{"$f":"IF(Scores!X58=\"\",\"\",Scores!X58)","v":0},{"$f":"IF(Scores!Y58=\"\",\"\",Scores!Y58)","v":""},{"$f":"IF(Scores!Z58=\"\",\"\",Scores!Z58)","v":""},{"$f":"IF(Scores!AA58=\"\",\"\",Scores!AA58)","v":0},"","","","","","","",{"$f":"IF(Table2[[#This Row],[SCORE]]=\"\",\"\",_xlfn.RANK.EQ(Table2[[#This Row],[SCORE]],Table2[SCORE],1))","v":""},"",""]
[55,{"$f":"IF(Scores!$C59=\"\",\"\",Scores!C59)","v":""},{"$f":"IF(Scores!D59=\"\",\"\",Scores!D59)","v":""},{"$f":"IF(Scores!F59=\"\",\"ZZ\",Scores!F59)","v":"ZZ"},{"$f":"IF(Scores!G59=\"\",\"\",Scores!G59)","v":""},{"$f":"IF(Scores!H59=\"\",\"\",Scores!H59)","v":""},{"$f":"IF(Scores!I59=\"\",\"\",Scores!I59)","v":""},{"$f":"IF(Scores!J59=\"\",\"\",Scores!J59)","v":""},{"$f":"IF(Scores!K59=\"\",\"\",Scores!K59)","v":""},{"$f":"IF(Scores!L59=\"\",\"\",Scores!L59)","v":0},{"$f":"IF(Scores!M59=\"\",\"\",Scores!M59)","v":""},{"$f":"IF(Scores!N59=\"\",\"\",Scores!N59)","v":""},{"$f":"IF(Scores!O59=\"\",\"\",Scores!O59)","v":0},{"$f":"IF(Scores!P59=\"\",\"\",Scores!P59)","v":""},{"$f":"IF(Scores!Q59=\"\",\"\",Scores!Q59)","v":""},{"$f":"IF(Scores!R59=\"\",\"\",Scores!R59)","v":0},{"$f":"IF(Scores!S59=\"\",\"\",Scores!S59)","v":""},{"$f":"IF(Scores!T59=\"\",\"\",Scores!T59)","v":""},{"$f":"IF(Scores!U59=\"\",\"\",Scores!U59)","v":0},{"$f":"IF(Scores!V59=\"\",\"\",Scores!V59)","v":""},{"$f":"IF(Scores!W59=\"\",\"\",Scores!W59)","v":""},{"$f":"IF(Scores!X59=\"\",\"\",Scores!X59)","v":0},{"$f":"IF(Scores!Y59=\"\",\"\",Scores!Y59)","v":""},{"$f":"IF(Scores!Z59=\"\",\"\",Scores!Z59)","v":""},{"$f":"IF(Scores!AA59=\"\",\"\",Scores!AA59)","v":0},"","","","","","","",{"$f":"IF(Table2[[#This Row],[SCORE]]=\"\",\"\",_xlfn.RANK.EQ(Table2[[#This Row],[SCORE]],Table2[SCORE],1))","v":""},"",""]
[56,{"$f":"IF(Scores!$C60=\"\",\"\",Scores!C60)","v":""},{"$f":"IF(Scores!D60=\"\",\"\",Scores!D60)","v":""},{"$f":"IF(Scores!F60=\"\",\"ZZ\",Scores!F60)","v":"ZZ"},{"$f":"IF(Scores!G60=\"\",\"\",Scores!G60)","v":""},{"$f":"IF(Scores!H60=\"\",\"\",Scores!H60)","v":""},{"$f":"IF(Scores!I60=\"\",\"\",Scores!I60)","v":""},{"$f":"IF(Scores!J60=\"\",\"\",Scores!J60)","v":""},{"$f":"IF(Scores!K60=\"\",\"\",Scores!K60)","v":""},{"$f":"IF(Scores!L60=\"\",\"\",Scores!L60)","v":0},{"$f":"IF(Scores!M60=\"\",\"\",Scores!M60)","v":""},{"$f":"IF(Scores!N60=\"\",\"\",Scores!N60)","v":""},{"$f":"IF(Scores!O60=\"\",\"\",Scores!O60)","v":0},{"$f":"IF(Scores!P60=\"\",\"\",Scores!P60)","v":""},{"$f":"IF(Scores!Q60=\"\",\"\",Scores!Q60)","v":""},{"$f":"IF(Scores!R60=\"\",\"\",Scores!R60)","v":0},{"$f":"IF(Scores!S60=\"\",\"\",Scores!S60)","v":""},{"$f":"IF(Scores!T60=\"\",\"\",Scores!T60)","v":""},{"$f":"IF(Scores!U60=\"\",\"\",Scores!U60)","v":0},{"$f":"IF(Scores!V60=\"\",\"\",Scores!V60)","v":""},{"$f":"IF(Scores!W60=\"\",\"\",Scores!W60)","v":""},{"$f":"IF(Scores!X60=\"\",\"\",Scores!X60)","v":0},{"$f":"IF(Scores!Y60=\"\",\"\",Scores!Y60)","v":""},{"$f":"IF(Scores!Z60=\"\",\"\",Scores!Z60)","v":""},{"$f":"IF(Scores!AA60=\"\",\"\",Scores!AA60)","v":0},"","","","","","","",{"$f":"IF(Table2[[#This Row],[SCORE]]=\"\",\"\",_xlfn.RANK.EQ(Table2[[#This Row],[SCORE]],Table2[SCORE],1))","v":""},"",""]
[57,{"$f":"IF(Scores!$C61=\"\",\"\",Scores!C61)","v":""},{"$f":"IF(Scores!D61=\"\",\"\",Scores!D61)","v":""},{"$f":"IF(Scores!F61=\"\",\"ZZ\",Scores!F61)","v":"ZZ"},{"$f":"IF(Scores!G61=\"\",\"\",Scores!G61)","v":""},{"$f":"IF(Scores!H61=\"\",\"\",Scores!H61)","v":""},{"$f":"IF(Scores!I61=\"\",\"\",Scores!I61)","v":""},{"$f":"IF(Scores!J61=\"\",\"\",Scores!J61)","v":""},{"$f":"IF(Scores!K61=\"\",\"\",Scores!K61)","v":""},{"$f":"IF(Scores!L61=\"\",\"\",Scores!L61)","v":0},{"$f":"IF(Scores!M61=\"\",\"\",Scores!M61)","v":""},{"$f":"IF(Scores!N61=\"\",\"\",Scores!N61)","v":""},{"$f":"IF(Scores!O61=\"\",\"\",Scores!O61)","v":0},{"$f":"IF(Scores!P61=\"\",\"\",Scores!P61)","v":""},{"$f":"IF(Scores!Q61=\"\",\"\",Scores!Q61)","v":""},{"$f":"IF(Scores!R61=\"\",\"\",Scores!R61)","v":0},{"$f":"IF(Scores!S61=\"\",\"\",Scores!S61)","v":""},{"$f":"IF(Scores!T61=\"\",\"\",Scores!T61)","v":""},{"$f":"IF(Scores!U61=\"\",\"\",Scores!U61)","v":0},{"$f":"IF(Scores!V61=\"\",\"\",Scores!V61)","v":""},{"$f":"IF(Scores!W61=\"\",\"\",Scores!W61)","v":""},{"$f":"IF(Scores!X61=\"\",\"\",Scores!X61)","v":0},{"$f":"IF(Scores!Y61=\"\",\"\",Scores!Y61)","v":""},{"$f":"IF(Scores!Z61=\"\",\"\",Scores!Z61)","v":""},{"$f":"IF(Scores!AA61=\"\",\"\",Scores!AA61)","v":0},"","","","","","","",{"$f":"IF(Table2[[#This Row],[SCORE]]=\"\",\"\",_xlfn.RANK.EQ(Table2[[#This Row],[SCORE]],Table2[SCORE],1))","v":""},"",""]
[58,{"$f":"IF(Scores!$C62=\"\",\"\",Scores!C62)","v":""},{"$f":"IF(Scores!D62=\"\",\"\",Scores!D62)","v":""},{"$f":"IF(Scores!F62=\"\",\"ZZ\",Scores!F62)","v":"ZZ"},{"$f":"IF(Scores!G62=\"\",\"\",Scores!G62)","v":""},{"$f":"IF(Scores!H62=\"\",\"\",Scores!H62)","v":""},{"$f":"IF(Scores!I62=\"\",\"\",Scores!I62)","v":""},{"$f":"IF(Scores!J62=\"\",\"\",Scores!J62)","v":""},{"$f":"IF(Scores!K62=\"\",\"\",Scores!K62)","v":""},{"$f":"IF(Scores!L62=\"\",\"\",Scores!L62)","v":0},{"$f":"IF(Scores!M62=\"\",\"\",Scores!M62)","v":""},{"$f":"IF(Scores!N62=\"\",\"\",Scores!N62)","v":""},{"$f":"IF(Scores!O62=\"\",\"\",Scores!O62)","v":0},{"$f":"IF(Scores!P62=\"\",\"\",Scores!P62)","v":""},{"$f":"IF(Scores!Q62=\"\",\"\",Scores!Q62)","v":""},{"$f":"IF(Scores!R62=\"\",\"\",Scores!R62)","v":0},{"$f":"IF(Scores!S62=\"\",\"\",Scores!S62)","v":""},{"$f":"IF(Scores!T62=\"\",\"\",Scores!T62)","v":""},{"$f":"IF(Scores!U62=\"\",\"\",Scores!U62)","v":0},{"$f":"IF(Scores!V62=\"\",\"\",Scores!V62)","v":""},{"$f":"IF(Scores!W62=\"\",\"\",Scores!W62)","v":""},{"$f":"IF(Scores!X62=\"\",\"\",Scores!X62)","v":0},{"$f":"IF(Scores!Y62=\"\",\"\",Scores!Y62)","v":""},{"$f":"IF(Scores!Z62=\"\",\"\",Scores!Z62)","v":""},{"$f":"IF(Scores!AA62=\"\",\"\",Scores!AA62)","v":0},"","","","","","","",{"$f":"IF(Table2[[#This Row],[SCORE]]=\"\",\"\",_xlfn.RANK.EQ(Table2[[#This Row],[SCORE]],Table2[SCORE],1))","v":""},"",""]
[59,{"$f":"IF(Scores!$C63=\"\",\"\",Scores!C63)","v":""},{"$f":"IF(Scores!D63=\"\",\"\",Scores!D63)","v":""},{"$f":"IF(Scores!F63=\"\",\"ZZ\",Scores!F63)","v":"ZZ"},{"$f":"IF(Scores!G63=\"\",\"\",Scores!G63)","v":""},{"$f":"IF(Scores!H63=\"\",\"\",Scores!H63)","v":""},{"$f":"IF(Scores!I63=\"\",\"\",Scores!I63)","v":""},{"$f":"IF(Scores!J63=\"\",\"\",Scores!J63)","v":""},{"$f":"IF(Scores!K63=\"\",\"\",Scores!K63)","v":""},{"$f":"IF(Scores!L63=\"\",\"\",Scores!L63)","v":0},{"$f":"IF(Scores!M63=\"\",\"\",Scores!M63)","v":""},{"$f":"IF(Scores!N63=\"\",\"\",Scores!N63)","v":""},{"$f":"IF(Scores!O63=\"\",\"\",Scores!O63)","v":0},{"$f":"IF(Scores!P63=\"\",\"\",Scores!P63)","v":""},{"$f":"IF(Scores!Q63=\"\",\"\",Scores!Q63)","v":""},{"$f":"IF(Scores!R63=\"\",\"\",Scores!R63)","v":0},{"$f":"IF(Scores!S63=\"\",\"\",Scores!S63)","v":""},{"$f":"IF(Scores!T63=\"\",\"\",Scores!T63)","v":""},{"$f":"IF(Scores!U63=\"\",\"\",Scores!U63)","v":0},{"$f":"IF(Scores!V63=\"\",\"\",Scores!V63)","v":""},{"$f":"IF(Scores!W63=\"\",\"\",Scores!W63)","v":""},{"$f":"IF(Scores!X63=\"\",\"\",Scores!X63)","v":0},{"$f":"IF(Scores!Y63=\"\",\"\",Scores!Y63)","v":""},{"$f":"IF(Scores!Z63=\"\",\"\",Scores!Z63)","v":""},{"$f":"IF(Scores!AA63=\"\",\"\",Scores!AA63)","v":0},"","","","","","","",{"$f":"IF(Table2[[#This Row],[SCORE]]=\"\",\"\",_xlfn.RANK.EQ(Table2[[#This Row],[SCORE]],Table2[SCORE],1))","v":""},"",""]
[60,{"$f":"IF(Scores!$C64=\"\",\"\",Scores!C64)","v":""},{"$f":"IF(Scores!D64=\"\",\"\",Scores!D64)","v":""},{"$f":"IF(Scores!F64=\"\",\"ZZ\",Scores!F64)","v":"ZZ"},{"$f":"IF(Scores!G64=\"\",\"\",Scores!G64)","v":""},{"$f":"IF(Scores!H64=\"\",\"\",Scores!H64)","v":""},{"$f":"IF(Scores!I64=\"\",\"\",Scores!I64)","v":""},{"$f":"IF(Scores!J64=\"\",\"\",Scores!J64)","v":""},{"$f":"IF(Scores!K64=\"\",\"\",Scores!K64)","v":""},{"$f":"IF(Scores!L64=\"\",\"\",Scores!L64)","v":0},{"$f":"IF(Scores!M64=\"\",\"\",Scores!M64)","v":""},{"$f":"IF(Scores!N64=\"\",\"\",Scores!N64)","v":""},{"$f":"IF(Scores!O64=\"\",\"\",Scores!O64)","v":0},{"$f":"IF(Scores!P64=\"\",\"\",Scores!P64)","v":""},{"$f":"IF(Scores!Q64=\"\",\"\",Scores!Q64)","v":""},{"$f":"IF(Scores!R64=\"\",\"\",Scores!R64)","v":0},{"$f":"IF(Scores!S64=\"\",\"\",Scores!S64)","v":""},{"$f":"IF(Scores!T64=\"\",\"\",Scores!T64)","v":""},{"$f":"IF(Scores!U64=\"\",\"\",Scores!U64)","v":0},{"$f":"IF(Scores!V64=\"\",\"\",Scores!V64)","v":""},{"$f":"IF(Scores!W64=\"\",\"\",Scores!W64)","v":""},{"$f":"IF(Scores!X64=\"\",\"\",Scores!X64)","v":0},{"$f":"IF(Scores!Y64=\"\",\"\",Scores!Y64)","v":""},{"$f":"IF(Scores!Z64=\"\",\"\",Scores!Z64)","v":""},{"$f":"IF(Scores!AA64=\"\",\"\",Scores!AA64)","v":0},"","","","","","","",{"$f":"IF(Table2[[#This Row],[SCORE]]=\"\",\"\",_xlfn.RANK.EQ(Table2[[#This Row],[SCORE]],Table2[SCORE],1))","v":""},"",""]
[61,{"$f":"IF(Scores!$C65=\"\",\"\",Scores!C65)","v":""},{"$f":"IF(Scores!D65=\"\",\"\",Scores!D65)","v":""},{"$f":"IF(Scores!F65=\"\",\"ZZ\",Scores!F65)","v":"ZZ"},{"$f":"IF(Scores!G65=\"\",\"\",Scores!G65)","v":""},{"$f":"IF(Scores!H65=\"\",\"\",Scores!H65)","v":""},{"$f":"IF(Scores!I65=\"\",\"\",Scores!I65)","v":""},{"$f":"IF(Scores!J65=\"\",\"\",Scores!J65)","v":""},{"$f":"IF(Scores!K65=\"\",\"\",Scores!K65)","v":""},{"$f":"IF(Scores!L65=\"\",\"\",Scores!L65)","v":0},{"$f":"IF(Scores!M65=\"\",\"\",Scores!M65)","v":""},{"$f":"IF(Scores!N65=\"\",\"\",Scores!N65)","v":""},{"$f":"IF(Scores!O65=\"\",\"\",Scores!O65)","v":0},{"$f":"IF(Scores!P65=\"\",\"\",Scores!P65)","v":""},{"$f":"IF(Scores!Q65=\"\",\"\",Scores!Q65)","v":""},{"$f":"IF(Scores!R65=\"\",\"\",Scores!R65)","v":0},{"$f":"IF(Scores!S65=\"\",\"\",Scores!S65)","v":""},{"$f":"IF(Scores!T65=\"\",\"\",Scores!T65)","v":""},{"$f":"IF(Scores!U65=\"\",\"\",Scores!U65)","v":0},{"$f":"IF(Scores!V65=\"\",\"\",Scores!V65)","v":""},{"$f":"IF(Scores!W65=\"\",\"\",Scores!W65)","v":""},{"$f":"IF(Scores!X65=\"\",\"\",Scores!X65)","v":0},{"$f":"IF(Scores!Y65=\"\",\"\",Scores!Y65)","v":""},{"$f":"IF(Scores!Z65=\"\",\"\",Scores!Z65)","v":""},{"$f":"IF(Scores!AA65=\"\",\"\",Scores!AA65)","v":0},"","","","","","","",{"$f":"IF(Table2[[#This Row],[SCORE]]=\"\",\"\",_xlfn.RANK.EQ(Table2[[#This Row],[SCORE]],Table2[SCORE],1))","v":""},"",""]
[62,{"$f":"IF(Scores!$C66=\"\",\"\",Scores!C66)","v":""},{"$f":"IF(Scores!D66=\"\",\"\",Scores!D66)","v":""},{"$f":"IF(Scores!F66=\"\",\"ZZ\",Scores!F66)","v":"ZZ"},{"$f":"IF(Scores!G66=\"\",\"\",Scores!G66)","v":""},{"$f":"IF(Scores!H66=\"\",\"\",Scores!H66)","v":""},{"$f":"IF(Scores!I66=\"\",\"\",Scores!I66)","v":""},{"$f":"IF(Scores!J66=\"\",\"\",Scores!J66)","v":""},{"$f":"IF(Scores!K66=\"\",\"\",Scores!K66)","v":""},{"$f":"IF(Scores!L66=\"\",\"\",Scores!L66)","v":0},{"$f":"IF(Scores!M66=\"\",\"\",Scores!M66)","v":""},{"$f":"IF(Scores!N66=\"\",\"\",Scores!N66)","v":""},{"$f":"IF(Scores!O66=\"\",\"\",Scores!O66)","v":0},{"$f":"IF(Scores!P66=\"\",\"\",Scores!P66)","v":""},{"$f":"IF(Scores!Q66=\"\",\"\",Scores!Q66)","v":""},{"$f":"IF(Scores!R66=\"\",\"\",Scores!R66)","v":0},{"$f":"IF(Scores!S66=\"\",\"\",Scores!S66)","v":""},{"$f":"IF(Scores!T66=\"\",\"\",Scores!T66)","v":""},{"$f":"IF(Scores!U66=\"\",\"\",Scores!U66)","v":0},{"$f":"IF(Scores!V66=\"\",\"\",Scores!V66)","v":""},{"$f":"IF(Scores!W66=\"\",\"\",Scores!W66)","v":""},{"$f":"IF(Scores!X66=\"\",\"\",Scores!X66)","v":0},{"$f":"IF(Scores!Y66=\"\",\"\",Scores!Y66)","v":""},{"$f":"IF(Scores!Z66=\"\",\"\",Scores!Z66)","v":""},{"$f":"IF(Scores!AA66=\"\",\"\",Scores!AA66)","v":0},"","","","","","","",{"$f":"IF(Table2[[#This Row],[SCORE]]=\"\",\"\",_xlfn.RANK.EQ(Table2[[#This Row],[SCORE]],Table2[SCORE],1))","v":""},"",""]
[63,{"$f":"IF(Scores!$C67=\"\",\"\",Scores!C67)","v":""},{"$f":"IF(Scores!D67=\"\",\"\",Scores!D67)","v":""},{"$f":"IF(Scores!F67=\"\",\"ZZ\",Scores!F67)","v":"ZZ"},{"$f":"IF(Scores!G67=\"\",\"\",Scores!G67)","v":""},{"$f":"IF(Scores!H67=\"\",\"\",Scores!H67)","v":""},{"$f":"IF(Scores!I67=\"\",\"\",Scores!I67)","v":""},{"$f":"IF(Scores!J67=\"\",\"\",Scores!J67)","v":""},{"$f":"IF(Scores!K67=\"\",\"\",Scores!K67)","v":""},{"$f":"IF(Scores!L67=\"\",\"\",Scores!L67)","v":0},{"$f":"IF(Scores!M67=\"\",\"\",Scores!M67)","v":""},{"$f":"IF(Scores!N67=\"\",\"\",Scores!N67)","v":""},{"$f":"IF(Scores!O67=\"\",\"\",Scores!O67)","v":0},{"$f":"IF(Scores!P67=\"\",\"\",Scores!P67)","v":""},{"$f":"IF(Scores!Q67=\"\",\"\",Scores!Q67)","v":""},{"$f":"IF(Scores!R67=\"\",\"\",Scores!R67)","v":0},{"$f":"IF(Scores!S67=\"\",\"\",Scores!S67)","v":""},{"$f":"IF(Scores!T67=\"\",\"\",Scores!T67)","v":""},{"$f":"IF(Scores!U67=\"\",\"\",Scores!U67)","v":0},{"$f":"IF(Scores!V67=\"\",\"\",Scores!V67)","v":""},{"$f":"IF(Scores!W67=\"\",\"\",Scores!W67)","v":""},{"$f":"IF(Scores!X67=\"\",\"\",Scores!X67)","v":0},{"$f":"IF(Scores!Y67=\"\",\"\",Scores!Y67)","v":""},{"$f":"IF(Scores!Z67=\"\",\"\",Scores!Z67)","v":""},{"$f":"IF(Scores!AA67=\"\",\"\",Scores!AA67)","v":0},"","","","","","","",{"$f":"IF(Table2[[#This Row],[SCORE]]=\"\",\"\",_xlfn.RANK.EQ(Table2[[#This Row],[SCORE]],Table2[SCORE],1))","v":""},"",""]
[64,{"$f":"IF(Scores!$C68=\"\",\"\",Scores!C68)","v":""},{"$f":"IF(Scores!D68=\"\",\"\",Scores!D68)","v":""},{"$f":"IF(Scores!F68=\"\",\"ZZ\",Scores!F68)","v":"ZZ"},{"$f":"IF(Scores!G68=\"\",\"\",Scores!G68)","v":""},{"$f":"IF(Scores!H68=\"\",\"\",Scores!H68)","v":""},{"$f":"IF(Scores!I68=\"\",\"\",Scores!I68)","v":""},{"$f":"IF(Scores!J68=\"\",\"\",Scores!J68)","v":""},{"$f":"IF(Scores!K68=\"\",\"\",Scores!K68)","v":""},{"$f":"IF(Scores!L68=\"\",\"\",Scores!L68)","v":0},{"$f":"IF(Scores!M68=\"\",\"\",Scores!M68)","v":""},{"$f":"IF(Scores!N68=\"\",\"\",Scores!N68)","v":""},{"$f":"IF(Scores!O68=\"\",\"\",Scores!O68)","v":0},{"$f":"IF(Scores!P68=\"\",\"\",Scores!P68)","v":""},{"$f":"IF(Scores!Q68=\"\",\"\",Scores!Q68)","v":""},{"$f":"IF(Scores!R68=\"\",\"\",Scores!R68)","v":0},{"$f":"IF(Scores!S68=\"\",\"\",Scores!S68)","v":""},{"$f":"IF(Scores!T68=\"\",\"\",Scores!T68)","v":""},{"$f":"IF(Scores!U68=\"\",\"\",Scores!U68)","v":0},{"$f":"IF(Scores!V68=\"\",\"\",Scores!V68)","v":""},{"$f":"IF(Scores!W68=\"\",\"\",Scores!W68)","v":""},{"$f":"IF(Scores!X68=\"\",\"\",Scores!X68)","v":0},{"$f":"IF(Scores!Y68=\"\",\"\",Scores!Y68)","v":""},{"$f":"IF(Scores!Z68=\"\",\"\",Scores!Z68)","v":""},{"$f":"IF(Scores!AA68=\"\",\"\",Scores!AA68)","v":0},"","","","","","","",{"$f":"IF(Table2[[#This Row],[SCORE]]=\"\",\"\",_xlfn.RANK.EQ(Table2[[#This Row],[SCORE]],Table2[SCORE],1))","v":""},"",""]
[65,{"$f":"IF(Scores!$C69=\"\",\"\",Scores!C69)","v":""},{"$f":"IF(Scores!D69=\"\",\"\",Scores!D69)","v":""},{"$f":"IF(Scores!F69=\"\",\"ZZ\",Scores!F69)","v":"ZZ"},{"$f":"IF(Scores!G69=\"\",\"\",Scores!G69)","v":""},{"$f":"IF(Scores!H69=\"\",\"\",Scores!H69)","v":""},{"$f":"IF(Scores!I69=\"\",\"\",Scores!I69)","v":""},{"$f":"IF(Scores!J69=\"\",\"\",Scores!J69)","v":""},{"$f":"IF(Scores!K69=\"\",\"\",Scores!K69)","v":""},{"$f":"IF(Scores!L69=\"\",\"\",Scores!L69)","v":0},{"$f":"IF(Scores!M69=\"\",\"\",Scores!M69)","v":""},{"$f":"IF(Scores!N69=\"\",\"\",Scores!N69)","v":""},{"$f":"IF(Scores!O69=\"\",\"\",Scores!O69)","v":0},{"$f":"IF(Scores!P69=\"\",\"\",Scores!P69)","v":""},{"$f":"IF(Scores!Q69=\"\",\"\",Scores!Q69)","v":""},{"$f":"IF(Scores!R69=\"\",\"\",Scores!R69)","v":0},{"$f":"IF(Scores!S69=\"\",\"\",Scores!S69)","v":""},{"$f":"IF(Scores!T69=\"\",\"\",Scores!T69)","v":""},{"$f":"IF(Scores!U69=\"\",\"\",Scores!U69)","v":0},{"$f":"IF(Scores!V69=\"\",\"\",Scores!V69)","v":""},{"$f":"IF(Scores!W69=\"\",\"\",Scores!W69)","v":""},{"$f":"IF(Scores!X69=\"\",\"\",Scores!X69)","v":0},{"$f":"IF(Scores!Y69=\"\",\"\",Scores!Y69)","v":""},{"$f":"IF(Scores!Z69=\"\",\"\",Scores!Z69)","v":""},{"$f":"IF(Scores!AA69=\"\",\"\",Scores!AA69)","v":0},{"$f":"IF(B68=\"\",\"\",SUM(H68,K68,N68,Q68,T68,W68))","v":""},{"$f":"IF(B68=\"\",\"\",SUM(I68,L68,O68,R68,U68,X68))","v":""},{"$f":"IF(B68=\"\",\"\",SUM(J68,M68,P68,S68,V68,Y68))","v":""},{"$f":"IF(B68=\"\",\"\",ROUND(AVERAGE(H68,K68,N68,Q68,T68,W68),2))","v":""},{"$f":"IF(B68=\"\",\"\",ROUND(AVERAGE(I68,L68,O68,R68,U68,X68),1))","v":""},{"$f":"IF(B68=\"\",\"\",ROUND(AVERAGE(J68,M68,P68,S68,V68,Y68),2))","v":""},{"$f":"IF(B68=\"\",\"\",SUM(J68,M68,P68,S68,V68,Y68)-MAX(J68,M68,P68,S68,V68,Y68))","v":""},{"$f":"IF(Table2[[#This Row],[SCORE]]=\"\",\"\",_xlfn.RANK.EQ(Table2[[#This Row],[SCORE]],Table2[SCORE],1))","v":""},{"$f":"IF(AF68=\"\",\"\",SUMPRODUCT(--(D68=$D$4:$D$123),--(AF68>$AF$4:$AF$123))+1)","v":""},{"$f":"IF(B68=\"\",\"\",MAX(H68,K68,N68,Q68,T68,W68)-MIN(H68,K68,N68,Q68,T68,W68,))","v":""}]
[66,{"$f":"IF(Scores!$C70=\"\",\"\",Scores!C70)","v":""},{"$f":"IF(Scores!D70=\"\",\"\",Scores!D70)","v":""},{"$f":"IF(Scores!F70=\"\",\"ZZ\",Scores!F70)","v":"ZZ"},{"$f":"IF(Scores!G70=\"\",\"\",Scores!G70)","v":""},{"$f":"IF(Scores!H70=\"\",\"\",Scores!H70)","v":""},{"$f":"IF(Scores!I70=\"\",\"\",Scores!I70)","v":""},{"$f":"IF(Scores!J70=\"\",\"\",Scores!J70)","v":""},{"$f":"IF(Scores!K70=\"\",\"\",Scores!K70)","v":""},{"$f":"IF(Scores!L70=\"\",\"\",Scores!L70)","v":0},{"$f":"IF(Scores!M70=\"\",\"\",Scores!M70)","v":""},{"$f":"IF(Scores!N70=\"\",\"\",Scores!N70)","v":""},{"$f":"IF(Scores!O70=\"\",\"\",Scores!O70)","v":0},{"$f":"IF(Scores!P70=\"\",\"\",Scores!P70)","v":""},{"$f":"IF(Scores!Q70=\"\",\"\",Scores!Q70)","v":""},{"$f":"IF(Scores!R70=\"\",\"\",Scores!R70)","v":0},{"$f":"IF(Scores!S70=\"\",\"\",Scores!S70)","v":""},{"$f":"IF(Scores!T70=\"\",\"\",Scores!T70)","v":""},{"$f":"IF(Scores!U70=\"\",\"\",Scores!U70)","v":0},{"$f":"IF(Scores!V70=\"\",\"\",Scores!V70)","v":""},{"$f":"IF(Scores!W70=\"\",\"\",Scores!W70)","v":""},{"$f":"IF(Scores!X70=\"\",\"\",Scores!X70)","v":0},{"$f":"IF(Scores!Y70=\"\",\"\",Scores!Y70)","v":""},{"$f":"IF(Scores!Z70=\"\",\"\",Scores!Z70)","v":""},{"$f":"IF(Scores!AA70=\"\",\"\",Scores!AA70)","v":0},"","","","","","","",{"$f":"IF(Table2[[#This Row],[SCORE]]=\"\",\"\",_xlfn.RANK.EQ(Table2[[#This Row],[SCORE]],Table2[SCORE],1))","v":""},"",""]
[67,{"$f":"IF(Scores!$C71=\"\",\"\",Scores!C71)","v":""},{"$f":"IF(Scores!D71=\"\",\"\",Scores!D71)","v":""},{"$f":"IF(Scores!F71=\"\",\"ZZ\",Scores!F71)","v":"ZZ"},{"$f":"IF(Scores!G71=\"\",\"\",Scores!G71)","v":""},{"$f":"IF(Scores!H71=\"\",\"\",Scores!H71)","v":""},{"$f":"IF(Scores!I71=\"\",\"\",Scores!I71)","v":""},{"$f":"IF(Scores!J71=\"\",\"\",Scores!J71)","v":""},{"$f":"IF(Scores!K71=\"\",\"\",Scores!K71)","v":""},{"$f":"IF(Scores!L71=\"\",\"\",Scores!L71)","v":0},{"$f":"IF(Scores!M71=\"\",\"\",Scores!M71)","v":""},{"$f":"IF(Scores!N71=\"\",\"\",Scores!N71)","v":""},{"$f":"IF(Scores!O71=\"\",\"\",Scores!O71)","v":0},{"$f":"IF(Scores!P71=\"\",\"\",Scores!P71)","v":""},{"$f":"IF(Scores!Q71=\"\",\"\",Scores!Q71)","v":""},{"$f":"IF(Scores!R71=\"\",\"\",Scores!R71)","v":0},{"$f":"IF(Scores!S71=\"\",\"\",Scores!S71)","v":""},{"$f":"IF(Scores!T71=\"\",\"\",Scores!T71)","v":""},{"$f":"IF(Scores!U71=\"\",\"\",Scores!U71)","v":0},{"$f":"IF(Scores!V71=\"\",\"\",Scores!V71)","v":""},{"$f":"IF(Scores!W71=\"\",\"\",Scores!W71)","v":""},{"$f":"IF(Scores!X71=\"\",\"\",Scores!X71)","v":0},{"$f":"IF(Scores!Y71=\"\",\"\",Scores!Y71)","v":""},{"$f":"IF(Scores!Z71=\"\",\"\",Scores!Z71)","v":""},{"$f":"IF(Scores!AA71=\"\",\"\",Scores!AA71)","v":0},"","","","","","","",{"$f":"IF(Table2[[#This Row],[SCORE]]=\"\",\"\",_xlfn.RANK.EQ(Table2[[#This Row],[SCORE]],Table2[SCORE],1))","v":""},"",""]
[68,{"$f":"IF(Scores!$C72=\"\",\"\",Scores!C72)","v":""},{"$f":"IF(Scores!D72=\"\",\"\",Scores!D72)","v":""},{"$f":"IF(Scores!F72=\"\",\"ZZ\",Scores!F72)","v":"ZZ"},{"$f":"IF(Scores!G72=\"\",\"\",Scores!G72)","v":""},{"$f":"IF(Scores!H72=\"\",\"\",Scores!H72)","v":""},{"$f":"IF(Scores!I72=\"\",\"\",Scores!I72)","v":""},{"$f":"IF(Scores!J72=\"\",\"\",Scores!J72)","v":""},{"$f":"IF(Scores!K72=\"\",\"\",Scores!K72)","v":""},{"$f":"IF(Scores!L72=\"\",\"\",Scores!L72)","v":0},{"$f":"IF(Scores!M72=\"\",\"\",Scores!M72)","v":""},{"$f":"IF(Scores!N72=\"\",\"\",Scores!N72)","v":""},{"$f":"IF(Scores!O72=\"\",\"\",Scores!O72)","v":0},{"$f":"IF(Scores!P72=\"\",\"\",Scores!P72)","v":""},{"$f":"IF(Scores!Q72=\"\",\"\",Scores!Q72)","v":""},{"$f":"IF(Scores!R72=\"\",\"\",Scores!R72)","v":0},{"$f":"IF(Scores!S72=\"\",\"\",Scores!S72)","v":""},{"$f":"IF(Scores!T72=\"\",\"\",Scores!T72)","v":""},{"$f":"IF(Scores!U72=\"\",\"\",Scores!U72)","v":0},{"$f":"IF(Scores!V72=\"\",\"\",Scores!V72)","v":""},{"$f":"IF(Scores!W72=\"\",\"\",Scores!W72)","v":""},{"$f":"IF(Scores!X72=\"\",\"\",Scores!X72)","v":0},{"$f":"IF(Scores!Y72=\"\",\"\",Scores!Y72)","v":""},{"$f":"IF(Scores!Z72=\"\",\"\",Scores!Z72)","v":""},{"$f":"IF(Scores!AA72=\"\",\"\",Scores!AA72)","v":0},"","","","","","","",{"$f":"IF(Table2[[#This Row],[SCORE]]=\"\",\"\",_xlfn.RANK.EQ(Table2[[#This Row],[SCORE]],Table2[SCORE],1))","v":""},"",""]
[69,{"$f":"IF(Scores!$C73=\"\",\"\",Scores!C73)","v":""},{"$f":"IF(Scores!D73=\"\",\"\",Scores!D73)","v":""},{"$f":"IF(Scores!F73=\"\",\"ZZ\",Scores!F73)","v":"ZZ"},{"$f":"IF(Scores!G73=\"\",\"\",Scores!G73)","v":""},{"$f":"IF(Scores!H73=\"\",\"\",Scores!H73)","v":""},{"$f":"IF(Scores!I73=\"\",\"\",Scores!I73)","v":""},{"$f":"IF(Scores!J73=\"\",\"\",Scores!J73)","v":""},{"$f":"IF(Scores!K73=\"\",\"\",Scores!K73)","v":""},{"$f":"IF(Scores!L73=\"\",\"\",Scores!L73)","v":0},{"$f":"IF(Scores!M73=\"\",\"\",Scores!M73)","v":""},{"$f":"IF(Scores!N73=\"\",\"\",Scores!N73)","v":""},{"$f":"IF(Scores!O73=\"\",\"\",Scores!O73)","v":0},{"$f":"IF(Scores!P73=\"\",\"\",Scores!P73)","v":""},{"$f":"IF(Scores!Q73=\"\",\"\",Scores!Q73)","v":""},{"$f":"IF(Scores!R73=\"\",\"\",Scores!R73)","v":0},{"$f":"IF(Scores!S73=\"\",\"\",Scores!S73)","v":""},{"$f":"IF(Scores!T73=\"\",\"\",Scores!T73)","v":""},{"$f":"IF(Scores!U73=\"\",\"\",Scores!U73)","v":0},{"$f":"IF(Scores!V73=\"\",\"\",Scores!V73)","v":""},{"$f":"IF(Scores!W73=\"\",\"\",Scores!W73)","v":""},{"$f":"IF(Scores!X73=\"\",\"\",Scores!X73)","v":0},{"$f":"IF(Scores!Y73=\"\",\"\",Scores!Y73)","v":""},{"$f":"IF(Scores!Z73=\"\",\"\",Scores!Z73)","v":""},{"$f":"IF(Scores!AA73=\"\",\"\",Scores!AA73)","v":0},"","","","","","","",{"$f":"IF(Table2[[#This Row],[SCORE]]=\"\",\"\",_xlfn.RANK.EQ(Table2[[#This Row],[SCORE]],Table2[SCORE],1))","v":""},"",""]
[70,{"$f":"IF(Scores!$C74=\"\",\"\",Scores!C74)","v":""},{"$f":"IF(Scores!D74=\"\",\"\",Scores!D74)","v":""},{"$f":"IF(Scores!F74=\"\",\"ZZ\",Scores!F74)","v":"ZZ"},{"$f":"IF(Scores!G74=\"\",\"\",Scores!G74)","v":""},{"$f":"IF(Scores!H74=\"\",\"\",Scores!H74)","v":""},{"$f":"IF(Scores!I74=\"\",\"\",Scores!I74)","v":""},{"$f":"IF(Scores!J74=\"\",\"\",Scores!J74)","v":""},{"$f":"IF(Scores!K74=\"\",\"\",Scores!K74)","v":""},{"$f":"IF(Scores!L74=\"\",\"\",Scores!L74)","v":0},{"$f":"IF(Scores!M74=\"\",\"\",Scores!M74)","v":""},{"$f":"IF(Scores!N74=\"\",\"\",Scores!N74)","v":""},{"$f":"IF(Scores!O74=\"\",\"\",Scores!O74)","v":0},{"$f":"IF(Scores!P74=\"\",\"\",Scores!P74)","v":""},{"$f":"IF(Scores!Q74=\"\",\"\",Scores!Q74)","v":""},{"$f":"IF(Scores!R74=\"\",\"\",Scores!R74)","v":0},{"$f":"IF(Scores!S74=\"\",\"\",Scores!S74)","v":""},{"$f":"IF(Scores!T74=\"\",\"\",Scores!T74)","v":""},{"$f":"IF(Scores!U74=\"\",\"\",Scores!U74)","v":0},{"$f":"IF(Scores!V74=\"\",\"\",Scores!V74)","v":""},{"$f":"IF(Scores!W74=\"\",\"\",Scores!W74)","v":""},{"$f":"IF(Scores!X74=\"\",\"\",Scores!X74)","v":0},{"$f":"IF(Scores!Y74=\"\",\"\",Scores!Y74)","v":""},{"$f":"IF(Scores!Z74=\"\",\"\",Scores!Z74)","v":""},{"$f":"IF(Scores!AA74=\"\",\"\",Scores!AA74)","v":0},"","","","","","","",{"$f":"IF(Table2[[#This Row],[SCORE]]=\"\",\"\",_xlfn.RANK.EQ(Table2[[#This Row],[SCORE]],Table2[SCORE],1))","v":""},"",""]
[71,{"$f":"IF(Scores!$C75=\"\",\"\",Scores!C75)","v":""},{"$f":"IF(Scores!D75=\"\",\"\",Scores!D75)","v":""},{"$f":"IF(Scores!F75=\"\",\"ZZ\",Scores!F75)","v":"ZZ"},{"$f":"IF(Scores!G75=\"\",\"\",Scores!G75)","v":""},{"$f":"IF(Scores!H75=\"\",\"\",Scores!H75)","v":""},{"$f":"IF(Scores!I75=\"\",\"\",Scores!I75)","v":""},{"$f":"IF(Scores!J75=\"\",\"\",Scores!J75)","v":""},{"$f":"IF(Scores!K75=\"\",\"\",Scores!K75)","v":""},{"$f":"IF(Scores!L75=\"\",\"\",Scores!L75)","v":0},{"$f":"IF(Scores!M75=\"\",\"\",Scores!M75)","v":""},{"$f":"IF(Scores!N75=\"\",\"\",Scores!N75)","v":""},{"$f":"IF(Scores!O75=\"\",\"\",Scores!O75)","v":0},{"$f":"IF(Scores!P75=\"\",\"\",Scores!P75)","v":""},{"$f":"IF(Scores!Q75=\"\",\"\",Scores!Q75)","v":""},{"$f":"IF(Scores!R75=\"\",\"\",Scores!R75)","v":0},{"$f":"IF(Scores!S75=\"\",\"\",Scores!S75)","v":""},{"$f":"IF(Scores!T75=\"\",\"\",Scores!T75)","v":""},{"$f":"IF(Scores!U75=\"\",\"\",Scores!U75)","v":0},{"$f":"IF(Scores!V75=\"\",\"\",Scores!V75)","v":""},{"$f":"IF(Scores!W75=\"\",\"\",Scores!W75)","v":""},{"$f":"IF(Scores!X75=\"\",\"\",Scores!X75)","v":0},{"$f":"IF(Scores!Y75=\"\",\"\",Scores!Y75)","v":""},{"$f":"IF(Scores!Z75=\"\",\"\",Scores!Z75)","v":""},{"$f":"IF(Scores!AA75=\"\",\"\",Scores!AA75)","v":0},"","","","","","","",{"$f":"IF(Table2[[#This Row],[SCORE]]=\"\",\"\",_xlfn.RANK.EQ(Table2[[#This Row],[SCORE]],Table2[SCORE],1))","v":""},"",""]
[72,{"$f":"IF(Scores!$C76=\"\",\"\",Scores!C76)","v":""},{"$f":"IF(Scores!D76=\"\",\"\",Scores!D76)","v":""},{"$f":"IF(Scores!F76=\"\",\"ZZ\",Scores!F76)","v":"ZZ"},{"$f":"IF(Scores!G76=\"\",\"\",Scores!G76)","v":""},{"$f":"IF(Scores!H76=\"\",\"\",Scores!H76)","v":""},{"$f":"IF(Scores!I76=\"\",\"\",Scores!I76)","v":""},{"$f":"IF(Scores!J76=\"\",\"\",Scores!J76)","v":""},{"$f":"IF(Scores!K76=\"\",\"\",Scores!K76)","v":""},{"$f":"IF(Scores!L76=\"\",\"\",Scores!L76)","v":0},{"$f":"IF(Scores!M76=\"\",\"\",Scores!M76)","v":""},{"$f":"IF(Scores!N76=\"\",\"\",Scores!N76)","v":""},{"$f":"IF(Scores!O76=\"\",\"\",Scores!O76)","v":0},{"$f":"IF(Scores!P76=\"\",\"\",Scores!P76)","v":""},{"$f":"IF(Scores!Q76=\"\",\"\",Scores!Q76)","v":""},{"$f":"IF(Scores!R76=\"\",\"\",Scores!R76)","v":0},{"$f":"IF(Scores!S76=\"\",\"\",Scores!S76)","v":""},{"$f":"IF(Scores!T76=\"\",\"\",Scores!T76)","v":""},{"$f":"IF(Scores!U76=\"\",\"\",Scores!U76)","v":0},{"$f":"IF(Scores!V76=\"\",\"\",Scores!V76)","v":""},{"$f":"IF(Scores!W76=\"\",\"\",Scores!W76)","v":""},{"$f":"IF(Scores!X76=\"\",\"\",Scores!X76)","v":0},{"$f":"IF(Scores!Y76=\"\",\"\",Scores!Y76)","v":""},{"$f":"IF(Scores!Z76=\"\",\"\",Scores!Z76)","v":""},{"$f":"IF(Scores!AA76=\"\",\"\",Scores!AA76)","v":0},"","","","","","","",{"$f":"IF(Table2[[#This Row],[SCORE]]=\"\",\"\",_xlfn.RANK.EQ(Table2[[#This Row],[SCORE]],Table2[SCORE],1))","v":""},"",""]
[73,{"$f":"IF(Scores!$C77=\"\",\"\",Scores!C77)","v":""},{"$f":"IF(Scores!D77=\"\",\"\",Scores!D77)","v":""},{"$f":"IF(Scores!F77=\"\",\"ZZ\",Scores!F77)","v":"ZZ"},{"$f":"IF(Scores!G77=\"\",\"\",Scores!G77)","v":""},{"$f":"IF(Scores!H77=\"\",\"\",Scores!H77)","v":""},{"$f":"IF(Scores!I77=\"\",\"\",Scores!I77)","v":""},{"$f":"IF(Scores!J77=\"\",\"\",Scores!J77)","v":""},{"$f":"IF(Scores!K77=\"\",\"\",Scores!K77)","v":""},{"$f":"IF(Scores!L77=\"\",\"\",Scores!L77)","v":0},{"$f":"IF(Scores!M77=\"\",\"\",Scores!M77)","v":""},{"$f":"IF(Scores!N77=\"\",\"\",Scores!N77)","v":""},{"$f":"IF(Scores!O77=\"\",\"\",Scores!O77)","v":0},{"$f":"IF(Scores!P77=\"\",\"\",Scores!P77)","v":""},{"$f":"IF(Scores!Q77=\"\",\"\",Scores!Q77)","v":""},{"$f":"IF(Scores!R77=\"\",\"\",Scores!R77)","v":0},{"$f":"IF(Scores!S77=\"\",\"\",Scores!S77)","v":""},{"$f":"IF(Scores!T77=\"\",\"\",Scores!T77)","v":""},{"$f":"IF(Scores!U77=\"\",\"\",Scores!U77)","v":0},{"$f":"IF(Scores!V77=\"\",\"\",Scores!V77)","v":""},{"$f":"IF(Scores!W77=\"\",\"\",Scores!W77)","v":""},{"$f":"IF(Scores!X77=\"\",\"\",Scores!X77)","v":0},{"$f":"IF(Scores!Y77=\"\",\"\",Scores!Y77)","v":""},{"$f":"IF(Scores!Z77=\"\",\"\",Scores!Z77)","v":""},{"$f":"IF(Scores!AA77=\"\",\"\",Scores!AA77)","v":0},"","","","","","","",{"$f":"IF(Table2[[#This Row],[SCORE]]=\"\",\"\",_xlfn.RANK.EQ(Table2[[#This Row],[SCORE]],Table2[SCORE],1))","v":""},"",""]
[74,{"$f":"IF(Scores!$C78=\"\",\"\",Scores!C78)","v":""},{"$f":"IF(Scores!D78=\"\",\"\",Scores!D78)","v":""},{"$f":"IF(Scores!F78=\"\",\"ZZ\",Scores!F78)","v":"ZZ"},{"$f":"IF(Scores!G78=\"\",\"\",Scores!G78)","v":""},{"$f":"IF(Scores!H78=\"\",\"\",Scores!H78)","v":""},{"$f":"IF(Scores!I78=\"\",\"\",Scores!I78)","v":""},{"$f":"IF(Scores!J78=\"\",\"\",Scores!J78)","v":""},{"$f":"IF(Scores!K78=\"\",\"\",Scores!K78)","v":""},{"$f":"IF(Scores!L78=\"\",\"\",Scores!L78)","v":0},{"$f":"IF(Scores!M78=\"\",\"\",Scores!M78)","v":""},{"$f":"IF(Scores!N78=\"\",\"\",Scores!N78)","v":""},{"$f":"IF(Scores!O78=\"\",\"\",Scores!O78)","v":0},{"$f":"IF(Scores!P78=\"\",\"\",Scores!P78)","v":""},{"$f":"IF(Scores!Q78=\"\",\"\",Scores!Q78)","v":""},{"$f":"IF(Scores!R78=\"\",\"\",Scores!R78)","v":0},{"$f":"IF(Scores!S78=\"\",\"\",Scores!S78)","v":""},{"$f":"IF(Scores!T78=\"\",\"\",Scores!T78)","v":""},{"$f":"IF(Scores!U78=\"\",\"\",Scores!U78)","v":0},{"$f":"IF(Scores!V78=\"\",\"\",Scores!V78)","v":""},{"$f":"IF(Scores!W78=\"\",\"\",Scores!W78)","v":""},{"$f":"IF(Scores!X78=\"\",\"\",Scores!X78)","v":0},{"$f":"IF(Scores!Y78=\"\",\"\",Scores!Y78)","v":""},{"$f":"IF(Scores!Z78=\"\",\"\",Scores!Z78)","v":""},{"$f":"IF(Scores!AA78=\"\",\"\",Scores!AA78)","v":0},"","","","","","","",{"$f":"IF(Table2[[#This Row],[SCORE]]=\"\",\"\",_xlfn.RANK.EQ(Table2[[#This Row],[SCORE]],Table2[SCORE],1))","v":""},"",""]
[75,{"$f":"IF(Scores!$C79=\"\",\"\",Scores!C79)","v":""},{"$f":"IF(Scores!D79=\"\",\"\",Scores!D79)","v":""},{"$f":"IF(Scores!F79=\"\",\"ZZ\",Scores!F79)","v":"ZZ"},{"$f":"IF(Scores!G79=\"\",\"\",Scores!G79)","v":""},{"$f":"IF(Scores!H79=\"\",\"\",Scores!H79)","v":""},{"$f":"IF(Scores!I79=\"\",\"\",Scores!I79)","v":""},{"$f":"IF(Scores!J79=\"\",\"\",Scores!J79)","v":""},{"$f":"IF(Scores!K79=\"\",\"\",Scores!K79)","v":""},{"$f":"IF(Scores!L79=\"\",\"\",Scores!L79)","v":0},{"$f":"IF(Scores!M79=\"\",\"\",Scores!M79)","v":""},{"$f":"IF(Scores!N79=\"\",\"\",Scores!N79)","v":""},{"$f":"IF(Scores!O79=\"\",\"\",Scores!O79)","v":0},{"$f":"IF(Scores!P79=\"\",\"\",Scores!P79)","v":""},{"$f":"IF(Scores!Q79=\"\",\"\",Scores!Q79)","v":""},{"$f":"IF(Scores!R79=\"\",\"\",Scores!R79)","v":0},{"$f":"IF(Scores!S79=\"\",\"\",Scores!S79)","v":""},{"$f":"IF(Scores!T79=\"\",\"\",Scores!T79)","v":""},{"$f":"IF(Scores!U79=\"\",\"\",Scores!U79)","v":0},{"$f":"IF(Scores!V79=\"\",\"\",Scores!V79)","v":""},{"$f":"IF(Scores!W79=\"\",\"\",Scores!W79)","v":""},{"$f":"IF(Scores!X79=\"\",\"\",Scores!X79)","v":0},{"$f":"IF(Scores!Y79=\"\",\"\",Scores!Y79)","v":""},{"$f":"IF(Scores!Z79=\"\",\"\",Scores!Z79)","v":""},{"$f":"IF(Scores!AA79=\"\",\"\",Scores!AA79)","v":0},"","","","","","","",{"$f":"IF(Table2[[#This Row],[SCORE]]=\"\",\"\",_xlfn.RANK.EQ(Table2[[#This Row],[SCORE]],Table2[SCORE],1))","v":""},"",""]
[76,{"$f":"IF(Scores!$C80=\"\",\"\",Scores!C80)","v":""},{"$f":"IF(Scores!D80=\"\",\"\",Scores!D80)","v":""},{"$f":"IF(Scores!F80=\"\",\"ZZ\",Scores!F80)","v":"ZZ"},{"$f":"IF(Scores!G80=\"\",\"\",Scores!G80)","v":""},{"$f":"IF(Scores!H80=\"\",\"\",Scores!H80)","v":""},{"$f":"IF(Scores!I80=\"\",\"\",Scores!I80)","v":""},{"$f":"IF(Scores!J80=\"\",\"\",Scores!J80)","v":""},{"$f":"IF(Scores!K80=\"\",\"\",Scores!K80)","v":""},{"$f":"IF(Scores!L80=\"\",\"\",Scores!L80)","v":0},{"$f":"IF(Scores!M80=\"\",\"\",Scores!M80)","v":""},{"$f":"IF(Scores!N80=\"\",\"\",Scores!N80)","v":""},{"$f":"IF(Scores!O80=\"\",\"\",Scores!O80)","v":0},{"$f":"IF(Scores!P80=\"\",\"\",Scores!P80)","v":""},{"$f":"IF(Scores!Q80=\"\",\"\",Scores!Q80)","v":""},{"$f":"IF(Scores!R80=\"\",\"\",Scores!R80)","v":0},{"$f":"IF(Scores!S80=\"\",\"\",Scores!S80)","v":""},{"$f":"IF(Scores!T80=\"\",\"\",Scores!T80)","v":""},{"$f":"IF(Scores!U80=\"\",\"\",Scores!U80)","v":0},{"$f":"IF(Scores!V80=\"\",\"\",Scores!V80)","v":""},{"$f":"IF(Scores!W80=\"\",\"\",Scores!W80)","v":""},{"$f":"IF(Scores!X80=\"\",\"\",Scores!X80)","v":0},{"$f":"IF(Scores!Y80=\"\",\"\",Scores!Y80)","v":""},{"$f":"IF(Scores!Z80=\"\",\"\",Scores!Z80)","v":""},{"$f":"IF(Scores!AA80=\"\",\"\",Scores!AA80)","v":0},"","","","","","","",{"$f":"IF(Table2[[#This Row],[SCORE]]=\"\",\"\",_xlfn.RANK.EQ(Table2[[#This Row],[SCORE]],Table2[SCORE],1))","v":""},"",""]
[77,{"$f":"IF(Scores!$C81=\"\",\"\",Scores!C81)","v":""},{"$f":"IF(Scores!D81=\"\",\"\",Scores!D81)","v":""},{"$f":"IF(Scores!F81=\"\",\"ZZ\",Scores!F81)","v":"ZZ"},{"$f":"IF(Scores!G81=\"\",\"\",Scores!G81)","v":""},{"$f":"IF(Scores!H81=\"\",\"\",Scores!H81)","v":""},{"$f":"IF(Scores!I81=\"\",\"\",Scores!I81)","v":""},{"$f":"IF(Scores!J81=\"\",\"\",Scores!J81)","v":""},{"$f":"IF(Scores!K81=\"\",\"\",Scores!K81)","v":""},{"$f":"IF(Scores!L81=\"\",\"\",Scores!L81)","v":0},{"$f":"IF(Scores!M81=\"\",\"\",Scores!M81)","v":""},{"$f":"IF(Scores!N81=\"\",\"\",Scores!N81)","v":""},{"$f":"IF(Scores!O81=\"\",\"\",Scores!O81)","v":0},{"$f":"IF(Scores!P81=\"\",\"\",Scores!P81)","v":""},{"$f":"IF(Scores!Q81=\"\",\"\",Scores!Q81)","v":""},{"$f":"IF(Scores!R81=\"\",\"\",Scores!R81)","v":0},{"$f":"IF(Scores!S81=\"\",\"\",Scores!S81)","v":""},{"$f":"IF(Scores!T81=\"\",\"\",Scores!T81)","v":""},{"$f":"IF(Scores!U81=\"\",\"\",Scores!U81)","v":0},{"$f":"IF(Scores!V81=\"\",\"\",Scores!V81)","v":""},{"$f":"IF(Scores!W81=\"\",\"\",Scores!W81)","v":""},{"$f":"IF(Scores!X81=\"\",\"\",Scores!X81)","v":0},{"$f":"IF(Scores!Y81=\"\",\"\",Scores!Y81)","v":""},{"$f":"IF(Scores!Z81=\"\",\"\",Scores!Z81)","v":""},{"$f":"IF(Scores!AA81=\"\",\"\",Scores!AA81)","v":0},"","","","","","","",{"$f":"IF(Table2[[#This Row],[SCORE]]=\"\",\"\",_xlfn.RANK.EQ(Table2[[#This Row],[SCORE]],Table2[SCORE],1))","v":""},"",""]
[78,{"$f":"IF(Scores!$C82=\"\",\"\",Scores!C82)","v":""},{"$f":"IF(Scores!D82=\"\",\"\",Scores!D82)","v":""},{"$f":"IF(Scores!F82=\"\",\"ZZ\",Scores!F82)","v":"ZZ"},{"$f":"IF(Scores!G82=\"\",\"\",Scores!G82)","v":""},{"$f":"IF(Scores!H82=\"\",\"\",Scores!H82)","v":""},{"$f":"IF(Scores!I82=\"\",\"\",Scores!I82)","v":""},{"$f":"IF(Scores!J82=\"\",\"\",Scores!J82)","v":""},{"$f":"IF(Scores!K82=\"\",\"\",Scores!K82)","v":""},{"$f":"IF(Scores!L82=\"\",\"\",Scores!L82)","v":0},{"$f":"IF(Scores!M82=\"\",\"\",Scores!M82)","v":""},{"$f":"IF(Scores!N82=\"\",\"\",Scores!N82)","v":""},{"$f":"IF(Scores!O82=\"\",\"\",Scores!O82)","v":0},{"$f":"IF(Scores!P82=\"\",\"\",Scores!P82)","v":""},{"$f":"IF(Scores!Q82=\"\",\"\",Scores!Q82)","v":""},{"$f":"IF(Scores!R82=\"\",\"\",Scores!R82)","v":0},{"$f":"IF(Scores!S82=\"\",\"\",Scores!S82)","v":""},{"$f":"IF(Scores!T82=\"\",\"\",Scores!T82)","v":""},{"$f":"IF(Scores!U82=\"\",\"\",Scores!U82)","v":0},{"$f":"IF(Scores!V82=\"\",\"\",Scores!V82)","v":""},{"$f":"IF(Scores!W82=\"\",\"\",Scores!W82)","v":""},{"$f":"IF(Scores!X82=\"\",\"\",Scores!X82)","v":0},{"$f":"IF(Scores!Y82=\"\",\"\",Scores!Y82)","v":""},{"$f":"IF(Scores!Z82=\"\",\"\",Scores!Z82)","v":""},{"$f":"IF(Scores!AA82=\"\",\"\",Scores!AA82)","v":0},"","","","","","","",{"$f":"IF(Table2[[#This Row],[SCORE]]=\"\",\"\",_xlfn.RANK.EQ(Table2[[#This Row],[SCORE]],Table2[SCORE],1))","v":""},"",""]
[79,{"$f":"IF(Scores!$C83=\"\",\"\",Scores!C83)","v":""},{"$f":"IF(Scores!D83=\"\",\"\",Scores!D83)","v":""},{"$f":"IF(Scores!F83=\"\",\"ZZ\",Scores!F83)","v":"ZZ"},{"$f":"IF(Scores!G83=\"\",\"\",Scores!G83)","v":""},{"$f":"IF(Scores!H83=\"\",\"\",Scores!H83)","v":""},{"$f":"IF(Scores!I83=\"\",\"\",Scores!I83)","v":""},{"$f":"IF(Scores!J83=\"\",\"\",Scores!J83)","v":""},{"$f":"IF(Scores!K83=\"\",\"\",Scores!K83)","v":""},{"$f":"IF(Scores!L83=\"\",\"\",Scores!L83)","v":0},{"$f":"IF(Scores!M83=\"\",\"\",Scores!M83)","v":""},{"$f":"IF(Scores!N83=\"\",\"\",Scores!N83)","v":""},{"$f":"IF(Scores!O83=\"\",\"\",Scores!O83)","v":0},{"$f":"IF(Scores!P83=\"\",\"\",Scores!P83)","v":""},{"$f":"IF(Scores!Q83=\"\",\"\",Scores!Q83)","v":""},{"$f":"IF(Scores!R83=\"\",\"\",Scores!R83)","v":0},{"$f":"IF(Scores!S83=\"\",\"\",Scores!S83)","v":""},{"$f":"IF(Scores!T83=\"\",\"\",Scores!T83)","v":""},{"$f":"IF(Scores!U83=\"\",\"\",Scores!U83)","v":0},{"$f":"IF(Scores!V83=\"\",\"\",Scores!V83)","v":""},{"$f":"IF(Scores!W83=\"\",\"\",Scores!W83)","v":""},{"$f":"IF(Scores!X83=\"\",\"\",Scores!X83)","v":0},{"$f":"IF(Scores!Y83=\"\",\"\",Scores!Y83)","v":""},{"$f":"IF(Scores!Z83=\"\",\"\",Scores!Z83)","v":""},{"$f":"IF(Scores!AA83=\"\",\"\",Scores!AA83)","v":0},"","","","","","","",{"$f":"IF(Table2[[#This Row],[SCORE]]=\"\",\"\",_xlfn.RANK.EQ(Table2[[#This Row],[SCORE]],Table2[SCORE],1))","v":""},"",""]
[80,{"$f":"IF(Scores!$C84=\"\",\"\",Scores!C84)","v":""},{"$f":"IF(Scores!D84=\"\",\"\",Scores!D84)","v":""},{"$f":"IF(Scores!F84=\"\",\"ZZ\",Scores!F84)","v":"ZZ"},{"$f":"IF(Scores!G84=\"\",\"\",Scores!G84)","v":""},{"$f":"IF(Scores!H84=\"\",\"\",Scores!H84)","v":""},{"$f":"IF(Scores!I84=\"\",\"\",Scores!I84)","v":""},{"$f":"IF(Scores!J84=\"\",\"\",Scores!J84)","v":""},{"$f":"IF(Scores!K84=\"\",\"\",Scores!K84)","v":""},{"$f":"IF(Scores!L84=\"\",\"\",Scores!L84)","v":0},{"$f":"IF(Scores!M84=\"\",\"\",Scores!M84)","v":""},{"$f":"IF(Scores!N84=\"\",\"\",Scores!N84)","v":""},{"$f":"IF(Scores!O84=\"\",\"\",Scores!O84)","v":0},{"$f":"IF(Scores!P84=\"\",\"\",Scores!P84)","v":""},{"$f":"IF(Scores!Q84=\"\",\"\",Scores!Q84)","v":""},{"$f":"IF(Scores!R84=\"\",\"\",Scores!R84)","v":0},{"$f":"IF(Scores!S84=\"\",\"\",Scores!S84)","v":""},{"$f":"IF(Scores!T84=\"\",\"\",Scores!T84)","v":""},{"$f":"IF(Scores!U84=\"\",\"\",Scores!U84)","v":0},{"$f":"IF(Scores!V84=\"\",\"\",Scores!V84)","v":""},{"$f":"IF(Scores!W84=\"\",\"\",Scores!W84)","v":""},{"$f":"IF(Scores!X84=\"\",\"\",Scores!X84)","v":0},{"$f":"IF(Scores!Y84=\"\",\"\",Scores!Y84)","v":""},{"$f":"IF(Scores!Z84=\"\",\"\",Scores!Z84)","v":""},{"$f":"IF(Scores!AA84=\"\",\"\",Scores!AA84)","v":0},"","","","","","","",{"$f":"IF(Table2[[#This Row],[SCORE]]=\"\",\"\",_xlfn.RANK.EQ(Table2[[#This Row],[SCORE]],Table2[SCORE],1))","v":""},"",""]
[81,{"$f":"IF(Scores!$C85=\"\",\"\",Scores!C85)","v":""},{"$f":"IF(Scores!D85=\"\",\"\",Scores!D85)","v":""},{"$f":"IF(Scores!F85=\"\",\"ZZ\",Scores!F85)","v":"ZZ"},{"$f":"IF(Scores!G85=\"\",\"\",Scores!G85)","v":""},{"$f":"IF(Scores!H85=\"\",\"\",Scores!H85)","v":""},{"$f":"IF(Scores!I85=\"\",\"\",Scores!I85)","v":""},{"$f":"IF(Scores!J85=\"\",\"\",Scores!J85)","v":""},{"$f":"IF(Scores!K85=\"\",\"\",Scores!K85)","v":""},{"$f":"IF(Scores!L85=\"\",\"\",Scores!L85)","v":0},{"$f":"IF(Scores!M85=\"\",\"\",Scores!M85)","v":""},{"$f":"IF(Scores!N85=\"\",\"\",Scores!N85)","v":""},{"$f":"IF(Scores!O85=\"\",\"\",Scores!O85)","v":0},{"$f":"IF(Scores!P85=\"\",\"\",Scores!P85)","v":""},{"$f":"IF(Scores!Q85=\"\",\"\",Scores!Q85)","v":""},{"$f":"IF(Scores!R85=\"\",\"\",Scores!R85)","v":0},{"$f":"IF(Scores!S85=\"\",\"\",Scores!S85)","v":""},{"$f":"IF(Scores!T85=\"\",\"\",Scores!T85)","v":""},{"$f":"IF(Scores!U85=\"\",\"\",Scores!U85)","v":0},{"$f":"IF(Scores!V85=\"\",\"\",Scores!V85)","v":""},{"$f":"IF(Scores!W85=\"\",\"\",Scores!W85)","v":""},{"$f":"IF(Scores!X85=\"\",\"\",Scores!X85)","v":0},{"$f":"IF(Scores!Y85=\"\",\"\",Scores!Y85)","v":""},{"$f":"IF(Scores!Z85=\"\",\"\",Scores!Z85)","v":""},{"$f":"IF(Scores!AA85=\"\",\"\",Scores!AA85)","v":0},"","","","","","","",{"$f":"IF(Table2[[#This Row],[SCORE]]=\"\",\"\",_xlfn.RANK.EQ(Table2[[#This Row],[SCORE]],Table2[SCORE],1))","v":""},"",""]
[82,{"$f":"IF(Scores!$C86=\"\",\"\",Scores!C86)","v":""},{"$f":"IF(Scores!D86=\"\",\"\",Scores!D86)","v":""},{"$f":"IF(Scores!F86=\"\",\"ZZ\",Scores!F86)","v":"ZZ"},{"$f":"IF(Scores!G86=\"\",\"\",Scores!G86)","v":""},{"$f":"IF(Scores!H86=\"\",\"\",Scores!H86)","v":""},{"$f":"IF(Scores!I86=\"\",\"\",Scores!I86)","v":""},{"$f":"IF(Scores!J86=\"\",\"\",Scores!J86)","v":""},{"$f":"IF(Scores!K86=\"\",\"\",Scores!K86)","v":""},{"$f":"IF(Scores!L86=\"\",\"\",Scores!L86)","v":0},{"$f":"IF(Scores!M86=\"\",\"\",Scores!M86)","v":""},{"$f":"IF(Scores!N86=\"\",\"\",Scores!N86)","v":""},{"$f":"IF(Scores!O86=\"\",\"\",Scores!O86)","v":0},{"$f":"IF(Scores!P86=\"\",\"\",Scores!P86)","v":""},{"$f":"IF(Scores!Q86=\"\",\"\",Scores!Q86)","v":""},{"$f":"IF(Scores!R86=\"\",\"\",Scores!R86)","v":0},{"$f":"IF(Scores!S86=\"\",\"\",Scores!S86)","v":""},{"$f":"IF(Scores!T86=\"\",\"\",Scores!T86)","v":""},{"$f":"IF(Scores!U86=\"\",\"\",Scores!U86)","v":0},{"$f":"IF(Scores!V86=\"\",\"\",Scores!V86)","v":""},{"$f":"IF(Scores!W86=\"\",\"\",Scores!W86)","v":""},{"$f":"IF(Scores!X86=\"\",\"\",Scores!X86)","v":0},{"$f":"IF(Scores!Y86=\"\",\"\",Scores!Y86)","v":""},{"$f":"IF(Scores!Z86=\"\",\"\",Scores!Z86)","v":""},{"$f":"IF(Scores!AA86=\"\",\"\",Scores!AA86)","v":0},"","","","","","","",{"$f":"IF(Table2[[#This Row],[SCORE]]=\"\",\"\",_xlfn.RANK.EQ(Table2[[#This Row],[SCORE]],Table2[SCORE],1))","v":""},"",""]
[83,{"$f":"IF(Scores!$C87=\"\",\"\",Scores!C87)","v":""},{"$f":"IF(Scores!D87=\"\",\"\",Scores!D87)","v":""},{"$f":"IF(Scores!F87=\"\",\"ZZ\",Scores!F87)","v":"ZZ"},{"$f":"IF(Scores!G87=\"\",\"\",Scores!G87)","v":""},{"$f":"IF(Scores!H87=\"\",\"\",Scores!H87)","v":""},{"$f":"IF(Scores!I87=\"\",\"\",Scores!I87)","v":""},{"$f":"IF(Scores!J87=\"\",\"\",Scores!J87)","v":""},{"$f":"IF(Scores!K87=\"\",\"\",Scores!K87)","v":""},{"$f":"IF(Scores!L87=\"\",\"\",Scores!L87)","v":0},{"$f":"IF(Scores!M87=\"\",\"\",Scores!M87)","v":""},{"$f":"IF(Scores!N87=\"\",\"\",Scores!N87)","v":""},{"$f":"IF(Scores!O87=\"\",\"\",Scores!O87)","v":0},{"$f":"IF(Scores!P87=\"\",\"\",Scores!P87)","v":""},{"$f":"IF(Scores!Q87=\"\",\"\",Scores!Q87)","v":""},{"$f":"IF(Scores!R87=\"\",\"\",Scores!R87)","v":0},{"$f":"IF(Scores!S87=\"\",\"\",Scores!S87)","v":""},{"$f":"IF(Scores!T87=\"\",\"\",Scores!T87)","v":""},{"$f":"IF(Scores!U87=\"\",\"\",Scores!U87)","v":0},{"$f":"IF(Scores!V87=\"\",\"\",Scores!V87)","v":""},{"$f":"IF(Scores!W87=\"\",\"\",Scores!W87)","v":""},{"$f":"IF(Scores!X87=\"\",\"\",Scores!X87)","v":0},{"$f":"IF(Scores!Y87=\"\",\"\",Scores!Y87)","v":""},{"$f":"IF(Scores!Z87=\"\",\"\",Scores!Z87)","v":""},{"$f":"IF(Scores!AA87=\"\",\"\",Scores!AA87)","v":0},"","","","","","","",{"$f":"IF(Table2[[#This Row],[SCORE]]=\"\",\"\",_xlfn.RANK.EQ(Table2[[#This Row],[SCORE]],Table2[SCORE],1))","v":""},"",""]
[84,{"$f":"IF(Scores!$C88=\"\",\"\",Scores!C88)","v":""},{"$f":"IF(Scores!D88=\"\",\"\",Scores!D88)","v":""},{"$f":"IF(Scores!F88=\"\",\"ZZ\",Scores!F88)","v":"ZZ"},{"$f":"IF(Scores!G88=\"\",\"\",Scores!G88)","v":""},{"$f":"IF(Scores!H88=\"\",\"\",Scores!H88)","v":""},{"$f":"IF(Scores!I88=\"\",\"\",Scores!I88)","v":""},{"$f":"IF(Scores!J88=\"\",\"\",Scores!J88)","v":""},{"$f":"IF(Scores!K88=\"\",\"\",Scores!K88)","v":""},{"$f":"IF(Scores!L88=\"\",\"\",Scores!L88)","v":0},{"$f":"IF(Scores!M88=\"\",\"\",Scores!M88)","v":""},{"$f":"IF(Scores!N88=\"\",\"\",Scores!N88)","v":""},{"$f":"IF(Scores!O88=\"\",\"\",Scores!O88)","v":0},{"$f":"IF(Scores!P88=\"\",\"\",Scores!P88)","v":""},{"$f":"IF(Scores!Q88=\"\",\"\",Scores!Q88)","v":""},{"$f":"IF(Scores!R88=\"\",\"\",Scores!R88)","v":0},{"$f":"IF(Scores!S88=\"\",\"\",Scores!S88)","v":""},{"$f":"IF(Scores!T88=\"\",\"\",Scores!T88)","v":""},{"$f":"IF(Scores!U88=\"\",\"\",Scores!U88)","v":0},{"$f":"IF(Scores!V88=\"\",\"\",Scores!V88)","v":""},{"$f":"IF(Scores!W88=\"\",\"\",Scores!W88)","v":""},{"$f":"IF(Scores!X88=\"\",\"\",Scores!X88)","v":0},{"$f":"IF(Scores!Y88=\"\",\"\",Scores!Y88)","v":""},{"$f":"IF(Scores!Z88=\"\",\"\",Scores!Z88)","v":""},{"$f":"IF(Scores!AA88=\"\",\"\",Scores!AA88)","v":0},"","","","","","","",{"$f":"IF(Table2[[#This Row],[SCORE]]=\"\",\"\",_xlfn.RANK.EQ(Table2[[#This Row],[SCORE]],Table2[SCORE],1))","v":""},"",""]
[85,{"$f":"IF(Scores!$C89=\"\",\"\",Scores!C89)","v":""},{"$f":"IF(Scores!D89=\"\",\"\",Scores!D89)","v":""},{"$f":"IF(Scores!F89=\"\",\"ZZ\",Scores!F89)","v":"ZZ"},{"$f":"IF(Scores!G89=\"\",\"\",Scores!G89)","v":""},{"$f":"IF(Scores!H89=\"\",\"\",Scores!H89)","v":""},{"$f":"IF(Scores!I89=\"\",\"\",Scores!I89)","v":""},{"$f":"IF(Scores!J89=\"\",\"\",Scores!J89)","v":""},{"$f":"IF(Scores!K89=\"\",\"\",Scores!K89)","v":""},{"$f":"IF(Scores!L89=\"\",\"\",Scores!L89)","v":0},{"$f":"IF(Scores!M89=\"\",\"\",Scores!M89)","v":""},{"$f":"IF(Scores!N89=\"\",\"\",Scores!N89)","v":""},{"$f":"IF(Scores!O89=\"\",\"\",Scores!O89)","v":0},{"$f":"IF(Scores!P89=\"\",\"\",Scores!P89)","v":""},{"$f":"IF(Scores!Q89=\"\",\"\",Scores!Q89)","v":""},{"$f":"IF(Scores!R89=\"\",\"\",Scores!R89)","v":0},{"$f":"IF(Scores!S89=\"\",\"\",Scores!S89)","v":""},{"$f":"IF(Scores!T89=\"\",\"\",Scores!T89)","v":""},{"$f":"IF(Scores!U89=\"\",\"\",Scores!U89)","v":0},{"$f":"IF(Scores!V89=\"\",\"\",Scores!V89)","v":""},{"$f":"IF(Scores!W89=\"\",\"\",Scores!W89)","v":""},{"$f":"IF(Scores!X89=\"\",\"\",Scores!X89)","v":0},{"$f":"IF(Scores!Y89=\"\",\"\",Scores!Y89)","v":""},{"$f":"IF(Scores!Z89=\"\",\"\",Scores!Z89)","v":""},{"$f":"IF(Scores!AA89=\"\",\"\",Scores!AA89)","v":0},"","","","","","","",{"$f":"IF(Table2[[#This Row],[SCORE]]=\"\",\"\",_xlfn.RANK.EQ(Table2[[#This Row],[SCORE]],Table2[SCORE],1))","v":""},"",""]
[86,{"$f":"IF(Scores!$C90=\"\",\"\",Scores!C90)","v":""},{"$f":"IF(Scores!D90=\"\",\"\",Scores!D90)","v":""},{"$f":"IF(Scores!F90=\"\",\"ZZ\",Scores!F90)","v":"ZZ"},{"$f":"IF(Scores!G90=\"\",\"\",Scores!G90)","v":""},{"$f":"IF(Scores!H90=\"\",\"\",Scores!H90)","v":""},{"$f":"IF(Scores!I90=\"\",\"\",Scores!I90)","v":""},{"$f":"IF(Scores!J90=\"\",\"\",Scores!J90)","v":""},{"$f":"IF(Scores!K90=\"\",\"\",Scores!K90)","v":""},{"$f":"IF(Scores!L90=\"\",\"\",Scores!L90)","v":0},{"$f":"IF(Scores!M90=\"\",\"\",Scores!M90)","v":""},{"$f":"IF(Scores!N90=\"\",\"\",Scores!N90)","v":""},{"$f":"IF(Scores!O90=\"\",\"\",Scores!O90)","v":0},{"$f":"IF(Scores!P90=\"\",\"\",Scores!P90)","v":""},{"$f":"IF(Scores!Q90=\"\",\"\",Scores!Q90)","v":""},{"$f":"IF(Scores!R90=\"\",\"\",Scores!R90)","v":0},{"$f":"IF(Scores!S90=\"\",\"\",Scores!S90)","v":""},{"$f":"IF(Scores!T90=\"\",\"\",Scores!T90)","v":""},{"$f":"IF(Scores!U90=\"\",\"\",Scores!U90)","v":0},{"$f":"IF(Scores!V90=\"\",\"\",Scores!V90)","v":""},{"$f":"IF(Scores!W90=\"\",\"\",Scores!W90)","v":""},{"$f":"IF(Scores!X90=\"\",\"\",Scores!X90)","v":0},{"$f":"IF(Scores!Y90=\"\",\"\",Scores!Y90)","v":""},{"$f":"IF(Scores!Z90=\"\",\"\",Scores!Z90)","v":""},{"$f":"IF(Scores!AA90=\"\",\"\",Scores!AA90)","v":0},"","","","","","","",{"$f":"IF(Table2[[#This Row],[SCORE]]=\"\",\"\",_xlfn.RANK.EQ(Table2[[#This Row],[SCORE]],Table2[SCORE],1))","v":""},"",""]
[87,{"$f":"IF(Scores!$C91=\"\",\"\",Scores!C91)","v":""},{"$f":"IF(Scores!D91=\"\",\"\",Scores!D91)","v":""},{"$f":"IF(Scores!F91=\"\",\"ZZ\",Scores!F91)","v":"ZZ"},{"$f":"IF(Scores!G91=\"\",\"\",Scores!G91)","v":""},{"$f":"IF(Scores!H91=\"\",\"\",Scores!H91)","v":""},{"$f":"IF(Scores!I91=\"\",\"\",Scores!I91)","v":""},{"$f":"IF(Scores!J91=\"\",\"\",Scores!J91)","v":""},{"$f":"IF(Scores!K91=\"\",\"\",Scores!K91)","v":""},{"$f":"IF(Scores!L91=\"\",\"\",Scores!L91)","v":0},{"$f":"IF(Scores!M91=\"\",\"\",Scores!M91)","v":""},{"$f":"IF(Scores!N91=\"\",\"\",Scores!N91)","v":""},{"$f":"IF(Scores!O91=\"\",\"\",Scores!O91)","v":0},{"$f":"IF(Scores!P91=\"\",\"\",Scores!P91)","v":""},{"$f":"IF(Scores!Q91=\"\",\"\",Scores!Q91)","v":""},{"$f":"IF(Scores!R91=\"\",\"\",Scores!R91)","v":0},{"$f":"IF(Scores!S91=\"\",\"\",Scores!S91)","v":""},{"$f":"IF(Scores!T91=\"\",\"\",Scores!T91)","v":""},{"$f":"IF(Scores!U91=\"\",\"\",Scores!U91)","v":0},{"$f":"IF(Scores!V91=\"\",\"\",Scores!V91)","v":""},{"$f":"IF(Scores!W91=\"\",\"\",Scores!W91)","v":""},{"$f":"IF(Scores!X91=\"\",\"\",Scores!X91)","v":0},{"$f":"IF(Scores!Y91=\"\",\"\",Scores!Y91)","v":""},{"$f":"IF(Scores!Z91=\"\",\"\",Scores!Z91)","v":""},{"$f":"IF(Scores!AA91=\"\",\"\",Scores!AA91)","v":0},"","","","","","","",{"$f":"IF(Table2[[#This Row],[SCORE]]=\"\",\"\",_xlfn.RANK.EQ(Table2[[#This Row],[SCORE]],Table2[SCORE],1))","v":""},"",""]
[88,{"$f":"IF(Scores!$C92=\"\",\"\",Scores!C92)","v":""},{"$f":"IF(Scores!D92=\"\",\"\",Scores!D92)","v":""},{"$f":"IF(Scores!F92=\"\",\"ZZ\",Scores!F92)","v":"ZZ"},{"$f":"IF(Scores!G92=\"\",\"\",Scores!G92)","v":""},{"$f":"IF(Scores!H92=\"\",\"\",Scores!H92)","v":""},{"$f":"IF(Scores!I92=\"\",\"\",Scores!I92)","v":""},{"$f":"IF(Scores!J92=\"\",\"\",Scores!J92)","v":""},{"$f":"IF(Scores!K92=\"\",\"\",Scores!K92)","v":""},{"$f":"IF(Scores!L92=\"\",\"\",Scores!L92)","v":0},{"$f":"IF(Scores!M92=\"\",\"\",Scores!M92)","v":""},{"$f":"IF(Scores!N92=\"\",\"\",Scores!N92)","v":""},{"$f":"IF(Scores!O92=\"\",\"\",Scores!O92)","v":0},{"$f":"IF(Scores!P92=\"\",\"\",Scores!P92)","v":""},{"$f":"IF(Scores!Q92=\"\",\"\",Scores!Q92)","v":""},{"$f":"IF(Scores!R92=\"\",\"\",Scores!R92)","v":0},{"$f":"IF(Scores!S92=\"\",\"\",Scores!S92)","v":""},{"$f":"IF(Scores!T92=\"\",\"\",Scores!T92)","v":""},{"$f":"IF(Scores!U92=\"\",\"\",Scores!U92)","v":0},{"$f":"IF(Scores!V92=\"\",\"\",Scores!V92)","v":""},{"$f":"IF(Scores!W92=\"\",\"\",Scores!W92)","v":""},{"$f":"IF(Scores!X92=\"\",\"\",Scores!X92)","v":0},{"$f":"IF(Scores!Y92=\"\",\"\",Scores!Y92)","v":""},{"$f":"IF(Scores!Z92=\"\",\"\",Scores!Z92)","v":""},{"$f":"IF(Scores!AA92=\"\",\"\",Scores!AA92)","v":0},"","","","","","","",{"$f":"IF(Table2[[#This Row],[SCORE]]=\"\",\"\",_xlfn.RANK.EQ(Table2[[#This Row],[SCORE]],Table2[SCORE],1))","v":""},"",""]
[89,{"$f":"IF(Scores!$C93=\"\",\"\",Scores!C93)","v":""},{"$f":"IF(Scores!D93=\"\",\"\",Scores!D93)","v":""},{"$f":"IF(Scores!F93=\"\",\"ZZ\",Scores!F93)","v":"ZZ"},{"$f":"IF(Scores!G93=\"\",\"\",Scores!G93)","v":""},{"$f":"IF(Scores!H93=\"\",\"\",Scores!H93)","v":""},{"$f":"IF(Scores!I93=\"\",\"\",Scores!I93)","v":""},{"$f":"IF(Scores!J93=\"\",\"\",Scores!J93)","v":""},{"$f":"IF(Scores!K93=\"\",\"\",Scores!K93)","v":""},{"$f":"IF(Scores!L93=\"\",\"\",Scores!L93)","v":0},{"$f":"IF(Scores!M93=\"\",\"\",Scores!M93)","v":""},{"$f":"IF(Scores!N93=\"\",\"\",Scores!N93)","v":""},{"$f":"IF(Scores!O93=\"\",\"\",Scores!O93)","v":0},{"$f":"IF(Scores!P93=\"\",\"\",Scores!P93)","v":""},{"$f":"IF(Scores!Q93=\"\",\"\",Scores!Q93)","v":""},{"$f":"IF(Scores!R93=\"\",\"\",Scores!R93)","v":0},{"$f":"IF(Scores!S93=\"\",\"\",Scores!S93)","v":""},{"$f":"IF(Scores!T93=\"\",\"\",Scores!T93)","v":""},{"$f":"IF(Scores!U93=\"\",\"\",Scores!U93)","v":0},{"$f":"IF(Scores!V93=\"\",\"\",Scores!V93)","v":""},{"$f":"IF(Scores!W93=\"\",\"\",Scores!W93)","v":""},{"$f":"IF(Scores!X93=\"\",\"\",Scores!X93)","v":0},{"$f":"IF(Scores!Y93=\"\",\"\",Scores!Y93)","v":""},{"$f":"IF(Scores!Z93=\"\",\"\",Scores!Z93)","v":""},{"$f":"IF(Scores!AA93=\"\",\"\",Scores!AA93)","v":0},"","","","","","","",{"$f":"IF(Table2[[#This Row],[SCORE]]=\"\",\"\",_xlfn.RANK.EQ(Table2[[#This Row],[SCORE]],Table2[SCORE],1))","v":""},"",""]
[90,{"$f":"IF(Scores!$C94=\"\",\"\",Scores!C94)","v":""},{"$f":"IF(Scores!D94=\"\",\"\",Scores!D94)","v":""},{"$f":"IF(Scores!F94=\"\",\"ZZ\",Scores!F94)","v":"ZZ"},{"$f":"IF(Scores!G94=\"\",\"\",Scores!G94)","v":""},{"$f":"IF(Scores!H94=\"\",\"\",Scores!H94)","v":""},{"$f":"IF(Scores!I94=\"\",\"\",Scores!I94)","v":""},{"$f":"IF(Scores!J94=\"\",\"\",Scores!J94)","v":""},{"$f":"IF(Scores!K94=\"\",\"\",Scores!K94)","v":""},{"$f":"IF(Scores!L94=\"\",\"\",Scores!L94)","v":0},{"$f":"IF(Scores!M94=\"\",\"\",Scores!M94)","v":""},{"$f":"IF(Scores!N94=\"\",\"\",Scores!N94)","v":""},{"$f":"IF(Scores!O94=\"\",\"\",Scores!O94)","v":0},{"$f":"IF(Scores!P94=\"\",\"\",Scores!P94)","v":""},{"$f":"IF(Scores!Q94=\"\",\"\",Scores!Q94)","v":""},{"$f":"IF(Scores!R94=\"\",\"\",Scores!R94)","v":0},{"$f":"IF(Scores!S94=\"\",\"\",Scores!S94)","v":""},{"$f":"IF(Scores!T94=\"\",\"\",Scores!T94)","v":""},{"$f":"IF(Scores!U94=\"\",\"\",Scores!U94)","v":0},{"$f":"IF(Scores!V94=\"\",\"\",Scores!V94)","v":""},{"$f":"IF(Scores!W94=\"\",\"\",Scores!W94)","v":""},{"$f":"IF(Scores!X94=\"\",\"\",Scores!X94)","v":0},{"$f":"IF(Scores!Y94=\"\",\"\",Scores!Y94)","v":""},{"$f":"IF(Scores!Z94=\"\",\"\",Scores!Z94)","v":""},{"$f":"IF(Scores!AA94=\"\",\"\",Scores!AA94)","v":0},"","","","","","","",{"$f":"IF(Table2[[#This Row],[SCORE]]=\"\",\"\",_xlfn.RANK.EQ(Table2[[#This Row],[SCORE]],Table2[SCORE],1))","v":""},"",""]
[91,{"$f":"IF(Scores!$C95=\"\",\"\",Scores!C95)","v":""},{"$f":"IF(Scores!D95=\"\",\"\",Scores!D95)","v":""},{"$f":"IF(Scores!F95=\"\",\"ZZ\",Scores!F95)","v":"ZZ"},{"$f":"IF(Scores!G95=\"\",\"\",Scores!G95)","v":""},{"$f":"IF(Scores!H95=\"\",\"\",Scores!H95)","v":""},{"$f":"IF(Scores!I95=\"\",\"\",Scores!I95)","v":""},{"$f":"IF(Scores!J95=\"\",\"\",Scores!J95)","v":""},{"$f":"IF(Scores!K95=\"\",\"\",Scores!K95)","v":""},{"$f":"IF(Scores!L95=\"\",\"\",Scores!L95)","v":0},{"$f":"IF(Scores!M95=\"\",\"\",Scores!M95)","v":""},{"$f":"IF(Scores!N95=\"\",\"\",Scores!N95)","v":""},{"$f":"IF(Scores!O95=\"\",\"\",Scores!O95)","v":0},{"$f":"IF(Scores!P95=\"\",\"\",Scores!P95)","v":""},{"$f":"IF(Scores!Q95=\"\",\"\",Scores!Q95)","v":""},{"$f":"IF(Scores!R95=\"\",\"\",Scores!R95)","v":0},{"$f":"IF(Scores!S95=\"\",\"\",Scores!S95)","v":""},{"$f":"IF(Scores!T95=\"\",\"\",Scores!T95)","v":""},{"$f":"IF(Scores!U95=\"\",\"\",Scores!U95)","v":0},{"$f":"IF(Scores!V95=\"\",\"\",Scores!V95)","v":""},{"$f":"IF(Scores!W95=\"\",\"\",Scores!W95)","v":""},{"$f":"IF(Scores!X95=\"\",\"\",Scores!X95)","v":0},{"$f":"IF(Scores!Y95=\"\",\"\",Scores!Y95)","v":""},{"$f":"IF(Scores!Z95=\"\",\"\",Scores!Z95)","v":""},{"$f":"IF(Scores!AA95=\"\",\"\",Scores!AA95)","v":0},"","","","","","","",{"$f":"IF(Table2[[#This Row],[SCORE]]=\"\",\"\",_xlfn.RANK.EQ(Table2[[#This Row],[SCORE]],Table2[SCORE],1))","v":""},"",""]
[92,{"$f":"IF(Scores!$C96=\"\",\"\",Scores!C96)","v":""},{"$f":"IF(Scores!D96=\"\",\"\",Scores!D96)","v":""},{"$f":"IF(Scores!F96=\"\",\"ZZ\",Scores!F96)","v":"ZZ"},{"$f":"IF(Scores!G96=\"\",\"\",Scores!G96)","v":""},{"$f":"IF(Scores!H96=\"\",\"\",Scores!H96)","v":""},{"$f":"IF(Scores!I96=\"\",\"\",Scores!I96)","v":""},{"$f":"IF(Scores!J96=\"\",\"\",Scores!J96)","v":""},{"$f":"IF(Scores!K96=\"\",\"\",Scores!K96)","v":""},{"$f":"IF(Scores!L96=\"\",\"\",Scores!L96)","v":0},{"$f":"IF(Scores!M96=\"\",\"\",Scores!M96)","v":""},{"$f":"IF(Scores!N96=\"\",\"\",Scores!N96)","v":""},{"$f":"IF(Scores!O96=\"\",\"\",Scores!O96)","v":0},{"$f":"IF(Scores!P96=\"\",\"\",Scores!P96)","v":""},{"$f":"IF(Scores!Q96=\"\",\"\",Scores!Q96)","v":""},{"$f":"IF(Scores!R96=\"\",\"\",Scores!R96)","v":0},{"$f":"IF(Scores!S96=\"\",\"\",Scores!S96)","v":""},{"$f":"IF(Scores!T96=\"\",\"\",Scores!T96)","v":""},{"$f":"IF(Scores!U96=\"\",\"\",Scores!U96)","v":0},{"$f":"IF(Scores!V96=\"\",\"\",Scores!V96)","v":""},{"$f":"IF(Scores!W96=\"\",\"\",Scores!W96)","v":""},{"$f":"IF(Scores!X96=\"\",\"\",Scores!X96)","v":0},{"$f":"IF(Scores!Y96=\"\",\"\",Scores!Y96)","v":""},{"$f":"IF(Scores!Z96=\"\",\"\",Scores!Z96)","v":""},{"$f":"IF(Scores!AA96=\"\",\"\",Scores!AA96)","v":0},"","","","","","","",{"$f":"IF(Table2[[#This Row],[SCORE]]=\"\",\"\",_xlfn.RANK.EQ(Table2[[#This Row],[SCORE]],Table2[SCORE],1))","v":""},"",""]
[93,{"$f":"IF(Scores!$C97=\"\",\"\",Scores!C97)","v":""},{"$f":"IF(Scores!D97=\"\",\"\",Scores!D97)","v":""},{"$f":"IF(Scores!F97=\"\",\"ZZ\",Scores!F97)","v":"ZZ"},{"$f":"IF(Scores!G97=\"\",\"\",Scores!G97)","v":""},{"$f":"IF(Scores!H97=\"\",\"\",Scores!H97)","v":""},{"$f":"IF(Scores!I97=\"\",\"\",Scores!I97)","v":""},{"$f":"IF(Scores!J97=\"\",\"\",Scores!J97)","v":""},{"$f":"IF(Scores!K97=\"\",\"\",Scores!K97)","v":""},{"$f":"IF(Scores!L97=\"\",\"\",Scores!L97)","v":0},{"$f":"IF(Scores!M97=\"\",\"\",Scores!M97)","v":""},{"$f":"IF(Scores!N97=\"\",\"\",Scores!N97)","v":""},{"$f":"IF(Scores!O97=\"\",\"\",Scores!O97)","v":0},{"$f":"IF(Scores!P97=\"\",\"\",Scores!P97)","v":""},{"$f":"IF(Scores!Q97=\"\",\"\",Scores!Q97)","v":""},{"$f":"IF(Scores!R97=\"\",\"\",Scores!R97)","v":0},{"$f":"IF(Scores!S97=\"\",\"\",Scores!S97)","v":""},{"$f":"IF(Scores!T97=\"\",\"\",Scores!T97)","v":""},{"$f":"IF(Scores!U97=\"\",\"\",Scores!U97)","v":0},{"$f":"IF(Scores!V97=\"\",\"\",Scores!V97)","v":""},{"$f":"IF(Scores!W97=\"\",\"\",Scores!W97)","v":""},{"$f":"IF(Scores!X97=\"\",\"\",Scores!X97)","v":0},{"$f":"IF(Scores!Y97=\"\",\"\",Scores!Y97)","v":""},{"$f":"IF(Scores!Z97=\"\",\"\",Scores!Z97)","v":""},{"$f":"IF(Scores!AA97=\"\",\"\",Scores!AA97)","v":0},"","","","","","","",{"$f":"IF(Table2[[#This Row],[SCORE]]=\"\",\"\",_xlfn.RANK.EQ(Table2[[#This Row],[SCORE]],Table2[SCORE],1))","v":""},"",""]
[94,{"$f":"IF(Scores!$C98=\"\",\"\",Scores!C98)","v":""},{"$f":"IF(Scores!D98=\"\",\"\",Scores!D98)","v":""},{"$f":"IF(Scores!F98=\"\",\"ZZ\",Scores!F98)","v":"ZZ"},{"$f":"IF(Scores!G98=\"\",\"\",Scores!G98)","v":""},{"$f":"IF(Scores!H98=\"\",\"\",Scores!H98)","v":""},{"$f":"IF(Scores!I98=\"\",\"\",Scores!I98)","v":""},{"$f":"IF(Scores!J98=\"\",\"\",Scores!J98)","v":""},{"$f":"IF(Scores!K98=\"\",\"\",Scores!K98)","v":""},{"$f":"IF(Scores!L98=\"\",\"\",Scores!L98)","v":0},{"$f":"IF(Scores!M98=\"\",\"\",Scores!M98)","v":""},{"$f":"IF(Scores!N98=\"\",\"\",Scores!N98)","v":""},{"$f":"IF(Scores!O98=\"\",\"\",Scores!O98)","v":0},{"$f":"IF(Scores!P98=\"\",\"\",Scores!P98)","v":""},{"$f":"IF(Scores!Q98=\"\",\"\",Scores!Q98)","v":""},{"$f":"IF(Scores!R98=\"\",\"\",Scores!R98)","v":0},{"$f":"IF(Scores!S98=\"\",\"\",Scores!S98)","v":""},{"$f":"IF(Scores!T98=\"\",\"\",Scores!T98)","v":""},{"$f":"IF(Scores!U98=\"\",\"\",Scores!U98)","v":0},{"$f":"IF(Scores!V98=\"\",\"\",Scores!V98)","v":""},{"$f":"IF(Scores!W98=\"\",\"\",Scores!W98)","v":""},{"$f":"IF(Scores!X98=\"\",\"\",Scores!X98)","v":0},{"$f":"IF(Scores!Y98=\"\",\"\",Scores!Y98)","v":""},{"$f":"IF(Scores!Z98=\"\",\"\",Scores!Z98)","v":""},{"$f":"IF(Scores!AA98=\"\",\"\",Scores!AA98)","v":0},"","","","","","","",{"$f":"IF(Table2[[#This Row],[SCORE]]=\"\",\"\",_xlfn.RANK.EQ(Table2[[#This Row],[SCORE]],Table2[SCORE],1))","v":""},"",""]
[95,{"$f":"IF(Scores!$C99=\"\",\"\",Scores!C99)","v":""},{"$f":"IF(Scores!D99=\"\",\"\",Scores!D99)","v":""},{"$f":"IF(Scores!F99=\"\",\"ZZ\",Scores!F99)","v":"ZZ"},{"$f":"IF(Scores!G99=\"\",\"\",Scores!G99)","v":""},{"$f":"IF(Scores!H99=\"\",\"\",Scores!H99)","v":""},{"$f":"IF(Scores!I99=\"\",\"\",Scores!I99)","v":""},{"$f":"IF(Scores!J99=\"\",\"\",Scores!J99)","v":""},{"$f":"IF(Scores!K99=\"\",\"\",Scores!K99)","v":""},{"$f":"IF(Scores!L99=\"\",\"\",Scores!L99)","v":0},{"$f":"IF(Scores!M99=\"\",\"\",Scores!M99)","v":""},{"$f":"IF(Scores!N99=\"\",\"\",Scores!N99)","v":""},{"$f":"IF(Scores!O99=\"\",\"\",Scores!O99)","v":0},{"$f":"IF(Scores!P99=\"\",\"\",Scores!P99)","v":""},{"$f":"IF(Scores!Q99=\"\",\"\",Scores!Q99)","v":""},{"$f":"IF(Scores!R99=\"\",\"\",Scores!R99)","v":0},{"$f":"IF(Scores!S99=\"\",\"\",Scores!S99)","v":""},{"$f":"IF(Scores!T99=\"\",\"\",Scores!T99)","v":""},{"$f":"IF(Scores!U99=\"\",\"\",Scores!U99)","v":0},{"$f":"IF(Scores!V99=\"\",\"\",Scores!V99)","v":""},{"$f":"IF(Scores!W99=\"\",\"\",Scores!W99)","v":""},{"$f":"IF(Scores!X99=\"\",\"\",Scores!X99)","v":0},{"$f":"IF(Scores!Y99=\"\",\"\",Scores!Y99)","v":""},{"$f":"IF(Scores!Z99=\"\",\"\",Scores!Z99)","v":""},{"$f":"IF(Scores!AA99=\"\",\"\",Scores!AA99)","v":0},"","","","","","","",{"$f":"IF(Table2[[#This Row],[SCORE]]=\"\",\"\",_xlfn.RANK.EQ(Table2[[#This Row],[SCORE]],Table2[SCORE],1))","v":""},"",""]
[96,{"$f":"IF(Scores!$C100=\"\",\"\",Scores!C100)","v":""},{"$f":"IF(Scores!D100=\"\",\"\",Scores!D100)","v":""},{"$f":"IF(Scores!F100=\"\",\"ZZ\",Scores!F100)","v":"ZZ"},{"$f":"IF(Scores!G100=\"\",\"\",Scores!G100)","v":""},{"$f":"IF(Scores!H100=\"\",\"\",Scores!H100)","v":""},{"$f":"IF(Scores!I100=\"\",\"\",Scores!I100)","v":""},{"$f":"IF(Scores!J100=\"\",\"\",Scores!J100)","v":""},{"$f":"IF(Scores!K100=\"\",\"\",Scores!K100)","v":""},{"$f":"IF(Scores!L100=\"\",\"\",Scores!L100)","v":0},{"$f":"IF(Scores!M100=\"\",\"\",Scores!M100)","v":""},{"$f":"IF(Scores!N100=\"\",\"\",Scores!N100)","v":""},{"$f":"IF(Scores!O100=\"\",\"\",Scores!O100)","v":0},{"$f":"IF(Scores!P100=\"\",\"\",Scores!P100)","v":""},{"$f":"IF(Scores!Q100=\"\",\"\",Scores!Q100)","v":""},{"$f":"IF(Scores!R100=\"\",\"\",Scores!R100)","v":0},{"$f":"IF(Scores!S100=\"\",\"\",Scores!S100)","v":""},{"$f":"IF(Scores!T100=\"\",\"\",Scores!T100)","v":""},{"$f":"IF(Scores!U100=\"\",\"\",Scores!U100)","v":0},{"$f":"IF(Scores!V100=\"\",\"\",Scores!V100)","v":""},{"$f":"IF(Scores!W100=\"\",\"\",Scores!W100)","v":""},{"$f":"IF(Scores!X100=\"\",\"\",Scores!X100)","v":0},{"$f":"IF(Scores!Y100=\"\",\"\",Scores!Y100)","v":""},{"$f":"IF(Scores!Z100=\"\",\"\",Scores!Z100)","v":""},{"$f":"IF(Scores!AA100=\"\",\"\",Scores!AA100)","v":0},"","","","","","","",{"$f":"IF(Table2[[#This Row],[SCORE]]=\"\",\"\",_xlfn.RANK.EQ(Table2[[#This Row],[SCORE]],Table2[SCORE],1))","v":""},"",""]
[97,{"$f":"IF(Scores!$C101=\"\",\"\",Scores!C101)","v":""},{"$f":"IF(Scores!D101=\"\",\"\",Scores!D101)","v":""},{"$f":"IF(Scores!F101=\"\",\"ZZ\",Scores!F101)","v":"ZZ"},{"$f":"IF(Scores!G101=\"\",\"\",Scores!G101)","v":""},{"$f":"IF(Scores!H101=\"\",\"\",Scores!H101)","v":""},{"$f":"IF(Scores!I101=\"\",\"\",Scores!I101)","v":""},{"$f":"IF(Scores!J101=\"\",\"\",Scores!J101)","v":""},{"$f":"IF(Scores!K101=\"\",\"\",Scores!K101)","v":""},{"$f":"IF(Scores!L101=\"\",\"\",Scores!L101)","v":0},{"$f":"IF(Scores!M101=\"\",\"\",Scores!M101)","v":""},{"$f":"IF(Scores!N101=\"\",\"\",Scores!N101)","v":""},{"$f":"IF(Scores!O101=\"\",\"\",Scores!O101)","v":0},{"$f":"IF(Scores!P101=\"\",\"\",Scores!P101)","v":""},{"$f":"IF(Scores!Q101=\"\",\"\",Scores!Q101)","v":""},{"$f":"IF(Scores!R101=\"\",\"\",Scores!R101)","v":0},{"$f":"IF(Scores!S101=\"\",\"\",Scores!S101)","v":""},{"$f":"IF(Scores!T101=\"\",\"\",Scores!T101)","v":""},{"$f":"IF(Scores!U101=\"\",\"\",Scores!U101)","v":0},{"$f":"IF(Scores!V101=\"\",\"\",Scores!V101)","v":""},{"$f":"IF(Scores!W101=\"\",\"\",Scores!W101)","v":""},{"$f":"IF(Scores!X101=\"\",\"\",Scores!X101)","v":0},{"$f":"IF(Scores!Y101=\"\",\"\",Scores!Y101)","v":""},{"$f":"IF(Scores!Z101=\"\",\"\",Scores!Z101)","v":""},{"$f":"IF(Scores!AA101=\"\",\"\",Scores!AA101)","v":0},{"$f":"IF(B100=\"\",\"\",SUM(H100,K100,N100,Q100,T100,W100))","v":""},{"$f":"IF(B100=\"\",\"\",SUM(I100,L100,O100,R100,U100,X100))","v":""},{"$f":"IF(B100=\"\",\"\",SUM(J100,M100,P100,S100,V100,Y100))","v":""},{"$f":"IF(B100=\"\",\"\",ROUND(AVERAGE(H100,K100,N100,Q100,T100,W100),2))","v":""},{"$f":"IF(B100=\"\",\"\",ROUND(AVERAGE(I100,L100,O100,R100,U100,X100),1))","v":""},{"$f":"IF(B100=\"\",\"\",ROUND(AVERAGE(J100,M100,P100,S100,V100,Y100),2))","v":""},{"$f":"IF(B100=\"\",\"\",SUM(J100,M100,P100,S100,V100,Y100)-MAX(J100,M100,P100,S100,V100,Y100))","v":""},{"$f":"IF(Table2[[#This Row],[SCORE]]=\"\",\"\",_xlfn.RANK.EQ(Table2[[#This Row],[SCORE]],Table2[SCORE],1))","v":""},{"$f":"IF(AF100=\"\",\"\",SUMPRODUCT(--(D100=$D$4:$D$123),--(AF100>$AF$4:$AF$123))+1)","v":""},{"$f":"IF(B100=\"\",\"\",MAX(H100,K100,N100,Q100,T100,W100)-MIN(H100,K100,N100,Q100,T100,W100,))","v":""}]
[98,{"$f":"IF(Scores!$C102=\"\",\"\",Scores!C102)","v":""},{"$f":"IF(Scores!D102=\"\",\"\",Scores!D102)","v":""},{"$f":"IF(Scores!F102=\"\",\"ZZ\",Scores!F102)","v":"ZZ"},{"$f":"IF(Scores!G102=\"\",\"\",Scores!G102)","v":""},{"$f":"IF(Scores!H102=\"\",\"\",Scores!H102)","v":""},{"$f":"IF(Scores!I102=\"\",\"\",Scores!I102)","v":""},{"$f":"IF(Scores!J102=\"\",\"\",Scores!J102)","v":""},{"$f":"IF(Scores!K102=\"\",\"\",Scores!K102)","v":""},{"$f":"IF(Scores!L102=\"\",\"\",Scores!L102)","v":0},{"$f":"IF(Scores!M102=\"\",\"\",Scores!M102)","v":""},{"$f":"IF(Scores!N102=\"\",\"\",Scores!N102)","v":""},{"$f":"IF(Scores!O102=\"\",\"\",Scores!O102)","v":0},{"$f":"IF(Scores!P102=\"\",\"\",Scores!P102)","v":""},{"$f":"IF(Scores!Q102=\"\",\"\",Scores!Q102)","v":""},{"$f":"IF(Scores!R102=\"\",\"\",Scores!R102)","v":0},{"$f":"IF(Scores!S102=\"\",\"\",Scores!S102)","v":""},{"$f":"IF(Scores!T102=\"\",\"\",Scores!T102)","v":""},{"$f":"IF(Scores!U102=\"\",\"\",Scores!U102)","v":0},{"$f":"IF(Scores!V102=\"\",\"\",Scores!V102)","v":""},{"$f":"IF(Scores!W102=\"\",\"\",Scores!W102)","v":""},{"$f":"IF(Scores!X102=\"\",\"\",Scores!X102)","v":0},{"$f":"IF(Scores!Y102=\"\",\"\",Scores!Y102)","v":""},{"$f":"IF(Scores!Z102=\"\",\"\",Scores!Z102)","v":""},{"$f":"IF(Scores!AA102=\"\",\"\",Scores!AA102)","v":0},"","","","","","","",{"$f":"IF(Table2[[#This Row],[SCORE]]=\"\",\"\",_xlfn.RANK.EQ(Table2[[#This Row],[SCORE]],Table2[SCORE],1))","v":""},"",""]
[99,{"$f":"IF(Scores!$C103=\"\",\"\",Scores!C103)","v":""},{"$f":"IF(Scores!D103=\"\",\"\",Scores!D103)","v":""},{"$f":"IF(Scores!F103=\"\",\"ZZ\",Scores!F103)","v":"ZZ"},{"$f":"IF(Scores!G103=\"\",\"\",Scores!G103)","v":""},{"$f":"IF(Scores!H103=\"\",\"\",Scores!H103)","v":""},{"$f":"IF(Scores!I103=\"\",\"\",Scores!I103)","v":""},{"$f":"IF(Scores!J103=\"\",\"\",Scores!J103)","v":""},{"$f":"IF(Scores!K103=\"\",\"\",Scores!K103)","v":""},{"$f":"IF(Scores!L103=\"\",\"\",Scores!L103)","v":0},{"$f":"IF(Scores!M103=\"\",\"\",Scores!M103)","v":""},{"$f":"IF(Scores!N103=\"\",\"\",Scores!N103)","v":""},{"$f":"IF(Scores!O103=\"\",\"\",Scores!O103)","v":0},{"$f":"IF(Scores!P103=\"\",\"\",Scores!P103)","v":""},{"$f":"IF(Scores!Q103=\"\",\"\",Scores!Q103)","v":""},{"$f":"IF(Scores!R103=\"\",\"\",Scores!R103)","v":0},{"$f":"IF(Scores!S103=\"\",\"\",Scores!S103)","v":""},{"$f":"IF(Scores!T103=\"\",\"\",Scores!T103)","v":""},{"$f":"IF(Scores!U103=\"\",\"\",Scores!U103)","v":0},{"$f":"IF(Scores!V103=\"\",\"\",Scores!V103)","v":""},{"$f":"IF(Scores!W103=\"\",\"\",Scores!W103)","v":""},{"$f":"IF(Scores!X103=\"\",\"\",Scores!X103)","v":0},{"$f":"IF(Scores!Y103=\"\",\"\",Scores!Y103)","v":""},{"$f":"IF(Scores!Z103=\"\",\"\",Scores!Z103)","v":""},{"$f":"IF(Scores!AA103=\"\",\"\",Scores!AA103)","v":0},"","","","","","","",{"$f":"IF(Table2[[#This Row],[SCORE]]=\"\",\"\",_xlfn.RANK.EQ(Table2[[#This Row],[SCORE]],Table2[SCORE],1))","v":""},"",""]
[100,{"$f":"IF(Scores!$C104=\"\",\"\",Scores!C104)","v":""},{"$f":"IF(Scores!D104=\"\",\"\",Scores!D104)","v":""},{"$f":"IF(Scores!F104=\"\",\"ZZ\",Scores!F104)","v":"ZZ"},{"$f":"IF(Scores!G104=\"\",\"\",Scores!G104)","v":""},{"$f":"IF(Scores!H104=\"\",\"\",Scores!H104)","v":""},{"$f":"IF(Scores!I104=\"\",\"\",Scores!I104)","v":""},{"$f":"IF(Scores!J104=\"\",\"\",Scores!J104)","v":""},{"$f":"IF(Scores!K104=\"\",\"\",Scores!K104)","v":""},{"$f":"IF(Scores!L104=\"\",\"\",Scores!L104)","v":0},{"$f":"IF(Scores!M104=\"\",\"\",Scores!M104)","v":""},{"$f":"IF(Scores!N104=\"\",\"\",Scores!N104)","v":""},{"$f":"IF(Scores!O104=\"\",\"\",Scores!O104)","v":0},{"$f":"IF(Scores!P104=\"\",\"\",Scores!P104)","v":""},{"$f":"IF(Scores!Q104=\"\",\"\",Scores!Q104)","v":""},{"$f":"IF(Scores!R104=\"\",\"\",Scores!R104)","v":0},{"$f":"IF(Scores!S104=\"\",\"\",Scores!S104)","v":""},{"$f":"IF(Scores!T104=\"\",\"\",Scores!T104)","v":""},{"$f":"IF(Scores!U104=\"\",\"\",Scores!U104)","v":0},{"$f":"IF(Scores!V104=\"\",\"\",Scores!V104)","v":""},{"$f":"IF(Scores!W104=\"\",\"\",Scores!W104)","v":""},{"$f":"IF(Scores!X104=\"\",\"\",Scores!X104)","v":0},{"$f":"IF(Scores!Y104=\"\",\"\",Scores!Y104)","v":""},{"$f":"IF(Scores!Z104=\"\",\"\",Scores!Z104)","v":""},{"$f":"IF(Scores!AA104=\"\",\"\",Scores!AA104)","v":0},"","","","","","","",{"$f":"IF(Table2[[#This Row],[SCORE]]=\"\",\"\",_xlfn.RANK.EQ(Table2[[#This Row],[SCORE]],Table2[SCORE],1))","v":""},"",""]
[101,{"$f":"IF(Scores!$C105=\"\",\"\",Scores!C105)","v":""},{"$f":"IF(Scores!D105=\"\",\"\",Scores!D105)","v":""},{"$f":"IF(Scores!F105=\"\",\"ZZ\",Scores!F105)","v":"ZZ"},{"$f":"IF(Scores!G105=\"\",\"\",Scores!G105)","v":""},{"$f":"IF(Scores!H105=\"\",\"\",Scores!H105)","v":""},{"$f":"IF(Scores!I105=\"\",\"\",Scores!I105)","v":""},{"$f":"IF(Scores!J105=\"\",\"\",Scores!J105)","v":""},{"$f":"IF(Scores!K105=\"\",\"\",Scores!K105)","v":""},{"$f":"IF(Scores!L105=\"\",\"\",Scores!L105)","v":0},{"$f":"IF(Scores!M105=\"\",\"\",Scores!M105)","v":""},{"$f":"IF(Scores!N105=\"\",\"\",Scores!N105)","v":""},{"$f":"IF(Scores!O105=\"\",\"\",Scores!O105)","v":0},{"$f":"IF(Scores!P105=\"\",\"\",Scores!P105)","v":""},{"$f":"IF(Scores!Q105=\"\",\"\",Scores!Q105)","v":""},{"$f":"IF(Scores!R105=\"\",\"\",Scores!R105)","v":0},{"$f":"IF(Scores!S105=\"\",\"\",Scores!S105)","v":""},{"$f":"IF(Scores!T105=\"\",\"\",Scores!T105)","v":""},{"$f":"IF(Scores!U105=\"\",\"\",Scores!U105)","v":0},{"$f":"IF(Scores!V105=\"\",\"\",Scores!V105)","v":""},{"$f":"IF(Scores!W105=\"\",\"\",Scores!W105)","v":""},{"$f":"IF(Scores!X105=\"\",\"\",Scores!X105)","v":0},{"$f":"IF(Scores!Y105=\"\",\"\",Scores!Y105)","v":""},{"$f":"IF(Scores!Z105=\"\",\"\",Scores!Z105)","v":""},{"$f":"IF(Scores!AA105=\"\",\"\",Scores!AA105)","v":0},"","","","","","","",{"$f":"IF(Table2[[#This Row],[SCORE]]=\"\",\"\",_xlfn.RANK.EQ(Table2[[#This Row],[SCORE]],Table2[SCORE],1))","v":""},"",""]
[102,{"$f":"IF(Scores!$C106=\"\",\"\",Scores!C106)","v":""},{"$f":"IF(Scores!D106=\"\",\"\",Scores!D106)","v":""},{"$f":"IF(Scores!F106=\"\",\"ZZ\",Scores!F106)","v":"ZZ"},{"$f":"IF(Scores!G106=\"\",\"\",Scores!G106)","v":""},{"$f":"IF(Scores!H106=\"\",\"\",Scores!H106)","v":""},{"$f":"IF(Scores!I106=\"\",\"\",Scores!I106)","v":""},{"$f":"IF(Scores!J106=\"\",\"\",Scores!J106)","v":""},{"$f":"IF(Scores!K106=\"\",\"\",Scores!K106)","v":""},{"$f":"IF(Scores!L106=\"\",\"\",Scores!L106)","v":0},{"$f":"IF(Scores!M106=\"\",\"\",Scores!M106)","v":""},{"$f":"IF(Scores!N106=\"\",\"\",Scores!N106)","v":""},{"$f":"IF(Scores!O106=\"\",\"\",Scores!O106)","v":0},{"$f":"IF(Scores!P106=\"\",\"\",Scores!P106)","v":""},{"$f":"IF(Scores!Q106=\"\",\"\",Scores!Q106)","v":""},{"$f":"IF(Scores!R106=\"\",\"\",Scores!R106)","v":0},{"$f":"IF(Scores!S106=\"\",\"\",Scores!S106)","v":""},{"$f":"IF(Scores!T106=\"\",\"\",Scores!T106)","v":""},{"$f":"IF(Scores!U106=\"\",\"\",Scores!U106)","v":0},{"$f":"IF(Scores!V106=\"\",\"\",Scores!V106)","v":""},{"$f":"IF(Scores!W106=\"\",\"\",Scores!W106)","v":""},{"$f":"IF(Scores!X106=\"\",\"\",Scores!X106)","v":0},{"$f":"IF(Scores!Y106=\"\",\"\",Scores!Y106)","v":""},{"$f":"IF(Scores!Z106=\"\",\"\",Scores!Z106)","v":""},{"$f":"IF(Scores!AA106=\"\",\"\",Scores!AA106)","v":0},"","","","","","","",{"$f":"IF(Table2[[#This Row],[SCORE]]=\"\",\"\",_xlfn.RANK.EQ(Table2[[#This Row],[SCORE]],Table2[SCORE],1))","v":""},"",""]
[103,{"$f":"IF(Scores!$C107=\"\",\"\",Scores!C107)","v":""},{"$f":"IF(Scores!D107=\"\",\"\",Scores!D107)","v":""},{"$f":"IF(Scores!F107=\"\",\"ZZ\",Scores!F107)","v":"ZZ"},{"$f":"IF(Scores!G107=\"\",\"\",Scores!G107)","v":""},{"$f":"IF(Scores!H107=\"\",\"\",Scores!H107)","v":""},{"$f":"IF(Scores!I107=\"\",\"\",Scores!I107)","v":""},{"$f":"IF(Scores!J107=\"\",\"\",Scores!J107)","v":""},{"$f":"IF(Scores!K107=\"\",\"\",Scores!K107)","v":""},{"$f":"IF(Scores!L107=\"\",\"\",Scores!L107)","v":0},{"$f":"IF(Scores!M107=\"\",\"\",Scores!M107)","v":""},{"$f":"IF(Scores!N107=\"\",\"\",Scores!N107)","v":""},{"$f":"IF(Scores!O107=\"\",\"\",Scores!O107)","v":0},{"$f":"IF(Scores!P107=\"\",\"\",Scores!P107)","v":""},{"$f":"IF(Scores!Q107=\"\",\"\",Scores!Q107)","v":""},{"$f":"IF(Scores!R107=\"\",\"\",Scores!R107)","v":0},{"$f":"IF(Scores!S107=\"\",\"\",Scores!S107)","v":""},{"$f":"IF(Scores!T107=\"\",\"\",Scores!T107)","v":""},{"$f":"IF(Scores!U107=\"\",\"\",Scores!U107)","v":0},{"$f":"IF(Scores!V107=\"\",\"\",Scores!V107)","v":""},{"$f":"IF(Scores!W107=\"\",\"\",Scores!W107)","v":""},{"$f":"IF(Scores!X107=\"\",\"\",Scores!X107)","v":0},{"$f":"IF(Scores!Y107=\"\",\"\",Scores!Y107)","v":""},{"$f":"IF(Scores!Z107=\"\",\"\",Scores!Z107)","v":""},{"$f":"IF(Scores!AA107=\"\",\"\",Scores!AA107)","v":0},"","","","","","","",{"$f":"IF(Table2[[#This Row],[SCORE]]=\"\",\"\",_xlfn.RANK.EQ(Table2[[#This Row],[SCORE]],Table2[SCORE],1))","v":""},"",""]
[104,{"$f":"IF(Scores!$C108=\"\",\"\",Scores!C108)","v":""},{"$f":"IF(Scores!D108=\"\",\"\",Scores!D108)","v":""},{"$f":"IF(Scores!F108=\"\",\"ZZ\",Scores!F108)","v":"ZZ"},{"$f":"IF(Scores!G108=\"\",\"\",Scores!G108)","v":""},{"$f":"IF(Scores!H108=\"\",\"\",Scores!H108)","v":""},{"$f":"IF(Scores!I108=\"\",\"\",Scores!I108)","v":""},{"$f":"IF(Scores!J108=\"\",\"\",Scores!J108)","v":""},{"$f":"IF(Scores!K108=\"\",\"\",Scores!K108)","v":""},{"$f":"IF(Scores!L108=\"\",\"\",Scores!L108)","v":0},{"$f":"IF(Scores!M108=\"\",\"\",Scores!M108)","v":""},{"$f":"IF(Scores!N108=\"\",\"\",Scores!N108)","v":""},{"$f":"IF(Scores!O108=\"\",\"\",Scores!O108)","v":0},{"$f":"IF(Scores!P108=\"\",\"\",Scores!P108)","v":""},{"$f":"IF(Scores!Q108=\"\",\"\",Scores!Q108)","v":""},{"$f":"IF(Scores!R108=\"\",\"\",Scores!R108)","v":0},{"$f":"IF(Scores!S108=\"\",\"\",Scores!S108)","v":""},{"$f":"IF(Scores!T108=\"\",\"\",Scores!T108)","v":""},{"$f":"IF(Scores!U108=\"\",\"\",Scores!U108)","v":0},{"$f":"IF(Scores!V108=\"\",\"\",Scores!V108)","v":""},{"$f":"IF(Scores!W108=\"\",\"\",Scores!W108)","v":""},{"$f":"IF(Scores!X108=\"\",\"\",Scores!X108)","v":0},{"$f":"IF(Scores!Y108=\"\",\"\",Scores!Y108)","v":""},{"$f":"IF(Scores!Z108=\"\",\"\",Scores!Z108)","v":""},{"$f":"IF(Scores!AA108=\"\",\"\",Scores!AA108)","v":0},"","","","","","","",{"$f":"IF(Table2[[#This Row],[SCORE]]=\"\",\"\",_xlfn.RANK.EQ(Table2[[#This Row],[SCORE]],Table2[SCORE],1))","v":""},"",""]
[105,{"$f":"IF(Scores!$C109=\"\",\"\",Scores!C109)","v":""},{"$f":"IF(Scores!D109=\"\",\"\",Scores!D109)","v":""},{"$f":"IF(Scores!F109=\"\",\"ZZ\",Scores!F109)","v":"ZZ"},{"$f":"IF(Scores!G109=\"\",\"\",Scores!G109)","v":""},{"$f":"IF(Scores!H109=\"\",\"\",Scores!H109)","v":""},{"$f":"IF(Scores!I109=\"\",\"\",Scores!I109)","v":""},{"$f":"IF(Scores!J109=\"\",\"\",Scores!J109)","v":""},{"$f":"IF(Scores!K109=\"\",\"\",Scores!K109)","v":""},{"$f":"IF(Scores!L109=\"\",\"\",Scores!L109)","v":0},{"$f":"IF(Scores!M109=\"\",\"\",Scores!M109)","v":""},{"$f":"IF(Scores!N109=\"\",\"\",Scores!N109)","v":""},{"$f":"IF(Scores!O109=\"\",\"\",Scores!O109)","v":0},{"$f":"IF(Scores!P109=\"\",\"\",Scores!P109)","v":""},{"$f":"IF(Scores!Q109=\"\",\"\",Scores!Q109)","v":""},{"$f":"IF(Scores!R109=\"\",\"\",Scores!R109)","v":0},{"$f":"IF(Scores!S109=\"\",\"\",Scores!S109)","v":""},{"$f":"IF(Scores!T109=\"\",\"\",Scores!T109)","v":""},{"$f":"IF(Scores!U109=\"\",\"\",Scores!U109)","v":0},{"$f":"IF(Scores!V109=\"\",\"\",Scores!V109)","v":""},{"$f":"IF(Scores!W109=\"\",\"\",Scores!W109)","v":""},{"$f":"IF(Scores!X109=\"\",\"\",Scores!X109)","v":0},{"$f":"IF(Scores!Y109=\"\",\"\",Scores!Y109)","v":""},{"$f":"IF(Scores!Z109=\"\",\"\",Scores!Z109)","v":""},{"$f":"IF(Scores!AA109=\"\",\"\",Scores!AA109)","v":0},"","","","","","","",{"$f":"IF(Table2[[#This Row],[SCORE]]=\"\",\"\",_xlfn.RANK.EQ(Table2[[#This Row],[SCORE]],Table2[SCORE],1))","v":""},"",""]
[106,{"$f":"IF(Scores!$C110=\"\",\"\",Scores!C110)","v":""},{"$f":"IF(Scores!D110=\"\",\"\",Scores!D110)","v":""},{"$f":"IF(Scores!F110=\"\",\"ZZ\",Scores!F110)","v":"ZZ"},{"$f":"IF(Scores!G110=\"\",\"\",Scores!G110)","v":""},{"$f":"IF(Scores!H110=\"\",\"\",Scores!H110)","v":""},{"$f":"IF(Scores!I110=\"\",\"\",Scores!I110)","v":""},{"$f":"IF(Scores!J110=\"\",\"\",Scores!J110)","v":""},{"$f":"IF(Scores!K110=\"\",\"\",Scores!K110)","v":""},{"$f":"IF(Scores!L110=\"\",\"\",Scores!L110)","v":0},{"$f":"IF(Scores!M110=\"\",\"\",Scores!M110)","v":""},{"$f":"IF(Scores!N110=\"\",\"\",Scores!N110)","v":""},{"$f":"IF(Scores!O110=\"\",\"\",Scores!O110)","v":0},{"$f":"IF(Scores!P110=\"\",\"\",Scores!P110)","v":""},{"$f":"IF(Scores!Q110=\"\",\"\",Scores!Q110)","v":""},{"$f":"IF(Scores!R110=\"\",\"\",Scores!R110)","v":0},{"$f":"IF(Scores!S110=\"\",\"\",Scores!S110)","v":""},{"$f":"IF(Scores!T110=\"\",\"\",Scores!T110)","v":""},{"$f":"IF(Scores!U110=\"\",\"\",Scores!U110)","v":0},{"$f":"IF(Scores!V110=\"\",\"\",Scores!V110)","v":""},{"$f":"IF(Scores!W110=\"\",\"\",Scores!W110)","v":""},{"$f":"IF(Scores!X110=\"\",\"\",Scores!X110)","v":0},{"$f":"IF(Scores!Y110=\"\",\"\",Scores!Y110)","v":""},{"$f":"IF(Scores!Z110=\"\",\"\",Scores!Z110)","v":""},{"$f":"IF(Scores!AA110=\"\",\"\",Scores!AA110)","v":0},"","","","","","","",{"$f":"IF(Table2[[#This Row],[SCORE]]=\"\",\"\",_xlfn.RANK.EQ(Table2[[#This Row],[SCORE]],Table2[SCORE],1))","v":""},"",""]
[107,{"$f":"IF(Scores!$C111=\"\",\"\",Scores!C111)","v":""},{"$f":"IF(Scores!D111=\"\",\"\",Scores!D111)","v":""},{"$f":"IF(Scores!F111=\"\",\"ZZ\",Scores!F111)","v":"ZZ"},{"$f":"IF(Scores!G111=\"\",\"\",Scores!G111)","v":""},{"$f":"IF(Scores!H111=\"\",\"\",Scores!H111)","v":""},{"$f":"IF(Scores!I111=\"\",\"\",Scores!I111)","v":""},{"$f":"IF(Scores!J111=\"\",\"\",Scores!J111)","v":""},{"$f":"IF(Scores!K111=\"\",\"\",Scores!K111)","v":""},{"$f":"IF(Scores!L111=\"\",\"\",Scores!L111)","v":0},{"$f":"IF(Scores!M111=\"\",\"\",Scores!M111)","v":""},{"$f":"IF(Scores!N111=\"\",\"\",Scores!N111)","v":""},{"$f":"IF(Scores!O111=\"\",\"\",Scores!O111)","v":0},{"$f":"IF(Scores!P111=\"\",\"\",Scores!P111)","v":""},{"$f":"IF(Scores!Q111=\"\",\"\",Scores!Q111)","v":""},{"$f":"IF(Scores!R111=\"\",\"\",Scores!R111)","v":0},{"$f":"IF(Scores!S111=\"\",\"\",Scores!S111)","v":""},{"$f":"IF(Scores!T111=\"\",\"\",Scores!T111)","v":""},{"$f":"IF(Scores!U111=\"\",\"\",Scores!U111)","v":0},{"$f":"IF(Scores!V111=\"\",\"\",Scores!V111)","v":""},{"$f":"IF(Scores!W111=\"\",\"\",Scores!W111)","v":""},{"$f":"IF(Scores!X111=\"\",\"\",Scores!X111)","v":0},{"$f":"IF(Scores!Y111=\"\",\"\",Scores!Y111)","v":""},{"$f":"IF(Scores!Z111=\"\",\"\",Scores!Z111)","v":""},{"$f":"IF(Scores!AA111=\"\",\"\",Scores!AA111)","v":0},"","","","","","","",{"$f":"IF(Table2[[#This Row],[SCORE]]=\"\",\"\",_xlfn.RANK.EQ(Table2[[#This Row],[SCORE]],Table2[SCORE],1))","v":""},"",""]
[108,{"$f":"IF(Scores!$C112=\"\",\"\",Scores!C112)","v":""},{"$f":"IF(Scores!D112=\"\",\"\",Scores!D112)","v":""},{"$f":"IF(Scores!F112=\"\",\"ZZ\",Scores!F112)","v":"ZZ"},{"$f":"IF(Scores!G112=\"\",\"\",Scores!G112)","v":""},{"$f":"IF(Scores!H112=\"\",\"\",Scores!H112)","v":""},{"$f":"IF(Scores!I112=\"\",\"\",Scores!I112)","v":""},{"$f":"IF(Scores!J112=\"\",\"\",Scores!J112)","v":""},{"$f":"IF(Scores!K112=\"\",\"\",Scores!K112)","v":""},{"$f":"IF(Scores!L112=\"\",\"\",Scores!L112)","v":0},{"$f":"IF(Scores!M112=\"\",\"\",Scores!M112)","v":""},{"$f":"IF(Scores!N112=\"\",\"\",Scores!N112)","v":""},{"$f":"IF(Scores!O112=\"\",\"\",Scores!O112)","v":0},{"$f":"IF(Scores!P112=\"\",\"\",Scores!P112)","v":""},{"$f":"IF(Scores!Q112=\"\",\"\",Scores!Q112)","v":""},{"$f":"IF(Scores!R112=\"\",\"\",Scores!R112)","v":0},{"$f":"IF(Scores!S112=\"\",\"\",Scores!S112)","v":""},{"$f":"IF(Scores!T112=\"\",\"\",Scores!T112)","v":""},{"$f":"IF(Scores!U112=\"\",\"\",Scores!U112)","v":0},{"$f":"IF(Scores!V112=\"\",\"\",Scores!V112)","v":""},{"$f":"IF(Scores!W112=\"\",\"\",Scores!W112)","v":""},{"$f":"IF(Scores!X112=\"\",\"\",Scores!X112)","v":0},{"$f":"IF(Scores!Y112=\"\",\"\",Scores!Y112)","v":""},{"$f":"IF(Scores!Z112=\"\",\"\",Scores!Z112)","v":""},{"$f":"IF(Scores!AA112=\"\",\"\",Scores!AA112)","v":0},"","","","","","","",{"$f":"IF(Table2[[#This Row],[SCORE]]=\"\",\"\",_xlfn.RANK.EQ(Table2[[#This Row],[SCORE]],Table2[SCORE],1))","v":""},"",""]
[109,{"$f":"IF(Scores!$C113=\"\",\"\",Scores!C113)","v":""},{"$f":"IF(Scores!D113=\"\",\"\",Scores!D113)","v":""},{"$f":"IF(Scores!F113=\"\",\"ZZ\",Scores!F113)","v":"ZZ"},{"$f":"IF(Scores!G113=\"\",\"\",Scores!G113)","v":""},{"$f":"IF(Scores!H113=\"\",\"\",Scores!H113)","v":""},{"$f":"IF(Scores!I113=\"\",\"\",Scores!I113)","v":""},{"$f":"IF(Scores!J113=\"\",\"\",Scores!J113)","v":""},{"$f":"IF(Scores!K113=\"\",\"\",Scores!K113)","v":""},{"$f":"IF(Scores!L113=\"\",\"\",Scores!L113)","v":0},{"$f":"IF(Scores!M113=\"\",\"\",Scores!M113)","v":""},{"$f":"IF(Scores!N113=\"\",\"\",Scores!N113)","v":""},{"$f":"IF(Scores!O113=\"\",\"\",Scores!O113)","v":0},{"$f":"IF(Scores!P113=\"\",\"\",Scores!P113)","v":""},{"$f":"IF(Scores!Q113=\"\",\"\",Scores!Q113)","v":""},{"$f":"IF(Scores!R113=\"\",\"\",Scores!R113)","v":0},{"$f":"IF(Scores!S113=\"\",\"\",Scores!S113)","v":""},{"$f":"IF(Scores!T113=\"\",\"\",Scores!T113)","v":""},{"$f":"IF(Scores!U113=\"\",\"\",Scores!U113)","v":0},{"$f":"IF(Scores!V113=\"\",\"\",Scores!V113)","v":""},{"$f":"IF(Scores!W113=\"\",\"\",Scores!W113)","v":""},{"$f":"IF(Scores!X113=\"\",\"\",Scores!X113)","v":0},{"$f":"IF(Scores!Y113=\"\",\"\",Scores!Y113)","v":""},{"$f":"IF(Scores!Z113=\"\",\"\",Scores!Z113)","v":""},{"$f":"IF(Scores!AA113=\"\",\"\",Scores!AA113)","v":0},"","","","","","","",{"$f":"IF(Table2[[#This Row],[SCORE]]=\"\",\"\",_xlfn.RANK.EQ(Table2[[#This Row],[SCORE]],Table2[SCORE],1))","v":""},"",""]
[110,{"$f":"IF(Scores!$C114=\"\",\"\",Scores!C114)","v":""},{"$f":"IF(Scores!D114=\"\",\"\",Scores!D114)","v":""},{"$f":"IF(Scores!F114=\"\",\"ZZ\",Scores!F114)","v":"ZZ"},{"$f":"IF(Scores!G114=\"\",\"\",Scores!G114)","v":""},{"$f":"IF(Scores!H114=\"\",\"\",Scores!H114)","v":""},{"$f":"IF(Scores!I114=\"\",\"\",Scores!I114)","v":""},{"$f":"IF(Scores!J114=\"\",\"\",Scores!J114)","v":""},{"$f":"IF(Scores!K114=\"\",\"\",Scores!K114)","v":""},{"$f":"IF(Scores!L114=\"\",\"\",Scores!L114)","v":0},{"$f":"IF(Scores!M114=\"\",\"\",Scores!M114)","v":""},{"$f":"IF(Scores!N114=\"\",\"\",Scores!N114)","v":""},{"$f":"IF(Scores!O114=\"\",\"\",Scores!O114)","v":0},{"$f":"IF(Scores!P114=\"\",\"\",Scores!P114)","v":""},{"$f":"IF(Scores!Q114=\"\",\"\",Scores!Q114)","v":""},{"$f":"IF(Scores!R114=\"\",\"\",Scores!R114)","v":0},{"$f":"IF(Scores!S114=\"\",\"\",Scores!S114)","v":""},{"$f":"IF(Scores!T114=\"\",\"\",Scores!T114)","v":""},{"$f":"IF(Scores!U114=\"\",\"\",Scores!U114)","v":0},{"$f":"IF(Scores!V114=\"\",\"\",Scores!V114)","v":""},{"$f":"IF(Scores!W114=\"\",\"\",Scores!W114)","v":""},{"$f":"IF(Scores!X114=\"\",\"\",Scores!X114)","v":0},{"$f":"IF(Scores!Y114=\"\",\"\",Scores!Y114)","v":""},{"$f":"IF(Scores!Z114=\"\",\"\",Scores!Z114)","v":""},{"$f":"IF(Scores!AA114=\"\",\"\",Scores!AA114)","v":0},"","","","","","","",{"$f":"IF(Table2[[#This Row],[SCORE]]=\"\",\"\",_xlfn.RANK.EQ(Table2[[#This Row],[SCORE]],Table2[SCORE],1))","v":""},"",""]
[111,{"$f":"IF(Scores!$C115=\"\",\"\",Scores!C115)","v":""},{"$f":"IF(Scores!D115=\"\",\"\",Scores!D115)","v":""},{"$f":"IF(Scores!F115=\"\",\"ZZ\",Scores!F115)","v":"ZZ"},{"$f":"IF(Scores!G115=\"\",\"\",Scores!G115)","v":""},{"$f":"IF(Scores!H115=\"\",\"\",Scores!H115)","v":""},{"$f":"IF(Scores!I115=\"\",\"\",Scores!I115)","v":""},{"$f":"IF(Scores!J115=\"\",\"\",Scores!J115)","v":""},{"$f":"IF(Scores!K115=\"\",\"\",Scores!K115)","v":""},{"$f":"IF(Scores!L115=\"\",\"\",Scores!L115)","v":0},{"$f":"IF(Scores!M115=\"\",\"\",Scores!M115)","v":""},{"$f":"IF(Scores!N115=\"\",\"\",Scores!N115)","v":""},{"$f":"IF(Scores!O115=\"\",\"\",Scores!O115)","v":0},{"$f":"IF(Scores!P115=\"\",\"\",Scores!P115)","v":""},{"$f":"IF(Scores!Q115=\"\",\"\",Scores!Q115)","v":""},{"$f":"IF(Scores!R115=\"\",\"\",Scores!R115)","v":0},{"$f":"IF(Scores!S115=\"\",\"\",Scores!S115)","v":""},{"$f":"IF(Scores!T115=\"\",\"\",Scores!T115)","v":""},{"$f":"IF(Scores!U115=\"\",\"\",Scores!U115)","v":0},{"$f":"IF(Scores!V115=\"\",\"\",Scores!V115)","v":""},{"$f":"IF(Scores!W115=\"\",\"\",Scores!W115)","v":""},{"$f":"IF(Scores!X115=\"\",\"\",Scores!X115)","v":0},{"$f":"IF(Scores!Y115=\"\",\"\",Scores!Y115)","v":""},{"$f":"IF(Scores!Z115=\"\",\"\",Scores!Z115)","v":""},{"$f":"IF(Scores!AA115=\"\",\"\",Scores!AA115)","v":0},"","","","","","","",{"$f":"IF(Table2[[#This Row],[SCORE]]=\"\",\"\",_xlfn.RANK.EQ(Table2[[#This Row],[SCORE]],Table2[SCORE],1))","v":""},"",""]
[112,{"$f":"IF(Scores!$C116=\"\",\"\",Scores!C116)","v":""},{"$f":"IF(Scores!D116=\"\",\"\",Scores!D116)","v":""},{"$f":"IF(Scores!F116=\"\",\"ZZ\",Scores!F116)","v":"ZZ"},{"$f":"IF(Scores!G116=\"\",\"\",Scores!G116)","v":""},{"$f":"IF(Scores!H116=\"\",\"\",Scores!H116)","v":""},{"$f":"IF(Scores!I116=\"\",\"\",Scores!I116)","v":""},{"$f":"IF(Scores!J116=\"\",\"\",Scores!J116)","v":""},{"$f":"IF(Scores!K116=\"\",\"\",Scores!K116)","v":""},{"$f":"IF(Scores!L116=\"\",\"\",Scores!L116)","v":0},{"$f":"IF(Scores!M116=\"\",\"\",Scores!M116)","v":""},{"$f":"IF(Scores!N116=\"\",\"\",Scores!N116)","v":""},{"$f":"IF(Scores!O116=\"\",\"\",Scores!O116)","v":0},{"$f":"IF(Scores!P116=\"\",\"\",Scores!P116)","v":""},{"$f":"IF(Scores!Q116=\"\",\"\",Scores!Q116)","v":""},{"$f":"IF(Scores!R116=\"\",\"\",Scores!R116)","v":0},{"$f":"IF(Scores!S116=\"\",\"\",Scores!S116)","v":""},{"$f":"IF(Scores!T116=\"\",\"\",Scores!T116)","v":""},{"$f":"IF(Scores!U116=\"\",\"\",Scores!U116)","v":0},{"$f":"IF(Scores!V116=\"\",\"\",Scores!V116)","v":""},{"$f":"IF(Scores!W116=\"\",\"\",Scores!W116)","v":""},{"$f":"IF(Scores!X116=\"\",\"\",Scores!X116)","v":0},{"$f":"IF(Scores!Y116=\"\",\"\",Scores!Y116)","v":""},{"$f":"IF(Scores!Z116=\"\",\"\",Scores!Z116)","v":""},{"$f":"IF(Scores!AA116=\"\",\"\",Scores!AA116)","v":0},"","","","","","","",{"$f":"IF(Table2[[#This Row],[SCORE]]=\"\",\"\",_xlfn.RANK.EQ(Table2[[#This Row],[SCORE]],Table2[SCORE],1))","v":""},"",""]
[113,{"$f":"IF(Scores!$C117=\"\",\"\",Scores!C117)","v":""},{"$f":"IF(Scores!D117=\"\",\"\",Scores!D117)","v":""},{"$f":"IF(Scores!F117=\"\",\"ZZ\",Scores!F117)","v":"ZZ"},{"$f":"IF(Scores!G117=\"\",\"\",Scores!G117)","v":""},{"$f":"IF(Scores!H117=\"\",\"\",Scores!H117)","v":""},{"$f":"IF(Scores!I117=\"\",\"\",Scores!I117)","v":""},{"$f":"IF(Scores!J117=\"\",\"\",Scores!J117)","v":""},{"$f":"IF(Scores!K117=\"\",\"\",Scores!K117)","v":""},{"$f":"IF(Scores!L117=\"\",\"\",Scores!L117)","v":0},{"$f":"IF(Scores!M117=\"\",\"\",Scores!M117)","v":""},{"$f":"IF(Scores!N117=\"\",\"\",Scores!N117)","v":""},{"$f":"IF(Scores!O117=\"\",\"\",Scores!O117)","v":0},{"$f":"IF(Scores!P117=\"\",\"\",Scores!P117)","v":""},{"$f":"IF(Scores!Q117=\"\",\"\",Scores!Q117)","v":""},{"$f":"IF(Scores!R117=\"\",\"\",Scores!R117)","v":0},{"$f":"IF(Scores!S117=\"\",\"\",Scores!S117)","v":""},{"$f":"IF(Scores!T117=\"\",\"\",Scores!T117)","v":""},{"$f":"IF(Scores!U117=\"\",\"\",Scores!U117)","v":0},{"$f":"IF(Scores!V117=\"\",\"\",Scores!V117)","v":""},{"$f":"IF(Scores!W117=\"\",\"\",Scores!W117)","v":""},{"$f":"IF(Scores!X117=\"\",\"\",Scores!X117)","v":0},{"$f":"IF(Scores!Y117=\"\",\"\",Scores!Y117)","v":""},{"$f":"IF(Scores!Z117=\"\",\"\",Scores!Z117)","v":""},{"$f":"IF(Scores!AA117=\"\",\"\",Scores!AA117)","v":0},"","","","","","","",{"$f":"IF(Table2[[#This Row],[SCORE]]=\"\",\"\",_xlfn.RANK.EQ(Table2[[#This Row],[SCORE]],Table2[SCORE],1))","v":""},"",""]
[114,{"$f":"IF(Scores!$C118=\"\",\"\",Scores!C118)","v":""},{"$f":"IF(Scores!D118=\"\",\"\",Scores!D118)","v":""},{"$f":"IF(Scores!F118=\"\",\"ZZ\",Scores!F118)","v":"ZZ"},{"$f":"IF(Scores!G118=\"\",\"\",Scores!G118)","v":""},{"$f":"IF(Scores!H118=\"\",\"\",Scores!H118)","v":""},{"$f":"IF(Scores!I118=\"\",\"\",Scores!I118)","v":""},{"$f":"IF(Scores!J118=\"\",\"\",Scores!J118)","v":""},{"$f":"IF(Scores!K118=\"\",\"\",Scores!K118)","v":""},{"$f":"IF(Scores!L118=\"\",\"\",Scores!L118)","v":0},{"$f":"IF(Scores!M118=\"\",\"\",Scores!M118)","v":""},{"$f":"IF(Scores!N118=\"\",\"\",Scores!N118)","v":""},{"$f":"IF(Scores!O118=\"\",\"\",Scores!O118)","v":0},{"$f":"IF(Scores!P118=\"\",\"\",Scores!P118)","v":""},{"$f":"IF(Scores!Q118=\"\",\"\",Scores!Q118)","v":""},{"$f":"IF(Scores!R118=\"\",\"\",Scores!R118)","v":0},{"$f":"IF(Scores!S118=\"\",\"\",Scores!S118)","v":""},{"$f":"IF(Scores!T118=\"\",\"\",Scores!T118)","v":""},{"$f":"IF(Scores!U118=\"\",\"\",Scores!U118)","v":0},{"$f":"IF(Scores!V118=\"\",\"\",Scores!V118)","v":""},{"$f":"IF(Scores!W118=\"\",\"\",Scores!W118)","v":""},{"$f":"IF(Scores!X118=\"\",\"\",Scores!X118)","v":0},{"$f":"IF(Scores!Y118=\"\",\"\",Scores!Y118)","v":""},{"$f":"IF(Scores!Z118=\"\",\"\",Scores!Z118)","v":""},{"$f":"IF(Scores!AA118=\"\",\"\",Scores!AA118)","v":0},"","","","","","","",{"$f":"IF(Table2[[#This Row],[SCORE]]=\"\",\"\",_xlfn.RANK.EQ(Table2[[#This Row],[SCORE]],Table2[SCORE],1))","v":""},"",""]
[115,{"$f":"IF(Scores!$C119=\"\",\"\",Scores!C119)","v":""},{"$f":"IF(Scores!D119=\"\",\"\",Scores!D119)","v":""},{"$f":"IF(Scores!F119=\"\",\"ZZ\",Scores!F119)","v":"ZZ"},{"$f":"IF(Scores!G119=\"\",\"\",Scores!G119)","v":""},{"$f":"IF(Scores!H119=\"\",\"\",Scores!H119)","v":""},{"$f":"IF(Scores!I119=\"\",\"\",Scores!I119)","v":""},{"$f":"IF(Scores!J119=\"\",\"\",Scores!J119)","v":""},{"$f":"IF(Scores!K119=\"\",\"\",Scores!K119)","v":""},{"$f":"IF(Scores!L119=\"\",\"\",Scores!L119)","v":0},{"$f":"IF(Scores!M119=\"\",\"\",Scores!M119)","v":""},{"$f":"IF(Scores!N119=\"\",\"\",Scores!N119)","v":""},{"$f":"IF(Scores!O119=\"\",\"\",Scores!O119)","v":0},{"$f":"IF(Scores!P119=\"\",\"\",Scores!P119)","v":""},{"$f":"IF(Scores!Q119=\"\",\"\",Scores!Q119)","v":""},{"$f":"IF(Scores!R119=\"\",\"\",Scores!R119)","v":0},{"$f":"IF(Scores!S119=\"\",\"\",Scores!S119)","v":""},{"$f":"IF(Scores!T119=\"\",\"\",Scores!T119)","v":""},{"$f":"IF(Scores!U119=\"\",\"\",Scores!U119)","v":0},{"$f":"IF(Scores!V119=\"\",\"\",Scores!V119)","v":""},{"$f":"IF(Scores!W119=\"\",\"\",Scores!W119)","v":""},{"$f":"IF(Scores!X119=\"\",\"\",Scores!X119)","v":0},{"$f":"IF(Scores!Y119=\"\",\"\",Scores!Y119)","v":""},{"$f":"IF(Scores!Z119=\"\",\"\",Scores!Z119)","v":""},{"$f":"IF(Scores!AA119=\"\",\"\",Scores!AA119)","v":0},"","","","","","","",{"$f":"IF(Table2[[#This Row],[SCORE]]=\"\",\"\",_xlfn.RANK.EQ(Table2[[#This Row],[SCORE]],Table2[SCORE],1))","v":""},"",""]
[116,{"$f":"IF(Scores!$C120=\"\",\"\",Scores!C120)","v":""},{"$f":"IF(Scores!D120=\"\",\"\",Scores!D120)","v":""},{"$f":"IF(Scores!F120=\"\",\"ZZ\",Scores!F120)","v":"ZZ"},{"$f":"IF(Scores!G120=\"\",\"\",Scores!G120)","v":""},{"$f":"IF(Scores!H120=\"\",\"\",Scores!H120)","v":""},{"$f":"IF(Scores!I120=\"\",\"\",Scores!I120)","v":""},{"$f":"IF(Scores!J120=\"\",\"\",Scores!J120)","v":""},{"$f":"IF(Scores!K120=\"\",\"\",Scores!K120)","v":""},{"$f":"IF(Scores!L120=\"\",\"\",Scores!L120)","v":0},{"$f":"IF(Scores!M120=\"\",\"\",Scores!M120)","v":""},{"$f":"IF(Scores!N120=\"\",\"\",Scores!N120)","v":""},{"$f":"IF(Scores!O120=\"\",\"\",Scores!O120)","v":0},{"$f":"IF(Scores!P120=\"\",\"\",Scores!P120)","v":""},{"$f":"IF(Scores!Q120=\"\",\"\",Scores!Q120)","v":""},{"$f":"IF(Scores!R120=\"\",\"\",Scores!R120)","v":0},{"$f":"IF(Scores!S120=\"\",\"\",Scores!S120)","v":""},{"$f":"IF(Scores!T120=\"\",\"\",Scores!T120)","v":""},{"$f":"IF(Scores!U120=\"\",\"\",Scores!U120)","v":0},{"$f":"IF(Scores!V120=\"\",\"\",Scores!V120)","v":""},{"$f":"IF(Scores!W120=\"\",\"\",Scores!W120)","v":""},{"$f":"IF(Scores!X120=\"\",\"\",Scores!X120)","v":0},{"$f":"IF(Scores!Y120=\"\",\"\",Scores!Y120)","v":""},{"$f":"IF(Scores!Z120=\"\",\"\",Scores!Z120)","v":""},{"$f":"IF(Scores!AA120=\"\",\"\",Scores!AA120)","v":0},"","","","","","","",{"$f":"IF(Table2[[#This Row],[SCORE]]=\"\",\"\",_xlfn.RANK.EQ(Table2[[#This Row],[SCORE]],Table2[SCORE],1))","v":""},"",""]
[117,{"$f":"IF(Scores!$C121=\"\",\"\",Scores!C121)","v":""},{"$f":"IF(Scores!D121=\"\",\"\",Scores!D121)","v":""},{"$f":"IF(Scores!F121=\"\",\"ZZ\",Scores!F121)","v":"ZZ"},{"$f":"IF(Scores!G121=\"\",\"\",Scores!G121)","v":""},{"$f":"IF(Scores!H121=\"\",\"\",Scores!H121)","v":""},{"$f":"IF(Scores!I121=\"\",\"\",Scores!I121)","v":""},{"$f":"IF(Scores!J121=\"\",\"\",Scores!J121)","v":""},{"$f":"IF(Scores!K121=\"\",\"\",Scores!K121)","v":""},{"$f":"IF(Scores!L121=\"\",\"\",Scores!L121)","v":0},{"$f":"IF(Scores!M121=\"\",\"\",Scores!M121)","v":""},{"$f":"IF(Scores!N121=\"\",\"\",Scores!N121)","v":""},{"$f":"IF(Scores!O121=\"\",\"\",Scores!O121)","v":0},{"$f":"IF(Scores!P121=\"\",\"\",Scores!P121)","v":""},{"$f":"IF(Scores!Q121=\"\",\"\",Scores!Q121)","v":""},{"$f":"IF(Scores!R121=\"\",\"\",Scores!R121)","v":0},{"$f":"IF(Scores!S121=\"\",\"\",Scores!S121)","v":""},{"$f":"IF(Scores!T121=\"\",\"\",Scores!T121)","v":""},{"$f":"IF(Scores!U121=\"\",\"\",Scores!U121)","v":0},{"$f":"IF(Scores!V121=\"\",\"\",Scores!V121)","v":""},{"$f":"IF(Scores!W121=\"\",\"\",Scores!W121)","v":""},{"$f":"IF(Scores!X121=\"\",\"\",Scores!X121)","v":0},{"$f":"IF(Scores!Y121=\"\",\"\",Scores!Y121)","v":""},{"$f":"IF(Scores!Z121=\"\",\"\",Scores!Z121)","v":""},{"$f":"IF(Scores!AA121=\"\",\"\",Scores!AA121)","v":0},"","","","","","","",{"$f":"IF(Table2[[#This Row],[SCORE]]=\"\",\"\",_xlfn.RANK.EQ(Table2[[#This Row],[SCORE]],Table2[SCORE],1))","v":""},"",""]
[118,{"$f":"IF(Scores!$C122=\"\",\"\",Scores!C122)","v":""},{"$f":"IF(Scores!D122=\"\",\"\",Scores!D122)","v":""},{"$f":"IF(Scores!F122=\"\",\"ZZ\",Scores!F122)","v":"ZZ"},{"$f":"IF(Scores!G122=\"\",\"\",Scores!G122)","v":""},{"$f":"IF(Scores!H122=\"\",\"\",Scores!H122)","v":""},{"$f":"IF(Scores!I122=\"\",\"\",Scores!I122)","v":""},{"$f":"IF(Scores!J122=\"\",\"\",Scores!J122)","v":""},{"$f":"IF(Scores!K122=\"\",\"\",Scores!K122)","v":""},{"$f":"IF(Scores!L122=\"\",\"\",Scores!L122)","v":0},{"$f":"IF(Scores!M122=\"\",\"\",Scores!M122)","v":""},{"$f":"IF(Scores!N122=\"\",\"\",Scores!N122)","v":""},{"$f":"IF(Scores!O122=\"\",\"\",Scores!O122)","v":0},{"$f":"IF(Scores!P122=\"\",\"\",Scores!P122)","v":""},{"$f":"IF(Scores!Q122=\"\",\"\",Scores!Q122)","v":""},{"$f":"IF(Scores!R122=\"\",\"\",Scores!R122)","v":0},{"$f":"IF(Scores!S122=\"\",\"\",Scores!S122)","v":""},{"$f":"IF(Scores!T122=\"\",\"\",Scores!T122)","v":""},{"$f":"IF(Scores!U122=\"\",\"\",Scores!U122)","v":0},{"$f":"IF(Scores!V122=\"\",\"\",Scores!V122)","v":""},{"$f":"IF(Scores!W122=\"\",\"\",Scores!W122)","v":""},{"$f":"IF(Scores!X122=\"\",\"\",Scores!X122)","v":0},{"$f":"IF(Scores!Y122=\"\",\"\",Scores!Y122)","v":""},{"$f":"IF(Scores!Z122=\"\",\"\",Scores!Z122)","v":""},{"$f":"IF(Scores!AA122=\"\",\"\",Scores!AA122)","v":0},"","","","","","","",{"$f":"IF(Table2[[#This Row],[SCORE]]=\"\",\"\",_xlfn.RANK.EQ(Table2[[#This Row],[SCORE]],Table2[SCORE],1))","v":""},"",""]
[119,{"$f":"IF(Scores!$C123=\"\",\"\",Scores!C123)","v":""},{"$f":"IF(Scores!D123=\"\",\"\",Scores!D123)","v":""},{"$f":"IF(Scores!F123=\"\",\"ZZ\",Scores!F123)","v":"ZZ"},{"$f":"IF(Scores!G123=\"\",\"\",Scores!G123)","v":""},{"$f":"IF(Scores!H123=\"\",\"\",Scores!H123)","v":""},{"$f":"IF(Scores!I123=\"\",\"\",Scores!I123)","v":""},{"$f":"IF(Scores!J123=\"\",\"\",Scores!J123)","v":""},{"$f":"IF(Scores!K123=\"\",\"\",Scores!K123)","v":""},{"$f":"IF(Scores!L123=\"\",\"\",Scores!L123)","v":0},{"$f":"IF(Scores!M123=\"\",\"\",Scores!M123)","v":""},{"$f":"IF(Scores!N123=\"\",\"\",Scores!N123)","v":""},{"$f":"IF(Scores!O123=\"\",\"\",Scores!O123)","v":0},{"$f":"IF(Scores!P123=\"\",\"\",Scores!P123)","v":""},{"$f":"IF(Scores!Q123=\"\",\"\",Scores!Q123)","v":""},{"$f":"IF(Scores!R123=\"\",\"\",Scores!R123)","v":0},{"$f":"IF(Scores!S123=\"\",\"\",Scores!S123)","v":""},{"$f":"IF(Scores!T123=\"\",\"\",Scores!T123)","v":""},{"$f":"IF(Scores!U123=\"\",\"\",Scores!U123)","v":0},{"$f":"IF(Scores!V123=\"\",\"\",Scores!V123)","v":""},{"$f":"IF(Scores!W123=\"\",\"\",Scores!W123)","v":""},{"$f":"IF(Scores!X123=\"\",\"\",Scores!X123)","v":0},{"$f":"IF(Scores!Y123=\"\",\"\",Scores!Y123)","v":""},{"$f":"IF(Scores!Z123=\"\",\"\",Scores!Z123)","v":""},{"$f":"IF(Scores!AA123=\"\",\"\",Scores!AA123)","v":0},"","","","","","","",{"$f":"IF(Table2[[#This Row],[SCORE]]=\"\",\"\",_xlfn.RANK.EQ(Table2[[#This Row],[SCORE]],Table2[SCORE],1))","v":""},"",""]
[120,{"$f":"IF(Scores!$C124=\"\",\"\",Scores!C124)","v":""},{"$f":"IF(Scores!D124=\"\",\"\",Scores!D124)","v":""},{"$f":"IF(Scores!F124=\"\",\"ZZ\",Scores!F124)","v":"ZZ"},{"$f":"IF(Scores!G124=\"\",\"\",Scores!G124)","v":""},{"$f":"IF(Scores!H124=\"\",\"\",Scores!H124)","v":""},{"$f":"IF(Scores!I124=\"\",\"\",Scores!I124)","v":""},{"$f":"IF(Scores!J124=\"\",\"\",Scores!J124)","v":""},{"$f":"IF(Scores!K124=\"\",\"\",Scores!K124)","v":""},{"$f":"IF(Scores!L124=\"\",\"\",Scores!L124)","v":0},{"$f":"IF(Scores!M124=\"\",\"\",Scores!M124)","v":""},{"$f":"IF(Scores!N124=\"\",\"\",Scores!N124)","v":""},{"$f":"IF(Scores!O124=\"\",\"\",Scores!O124)","v":0},{"$f":"IF(Scores!P124=\"\",\"\",Scores!P124)","v":""},{"$f":"IF(Scores!Q124=\"\",\"\",Scores!Q124)","v":""},{"$f":"IF(Scores!R124=\"\",\"\",Scores!R124)","v":0},{"$f":"IF(Scores!S124=\"\",\"\",Scores!S124)","v":""},{"$f":"IF(Scores!T124=\"\",\"\",Scores!T124)","v":""},{"$f":"IF(Scores!U124=\"\",\"\",Scores!U124)","v":0},{"$f":"IF(Scores!V124=\"\",\"\",Scores!V124)","v":""},{"$f":"IF(Scores!W124=\"\",\"\",Scores!W124)","v":""},{"$f":"IF(Scores!X124=\"\",\"\",Scores!X124)","v":0},{"$f":"IF(Scores!Y124=\"\",\"\",Scores!Y124)","v":""},{"$f":"IF(Scores!Z124=\"\",\"\",Scores!Z124)","v":""},{"$f":"IF(Scores!AA124=\"\",\"\",Scores!AA124)","v":0},"","","","","","","",{"$f":"IF(Table2[[#This Row],[SCORE]]=\"\",\"\",_xlfn.RANK.EQ(Table2[[#This Row],[SCORE]],Table2[SCORE],1))","v":""},"",""]

{"sheet":"HTML","index":2,"n_rows":123,"n_cols":41,"rows_kept":123,"cut":false,"hidden":true,"merged":[[1,0,1,3],[1,22,1,26],[0,40,1,40],[0,38,0,39],[0,28,0,29],[0,30,0,31],[0,32,0,33],[0,34,0,35],[0,36,0,37]]}
[null,null,null,null,null,null,null,null,null,null,null,null,null,null,null,null,null,null,null,null,null,null,null,null,null,null,null,null,"RACK #1",null,"RACK #2",null,"RACK #3",null,"RACK #4",null,"RACK #5",null,"RACK #6",null,"TOTAL MISSES"]
["SHOOTER",null,null,null,null,"GUN MFR",null,"RACK 1",null,"RACK 2",null,"RACK 3",null,"RACK 4",null,"RACK 5",null,"RACK 6",null,"TOTALS",null,"AVERAGES","FINAL SCORE",null,null,null,null,null,"MISS","NET","MISS","NET","MISS","NET","MISS","NET","MISS","NET","MISS","NET"]
["<tr align='center'>###<td class='Bld'>",{"$f":"Sort!AH4","v":""},{"$f":"IF($AO3=0,\"</td>###<td class='ClnMatch'>\",\"</td>###<td class='Bld'>\")","v":"</td>###<td class='Bld'>"},{"$f":"IF(Sort!B4=\"\",\"\",IF(Sort!C4=\"\",Sort!B4,Sort!B4&\"<br />#\"&Sort!C4))","v":""},"</td>###<td>",{"$f":"IF(Sort!E4=\"\",\"\",Sort!E4&\" \"&Sort!F4&\"<br />\"&Sort!G4)","v":""},{"$f":"IF(AD3=MAX($AD3,$AF3,$AH3,$AJ3,$AL3,$AN3),\"</td>###<td class='GrayOut'>\",\"</td>###<td>\")","v":"</td>###<td class='GrayOut'>"},{"$f":"IF(Sort!H4=\"\",\"\",IF(Sort!I4=0,Sort!H4&\"<br /><span class='ClnMatch'>&nbsp;&nbsp;0&nbsp;&nbsp;</span><br /><b>\"&Sort!J4&\"</b>\",Sort!H4&\"<br />\"&Sort!I4&\"<br /><b>\"&Sort!J4&\"</b>\"))","v":""},{"$f":"IF(AF3=MAX($AD3,$AF3,$AH3,$AJ3,$AL3,$AN3),\"</td>###<td class='GrayOut'>\",\"</td>###<td>\")","v":"</td>###<td class='GrayOut'>"},{"$f":"IF(Sort!K4=\"\",\"\",IF(Sort!L4=0,Sort!K4&\"<br /><span class='ClnMatch'>&nbsp;&nbsp;0&nbsp;&nbsp;</span><br /><b>\"&Sort!M4&\"</b>\",Sort!K4&\"<br />\"&Sort!L4&\"<br /><b>\"&Sort!M4&\"</b>\"))","v":""},{"$f":"IF(AH3=MAX($AD3,$AF3,$AH3,$AJ3,$AL3,$AN3),\"</td>###<td class='GrayOut'>\",\"</td>###<td>\")","v":"</td>###<td class='GrayOut'>"},{"$f":"IF(Sort!N4=\"\",\"\",IF(Sort!O4=0,Sort!N4&\"<br /><span class='ClnMatch'>&nbsp;&nbsp;0&nbsp;&nbsp;</span><br /><b>\"&Sort!P4&\"</b>\",Sort!N4&\"<br />\"&Sort!O4&\"<br /><b>\"&Sort!P4&\"</b>\"))","v":""},{"$f":"IF(AJ3=MAX($AD3,$AF3,$AH3,$AJ3,$AL3,$AN3),\"</td>###<td class='GrayOut'>\",\"</td>###<td>\")","v":"</td>###<td class='GrayOut'>"},{"$f":"IF(Sort!Q4=\"\",\"\",IF(Sort!R4=0,Sort!Q4&\"<br /><span class='ClnMatch'>&nbsp;&nbsp;0&nbsp;&nbsp;</span><br /><b>\"&Sort!S4&\"</b>\",Sort!Q4&\"<br />\"&Sort!R4&\"<br /><b>\"&Sort!S4&\"</b>\"))","v":""},{"$f":"IF(AL3=MAX($AD3,$AF3,$AH3,$AJ3,$AL3,$AN3),\"</td>###<td class='GrayOut'>\",\"</td>###<td>\")","v":"</td>###<td class='GrayOut'>"},{"$f":"IF(Sort!T4=\"\",\"\",IF(Sort!U4=0,Sort!T4&\"<br /><span class='ClnMatch'>&nbsp;&nbsp;0&nbsp;&nbsp;</span><br /><b>\"&Sort!V4&\"</b>\",Sort!T4&\"<br />\"&Sort!U4&\"<br /><b>\"&Sort!V4&\"</b>\"))","v":""},{"$f":"IF(AN3=MAX($AD3,$AF3,$AH3,$AJ3,$AL3,$AN3),\"</td>###<td class='GrayOut'>\",\"</td>###<td>\")","v":"</td>###<td class='GrayOut'>"},{"$f":"IF(Sort!W4=\"\",\"\",IF(Sort!X4=0,Sort!W4&\"<br /><span class='ClnMatch'>&nbsp;&nbsp;0&nbsp;&nbsp;</span><br /><b>\"&Sort!Y4&\"</b>\",Sort!W4&\"<br />\"&Sort!X4&\"<br /><b>\"&Sort!Y4&\"</b>\"))","v":""},"</td>###<td>",{"$f":"IF(Sort!Z4=\"\",\"\",IF(Sort!AA4=0,Sort!Z4&\"<br /><span class='ClnMatch'>&nbsp;&nbsp;0&nbsp;&nbsp;</span><br /><b>\"&Sort!AB4&\"</b>\",Sort!Z4&\"<br />\"&Sort!AA4&\"<br /><b>\"&Sort!AB4&\"</b>\"))","v":""},"</td>###<td class=\"BluBld\">",{"$f":"IF(Sort!B4=\"\",\"\",IF(Sort!AA4=0,Sort!AC4&\"<br /><span class='ClnMatch'>&nbsp;&nbsp;0&nbsp;&nbsp;</span><br /><b>\"&Sort!AE4&\"</b>\",Sort!AC4&\"<br />\"&Sort!AD4&\"<br /><b>\"&Sort!AE4&\"</b>\"))","v":""},"</td>###<td class=\"Bld\">",{"$f":"IF(Sort!AF4=\"\",\"\",Sort!AF4)","v":""},"</td>###<td class=\"Bld\">",{"$f":"IF(Sort!AG4=\"\",\"\",Sort!AG4)","v":""},"</td>###</tr>",null,{"$f":"IF(Sort!I4=\"\",\"\",Sort!I4)","v":""},{"$f":"IF(Sort!J4=\"\",\"\",Sort!J4)","v":0},{"$f":"IF(Sort!L4=\"\",\"\",Sort!L4)","v":""},{"$f":"IF(Sort!M4=\"\",\"\",Sort!M4)","v":0},{"$f":"IF(Sort!O4=\"\",\"\",Sort!O4)","v":""},{"$f":"IF(Sort!P4=\"\",\"\",Sort!P4)","v":0},{"$f":"IF(Sort!R4=\"\",\"\",Sort!R4)","v":""},{"$f":"IF(Sort!S4=\"\",\"\",Sort!S4)","v":0},{"$f":"IF(Sort!U4=\"\",\"\",Sort!U4)","v":""},{"$f":"IF(Sort!V4=\"\",\"\",Sort!V4)","v":0},{"$f":"IF(Sort!X4=\"\",\"\",Sort!X4)","v":""},{"$f":"IF(Sort!Y4=\"\",\"\",Sort!Y4)","v":0},{"$f":"IF(Sort!B4=\"\",\"\",Sort!AA4)","v":""}]
["<tr align='center'>###<td class='Bld'>",{"$f":"Sort!AH5","v":""},{"$f":"IF($AO4=0,\"</td>###<td class='ClnMatch'>\",\"</td>###<td class='Bld'>\")","v":"</td>###<td class='Bld'>"},{"$f":"IF(Sort!B5=\"\",\"\",IF(Sort!C5=\"\",Sort!B5,Sort!B5&\"<br />#\"&Sort!C5))","v":""},"</td>###<td>",{"$f":"IF(Sort!E5=\"\",\"\",Sort!E5&\" \"&Sort!F5&\"<br />\"&Sort!G5)","v":""},{"$f":"IF(AD4=MAX($AD4,$AF4,$AH4,$AJ4,$AL4,$AN4),\"</td>###<td class='GrayOut'>\",\"</td>###<td>\")","v":"</td>###<td class='GrayOut'>"},{"$f":"IF(Sort!H5=\"\",\"\",IF(Sort!I5=0,Sort!H5&\"<br /><span class='ClnMatch'>&nbsp;&nbsp;0&nbsp;&nbsp;</span><br /><b>\"&Sort!J5&\"</b>\",Sort!H5&\"<br />\"&Sort!I5&\"<br /><b>\"&Sort!J5&\"</b>\"))","v":""},{"$f":"IF(AF4=MAX($AD4,$AF4,$AH4,$AJ4,$AL4,$AN4),\"</td>###<td class='GrayOut'>\",\"</td>###<td>\")","v":"</td>###<td class='GrayOut'>"},{"$f":"IF(Sort!K5=\"\",\"\",IF(Sort!L5=0,Sort!K5&\"<br /><span class='ClnMatch'>&nbsp;&nbsp;0&nbsp;&nbsp;</span><br /><b>\"&Sort!M5&\"</b>\",Sort!K5&\"<br />\"&Sort!L5&\"<br /><b>\"&Sort!M5&\"</b>\"))","v":""},{"$f":"IF(AH4=MAX($AD4,$AF4,$AH4,$AJ4,$AL4,$AN4),\"</td>###<td class='GrayOut'>\",\"</td>###<td>\")","v":"</td>###<td class='GrayOut'>"},{"$f":"IF(Sort!N5=\"\",\"\",IF(Sort!O5=0,Sort!N5&\"<br /><span class='ClnMatch'>&nbsp;&nbsp;0&nbsp;&nbsp;</span><br /><b>\"&Sort!P5&\"</b>\",Sort!N5&\"<br />\"&Sort!O5&\"<br /><b>\"&Sort!P5&\"</b>\"))","v":""},{"$f":"IF(AJ4=MAX($AD4,$AF4,$AH4,$AJ4,$AL4,$AN4),\"</td>###<td class='GrayOut'>\",\"</td>###<td>\")","v":"</td>###<td class='GrayOut'>"},{"$f":"IF(Sort!Q5=\"\",\"\",IF(Sort!R5=0,Sort!Q5&\"<br /><span class='ClnMatch'>&nbsp;&nbsp;0&nbsp;&nbsp;</span><br /><b>\"&Sort!S5&\"</b>\",Sort!Q5&\"<br />\"&Sort!R5&\"<br /><b>\"&Sort!S5&\"</b>\"))","v":""},{"$f":"IF(AL4=MAX($AD4,$AF4,$AH4,$AJ4,$AL4,$AN4),\"</td>###<td class='GrayOut'>\",\"</td>###<td>\")","v":"</td>###<td class='GrayOut'>"},{"$f":"IF(Sort!T5=\"\",\"\",IF(Sort!U5=0,Sort!T5&\"<br /><span class='ClnMatch'>&nbsp;&nbsp;0&nbsp;&nbsp;</span><br /><b>\"&Sort!V5&\"</b>\",Sort!T5&\"<br />\"&Sort!U5&\"<br /><b>\"&Sort!V5&\"</b>\"))","v":""},{"$f":"IF(AN4=MAX($AD4,$AF4,$AH4,$AJ4,$AL4,$AN4),\"</td>###<td class='GrayOut'>\",\"</td>###<td>\")","v":"</td>###<td class='GrayOut'>"},{"$f":"IF(Sort!W5=\"\",\"\",IF(Sort!X5=0,Sort!W5&\"<br /><span class='ClnMatch'>&nbsp;&nbsp;0&nbsp;&nbsp;</span><br /><b>\"&Sort!Y5&\"</b>\",Sort!W5&\"<br />\"&Sort!X5&\"<br /><b>\"&Sort!Y5&\"</b>\"))","v":""},"</td>###<td>",{"$f":"IF(Sort!Z5=\"\",\"\",IF(Sort!AA5=0,Sort!Z5&\"<br /><span class='ClnMatch'>&nbsp;&nbsp;0&nbsp;&nbsp;</span><br /><b>\"&Sort!AB5&\"</b>\",Sort!Z5&\"<br />\"&Sort!AA5&\"<br /><b>\"&Sort!AB5&\"</b>\"))","v":""},"</td>###<td class=\"BluBld\">",{"$f":"IF(Sort!B5=\"\",\"\",IF(Sort!AA5=0,Sort!AC5&\"<br /><span class='ClnMatch'>&nbsp;&nbsp;0&nbsp;&nbsp;</span><br /><b>\"&Sort!AE5&\"</b>\",Sort!AC5&\"<br />\"&Sort!AD5&\"<br /><b>\"&Sort!AE5&\"</b>\"))","v":""},"</td>###<td class=\"Bld\">",{"$f":"IF(Sort!AF5=\"\",\"\",Sort!AF5)","v":""},"</td>###<td class=\"Bld\">",{"$f":"IF(Sort!AG5=\"\",\"\",Sort!AG5)","v":""},"</td>###</tr>",null,{"$f":"IF(Sort!I5=\"\",\"\",Sort!I5)","v":""},{"$f":"IF(Sort!J5=\"\",\"\",Sort!J5)","v":0},{"$f":"IF(Sort!L5=\"\",\"\",Sort!L5)","v":""},{"$f":"IF(Sort!M5=\"\",\"\",Sort!M5)","v":0},{"$f":"IF(Sort!O5=\"\",\"\",Sort!O5)","v":""},{"$f":"IF(Sort!P5=\"\",\"\",Sort!P5)","v":0},{"$f":"IF(Sort!R5=\"\",\"\",Sort!R5)","v":""},{"$f":"IF(Sort!S5=\"\",\"\",Sort!S5)","v":0},{"$f":"IF(Sort!U5=\"\",\"\",Sort!U5)","v":""},{"$f":"IF(Sort!V5=\"\",\"\",Sort!V5)","v":0},{"$f":"IF(Sort!X5=\"\",\"\",Sort!X5)","v":""},{"$f":"IF(Sort!Y5=\"\",\"\",Sort!Y5)","v":0},{"$f":"IF(Sort!B5=\"\",\"\",Sort!AA5)","v":""}]
["<tr align='center'>###<td class='Bld'>",{"$f":"Sort!AH6","v":""},"</td>###<td class='Bld'>",{"$f":"IF(Sort!B6=\"\",\"\",IF(Sort!C6=\"\",Sort!B6,Sort!B6&\"<br />#\"&Sort!C6))","v":""},"</td>###<td>",{"$f":"IF(Sort!E6=\"\",\"\",Sort!E6&\" \"&Sort!F6&\"<br />\"&Sort!G6)","v":""},"</td>###<td class='GrayOut'>",{"$f":"IF(Sort!H6=\"\",\"\",IF(Sort!I6=0,Sort!H6&\"<br /><span class='ClnMatch'>&nbsp;&nbsp;0&nbsp;&nbsp;</span><br /><b>\"&Sort!J6&\"</b>\",Sort!H6&\"<br />\"&Sort!I6&\"<br /><b>\"&Sort!J6&\"</b>\"))","v":""},"</td>###<td class='GrayOut'>",{"$f":"IF(Sort!K6=\"\",\"\",IF(Sort!L6=0,Sort!K6&\"<br /><span class='ClnMatch'>&nbsp;&nbsp;0&nbsp;&nbsp;</span><br /><b>\"&Sort!M6&\"</b>\",Sort!K6&\"<br />\"&Sort!L6&\"<br /><b>\"&Sort!M6&\"</b>\"))","v":""},"</td>###<td class='GrayOut'>",{"$f":"IF(Sort!N6=\"\",\"\",IF(Sort!O6=0,Sort!N6&\"<br /><span class='ClnMatch'>&nbsp;&nbsp;0&nbsp;&nbsp;</span><br /><b>\"&Sort!P6&\"</b>\",Sort!N6&\"<br />\"&Sort!O6&\"<br /><b>\"&Sort!P6&\"</b>\"))","v":""},"</td>###<td class='GrayOut'>",{"$f":"IF(Sort!Q6=\"\",\"\",IF(Sort!R6=0,Sort!Q6&\"<br /><span class='ClnMatch'>&nbsp;&nbsp;0&nbsp;&nbsp;</span><br /><b>\"&Sort!S6&\"</b>\",Sort!Q6&\"<br />\"&Sort!R6&\"<br /><b>\"&Sort!S6&\"</b>\"))","v":""},"</td>###<td class='GrayOut'>",{"$f":"IF(Sort!T6=\"\",\"\",IF(Sort!U6=0,Sort!T6&\"<br /><span class='ClnMatch'>&nbsp;&nbsp;0&nbsp;&nbsp;</span><br /><b>\"&Sort!V6&\"</b>\",Sort!T6&\"<br />\"&Sort!U6&\"<br /><b>\"&Sort!V6&\"</b>\"))","v":""},"</td>###<td class='GrayOut'>",{"$f":"IF(Sort!W6=\"\",\"\",IF(Sort!X6=0,Sort!W6&\"<br /><span class='ClnMatch'>&nbsp;&nbsp;0&nbsp;&nbsp;</span><br /><b>\"&Sort!Y6&\"</b>\",Sort!W6&\"<br />\"&Sort!X6&\"<br /><b>\"&Sort!Y6&\"</b>\"))","v":""},"</td>###<td>",{"$f":"IF(Sort!Z6=\"\",\"\",IF(Sort!AA6=0,Sort!Z6&\"<br /><span class='ClnMatch'>&nbsp;&nbsp;0&nbsp;&nbsp;</span><br /><b>\"&Sort!AB6&\"</b>\",Sort!Z6&\"<br />\"&Sort!AA6&\"<br /><b>\"&Sort!AB6&\"</b>\"))","v":""},"</td>###<td class=\"BluBld\">",{"$f":"IF(Sort!B6=\"\",\"\",IF(Sort!AA6=0,Sort!AC6&\"<br /><span class='ClnMatch'>&nbsp;&nbsp;0&nbsp;&nbsp;</span><br /><b>\"&Sort!AE6&\"</b>\",Sort!AC6&\"<br />\"&Sort!AD6&\"<br /><b>\"&Sort!AE6&\"</b>\"))","v":""},"</td>###<td class=\"Bld\">",{"$f":"IF(Sort!AF6=\"\",\"\",Sort!AF6)","v":""},"</td>###<td class=\"Bld\">",{"$f":"IF(Sort!AG6=\"\",\"\",Sort!AG6)","v":""},"</td>###</tr>",null,{"$f":"IF(Sort!I6=\"\",\"\",Sort!I6)","v":""},{"$f":"IF(Sort!J6=\"\",\"\",Sort!J6)","v":0},{"$f":"IF(Sort!L6=\"\",\"\",Sort!L6)","v":""},{"$f":"IF(Sort!M6=\"\",\"\",Sort!M6)","v":0},{"$f":"IF(Sort!O6=\"\",\"\",Sort!O6)","v":""},{"$f":"IF(Sort!P6=\"\",\"\",Sort!P6)","v":0},{"$f":"IF(Sort!R6=\"\",\"\",Sort!R6)","v":""},{"$f":"IF(Sort!S6=\"\",\"\",Sort!S6)","v":0},{"$f":"IF(Sort!U6=\"\",\"\",Sort!U6)","v":""},{"$f":"IF(Sort!V6=\"\",\"\",Sort!V6)","v":0},{"$f":"IF(Sort!X6=\"\",\"\",Sort!X6)","v":""},{"$f":"IF(Sort!Y6=\"\",\"\",Sort!Y6)","v":0},{"$f":"IF(Sort!B6=\"\",\"\",Sort!AA6)","v":""}]
["<tr align='center'>###<td class='Bld'>",{"$f":"Sort!AH7","v":""},"</td>###<td class='Bld'>",{"$f":"IF(Sort!B7=\"\",\"\",IF(Sort!C7=\"\",Sort!B7,Sort!B7&\"<br />#\"&Sort!C7))","v":""},"</td>###<td>",{"$f":"IF(Sort!E7=\"\",\"\",Sort!E7&\" \"&Sort!F7&\"<br />\"&Sort!G7)","v":""},"</td>###<td class='GrayOut'>",{"$f":"IF(Sort!H7=\"\",\"\",IF(Sort!I7=0,Sort!H7&\"<br /><span class='ClnMatch'>&nbsp;&nbsp;0&nbsp;&nbsp;</span><br /><b>\"&Sort!J7&\"</b>\",Sort!H7&\"<br />\"&Sort!I7&\"<br /><b>\"&Sort!J7&\"</b>\"))","v":""},"</td>###<td class='GrayOut'>",{"$f":"IF(Sort!K7=\"\",\"\",IF(Sort!L7=0,Sort!K7&\"<br /><span class='ClnMatch'>&nbsp;&nbsp;0&nbsp;&nbsp;</span><br /><b>\"&Sort!M7&\"</b>\",Sort!K7&\"<br />\"&Sort!L7&\"<br /><b>\"&Sort!M7&\"</b>\"))","v":""},"</td>###<td class='GrayOut'>",{"$f":"IF(Sort!N7=\"\",\"\",IF(Sort!O7=0,Sort!N7&\"<br /><span class='ClnMatch'>&nbsp;&nbsp;0&nbsp;&nbsp;</span><br /><b>\"&Sort!P7&\"</b>\",Sort!N7&\"<br />\"&Sort!O7&\"<br /><b>\"&Sort!P7&\"</b>\"))","v":""},"</td>###<td class='GrayOut'>",{"$f":"IF(Sort!Q7=\"\",\"\",IF(Sort!R7=0,Sort!Q7&\"<br /><span class='ClnMatch'>&nbsp;&nbsp;0&nbsp;&nbsp;</span><br /><b>\"&Sort!S7&\"</b>\",Sort!Q7&\"<br />\"&Sort!R7&\"<br /><b>\"&Sort!S7&\"</b>\"))","v":""},"</td>###<td class='GrayOut'>",{"$f":"IF(Sort!T7=\"\",\"\",IF(Sort!U7=0,Sort!T7&\"<br /><span class='ClnMatch'>&nbsp;&nbsp;0&nbsp;&nbsp;</span><br /><b>\"&Sort!V7&\"</b>\",Sort!T7&\"<br />\"&Sort!U7&\"<br /><b>\"&Sort!V7&\"</b>\"))","v":""},"</td>###<td class='GrayOut'>",{"$f":"IF(Sort!W7=\"\",\"\",IF(Sort!X7=0,Sort!W7&\"<br /><span class='ClnMatch'>&nbsp;&nbsp;0&nbsp;&nbsp;</span><br /><b>\"&Sort!Y7&\"</b>\",Sort!W7&\"<br />\"&Sort!X7&\"<br /><b>\"&Sort!Y7&\"</b>\"))","v":""},"</td>###<td>",{"$f":"IF(Sort!Z7=\"\",\"\",IF(Sort!AA7=0,Sort!Z7&\"<br /><span class='ClnMatch'>&nbsp;&nbsp;0&nbsp;&nbsp;</span><br /><b>\"&Sort!AB7&\"</b>\",Sort!Z7&\"<br />\"&Sort!AA7&\"<br /><b>\"&Sort!AB7&\"</b>\"))","v":""},"</td>###<td class=\"BluBld\">",{"$f":"IF(Sort!B7=\"\",\"\",IF(Sort!AA7=0,Sort!AC7&\"<br /><span class='ClnMatch'>&nbsp;&nbsp;0&nbsp;&nbsp;</span><br /><b>\"&Sort!AE7&\"</b>\",Sort!AC7&\"<br />\"&Sort!AD7&\"<br /><b>\"&Sort!AE7&\"</b>\"))","v":""},"</td>###<td class=\"Bld\">",{"$f":"IF(Sort!AF7=\"\",\"\",Sort!AF7)","v":""},"</td>###<td class=\"Bld\">",{"$f":"IF(Sort!AG7=\"\",\"\",Sort!AG7)","v":""},"</td>###</tr>",null,{"$f":"IF(Sort!I7=\"\",\"\",Sort!I7)","v":""},{"$f":"IF(Sort!J7=\"\",\"\",Sort!J7)","v":0},{"$f":"IF(Sort!L7=\"\",\"\",Sort!L7)","v":""},{"$f":"IF(Sort!M7=\"\",\"\",Sort!M7)","v":0},{"$f":"IF(Sort!O7=\"\",\"\",Sort!O7)","v":""},{"$f":"IF(Sort!P7=\"\",\"\",Sort!P7)","v":0},{"$f":"IF(Sort!R7=\"\",\"\",Sort!R7)","v":""},{"$f":"IF(Sort!S7=\"\",\"\",Sort!S7)","v":0},{"$f":"IF(Sort!U7=\"\",\"\",Sort!U7)","v":""},{"$f":"IF(Sort!V7=\"\",\"\",Sort!V7)","v":0},{"$f":"IF(Sort!X7=\"\",\"\",Sort!X7)","v":""},{"$f":"IF(Sort!Y7=\"\",\"\",Sort!Y7)","v":0},{"$f":"IF(Sort!B7=\"\",\"\",Sort!AA7)","v":""}]
["<tr align='center'>###<td class='Bld'>",{"$f":"Sort!AH8","v":""},"</td>###<td class='Bld'>",{"$f":"IF(Sort!B8=\"\",\"\",IF(Sort!C8=\"\",Sort!B8,Sort!B8&\"<br />#\"&Sort!C8))","v":""},"</td>###<td>",{"$f":"IF(Sort!E8=\"\",\"\",Sort!E8&\" \"&Sort!F8&\"<br />\"&Sort!G8)","v":""},"</td>###<td class='GrayOut'>",{"$f":"IF(Sort!H8=\"\",\"\",IF(Sort!I8=0,Sort!H8&\"<br /><span class='ClnMatch'>&nbsp;&nbsp;0&nbsp;&nbsp;</span><br /><b>\"&Sort!J8&\"</b>\",Sort!H8&\"<br />\"&Sort!I8&\"<br /><b>\"&Sort!J8&\"</b>\"))","v":""},"</td>###<td class='GrayOut'>",{"$f":"IF(Sort!K8=\"\",\"\",IF(Sort!L8=0,Sort!K8&\"<br /><span class='ClnMatch'>&nbsp;&nbsp;0&nbsp;&nbsp;</span><br /><b>\"&Sort!M8&\"</b>\",Sort!K8&\"<br />\"&Sort!L8&\"<br /><b>\"&Sort!M8&\"</b>\"))","v":""},"</td>###<td class='GrayOut'>",{"$f":"IF(Sort!N8=\"\",\"\",IF(Sort!O8=0,Sort!N8&\"<br /><span class='ClnMatch'>&nbsp;&nbsp;0&nbsp;&nbsp;</span><br /><b>\"&Sort!P8&\"</b>\",Sort!N8&\"<br />\"&Sort!O8&\"<br /><b>\"&Sort!P8&\"</b>\"))","v":""},"</td>###<td class='GrayOut'>",{"$f":"IF(Sort!Q8=\"\",\"\",IF(Sort!R8=0,Sort!Q8&\"<br /><span class='ClnMatch'>&nbsp;&nbsp;0&nbsp;&nbsp;</span><br /><b>\"&Sort!S8&\"</b>\",Sort!Q8&\"<br />\"&Sort!R8&\"<br /><b>\"&Sort!S8&\"</b>\"))","v":""},"</td>###<td class='GrayOut'>",{"$f":"IF(Sort!T8=\"\",\"\",IF(Sort!U8=0,Sort!T8&\"<br /><span class='ClnMatch'>&nbsp;&nbsp;0&nbsp;&nbsp;</span><br /><b>\"&Sort!V8&\"</b>\",Sort!T8&\"<br />\"&Sort!U8&\"<br /><b>\"&Sort!V8&\"</b>\"))","v":""},"</td>###<td class='GrayOut'>",{"$f":"IF(Sort!W8=\"\",\"\",IF(Sort!X8=0,Sort!W8&\"<br /><span class='ClnMatch'>&nbsp;&nbsp;0&nbsp;&nbsp;</span><br /><b>\"&Sort!Y8&\"</b>\",Sort!W8&\"<br />\"&Sort!X8&\"<br /><b>\"&Sort!Y8&\"</b>\"))","v":""},"</td>###<td>",{"$f":"IF(Sort!Z8=\"\",\"\",IF(Sort!AA8=0,Sort!Z8&\"<br /><span class='ClnMatch'>&nbsp;&nbsp;0&nbsp;&nbsp;</span><br /><b>\"&Sort!AB8&\"</b>\",Sort!Z8&\"<br />\"&Sort!AA8&\"<br /><b>\"&Sort!AB8&\"</b>\"))","v":""},"</td>###<td class=\"BluBld\">",{"$f":"IF(Sort!B8=\"\",\"\",IF(Sort!AA8=0,Sort!AC8&\"<br /><span class='ClnMatch'>&nbsp;&nbsp;0&nbsp;&nbsp;</span><br /><b>\"&Sort!AE8&\"</b>\",Sort!AC8&\"<br />\"&Sort!AD8&\"<br /><b>\"&Sort!AE8&\"</b>\"))","v":""},"</td>###<td class=\"Bld\">",{"$f":"IF(Sort!AF8=\"\",\"\",Sort!AF8)","v":""},"</td>###<td class=\"Bld\">",{"$f":"IF(Sort!AG8=\"\",\"\",Sort!AG8)","v":""},"</td>###</tr>",null,{"$f":"IF(Sort!I8=\"\",\"\",Sort!I8)","v":""},{"$f":"IF(Sort!J8=\"\",\"\",Sort!J8)","v":0},{"$f":"IF(Sort!L8=\"\",\"\",Sort!L8)","v":""},{"$f":"IF(Sort!M8=\"\",\"\",Sort!M8)","v":0},{"$f":"IF(Sort!O8=\"\",\"\",Sort!O8)","v":""},{"$f":"IF(Sort!P8=\"\",\"\",Sort!P8)","v":0},{"$f":"IF(Sort!R8=\"\",\"\",Sort!R8)","v":""},{"$f":"IF(Sort!S8=\"\",\"\",Sort!S8)","v":0},{"$f":"IF(Sort!U8=\"\",\"\",Sort!U8)","v":""},{"$f":"IF(Sort!V8=\"\",\"\",Sort!V8)","v":0},{"$f":"IF(Sort!X8=\"\",\"\",Sort!X8)","v":""},{"$f":"IF(Sort!Y8=\"\",\"\",Sort!Y8)","v":0},{"$f":"IF(Sort!B8=\"\",\"\",Sort!AA8)","v":""}]
["<tr align='center'>###<td class='Bld'>",{"$f":"Sort!AH9","v":""},"</td>###<td class='Bld'>",{"$f":"IF(Sort!B9=\"\",\"\",IF(Sort!C9=\"\",Sort!B9,Sort!B9&\"<br />#\"&Sort!C9))","v":""},"</td>###<td>",{"$f":"IF(Sort!E9=\"\",\"\",Sort!E9&\" \"&Sort!F9&\"<br />\"&Sort!G9)","v":""},"</td>###<td class='GrayOut'>",{"$f":"IF(Sort!H9=\"\",\"\",IF(Sort!I9=0,Sort!H9&\"<br /><span class='ClnMatch'>&nbsp;&nbsp;0&nbsp;&nbsp;</span><br /><b>\"&Sort!J9&\"</b>\",Sort!H9&\"<br />\"&Sort!I9&\"<br /><b>\"&Sort!J9&\"</b>\"))","v":""},"</td>###<td class='GrayOut'>",{"$f":"IF(Sort!K9=\"\",\"\",IF(Sort!L9=0,Sort!K9&\"<br /><span class='ClnMatch'>&nbsp;&nbsp;0&nbsp;&nbsp;</span><br /><b>\"&Sort!M9&\"</b>\",Sort!K9&\"<br />\"&Sort!L9&\"<br /><b>\"&Sort!M9&\"</b>\"))","v":""},"</td>###<td class='GrayOut'>",{"$f":"IF(Sort!N9=\"\",\"\",IF(Sort!O9=0,Sort!N9&\"<br /><span class='ClnMatch'>&nbsp;&nbsp;0&nbsp;&nbsp;</span><br /><b>\"&Sort!P9&\"</b>\",Sort!N9&\"<br />\"&Sort!O9&\"<br /><b>\"&Sort!P9&\"</b>\"))","v":""},"</td>###<td class='GrayOut'>",{"$f":"IF(Sort!Q9=\"\",\"\",IF(Sort!R9=0,Sort!Q9&\"<br /><span class='ClnMatch'>&nbsp;&nbsp;0&nbsp;&nbsp;</span><br /><b>\"&Sort!S9&\"</b>\",Sort!Q9&\"<br />\"&Sort!R9&\"<br /><b>\"&Sort!S9&\"</b>\"))","v":""},"</td>###<td class='GrayOut'>",{"$f":"IF(Sort!T9=\"\",\"\",IF(Sort!U9=0,Sort!T9&\"<br /><span class='ClnMatch'>&nbsp;&nbsp;0&nbsp;&nbsp;</span><br /><b>\"&Sort!V9&\"</b>\",Sort!T9&\"<br />\"&Sort!U9&\"<br /><b>\"&Sort!V9&\"</b>\"))","v":""},"</td>###<td class='GrayOut'>",{"$f":"IF(Sort!W9=\"\",\"\",IF(Sort!X9=0,Sort!W9&\"<br /><span class='ClnMatch'>&nbsp;&nbsp;0&nbsp;&nbsp;</span><br /><b>\"&Sort!Y9&\"</b>\",Sort!W9&\"<br />\"&Sort!X9&\"<br /><b>\"&Sort!Y9&\"</b>\"))","v":""},"</td>###<td>",{"$f":"IF(Sort!Z9=\"\",\"\",IF(Sort!AA9=0,Sort!Z9&\"<br /><span class='ClnMatch'>&nbsp;&nbsp;0&nbsp;&nbsp;</span><br /><b>\"&Sort!AB9&\"</b>\",Sort!Z9&\"<br />\"&Sort!AA9&\"<br /><b>\"&Sort!AB9&\"</b>\"))","v":""},"</td>###<td class=\"BluBld\">",{"$f":"IF(Sort!B9=\"\",\"\",IF(Sort!AA9=0,Sort!AC9&\"<br /><span class='ClnMatch'>&nbsp;&nbsp;0&nbsp;&nbsp;</span><br /><b>\"&Sort!AE9&\"</b>\",Sort!AC9&\"<br />\"&Sort!AD9&\"<br /><b>\"&Sort!AE9&\"</b>\"))","v":""},"</td>###<td class=\"Bld\">",{"$f":"IF(Sort!AF9=\"\",\"\",Sort!AF9)","v":""},"</td>###<td class=\"Bld\">",{"$f":"IF(Sort!AG9=\"\",\"\",Sort!AG9)","v":""},"</td>###</tr>",null,{"$f":"IF(Sort!I9=\"\",\"\",Sort!I9)","v":""},{"$f":"IF(Sort!J9=\"\",\"\",Sort!J9)","v":0},{"$f":"IF(Sort!L9=\"\",\"\",Sort!L9)","v":""},{"$f":"IF(Sort!M9=\"\",\"\",Sort!M9)","v":0},{"$f":"IF(Sort!O9=\"\",\"\",Sort!O9)","v":""},{"$f":"IF(Sort!P9=\"\",\"\",Sort!P9)","v":0},{"$f":"IF(Sort!R9=\"\",\"\",Sort!R9)","v":""},{"$f":"IF(Sort!S9=\"\",\"\",Sort!S9)","v":0},{"$f":"IF(Sort!U9=\"\",\"\",Sort!U9)","v":""},{"$f":"IF(Sort!V9=\"\",\"\",Sort!V9)","v":0},{"$f":"IF(Sort!X9=\"\",\"\",Sort!X9)","v":""},{"$f":"IF(Sort!Y9=\"\",\"\",Sort!Y9)","v":0},{"$f":"IF(Sort!B9=\"\",\"\",Sort!AA9)","v":""}]
["<tr align='center'>###<td class='Bld'>",{"$f":"Sort!AH10","v":""},"</td>###<td class='Bld'>",{"$f":"IF(Sort!B10=\"\",\"\",IF(Sort!C10=\"\",Sort!B10,Sort!B10&\"<br />#\"&Sort!C10))","v":""},"</td>###<td>",{"$f":"IF(Sort!E10=\"\",\"\",Sort!E10&\" \"&Sort!F10&\"<br />\"&Sort!G10)","v":""},"</td>###<td class='GrayOut'>",{"$f":"IF(Sort!H10=\"\",\"\",IF(Sort!I10=0,Sort!H10&\"<br /><span class='ClnMatch'>&nbsp;&nbsp;0&nbsp;&nbsp;</span><br /><b>\"&Sort!J10&\"</b>\",Sort!H10&\"<br />\"&Sort!I10&\"<br /><b>\"&Sort!J10&\"</b>\"))","v":""},"</td>###<td class='GrayOut'>",{"$f":"IF(Sort!K10=\"\",\"\",IF(Sort!L10=0,Sort!K10&\"<br /><span class='ClnMatch'>&nbsp;&nbsp;0&nbsp;&nbsp;</span><br /><b>\"&Sort!M10&\"</b>\",Sort!K10&\"<br />\"&Sort!L10&\"<br /><b>\"&Sort!M10&\"</b>\"))","v":""},"</td>###<td class='GrayOut'>",{"$f":"IF(Sort!N10=\"\",\"\",IF(Sort!O10=0,Sort!N10&\"<br /><span class='ClnMatch'>&nbsp;&nbsp;0&nbsp;&nbsp;</span><br /><b>\"&Sort!P10&\"</b>\",Sort!N10&\"<br />\"&Sort!O10&\"<br /><b>\"&Sort!P10&\"</b>\"))","v":""},"</td>###<td class='GrayOut'>",{"$f":"IF(Sort!Q10=\"\",\"\",IF(Sort!R10=0,Sort!Q10&\"<br /><span class='ClnMatch'>&nbsp;&nbsp;0&nbsp;&nbsp;</span><br /><b>\"&Sort!S10&\"</b>\",Sort!Q10&\"<br />\"&Sort!R10&\"<br /><b>\"&Sort!S10&\"</b>\"))","v":""},"</td>###<td class='GrayOut'>",{"$f":"IF(Sort!T10=\"\",\"\",IF(Sort!U10=0,Sort!T10&\"<br /><span class='ClnMatch'>&nbsp;&nbsp;0&nbsp;&nbsp;</span><br /><b>\"&Sort!V10&\"</b>\",Sort!T10&\"<br />\"&Sort!U10&\"<br /><b>\"&Sort!V10&\"</b>\"))","v":""},"</td>###<td class='GrayOut'>",{"$f":"IF(Sort!W10=\"\",\"\",IF(Sort!X10=0,Sort!W10&\"<br /><span class='ClnMatch'>&nbsp;&nbsp;0&nbsp;&nbsp;</span><br /><b>\"&Sort!Y10&\"</b>\",Sort!W10&\"<br />\"&Sort!X10&\"<br /><b>\"&Sort!Y10&\"</b>\"))","v":""},"</td>###<td>",{"$f":"IF(Sort!Z10=\"\",\"\",IF(Sort!AA10=0,Sort!Z10&\"<br /><span class='ClnMatch'>&nbsp;&nbsp;0&nbsp;&nbsp;</span><br /><b>\"&Sort!AB10&\"</b>\",Sort!Z10&\"<br />\"&Sort!AA10&\"<br /><b>\"&Sort!AB10&\"</b>\"))","v":""},"</td>###<td class=\"BluBld\">",{"$f":"IF(Sort!B10=\"\",\"\",IF(Sort!AA10=0,Sort!AC10&\"<br /><span class='ClnMatch'>&nbsp;&nbsp;0&nbsp;&nbsp;</span><br /><b>\"&Sort!AE10&\"</b>\",Sort!AC10&\"<br />\"&Sort!AD10&\"<br /><b>\"&Sort!AE10&\"</b>\"))","v":""},"</td>###<td class=\"Bld\">",{"$f":"IF(Sort!AF10=\"\",\"\",Sort!AF10)","v":""},"</td>###<td class=\"Bld\">",{"$f":"IF(Sort!AG10=\"\",\"\",Sort!AG10)","v":""},"</td>###</tr>",null,{"$f":"IF(Sort!I10=\"\",\"\",Sort!I10)","v":""},{"$f":"IF(Sort!J10=\"\",\"\",Sort!J10)","v":0},{"$f":"IF(Sort!L10=\"\",\"\",Sort!L10)","v":""},{"$f":"IF(Sort!M10=\"\",\"\",Sort!M10)","v":0},{"$f":"IF(Sort!O10=\"\",\"\",Sort!O10)","v":""},{"$f":"IF(Sort!P10=\"\",\"\",Sort!P10)","v":0},{"$f":"IF(Sort!R10=\"\",\"\",Sort!R10)","v":""},{"$f":"IF(Sort!S10=\"\",\"\",Sort!S10)","v":0},{"$f":"IF(Sort!U10=\"\",\"\",Sort!U10)","v":""},{"$f":"IF(Sort!V10=\"\",\"\",Sort!V10)","v":0},{"$f":"IF(Sort!X10=\"\",\"\",Sort!X10)","v":""},{"$f":"IF(Sort!Y10=\"\",\"\",Sort!Y10)","v":0},{"$f":"IF(Sort!B10=\"\",\"\",Sort!AA10)","v":""}]
["<tr align='center'>###<td class='Bld'>",{"$f":"Sort!AH11","v":""},"</td>###<td class='Bld'>",{"$f":"IF(Sort!B11=\"\",\"\",IF(Sort!C11=\"\",Sort!B11,Sort!B11&\"<br />#\"&Sort!C11))","v":""},"</td>###<td>",{"$f":"IF(Sort!E11=\"\",\"\",Sort!E11&\" \"&Sort!F11&\"<br />\"&Sort!G11)","v":""},"</td>###<td class='GrayOut'>",{"$f":"IF(Sort!H11=\"\",\"\",IF(Sort!I11=0,Sort!H11&\"<br /><span class='ClnMatch'>&nbsp;&nbsp;0&nbsp;&nbsp;</span><br /><b>\"&Sort!J11&\"</b>\",Sort!H11&\"<br />\"&Sort!I11&\"<br /><b>\"&Sort!J11&\"</b>\"))","v":""},"</td>###<td class='GrayOut'>",{"$f":"IF(Sort!K11=\"\",\"\",IF(Sort!L11=0,Sort!K11&\"<br /><span class='ClnMatch'>&nbsp;&nbsp;0&nbsp;&nbsp;</span><br /><b>\"&Sort!M11&\"</b>\",Sort!K11&\"<br />\"&Sort!L11&\"<br /><b>\"&Sort!M11&\"</b>\"))","v":""},"</td>###<td class='GrayOut'>",{"$f":"IF(Sort!N11=\"\",\"\",IF(Sort!O11=0,Sort!N11&\"<br /><span class='ClnMatch'>&nbsp;&nbsp;0&nbsp;&nbsp;</span><br /><b>\"&Sort!P11&\"</b>\",Sort!N11&\"<br />\"&Sort!O11&\"<br /><b>\"&Sort!P11&\"</b>\"))","v":""},"</td>###<td class='GrayOut'>",{"$f":"IF(Sort!Q11=\"\",\"\",IF(Sort!R11=0,Sort!Q11&\"<br /><span class='ClnMatch'>&nbsp;&nbsp;0&nbsp;&nbsp;</span><br /><b>\"&Sort!S11&\"</b>\",Sort!Q11&\"<br />\"&Sort!R11&\"<br /><b>\"&Sort!S11&\"</b>\"))","v":""},"</td>###<td class='GrayOut'>",{"$f":"IF(Sort!T11=\"\",\"\",IF(Sort!U11=0,Sort!T11&\"<br /><span class='ClnMatch'>&nbsp;&nbsp;0&nbsp;&nbsp;</span><br /><b>\"&Sort!V11&\"</b>\",Sort!T11&\"<br />\"&Sort!U11&\"<br /><b>\"&Sort!V11&\"</b>\"))","v":""},"</td>###<td class='GrayOut'>",{"$f":"IF(Sort!W11=\"\",\"\",IF(Sort!X11=0,Sort!W11&\"<br /><span class='ClnMatch'>&nbsp;&nbsp;0&nbsp;&nbsp;</span><br /><b>\"&Sort!Y11&\"</b>\",Sort!W11&\"<br />\"&Sort!X11&\"<br /><b>\"&Sort!Y11&\"</b>\"))","v":""},"</td>###<td>",{"$f":"IF(Sort!Z11=\"\",\"\",IF(Sort!AA11=0,Sort!Z11&\"<br /><span class='ClnMatch'>&nbsp;&nbsp;0&nbsp;&nbsp;</span><br /><b>\"&Sort!AB11&\"</b>\",Sort!Z11&\"<br />\"&Sort!AA11&\"<br /><b>\"&Sort!AB11&\"</b>\"))","v":""},"</td>###<td class=\"BluBld\">",{"$f":"IF(Sort!B11=\"\",\"\",IF(Sort!AA11=0,Sort!AC11&\"<br /><span class='ClnMatch'>&nbsp;&nbsp;0&nbsp;&nbsp;</span><br /><b>\"&Sort!AE11&\"</b>\",Sort!AC11&\"<br />\"&Sort!AD11&\"<br /><b>\"&Sort!AE11&\"</b>\"))","v":""},"</td>###<td class=\"Bld\">",{"$f":"IF(Sort!AF11=\"\",\"\",Sort!AF11)","v":""},"</td>###<td class=\"Bld\">",{"$f":"IF(Sort!AG11=\"\",\"\",Sort!AG11)","v":""},"</td>###</tr>",null,{"$f":"IF(Sort!I11=\"\",\"\",Sort!I11)","v":""},{"$f":"IF(Sort!J11=\"\",\"\",Sort!J11)","v":0},{"$f":"IF(Sort!L11=\"\",\"\",Sort!L11)","v":""},{"$f":"IF(Sort!M11=\"\",\"\",Sort!M11)","v":0},{"$f":"IF(Sort!O11=\"\",\"\",Sort!O11)","v":""},{"$f":"IF(Sort!P11=\"\",\"\",Sort!P11)","v":0},{"$f":"IF(Sort!R11=\"\",\"\",Sort!R11)","v":""},{"$f":"IF(Sort!S11=\"\",\"\",Sort!S11)","v":0},{"$f":"IF(Sort!U11=\"\",\"\",Sort!U11)","v":""},{"$f":"IF(Sort!V11=\"\",\"\",Sort!V11)","v":0},{"$f":"IF(Sort!X11=\"\",\"\",Sort!X11)","v":""},{"$f":"IF(Sort!Y11=\"\",\"\",Sort!Y11)","v":0},{"$f":"IF(Sort!B11=\"\",\"\",Sort!AA11)","v":""}]
["<tr align='center'>###<td class='Bld'>",{"$f":"Sort!AH12","v":""},"</td>###<td class='Bld'>",{"$f":"IF(Sort!B12=\"\",\"\",IF(Sort!C12=\"\",Sort!B12,Sort!B12&\"<br />#\"&Sort!C12))","v":""},"</td>###<td>",{"$f":"IF(Sort!E12=\"\",\"\",Sort!E12&\" \"&Sort!F12&\"<br />\"&Sort!G12)","v":""},"</td>###<td class='GrayOut'>",{"$f":"IF(Sort!H12=\"\",\"\",IF(Sort!I12=0,Sort!H12&\"<br /><span class='ClnMatch'>&nbsp;&nbsp;0&nbsp;&nbsp;</span><br /><b>\"&Sort!J12&\"</b>\",Sort!H12&\"<br />\"&Sort!I12&\"<br /><b>\"&Sort!J12&\"</b>\"))","v":""},"</td>###<td class='GrayOut'>",{"$f":"IF(Sort!K12=\"\",\"\",IF(Sort!L12=0,Sort!K12&\"<br /><span class='ClnMatch'>&nbsp;&nbsp;0&nbsp;&nbsp;</span><br /><b>\"&Sort!M12&\"</b>\",Sort!K12&\"<br />\"&Sort!L12&\"<br /><b>\"&Sort!M12&\"</b>\"))","v":""},"</td>###<td class='GrayOut'>",{"$f":"IF(Sort!N12=\"\",\"\",IF(Sort!O12=0,Sort!N12&\"<br /><span class='ClnMatch'>&nbsp;&nbsp;0&nbsp;&nbsp;</span><br /><b>\"&Sort!P12&\"</b>\",Sort!N12&\"<br />\"&Sort!O12&\"<br /><b>\"&Sort!P12&\"</b>\"))","v":""},"</td>###<td class='GrayOut'>",{"$f":"IF(Sort!Q12=\"\",\"\",IF(Sort!R12=0,Sort!Q12&\"<br /><span class='ClnMatch'>&nbsp;&nbsp;0&nbsp;&nbsp;</span><br /><b>\"&Sort!S12&\"</b>\",Sort!Q12&\"<br />\"&Sort!R12&\"<br /><b>\"&Sort!S12&\"</b>\"))","v":""},"</td>###<td class='GrayOut'>",{"$f":"IF(Sort!T12=\"\",\"\",IF(Sort!U12=0,Sort!T12&\"<br /><span class='ClnMatch'>&nbsp;&nbsp;0&nbsp;&nbsp;</span><br /><b>\"&Sort!V12&\"</b>\",Sort!T12&\"<br />\"&Sort!U12&\"<br /><b>\"&Sort!V12&\"</b>\"))","v":""},"</td>###<td class='GrayOut'>",{"$f":"IF(Sort!W12=\"\",\"\",IF(Sort!X12=0,Sort!W12&\"<br /><span class='ClnMatch'>&nbsp;&nbsp;0&nbsp;&nbsp;</span><br /><b>\"&Sort!Y12&\"</b>\",Sort!W12&\"<br />\"&Sort!X12&\"<br /><b>\"&Sort!Y12&\"</b>\"))","v":""},"</td>###<td>",{"$f":"IF(Sort!Z12=\"\",\"\",IF(Sort!AA12=0,Sort!Z12&\"<br /><span class='ClnMatch'>&nbsp;&nbsp;0&nbsp;&nbsp;</span><br /><b>\"&Sort!AB12&\"</b>\",Sort!Z12&\"<br />\"&Sort!AA12&\"<br /><b>\"&Sort!AB12&\"</b>\"))","v":""},"</td>###<td class=\"BluBld\">",{"$f":"IF(Sort!B12=\"\",\"\",IF(Sort!AA12=0,Sort!AC12&\"<br /><span class='ClnMatch'>&nbsp;&nbsp;0&nbsp;&nbsp;</span><br /><b>\"&Sort!AE12&\"</b>\",Sort!AC12&\"<br />\"&Sort!AD12&\"<br /><b>\"&Sort!AE12&\"</b>\"))","v":""},"</td>###<td class=\"Bld\">",{"$f":"IF(Sort!AF12=\"\",\"\",Sort!AF12)","v":""},"</td>###<td class=\"Bld\">",{"$f":"IF(Sort!AG12=\"\",\"\",Sort!AG12)","v":""},"</td>###</tr>",null,{"$f":"IF(Sort!I12=\"\",\"\",Sort!I12)","v":""},{"$f":"IF(Sort!J12=\"\",\"\",Sort!J12)","v":0},{"$f":"IF(Sort!L12=\"\",\"\",Sort!L12)","v":""},{"$f":"IF(Sort!M12=\"\",\"\",Sort!M12)","v":0},{"$f":"IF(Sort!O12=\"\",\"\",Sort!O12)","v":""},{"$f":"IF(Sort!P12=\"\",\"\",Sort!P12)","v":0},{"$f":"IF(Sort!R12=\"\",\"\",Sort!R12)","v":""},{"$f":"IF(Sort!S12=\"\",\"\",Sort!S12)","v":0},{"$f":"IF(Sort!U12=\"\",\"\",Sort!U12)","v":""},{"$f":"IF(Sort!V12=\"\",\"\",Sort!V12)","v":0},{"$f":"IF(Sort!X12=\"\",\"\",Sort!X12)","v":""},{"$f":"IF(Sort!Y12=\"\",\"\",Sort!Y12)","v":0},{"$f":"IF(Sort!B12=\"\",\"\",Sort!AA12)","v":""}]
["<tr align='center'>###<td class='Bld'>",{"$f":"Sort!AH13","v":""},"</td>###<td class='Bld'>",{"$f":"IF(Sort!B13=\"\",\"\",IF(Sort!C13=\"\",Sort!B13,Sort!B13&\"<br />#\"&Sort!C13))","v":""},"</td>###<td>",{"$f":"IF(Sort!E13=\"\",\"\",Sort!E13&\" \"&Sort!F13&\"<br />\"&Sort!G13)","v":""},"</td>###<td class='GrayOut'>",{"$f":"IF(Sort!H13=\"\",\"\",IF(Sort!I13=0,Sort!H13&\"<br /><span class='ClnMatch'>&nbsp;&nbsp;0&nbsp;&nbsp;</span><br /><b>\"&Sort!J13&\"</b>\",Sort!H13&\"<br />\"&Sort!I13&\"<br /><b>\"&Sort!J13&\"</b>\"))","v":""},"</td>###<td class='GrayOut'>",{"$f":"IF(Sort!K13=\"\",\"\",IF(Sort!L13=0,Sort!K13&\"<br /><span class='ClnMatch'>&nbsp;&nbsp;0&nbsp;&nbsp;</span><br /><b>\"&Sort!M13&\"</b>\",Sort!K13&\"<br />\"&Sort!L13&\"<br /><b>\"&Sort!M13&\"</b>\"))","v":""},"</td>###<td class='GrayOut'>",{"$f":"IF(Sort!N13=\"\",\"\",IF(Sort!O13=0,Sort!N13&\"<br /><span class='ClnMatch'>&nbsp;&nbsp;0&nbsp;&nbsp;</span><br /><b>\"&Sort!P13&\"</b>\",Sort!N13&\"<br />\"&Sort!O13&\"<br /><b>\"&Sort!P13&\"</b>\"))","v":""},"</td>###<td class='GrayOut'>",{"$f":"IF(Sort!Q13=\"\",\"\",IF(Sort!R13=0,Sort!Q13&\"<br /><span class='ClnMatch'>&nbsp;&nbsp;0&nbsp;&nbsp;</span><br /><b>\"&Sort!S13&\"</b>\",Sort!Q13&\"<br />\"&Sort!R13&\"<br /><b>\"&Sort!S13&\"</b>\"))","v":""},"</td>###<td class='GrayOut'>",{"$f":"IF(Sort!T13=\"\",\"\",IF(Sort!U13=0,Sort!T13&\"<br /><span class='ClnMatch'>&nbsp;&nbsp;0&nbsp;&nbsp;</span><br /><b>\"&Sort!V13&\"</b>\",Sort!T13&\"<br />\"&Sort!U13&\"<br /><b>\"&Sort!V13&\"</b>\"))","v":""},"</td>###<td class='GrayOut'>",{"$f":"IF(Sort!W13=\"\",\"\",IF(Sort!X13=0,Sort!W13&\"<br /><span class='ClnMatch'>&nbsp;&nbsp;0&nbsp;&nbsp;</span><br /><b>\"&Sort!Y13&\"</b>\",Sort!W13&\"<br />\"&Sort!X13&\"<br /><b>\"&Sort!Y13&\"</b>\"))","v":""},"</td>###<td>",{"$f":"IF(Sort!Z13=\"\",\"\",IF(Sort!AA13=0,Sort!Z13&\"<br /><span class='ClnMatch'>&nbsp;&nbsp;0&nbsp;&nbsp;</span><br /><b>\"&Sort!AB13&\"</b>\",Sort!Z13&\"<br />\"&Sort!AA13&\"<br /><b>\"&Sort!AB13&\"</b>\"))","v":""},"</td>###<td class=\"BluBld\">",{"$f":"IF(Sort!B13=\"\",\"\",IF(Sort!AA13=0,Sort!AC13&\"<br /><span class='ClnMatch'>&nbsp;&nbsp;0&nbsp;&nbsp;</span><br /><b>\"&Sort!AE13&\"</b>\",Sort!AC13&\"<br />\"&Sort!AD13&\"<br /><b>\"&Sort!AE13&\"</b>\"))","v":""},"</td>###<td class=\"Bld\">",{"$f":"IF(Sort!AF13=\"\",\"\",Sort!AF13)","v":""},"</td>###<td class=\"Bld\">",{"$f":"IF(Sort!AG13=\"\",\"\",Sort!AG13)","v":""},"</td>###</tr>",null,{"$f":"IF(Sort!I13=\"\",\"\",Sort!I13)","v":""},{"$f":"IF(Sort!J13=\"\",\"\",Sort!J13)","v":0},{"$f":"IF(Sort!L13=\"\",\"\",Sort!L13)","v":""},{"$f":"IF(Sort!M13=\"\",\"\",Sort!M13)","v":0},{"$f":"IF(Sort!O13=\"\",\"\",Sort!O13)","v":""},{"$f":"IF(Sort!P13=\"\",\"\",Sort!P13)","v":0},{"$f":"IF(Sort!R13=\"\",\"\",Sort!R13)","v":""},{"$f":"IF(Sort!S13=\"\",\"\",Sort!S13)","v":0},{"$f":"IF(Sort!U13=\"\",\"\",Sort!U13)","v":""},{"$f":"IF(Sort!V13=\"\",\"\",Sort!V13)","v":0},{"$f":"IF(Sort!X13=\"\",\"\",Sort!X13)","v":""},{"$f":"IF(Sort!Y13=\"\",\"\",Sort!Y13)","v":0},{"$f":"IF(Sort!B13=\"\",\"\",Sort!AA13)","v":""}]
["<tr align='center'>###<td class='Bld'>",{"$f":"Sort!AH14","v":""},"</td>###<td class='Bld'>",{"$f":"IF(Sort!B14=\"\",\"\",IF(Sort!C14=\"\",Sort!B14,Sort!B14&\"<br />#\"&Sort!C14))","v":""},"</td>###<td>",{"$f":"IF(Sort!E14=\"\",\"\",Sort!E14&\" \"&Sort!F14&\"<br />\"&Sort!G14)","v":""},"</td>###<td class='GrayOut'>",{"$f":"IF(Sort!H14=\"\",\"\",IF(Sort!I14=0,Sort!H14&\"<br /><span class='ClnMatch'>&nbsp;&nbsp;0&nbsp;&nbsp;</span><br /><b>\"&Sort!J14&\"</b>\",Sort!H14&\"<br />\"&Sort!I14&\"<br /><b>\"&Sort!J14&\"</b>\"))","v":""},"</td>###<td class='GrayOut'>",{"$f":"IF(Sort!K14=\"\",\"\",IF(Sort!L14=0,Sort!K14&\"<br /><span class='ClnMatch'>&nbsp;&nbsp;0&nbsp;&nbsp;</span><br /><b>\"&Sort!M14&\"</b>\",Sort!K14&\"<br />\"&Sort!L14&\"<br /><b>\"&Sort!M14&\"</b>\"))","v":""},"</td>###<td class='GrayOut'>",{"$f":"IF(Sort!N14=\"\",\"\",IF(Sort!O14=0,Sort!N14&\"<br /><span class='ClnMatch'>&nbsp;&nbsp;0&nbsp;&nbsp;</span><br /><b>\"&Sort!P14&\"</b>\",Sort!N14&\"<br />\"&Sort!O14&\"<br /><b>\"&Sort!P14&\"</b>\"))","v":""},"</td>###<td class='GrayOut'>",{"$f":"IF(Sort!Q14=\"\",\"\",IF(Sort!R14=0,Sort!Q14&\"<br /><span class='ClnMatch'>&nbsp;&nbsp;0&nbsp;&nbsp;</span><br /><b>\"&Sort!S14&\"</b>\",Sort!Q14&\"<br />\"&Sort!R14&\"<br /><b>\"&Sort!S14&\"</b>\"))","v":""},"</td>###<td class='GrayOut'>",{"$f":"IF(Sort!T14=\"\",\"\",IF(Sort!U14=0,Sort!T14&\"<br /><span class='ClnMatch'>&nbsp;&nbsp;0&nbsp;&nbsp;</span><br /><b>\"&Sort!V14&\"</b>\",Sort!T14&\"<br />\"&Sort!U14&\"<br /><b>\"&Sort!V14&\"</b>\"))","v":""},"</td>###<td class='GrayOut'>",{"$f":"IF(Sort!W14=\"\",\"\",IF(Sort!X14=0,Sort!W14&\"<br /><span class='ClnMatch'>&nbsp;&nbsp;0&nbsp;&nbsp;</span><br /><b>\"&Sort!Y14&\"</b>\",Sort!W14&\"<br />\"&Sort!X14&\"<br /><b>\"&Sort!Y14&\"</b>\"))","v":""},"</td>###<td>",{"$f":"IF(Sort!Z14=\"\",\"\",IF(Sort!AA14=0,Sort!Z14&\"<br /><span class='ClnMatch'>&nbsp;&nbsp;0&nbsp;&nbsp;</span><br /><b>\"&Sort!AB14&\"</b>\",Sort!Z14&\"<br />\"&Sort!AA14&\"<br /><b>\"&Sort!AB14&\"</b>\"))","v":""},"</td>###<td class=\"BluBld\">",{"$f":"IF(Sort!B14=\"\",\"\",IF(Sort!AA14=0,Sort!AC14&\"<br /><span class='ClnMatch'>&nbsp;&nbsp;0&nbsp;&nbsp;</span><br /><b>\"&Sort!AE14&\"</b>\",Sort!AC14&\"<br />\"&Sort!AD14&\"<br /><b>\"&Sort!AE14&\"</b>\"))","v":""},"</td>###<td class=\"Bld\">",{"$f":"IF(Sort!AF14=\"\",\"\",Sort!AF14)","v":""},"</td>###<td class=\"Bld\">",{"$f":"IF(Sort!AG14=\"\",\"\",Sort!AG14)","v":""},"</td>###</tr>",null,{"$f":"IF(Sort!I14=\"\",\"\",Sort!I14)","v":""},{"$f":"IF(Sort!J14=\"\",\"\",Sort!J14)","v":0},{"$f":"IF(Sort!L14=\"\",\"\",Sort!L14)","v":""},{"$f":"IF(Sort!M14=\"\",\"\",Sort!M14)","v":0},{"$f":"IF(Sort!O14=\"\",\"\",Sort!O14)","v":""},{"$f":"IF(Sort!P14=\"\",\"\",Sort!P14)","v":0},{"$f":"IF(Sort!R14=\"\",\"\",Sort!R14)","v":""},{"$f":"IF(Sort!S14=\"\",\"\",Sort!S14)","v":0},{"$f":"IF(Sort!U14=\"\",\"\",Sort!U14)","v":""},{"$f":"IF(Sort!V14=\"\",\"\",Sort!V14)","v":0},{"$f":"IF(Sort!X14=\"\",\"\",Sort!X14)","v":""},{"$f":"IF(Sort!Y14=\"\",\"\",Sort!Y14)","v":0},{"$f":"IF(Sort!B14=\"\",\"\",Sort!AA14)","v":""}]
["<tr align='center'>###<td class='Bld'>",{"$f":"Sort!AH15","v":""},"</td>###<td class='Bld'>",{"$f":"IF(Sort!B15=\"\",\"\",IF(Sort!C15=\"\",Sort!B15,Sort!B15&\"<br />#\"&Sort!C15))","v":""},"</td>###<td>",{"$f":"IF(Sort!E15=\"\",\"\",Sort!E15&\" \"&Sort!F15&\"<br />\"&Sort!G15)","v":""},"</td>###<td class='GrayOut'>",{"$f":"IF(Sort!H15=\"\",\"\",IF(Sort!I15=0,Sort!H15&\"<br /><span class='ClnMatch'>&nbsp;&nbsp;0&nbsp;&nbsp;</span><br /><b>\"&Sort!J15&\"</b>\",Sort!H15&\"<br />\"&Sort!I15&\"<br /><b>\"&Sort!J15&\"</b>\"))","v":""},"</td>###<td class='GrayOut'>",{"$f":"IF(Sort!K15=\"\",\"\",IF(Sort!L15=0,Sort!K15&\"<br /><span class='ClnMatch'>&nbsp;&nbsp;0&nbsp;&nbsp;</span><br /><b>\"&Sort!M15&\"</b>\",Sort!K15&\"<br />\"&Sort!L15&\"<br /><b>\"&Sort!M15&\"</b>\"))","v":""},"</td>###<td class='GrayOut'>",{"$f":"IF(Sort!N15=\"\",\"\",IF(Sort!O15=0,Sort!N15&\"<br /><span class='ClnMatch'>&nbsp;&nbsp;0&nbsp;&nbsp;</span><br /><b>\"&Sort!P15&\"</b>\",Sort!N15&\"<br />\"&Sort!O15&\"<br /><b>\"&Sort!P15&\"</b>\"))","v":""},"</td>###<td class='GrayOut'>",{"$f":"IF(Sort!Q15=\"\",\"\",IF(Sort!R15=0,Sort!Q15&\"<br /><span class='ClnMatch'>&nbsp;&nbsp;0&nbsp;&nbsp;</span><br /><b>\"&Sort!S15&\"</b>\",Sort!Q15&\"<br />\"&Sort!R15&\"<br /><b>\"&Sort!S15&\"</b>\"))","v":""},"</td>###<td class='GrayOut'>",{"$f":"IF(Sort!T15=\"\",\"\",IF(Sort!U15=0,Sort!T15&\"<br /><span class='ClnMatch'>&nbsp;&nbsp;0&nbsp;&nbsp;</span><br /><b>\"&Sort!V15&\"</b>\",Sort!T15&\"<br />\"&Sort!U15&\"<br /><b>\"&Sort!V15&\"</b>\"))","v":""},"</td>###<td class='GrayOut'>",{"$f":"IF(Sort!W15=\"\",\"\",IF(Sort!X15=0,Sort!W15&\"<br /><span class='ClnMatch'>&nbsp;&nbsp;0&nbsp;&nbsp;</span><br /><b>\"&Sort!Y15&\"</b>\",Sort!W15&\"<br />\"&Sort!X15&\"<br /><b>\"&Sort!Y15&\"</b>\"))","v":""},"</td>###<td>",{"$f":"IF(Sort!Z15=\"\",\"\",IF(Sort!AA15=0,Sort!Z15&\"<br /><span class='ClnMatch'>&nbsp;&nbsp;0&nbsp;&nbsp;</span><br /><b>\"&Sort!AB15&\"</b>\",Sort!Z15&\"<br />\"&Sort!AA15&\"<br /><b>\"&Sort!AB15&\"</b>\"))","v":""},"</td>###<td class=\"BluBld\">",{"$f":"IF(Sort!B15=\"\",\"\",IF(Sort!AA15=0,Sort!AC15&\"<br /><span class='ClnMatch'>&nbsp;&nbsp;0&nbsp;&nbsp;</span><br /><b>\"&Sort!AE15&\"</b>\",Sort!AC15&\"<br />\"&Sort!AD15&\"<br /><b>\"&Sort!AE15&\"</b>\"))","v":""},"</td>###<td class=\"Bld\">",{"$f":"IF(Sort!AF15=\"\",\"\",Sort!AF15)","v":""},"</td>###<td class=\"Bld\">",{"$f":"IF(Sort!AG15=\"\",\"\",Sort!AG15)","v":""},"</td>###</tr>",null,{"$f":"IF(Sort!I15=\"\",\"\",Sort!I15)","v":""},{"$f":"IF(Sort!J15=\"\",\"\",Sort!J15)","v":0},{"$f":"IF(Sort!L15=\"\",\"\",Sort!L15)","v":""},{"$f":"IF(Sort!M15=\"\",\"\",Sort!M15)","v":0},{"$f":"IF(Sort!O15=\"\",\"\",Sort!O15)","v":""},{"$f":"IF(Sort!P15=\"\",\"\",Sort!P15)","v":0},{"$f":"IF(Sort!R15=\"\",\"\",Sort!R15)","v":""},{"$f":"IF(Sort!S15=\"\",\"\",Sort!S15)","v":0},{"$f":"IF(Sort!U15=\"\",\"\",Sort!U15)","v":""},{"$f":"IF(Sort!V15=\"\",\"\",Sort!V15)","v":0},{"$f":"IF(Sort!X15=\"\",\"\",Sort!X15)","v":""},{"$f":"IF(Sort!Y15=\"\",\"\",Sort!Y15)","v":0},{"$f":"IF(Sort!B15=\"\",\"\",Sort!AA15)","v":""}]
["<tr align='center'>###<td class='Bld'>",{"$f":"Sort!AH16","v":""},"</td>###<td class='Bld'>",{"$f":"IF(Sort!B16=\"\",\"\",IF(Sort!C16=\"\",Sort!B16,Sort!B16&\"<br />#\"&Sort!C16))","v":""},"</td>###<td>",{"$f":"IF(Sort!E16=\"\",\"\",Sort!E16&\" \"&Sort!F16&\"<br />\"&Sort!G16)","v":""},"</td>###<td class='GrayOut'>",{"$f":"IF(Sort!H16=\"\",\"\",IF(Sort!I16=0,Sort!H16&\"<br /><span class='ClnMatch'>&nbsp;&nbsp;0&nbsp;&nbsp;</span><br /><b>\"&Sort!J16&\"</b>\",Sort!H16&\"<br />\"&Sort!I16&\"<br /><b>\"&Sort!J16&\"</b>\"))","v":""},"</td>###<td class='GrayOut'>",{"$f":"IF(Sort!K16=\"\",\"\",IF(Sort!L16=0,Sort!K16&\"<br /><span class='ClnMatch'>&nbsp;&nbsp;0&nbsp;&nbsp;</span><br /><b>\"&Sort!M16&\"</b>\",Sort!K16&\"<br />\"&Sort!L16&\"<br /><b>\"&Sort!M16&\"</b>\"))","v":""},"</td>###<td class='GrayOut'>",{"$f":"IF(Sort!N16=\"\",\"\",IF(Sort!O16=0,Sort!N16&\"<br /><span class='ClnMatch'>&nbsp;&nbsp;0&nbsp;&nbsp;</span><br /><b>\"&Sort!P16&\"</b>\",Sort!N16&\"<br />\"&Sort!O16&\"<br /><b>\"&Sort!P16&\"</b>\"))","v":""},"</td>###<td class='GrayOut'>",{"$f":"IF(Sort!Q16=\"\",\"\",IF(Sort!R16=0,Sort!Q16&\"<br /><span class='ClnMatch'>&nbsp;&nbsp;0&nbsp;&nbsp;</span><br /><b>\"&Sort!S16&\"</b>\",Sort!Q16&\"<br />\"&Sort!R16&\"<br /><b>\"&Sort!S16&\"</b>\"))","v":""},"</td>###<td class='GrayOut'>",{"$f":"IF(Sort!T16=\"\",\"\",IF(Sort!U16=0,Sort!T16&\"<br /><span class='ClnMatch'>&nbsp;&nbsp;0&nbsp;&nbsp;</span><br /><b>\"&Sort!V16&\"</b>\",Sort!T16&\"<br />\"&Sort!U16&\"<br /><b>\"&Sort!V16&\"</b>\"))","v":""},"</td>###<td class='GrayOut'>",{"$f":"IF(Sort!W16=\"\",\"\",IF(Sort!X16=0,Sort!W16&\"<br /><span class='ClnMatch'>&nbsp;&nbsp;0&nbsp;&nbsp;</span><br /><b>\"&Sort!Y16&\"</b>\",Sort!W16&\"<br />\"&Sort!X16&\"<br /><b>\"&Sort!Y16&\"</b>\"))","v":""},"</td>###<td>",{"$f":"IF(Sort!Z16=\"\",\"\",IF(Sort!AA16=0,Sort!Z16&\"<br /><span class='ClnMatch'>&nbsp;&nbsp;0&nbsp;&nbsp;</span><br /><b>\"&Sort!AB16&\"</b>\",Sort!Z16&\"<br />\"&Sort!AA16&\"<br /><b>\"&Sort!AB16&\"</b>\"))","v":""},"</td>###<td class=\"BluBld\">",{"$f":"IF(Sort!B16=\"\",\"\",IF(Sort!AA16=0,Sort!AC16&\"<br /><span class='ClnMatch'>&nbsp;&nbsp;0&nbsp;&nbsp;</span><br /><b>\"&Sort!AE16&\"</b>\",Sort!AC16&\"<br />\"&Sort!AD16&\"<br /><b>\"&Sort!AE16&\"</b>\"))","v":""},"</td>###<td class=\"Bld\">",{"$f":"IF(Sort!AF16=\"\",\"\",Sort!AF16)","v":""},"</td>###<td class=\"Bld\">",{"$f":"IF(Sort!AG16=\"\",\"\",Sort!AG16)","v":""},"</td>###</tr>",null,{"$f":"IF(Sort!I16=\"\",\"\",Sort!I16)","v":""},{"$f":"IF(Sort!J16=\"\",\"\",Sort!J16)","v":0},{"$f":"IF(Sort!L16=\"\",\"\",Sort!L16)","v":""},{"$f":"IF(Sort!M16=\"\",\"\",Sort!M16)","v":0},{"$f":"IF(Sort!O16=\"\",\"\",Sort!O16)","v":""},{"$f":"IF(Sort!P16=\"\",\"\",Sort!P16)","v":0},{"$f":"IF(Sort!R16=\"\",\"\",Sort!R16)","v":""},{"$f":"IF(Sort!S16=\"\",\"\",Sort!S16)","v":0},{"$f":"IF(Sort!U16=\"\",\"\",Sort!U16)","v":""},{"$f":"IF(Sort!V16=\"\",\"\",Sort!V16)","v":0},{"$f":"IF(Sort!X16=\"\",\"\",Sort!X16)","v":""},{"$f":"IF(Sort!Y16=\"\",\"\",Sort!Y16)","v":0},{"$f":"IF(Sort!B16=\"\",\"\",Sort!AA16)","v":""}]
["<tr align='center'>###<td class='Bld'>",{"$f":"Sort!AH17","v":""},"</td>###<td class='Bld'>",{"$f":"IF(Sort!B17=\"\",\"\",IF(Sort!C17=\"\",Sort!B17,Sort!B17&\"<br />#\"&Sort!C17))","v":""},"</td>###<td>",{"$f":"IF(Sort!E17=\"\",\"\",Sort!E17&\" \"&Sort!F17&\"<br />\"&Sort!G17)","v":""},"</td>###<td class='GrayOut'>",{"$f":"IF(Sort!H17=\"\",\"\",IF(Sort!I17=0,Sort!H17&\"<br /><span class='ClnMatch'>&nbsp;&nbsp;0&nbsp;&nbsp;</span><br /><b>\"&Sort!J17&\"</b>\",Sort!H17&\"<br />\"&Sort!I17&\"<br /><b>\"&Sort!J17&\"</b>\"))","v":""},"</td>###<td class='GrayOut'>",{"$f":"IF(Sort!K17=\"\",\"\",IF(Sort!L17=0,Sort!K17&\"<br /><span class='ClnMatch'>&nbsp;&nbsp;0&nbsp;&nbsp;</span><br /><b>\"&Sort!M17&\"</b>\",Sort!K17&\"<br />\"&Sort!L17&\"<br /><b>\"&Sort!M17&\"</b>\"))","v":""},"</td>###<td class='GrayOut'>",{"$f":"IF(Sort!N17=\"\",\"\",IF(Sort!O17=0,Sort!N17&\"<br /><span class='ClnMatch'>&nbsp;&nbsp;0&nbsp;&nbsp;</span><br /><b>\"&Sort!P17&\"</b>\",Sort!N17&\"<br />\"&Sort!O17&\"<br /><b>\"&Sort!P17&\"</b>\"))","v":""},"</td>###<td class='GrayOut'>",{"$f":"IF(Sort!Q17=\"\",\"\",IF(Sort!R17=0,Sort!Q17&\"<br /><span class='ClnMatch'>&nbsp;&nbsp;0&nbsp;&nbsp;</span><br /><b>\"&Sort!S17&\"</b>\",Sort!Q17&\"<br />\"&Sort!R17&\"<br /><b>\"&Sort!S17&\"</b>\"))","v":""},"</td>###<td class='GrayOut'>",{"$f":"IF(Sort!T17=\"\",\"\",IF(Sort!U17=0,Sort!T17&\"<br /><span class='ClnMatch'>&nbsp;&nbsp;0&nbsp;&nbsp;</span><br /><b>\"&Sort!V17&\"</b>\",Sort!T17&\"<br />\"&Sort!U17&\"<br /><b>\"&Sort!V17&\"</b>\"))","v":""},"</td>###<td class='GrayOut'>",{"$f":"IF(Sort!W17=\"\",\"\",IF(Sort!X17=0,Sort!W17&\"<br /><span class='ClnMatch'>&nbsp;&nbsp;0&nbsp;&nbsp;</span><br /><b>\"&Sort!Y17&\"</b>\",Sort!W17&\"<br />\"&Sort!X17&\"<br /><b>\"&Sort!Y17&\"</b>\"))","v":""},"</td>###<td>",{"$f":"IF(Sort!Z17=\"\",\"\",IF(Sort!AA17=0,Sort!Z17&\"<br /><span class='ClnMatch'>&nbsp;&nbsp;0&nbsp;&nbsp;</span><br /><b>\"&Sort!AB17&\"</b>\",Sort!Z17&\"<br />\"&Sort!AA17&\"<br /><b>\"&Sort!AB17&\"</b>\"))","v":""},"</td>###<td class=\"BluBld\">",{"$f":"IF(Sort!B17=\"\",\"\",IF(Sort!AA17=0,Sort!AC17&\"<br /><span class='ClnMatch'>&nbsp;&nbsp;0&nbsp;&nbsp;</span><br /><b>\"&Sort!AE17&\"</b>\",Sort!AC17&\"<br />\"&Sort!AD17&\"<br /><b>\"&Sort!AE17&\"</b>\"))","v":""},"</td>###<td class=\"Bld\">",{"$f":"IF(Sort!AF17=\"\",\"\",Sort!AF17)","v":""},"</td>###<td class=\"Bld\">",{"$f":"IF(Sort!AG17=\"\",\"\",Sort!AG17)","v":""},"</td>###</tr>",null,{"$f":"IF(Sort!I17=\"\",\"\",Sort!I17)","v":""},{"$f":"IF(Sort!J17=\"\",\"\",Sort!J17)","v":0},{"$f":"IF(Sort!L17=\"\",\"\",Sort!L17)","v":""},{"$f":"IF(Sort!M17=\"\",\"\",Sort!M17)","v":0},{"$f":"IF(Sort!O17=\"\",\"\",Sort!O17)","v":""},{"$f":"IF(Sort!P17=\"\",\"\",Sort!P17)","v":0},{"$f":"IF(Sort!R17=\"\",\"\",Sort!R17)","v":""},{"$f":"IF(Sort!S17=\"\",\"\",Sort!S17)","v":0},{"$f":"IF(Sort!U17=\"\",\"\",Sort!U17)","v":""},{"$f":"IF(Sort!V17=\"\",\"\",Sort!V17)","v":0},{"$f":"IF(Sort!X17=\"\",\"\",Sort!X17)","v":""},{"$f":"IF(Sort!Y17=\"\",\"\",Sort!Y17)","v":0},{"$f":"IF(Sort!B17=\"\",\"\",Sort!AA17)","v":""}]
["<tr align='center'>###<td class='Bld'>",{"$f":"Sort!AH18","v":""},"</td>###<td class='Bld'>",{"$f":"IF(Sort!B18=\"\",\"\",IF(Sort!C18=\"\",Sort!B18,Sort!B18&\"<br />#\"&Sort!C18))","v":""},"</td>###<td>",{"$f":"IF(Sort!E18=\"\",\"\",Sort!E18&\" \"&Sort!F18&\"<br />\"&Sort!G18)","v":""},"</td>###<td class='GrayOut'>",{"$f":"IF(Sort!H18=\"\",\"\",IF(Sort!I18=0,Sort!H18&\"<br /><span class='ClnMatch'>&nbsp;&nbsp;0&nbsp;&nbsp;</span><br /><b>\"&Sort!J18&\"</b>\",Sort!H18&\"<br />\"&Sort!I18&\"<br /><b>\"&Sort!J18&\"</b>\"))","v":""},"</td>###<td class='GrayOut'>",{"$f":"IF(Sort!K18=\"\",\"\",IF(Sort!L18=0,Sort!K18&\"<br /><span class='ClnMatch'>&nbsp;&nbsp;0&nbsp;&nbsp;</span><br /><b>\"&Sort!M18&\"</b>\",Sort!K18&\"<br />\"&Sort!L18&\"<br /><b>\"&Sort!M18&\"</b>\"))","v":""},"</td>###<td class='GrayOut'>",{"$f":"IF(Sort!N18=\"\",\"\",IF(Sort!O18=0,Sort!N18&\"<br /><span class='ClnMatch'>&nbsp;&nbsp;0&nbsp;&nbsp;</span><br /><b>\"&Sort!P18&\"</b>\",Sort!N18&\"<br />\"&Sort!O18&\"<br /><b>\"&Sort!P18&\"</b>\"))","v":""},"</td>###<td class='GrayOut'>",{"$f":"IF(Sort!Q18=\"\",\"\",IF(Sort!R18=0,Sort!Q18&\"<br /><span class='ClnMatch'>&nbsp;&nbsp;0&nbsp;&nbsp;</span><br /><b>\"&Sort!S18&\"</b>\",Sort!Q18&\"<br />\"&Sort!R18&\"<br /><b>\"&Sort!S18&\"</b>\"))","v":""},"</td>###<td class='GrayOut'>",{"$f":"IF(Sort!T18=\"\",\"\",IF(Sort!U18=0,Sort!T18&\"<br /><span class='ClnMatch'>&nbsp;&nbsp;0&nbsp;&nbsp;</span><br /><b>\"&Sort!V18&\"</b>\",Sort!T18&\"<br />\"&Sort!U18&\"<br /><b>\"&Sort!V18&\"</b>\"))","v":""},"</td>###<td class='GrayOut'>",{"$f":"IF(Sort!W18=\"\",\"\",IF(Sort!X18=0,Sort!W18&\"<br /><span class='ClnMatch'>&nbsp;&nbsp;0&nbsp;&nbsp;</span><br /><b>\"&Sort!Y18&\"</b>\",Sort!W18&\"<br />\"&Sort!X18&\"<br /><b>\"&Sort!Y18&\"</b>\"))","v":""},"</td>###<td>",{"$f":"IF(Sort!Z18=\"\",\"\",IF(Sort!AA18=0,Sort!Z18&\"<br /><span class='ClnMatch'>&nbsp;&nbsp;0&nbsp;&nbsp;</span><br /><b>\"&Sort!AB18&\"</b>\",Sort!Z18&\"<br />\"&Sort!AA18&\"<br /><b>\"&Sort!AB18&\"</b>\"))","v":""},"</td>###<td class=\"BluBld\">",{"$f":"IF(Sort!B18=\"\",\"\",IF(Sort!AA18=0,Sort!AC18&\"<br /><span class='ClnMatch'>&nbsp;&nbsp;0&nbsp;&nbsp;</span><br /><b>\"&Sort!AE18&\"</b>\",Sort!AC18&\"<br />\"&Sort!AD18&\"<br /><b>\"&Sort!AE18&\"</b>\"))","v":""},"</td>###<td class=\"Bld\">",{"$f":"IF(Sort!AF18=\"\",\"\",Sort!AF18)","v":""},"</td>###<td class=\"Bld\">",{"$f":"IF(Sort!AG18=\"\",\"\",Sort!AG18)","v":""},"</td>###</tr>",null,{"$f":"IF(Sort!I18=\"\",\"\",Sort!I18)","v":""},{"$f":"IF(Sort!J18=\"\",\"\",Sort!J18)","v":0},{"$f":"IF(Sort!L18=\"\",\"\",Sort!L18)","v":""},{"$f":"IF(Sort!M18=\"\",\"\",Sort!M18)","v":0},{"$f":"IF(Sort!O18=\"\",\"\",Sort!O18)","v":""},{"$f":"IF(Sort!P18=\"\",\"\",Sort!P18)","v":0},{"$f":"IF(Sort!R18=\"\",\"\",Sort!R18)","v":""},{"$f":"IF(Sort!S18=\"\",\"\",Sort!S18)","v":0},{"$f":"IF(Sort!U18=\"\",\"\",Sort!U18)","v":""},{"$f":"IF(Sort!V18=\"\",\"\",Sort!V18)","v":0},{"$f":"IF(Sort!X18=\"\",\"\",Sort!X18)","v":""},{"$f":"IF(Sort!Y18=\"\",\"\",Sort!Y18)","v":0},{"$f":"IF(Sort!B18=\"\",\"\",Sort!AA18)","v":""}]
["<tr align='center'>###<td class='Bld'>",{"$f":"Sort!AH19","v":""},"</td>###<td class='Bld'>",{"$f":"IF(Sort!B19=\"\",\"\",IF(Sort!C19=\"\",Sort!B19,Sort!B19&\"<br />#\"&Sort!C19))","v":""},"</td>###<td>",{"$f":"IF(Sort!E19=\"\",\"\",Sort!E19&\" \"&Sort!F19&\"<br />\"&Sort!G19)","v":""},"</td>###<td class='GrayOut'>",{"$f":"IF(Sort!H19=\"\",\"\",IF(Sort!I19=0,Sort!H19&\"<br /><span class='ClnMatch'>&nbsp;&nbsp;0&nbsp;&nbsp;</span><br /><b>\"&Sort!J19&\"</b>\",Sort!H19&\"<br />\"&Sort!I19&\"<br /><b>\"&Sort!J19&\"</b>\"))","v":""},"</td>###<td class='GrayOut'>",{"$f":"IF(Sort!K19=\"\",\"\",IF(Sort!L19=0,Sort!K19&\"<br /><span class='ClnMatch'>&nbsp;&nbsp;0&nbsp;&nbsp;</span><br /><b>\"&Sort!M19&\"</b>\",Sort!K19&\"<br />\"&Sort!L19&\"<br /><b>\"&Sort!M19&\"</b>\"))","v":""},"</td>###<td class='GrayOut'>",{"$f":"IF(Sort!N19=\"\",\"\",IF(Sort!O19=0,Sort!N19&\"<br /><span class='ClnMatch'>&nbsp;&nbsp;0&nbsp;&nbsp;</span><br /><b>\"&Sort!P19&\"</b>\",Sort!N19&\"<br />\"&Sort!O19&\"<br /><b>\"&Sort!P19&\"</b>\"))","v":""},"</td>###<td class='GrayOut'>",{"$f":"IF(Sort!Q19=\"\",\"\",IF(Sort!R19=0,Sort!Q19&\"<br /><span class='ClnMatch'>&nbsp;&nbsp;0&nbsp;&nbsp;</span><br /><b>\"&Sort!S19&\"</b>\",Sort!Q19&\"<br />\"&Sort!R19&\"<br /><b>\"&Sort!S19&\"</b>\"))","v":""},"</td>###<td class='GrayOut'>",{"$f":"IF(Sort!T19=\"\",\"\",IF(Sort!U19=0,Sort!T19&\"<br /><span class='ClnMatch'>&nbsp;&nbsp;0&nbsp;&nbsp;</span><br /><b>\"&Sort!V19&\"</b>\",Sort!T19&\"<br />\"&Sort!U19&\"<br /><b>\"&Sort!V19&\"</b>\"))","v":""},"</td>###<td class='GrayOut'>",{"$f":"IF(Sort!W19=\"\",\"\",IF(Sort!X19=0,Sort!W19&\"<br /><span class='ClnMatch'>&nbsp;&nbsp;0&nbsp;&nbsp;</span><br /><b>\"&Sort!Y19&\"</b>\",Sort!W19&\"<br />\"&Sort!X19&\"<br /><b>\"&Sort!Y19&\"</b>\"))","v":""},"</td>###<td>",{"$f":"IF(Sort!Z19=\"\",\"\",IF(Sort!AA19=0,Sort!Z19&\"<br /><span class='ClnMatch'>&nbsp;&nbsp;0&nbsp;&nbsp;</span><br /><b>\"&Sort!AB19&\"</b>\",Sort!Z19&\"<br />\"&Sort!AA19&\"<br /><b>\"&Sort!AB19&\"</b>\"))","v":""},"</td>###<td class=\"BluBld\">",{"$f":"IF(Sort!B19=\"\",\"\",IF(Sort!AA19=0,Sort!AC19&\"<br /><span class='ClnMatch'>&nbsp;&nbsp;0&nbsp;&nbsp;</span><br /><b>\"&Sort!AE19&\"</b>\",Sort!AC19&\"<br />\"&Sort!AD19&\"<br /><b>\"&Sort!AE19&\"</b>\"))","v":""},"</td>###<td class=\"Bld\">",{"$f":"IF(Sort!AF19=\"\",\"\",Sort!AF19)","v":""},"</td>###<td class=\"Bld\">",{"$f":"IF(Sort!AG19=\"\",\"\",Sort!AG19)","v":""},"</td>###</tr>",null,{"$f":"IF(Sort!I19=\"\",\"\",Sort!I19)","v":""},{"$f":"IF(Sort!J19=\"\",\"\",Sort!J19)","v":0},{"$f":"IF(Sort!L19=\"\",\"\",Sort!L19)","v":""},{"$f":"IF(Sort!M19=\"\",\"\",Sort!M19)","v":0},{"$f":"IF(Sort!O19=\"\",\"\",Sort!O19)","v":""},{"$f":"IF(Sort!P19=\"\",\"\",Sort!P19)","v":0},{"$f":"IF(Sort!R19=\"\",\"\",Sort!R19)","v":""},{"$f":"IF(Sort!S19=\"\",\"\",Sort!S19)","v":0},{"$f":"IF(Sort!U19=\"\",\"\",Sort!U19)","v":""},{"$f":"IF(Sort!V19=\"\",\"\",Sort!V19)","v":0},{"$f":"IF(Sort!X19=\"\",\"\",Sort!X19)","v":""},{"$f":"IF(Sort!Y19=\"\",\"\",Sort!Y19)","v":0},{"$f":"IF(Sort!B19=\"\",\"\",Sort!AA19)","v":""}]
["<tr align='center'>###<td class='Bld'>",{"$f":"Sort!AH20","v":""},"</td>###<td class='Bld'>",{"$f":"IF(Sort!B20=\"\",\"\",IF(Sort!C20=\"\",Sort!B20,Sort!B20&\"<br />#\"&Sort!C20))","v":""},"</td>###<td>",{"$f":"IF(Sort!E20=\"\",\"\",Sort!E20&\" \"&Sort!F20&\"<br />\"&Sort!G20)","v":""},"</td>###<td class='GrayOut'>",{"$f":"IF(Sort!H20=\"\",\"\",IF(Sort!I20=0,Sort!H20&\"<br /><span class='ClnMatch'>&nbsp;&nbsp;0&nbsp;&nbsp;</span><br /><b>\"&Sort!J20&\"</b>\",Sort!H20&\"<br />\"&Sort!I20&\"<br /><b>\"&Sort!J20&\"</b>\"))","v":""},"</td>###<td class='GrayOut'>",{"$f":"IF(Sort!K20=\"\",\"\",IF(Sort!L20=0,Sort!K20&\"<br /><span class='ClnMatch'>&nbsp;&nbsp;0&nbsp;&nbsp;</span><br /><b>\"&Sort!M20&\"</b>\",Sort!K20&\"<br />\"&Sort!L20&\"<br /><b>\"&Sort!M20&\"</b>\"))","v":""},"</td>###<td class='GrayOut'>",{"$f":"IF(Sort!N20=\"\",\"\",IF(Sort!O20=0,Sort!N20&\"<br /><span class='ClnMatch'>&nbsp;&nbsp;0&nbsp;&nbsp;</span><br /><b>\"&Sort!P20&\"</b>\",Sort!N20&\"<br />\"&Sort!O20&\"<br /><b>\"&Sort!P20&\"</b>\"))","v":""},"</td>###<td class='GrayOut'>",{"$f":"IF(Sort!Q20=\"\",\"\",IF(Sort!R20=0,Sort!Q20&\"<br /><span class='ClnMatch'>&nbsp;&nbsp;0&nbsp;&nbsp;</span><br /><b>\"&Sort!S20&\"</b>\",Sort!Q20&\"<br />\"&Sort!R20&\"<br /><b>\"&Sort!S20&\"</b>\"))","v":""},"</td>###<td class='GrayOut'>",{"$f":"IF(Sort!T20=\"\",\"\",IF(Sort!U20=0,Sort!T20&\"<br /><span class='ClnMatch'>&nbsp;&nbsp;0&nbsp;&nbsp;</span><br /><b>\"&Sort!V20&\"</b>\",Sort!T20&\"<br />\"&Sort!U20&\"<br /><b>\"&Sort!V20&\"</b>\"))","v":""},"</td>###<td class='GrayOut'>",{"$f":"IF(Sort!W20=\"\",\"\",IF(Sort!X20=0,Sort!W20&\"<br /><span class='ClnMatch'>&nbsp;&nbsp;0&nbsp;&nbsp;</span><br /><b>\"&Sort!Y20&\"</b>\",Sort!W20&\"<br />\"&Sort!X20&\"<br /><b>\"&Sort!Y20&\"</b>\"))","v":""},"</td>###<td>",{"$f":"IF(Sort!Z20=\"\",\"\",IF(Sort!AA20=0,Sort!Z20&\"<br /><span class='ClnMatch'>&nbsp;&nbsp;0&nbsp;&nbsp;</span><br /><b>\"&Sort!AB20&\"</b>\",Sort!Z20&\"<br />\"&Sort!AA20&\"<br /><b>\"&Sort!AB20&\"</b>\"))","v":""},"</td>###<td class=\"BluBld\">",{"$f":"IF(Sort!B20=\"\",\"\",IF(Sort!AA20=0,Sort!AC20&\"<br /><span class='ClnMatch'>&nbsp;&nbsp;0&nbsp;&nbsp;</span><br /><b>\"&Sort!AE20&\"</b>\",Sort!AC20&\"<br />\"&Sort!AD20&\"<br /><b>\"&Sort!AE20&\"</b>\"))","v":""},"</td>###<td class=\"Bld\">",{"$f":"IF(Sort!AF20=\"\",\"\",Sort!AF20)","v":""},"</td>###<td class=\"Bld\">",{"$f":"IF(Sort!AG20=\"\",\"\",Sort!AG20)","v":""},"</td>###</tr>",null,{"$f":"IF(Sort!I20=\"\",\"\",Sort!I20)","v":""},{"$f":"IF(Sort!J20=\"\",\"\",Sort!J20)","v":0},{"$f":"IF(Sort!L20=\"\",\"\",Sort!L20)","v":""},{"$f":"IF(Sort!M20=\"\",\"\",Sort!M20)","v":0},{"$f":"IF(Sort!O20=\"\",\"\",Sort!O20)","v":""},{"$f":"IF(Sort!P20=\"\",\"\",Sort!P20)","v":0},{"$f":"IF(Sort!R20=\"\",\"\",Sort!R20)","v":""},{"$f":"IF(Sort!S20=\"\",\"\",Sort!S20)","v":0},{"$f":"IF(Sort!U20=\"\",\"\",Sort!U20)","v":""},{"$f":"IF(Sort!V20=\"\",\"\",Sort!V20)","v":0},{"$f":"IF(Sort!X20=\"\",\"\",Sort!X20)","v":""},{"$f":"IF(Sort!Y20=\"\",\"\",Sort!Y20)","v":0},{"$f":"IF(Sort!B20=\"\",\"\",Sort!AA20)","v":""}]
["<tr align='center'>###<td class='Bld'>",{"$f":"Sort!AH21","v":""},"</td>###<td class='Bld'>",{"$f":"IF(Sort!B21=\"\",\"\",IF(Sort!C21=\"\",Sort!B21,Sort!B21&\"<br />#\"&Sort!C21))","v":""},"</td>###<td>",{"$f":"IF(Sort!E21=\"\",\"\",Sort!E21&\" \"&Sort!F21&\"<br />\"&Sort!G21)","v":""},"</td>###<td class='GrayOut'>",{"$f":"IF(Sort!H21=\"\",\"\",IF(Sort!I21=0,Sort!H21&\"<br /><span class='ClnMatch'>&nbsp;&nbsp;0&nbsp;&nbsp;</span><br /><b>\"&Sort!J21&\"</b>\",Sort!H21&\"<br />\"&Sort!I21&\"<br /><b>\"&Sort!J21&\"</b>\"))","v":""},"</td>###<td class='GrayOut'>",{"$f":"IF(Sort!K21=\"\",\"\",IF(Sort!L21=0,Sort!K21&\"<br /><span class='ClnMatch'>&nbsp;&nbsp;0&nbsp;&nbsp;</span><br /><b>\"&Sort!M21&\"</b>\",Sort!K21&\"<br />\"&Sort!L21&\"<br /><b>\"&Sort!M21&\"</b>\"))","v":""},"</td>###<td class='GrayOut'>",{"$f":"IF(Sort!N21=\"\",\"\",IF(Sort!O21=0,Sort!N21&\"<br /><span class='ClnMatch'>&nbsp;&nbsp;0&nbsp;&nbsp;</span><br /><b>\"&Sort!P21&\"</b>\",Sort!N21&\"<br />\"&Sort!O21&\"<br /><b>\"&Sort!P21&\"</b>\"))","v":""},"</td>###<td class='GrayOut'>",{"$f":"IF(Sort!Q21=\"\",\"\",IF(Sort!R21=0,Sort!Q21&\"<br /><span class='ClnMatch'>&nbsp;&nbsp;0&nbsp;&nbsp;</span><br /><b>\"&Sort!S21&\"</b>\",Sort!Q21&\"<br />\"&Sort!R21&\"<br /><b>\"&Sort!S21&\"</b>\"))","v":""},"</td>###<td class='GrayOut'>",{"$f":"IF(Sort!T21=\"\",\"\",IF(Sort!U21=0,Sort!T21&\"<br /><span class='ClnMatch'>&nbsp;&nbsp;0&nbsp;&nbsp;</span><br /><b>\"&Sort!V21&\"</b>\",Sort!T21&\"<br />\"&Sort!U21&\"<br /><b>\"&Sort!V21&\"</b>\"))","v":""},"</td>###<td class='GrayOut'>",{"$f":"IF(Sort!W21=\"\",\"\",IF(Sort!X21=0,Sort!W21&\"<br /><span class='ClnMatch'>&nbsp;&nbsp;0&nbsp;&nbsp;</span><br /><b>\"&Sort!Y21&\"</b>\",Sort!W21&\"<br />\"&Sort!X21&\"<br /><b>\"&Sort!Y21&\"</b>\"))","v":""},"</td>###<td>",{"$f":"IF(Sort!Z21=\"\",\"\",IF(Sort!AA21=0,Sort!Z21&\"<br /><span class='ClnMatch'>&nbsp;&nbsp;0&nbsp;&nbsp;</span><br /><b>\"&Sort!AB21&\"</b>\",Sort!Z21&\"<br />\"&Sort!AA21&\"<br /><b>\"&Sort!AB21&\"</b>\"))","v":""},"</td>###<td class=\"BluBld\">",{"$f":"IF(Sort!B21=\"\",\"\",IF(Sort!AA21=0,Sort!AC21&\"<br /><span class='ClnMatch'>&nbsp;&nbsp;0&nbsp;&nbsp;</span><br /><b>\"&Sort!AE21&\"</b>\",Sort!AC21&\"<br />\"&Sort!AD21&\"<br /><b>\"&Sort!AE21&\"</b>\"))","v":""},"</td>###<td class=\"Bld\">",{"$f":"IF(Sort!AF21=\"\",\"\",Sort!AF21)","v":""},"</td>###<td class=\"Bld\">",{"$f":"IF(Sort!AG21=\"\",\"\",Sort!AG21)","v":""},"</td>###</tr>",null,{"$f":"IF(Sort!I21=\"\",\"\",Sort!I21)","v":""},{"$f":"IF(Sort!J21=\"\",\"\",Sort!J21)","v":0},{"$f":"IF(Sort!L21=\"\",\"\",Sort!L21)","v":""},{"$f":"IF(Sort!M21=\"\",\"\",Sort!M21)","v":0},{"$f":"IF(Sort!O21=\"\",\"\",Sort!O21)","v":""},{"$f":"IF(Sort!P21=\"\",\"\",Sort!P21)","v":0},{"$f":"IF(Sort!R21=\"\",\"\",Sort!R21)","v":""},{"$f":"IF(Sort!S21=\"\",\"\",Sort!S21)","v":0},{"$f":"IF(Sort!U21=\"\",\"\",Sort!U21)","v":""},{"$f":"IF(Sort!V21=\"\",\"\",Sort!V21)","v":0},{"$f":"IF(Sort!X21=\"\",\"\",Sort!X21)","v":""},{"$f":"IF(Sort!Y21=\"\",\"\",Sort!Y21)","v":0},{"$f":"IF(Sort!B21=\"\",\"\",Sort!AA21)","v":""}]
["<tr align='center'>###<td class='Bld'>",{"$f":"Sort!AH22","v":""},"</td>###<td class='Bld'>",{"$f":"IF(Sort!B22=\"\",\"\",IF(Sort!C22=\"\",Sort!B22,Sort!B22&\"<br />#\"&Sort!C22))","v":""},"</td>###<td>",{"$f":"IF(Sort!E22=\"\",\"\",Sort!E22&\" \"&Sort!F22&\"<br />\"&Sort!G22)","v":""},"</td>###<td class='GrayOut'>",{"$f":"IF(Sort!H22=\"\",\"\",IF(Sort!I22=0,Sort!H22&\"<br /><span class='ClnMatch'>&nbsp;&nbsp;0&nbsp;&nbsp;</span><br /><b>\"&Sort!J22&\"</b>\",Sort!H22&\"<br />\"&Sort!I22&\"<br /><b>\"&Sort!J22&\"</b>\"))","v":""},"</td>###<td class='GrayOut'>",{"$f":"IF(Sort!K22=\"\",\"\",IF(Sort!L22=0,Sort!K22&\"<br /><span class='ClnMatch'>&nbsp;&nbsp;0&nbsp;&nbsp;</span><br /><b>\"&Sort!M22&\"</b>\",Sort!K22&\"<br />\"&Sort!L22&\"<br /><b>\"&Sort!M22&\"</b>\"))","v":""},"</td>###<td class='GrayOut'>",{"$f":"IF(Sort!N22=\"\",\"\",IF(Sort!O22=0,Sort!N22&\"<br /><span class='ClnMatch'>&nbsp;&nbsp;0&nbsp;&nbsp;</span><br /><b>\"&Sort!P22&\"</b>\",Sort!N22&\"<br />\"&Sort!O22&\"<br /><b>\"&Sort!P22&\"</b>\"))","v":""},"</td>###<td class='GrayOut'>",{"$f":"IF(Sort!Q22=\"\",\"\",IF(Sort!R22=0,Sort!Q22&\"<br /><span class='ClnMatch'>&nbsp;&nbsp;0&nbsp;&nbsp;</span><br /><b>\"&Sort!S22&\"</b>\",Sort!Q22&\"<br />\"&Sort!R22&\"<br /><b>\"&Sort!S22&\"</b>\"))","v":""},"</td>###<td class='GrayOut'>",{"$f":"IF(Sort!T22=\"\",\"\",IF(Sort!U22=0,Sort!T22&\"<br /><span class='ClnMatch'>&nbsp;&nbsp;0&nbsp;&nbsp;</span><br /><b>\"&Sort!V22&\"</b>\",Sort!T22&\"<br />\"&Sort!U22&\"<br /><b>\"&Sort!V22&\"</b>\"))","v":""},"</td>###<td class='GrayOut'>",{"$f":"IF(Sort!W22=\"\",\"\",IF(Sort!X22=0,Sort!W22&\"<br /><span class='ClnMatch'>&nbsp;&nbsp;0&nbsp;&nbsp;</span><br /><b>\"&Sort!Y22&\"</b>\",Sort!W22&\"<br />\"&Sort!X22&\"<br /><b>\"&Sort!Y22&\"</b>\"))","v":""},"</td>###<td>",{"$f":"IF(Sort!Z22=\"\",\"\",IF(Sort!AA22=0,Sort!Z22&\"<br /><span class='ClnMatch'>&nbsp;&nbsp;0&nbsp;&nbsp;</span><br /><b>\"&Sort!AB22&\"</b>\",Sort!Z22&\"<br />\"&Sort!AA22&\"<br /><b>\"&Sort!AB22&\"</b>\"))","v":""},"</td>###<td class=\"BluBld\">",{"$f":"IF(Sort!B22=\"\",\"\",IF(Sort!AA22=0,Sort!AC22&\"<br /><span class='ClnMatch'>&nbsp;&nbsp;0&nbsp;&nbsp;</span><br /><b>\"&Sort!AE22&\"</b>\",Sort!AC22&\"<br />\"&Sort!AD22&\"<br /><b>\"&Sort!AE22&\"</b>\"))","v":""},"</td>###<td class=\"Bld\">",{"$f":"IF(Sort!AF22=\"\",\"\",Sort!AF22)","v":""},"</td>###<td class=\"Bld\">",{"$f":"IF(Sort!AG22=\"\",\"\",Sort!AG22)","v":""},"</td>###</tr>",null,{"$f":"IF(Sort!I22=\"\",\"\",Sort!I22)","v":""},{"$f":"IF(Sort!J22=\"\",\"\",Sort!J22)","v":0},{"$f":"IF(Sort!L22=\"\",\"\",Sort!L22)","v":""},{"$f":"IF(Sort!M22=\"\",\"\",Sort!M22)","v":0},{"$f":"IF(Sort!O22=\"\",\"\",Sort!O22)","v":""},{"$f":"IF(Sort!P22=\"\",\"\",Sort!P22)","v":0},{"$f":"IF(Sort!R22=\"\",\"\",Sort!R22)","v":""},{"$f":"IF(Sort!S22=\"\",\"\",Sort!S22)","v":0},{"$f":"IF(Sort!U22=\"\",\"\",Sort!U22)","v":""},{"$f":"IF(Sort!V22=\"\",\"\",Sort!V22)","v":0},{"$f":"IF(Sort!X22=\"\",\"\",Sort!X22)","v":""},{"$f":"IF(Sort!Y22=\"\",\"\",Sort!Y22)","v":0},{"$f":"IF(Sort!B22=\"\",\"\",Sort!AA22)","v":""}]
["<tr align='center'>###<td class='Bld'>",{"$f":"Sort!AH23","v":""},"</td>###<td class='Bld'>",{"$f":"IF(Sort!B23=\"\",\"\",IF(Sort!C23=\"\",Sort!B23,Sort!B23&\"<br />#\"&Sort!C23))","v":""},"</td>###<td>",{"$f":"IF(Sort!E23=\"\",\"\",Sort!E23&\" \"&Sort!F23&\"<br />\"&Sort!G23)","v":""},"</td>###<td class='GrayOut'>",{"$f":"IF(Sort!H23=\"\",\"\",IF(Sort!I23=0,Sort!H23&\"<br /><span class='ClnMatch'>&nbsp;&nbsp;0&nbsp;&nbsp;</span><br /><b>\"&Sort!J23&\"</b>\",Sort!H23&\"<br />\"&Sort!I23&\"<br /><b>\"&Sort!J23&\"</b>\"))","v":""},"</td>###<td class='GrayOut'>",{"$f":"IF(Sort!K23=\"\",\"\",IF(Sort!L23=0,Sort!K23&\"<br /><span class='ClnMatch'>&nbsp;&nbsp;0&nbsp;&nbsp;</span><br /><b>\"&Sort!M23&\"</b>\",Sort!K23&\"<br />\"&Sort!L23&\"<br /><b>\"&Sort!M23&\"</b>\"))","v":""},"</td>###<td class='GrayOut'>",{"$f":"IF(Sort!N23=\"\",\"\",IF(Sort!O23=0,Sort!N23&\"<br /><span class='ClnMatch'>&nbsp;&nbsp;0&nbsp;&nbsp;</span><br /><b>\"&Sort!P23&\"</b>\",Sort!N23&\"<br />\"&Sort!O23&\"<br /><b>\"&Sort!P23&\"</b>\"))","v":""},"</td>###<td class='GrayOut'>",{"$f":"IF(Sort!Q23=\"\",\"\",IF(Sort!R23=0,Sort!Q23&\"<br /><span class='ClnMatch'>&nbsp;&nbsp;0&nbsp;&nbsp;</span><br /><b>\"&Sort!S23&\"</b>\",Sort!Q23&\"<br />\"&Sort!R23&\"<br /><b>\"&Sort!S23&\"</b>\"))","v":""},"</td>###<td class='GrayOut'>",{"$f":"IF(Sort!T23=\"\",\"\",IF(Sort!U23=0,Sort!T23&\"<br /><span class='ClnMatch'>&nbsp;&nbsp;0&nbsp;&nbsp;</span><br /><b>\"&Sort!V23&\"</b>\",Sort!T23&\"<br />\"&Sort!U23&\"<br /><b>\"&Sort!V23&\"</b>\"))","v":""},"</td>###<td class='GrayOut'>",{"$f":"IF(Sort!W23=\"\",\"\",IF(Sort!X23=0,Sort!W23&\"<br /><span class='ClnMatch'>&nbsp;&nbsp;0&nbsp;&nbsp;</span><br /><b>\"&Sort!Y23&\"</b>\",Sort!W23&\"<br />\"&Sort!X23&\"<br /><b>\"&Sort!Y23&\"</b>\"))","v":""},"</td>###<td>",{"$f":"IF(Sort!Z23=\"\",\"\",IF(Sort!AA23=0,Sort!Z23&\"<br /><span class='ClnMatch'>&nbsp;&nbsp;0&nbsp;&nbsp;</span><br /><b>\"&Sort!AB23&\"</b>\",Sort!Z23&\"<br />\"&Sort!AA23&\"<br /><b>\"&Sort!AB23&\"</b>\"))","v":""},"</td>###<td class=\"BluBld\">",{"$f":"IF(Sort!B23=\"\",\"\",IF(Sort!AA23=0,Sort!AC23&\"<br /><span class='ClnMatch'>&nbsp;&nbsp;0&nbsp;&nbsp;</span><br /><b>\"&Sort!AE23&\"</b>\",Sort!AC23&\"<br />\"&Sort!AD23&\"<br /><b>\"&Sort!AE23&\"</b>\"))","v":""},"</td>###<td class=\"Bld\">",{"$f":"IF(Sort!AF23=\"\",\"\",Sort!AF23)","v":""},"</td>###<td class=\"Bld\">",{"$f":"IF(Sort!AG23=\"\",\"\",Sort!AG23)","v":""},"</td>###</tr>",null,{"$f":"IF(Sort!I23=\"\",\"\",Sort!I23)","v":""},{"$f":"IF(Sort!J23=\"\",\"\",Sort!J23)","v":0},{"$f":"IF(Sort!L23=\"\",\"\",Sort!L23)","v":""},{"$f":"IF(Sort!M23=\"\",\"\",Sort!M23)","v":0},{"$f":"IF(Sort!O23=\"\",\"\",Sort!O23)","v":""},{"$f":"IF(Sort!P23=\"\",\"\",Sort!P23)","v":0},{"$f":"IF(Sort!R23=\"\",\"\",Sort!R23)","v":""},{"$f":"IF(Sort!S23=\"\",\"\",Sort!S23)","v":0},{"$f":"IF(Sort!U23=\"\",\"\",Sort!U23)","v":""},{"$f":"IF(Sort!V23=\"\",\"\",Sort!V23)","v":0},{"$f":"IF(Sort!X23=\"\",\"\",Sort!X23)","v":""},{"$f":"IF(Sort!Y23=\"\",\"\",Sort!Y23)","v":0},{"$f":"IF(Sort!B23=\"\",\"\",Sort!AA23)","v":""}]
["<tr align='center'>###<td class='Bld'>",{"$f":"Sort!AH24","v":""},"</td>###<td class='Bld'>",{"$f":"IF(Sort!B24=\"\",\"\",IF(Sort!C24=\"\",Sort!B24,Sort!B24&\"<br />#\"&Sort!C24))","v":""},"</td>###<td>",{"$f":"IF(Sort!E24=\"\",\"\",Sort!E24&\" \"&Sort!F24&\"<br />\"&Sort!G24)","v":""},"</td>###<td class='GrayOut'>",{"$f":"IF(Sort!H24=\"\",\"\",IF(Sort!I24=0,Sort!H24&\"<br /><span class='ClnMatch'>&nbsp;&nbsp;0&nbsp;&nbsp;</span><br /><b>\"&Sort!J24&\"</b>\",Sort!H24&\"<br />\"&Sort!I24&\"<br /><b>\"&Sort!J24&\"</b>\"))","v":""},"</td>###<td class='GrayOut'>",{"$f":"IF(Sort!K24=\"\",\"\",IF(Sort!L24=0,Sort!K24&\"<br /><span class='ClnMatch'>&nbsp;&nbsp;0&nbsp;&nbsp;</span><br /><b>\"&Sort!M24&\"</b>\",Sort!K24&\"<br />\"&Sort!L24&\"<br /><b>\"&Sort!M24&\"</b>\"))","v":""},"</td>###<td class='GrayOut'>",{"$f":"IF(Sort!N24=\"\",\"\",IF(Sort!O24=0,Sort!N24&\"<br /><span class='ClnMatch'>&nbsp;&nbsp;0&nbsp;&nbsp;</span><br /><b>\"&Sort!P24&\"</b>\",Sort!N24&\"<br />\"&Sort!O24&\"<br /><b>\"&Sort!P24&\"</b>\"))","v":""},"</td>###<td class='GrayOut'>",{"$f":"IF(Sort!Q24=\"\",\"\",IF(Sort!R24=0,Sort!Q24&\"<br /><span class='ClnMatch'>&nbsp;&nbsp;0&nbsp;&nbsp;</span><br /><b>\"&Sort!S24&\"</b>\",Sort!Q24&\"<br />\"&Sort!R24&\"<br /><b>\"&Sort!S24&\"</b>\"))","v":""},"</td>###<td class='GrayOut'>",{"$f":"IF(Sort!T24=\"\",\"\",IF(Sort!U24=0,Sort!T24&\"<br /><span class='ClnMatch'>&nbsp;&nbsp;0&nbsp;&nbsp;</span><br /><b>\"&Sort!V24&\"</b>\",Sort!T24&\"<br />\"&Sort!U24&\"<br /><b>\"&Sort!V24&\"</b>\"))","v":""},"</td>###<td class='GrayOut'>",{"$f":"IF(Sort!W24=\"\",\"\",IF(Sort!X24=0,Sort!W24&\"<br /><span class='ClnMatch'>&nbsp;&nbsp;0&nbsp;&nbsp;</span><br /><b>\"&Sort!Y24&\"</b>\",Sort!W24&\"<br />\"&Sort!X24&\"<br /><b>\"&Sort!Y24&\"</b>\"))","v":""},"</td>###<td>",{"$f":"IF(Sort!Z24=\"\",\"\",IF(Sort!AA24=0,Sort!Z24&\"<br /><span class='ClnMatch'>&nbsp;&nbsp;0&nbsp;&nbsp;</span><br /><b>\"&Sort!AB24&\"</b>\",Sort!Z24&\"<br />\"&Sort!AA24&\"<br /><b>\"&Sort!AB24&\"</b>\"))","v":""},"</td>###<td class=\"BluBld\">",{"$f":"IF(Sort!B24=\"\",\"\",IF(Sort!AA24=0,Sort!AC24&\"<br /><span class='ClnMatch'>&nbsp;&nbsp;0&nbsp;&nbsp;</span><br /><b>\"&Sort!AE24&\"</b>\",Sort!AC24&\"<br />\"&Sort!AD24&\"<br /><b>\"&Sort!AE24&\"</b>\"))","v":""},"</td>###<td class=\"Bld\">",{"$f":"IF(Sort!AF24=\"\",\"\",Sort!AF24)","v":""},"</td>###<td class=\"Bld\">",{"$f":"IF(Sort!AG24=\"\",\"\",Sort!AG24)","v":""},"</td>###</tr>",null,{"$f":"IF(Sort!I24=\"\",\"\",Sort!I24)","v":""},{"$f":"IF(Sort!J24=\"\",\"\",Sort!J24)","v":0},{"$f":"IF(Sort!L24=\"\",\"\",Sort!L24)","v":""},{"$f":"IF(Sort!M24=\"\",\"\",Sort!M24)","v":0},{"$f":"IF(Sort!O24=\"\",\"\",Sort!O24)","v":""},{"$f":"IF(Sort!P24=\"\",\"\",Sort!P24)","v":0},{"$f":"IF(Sort!R24=\"\",\"\",Sort!R24)","v":""},{"$f":"IF(Sort!S24=\"\",\"\",Sort!S24)","v":0},{"$f":"IF(Sort!U24=\"\",\"\",Sort!U24)","v":""},{"$f":"IF(Sort!V24=\"\",\"\",Sort!V24)","v":0},{"$f":"IF(Sort!X24=\"\",\"\",Sort!X24)","v":""},{"$f":"IF(Sort!Y24=\"\",\"\",Sort!Y24)","v":0},{"$f":"IF(Sort!B24=\"\",\"\",Sort!AA24)","v":""}]
["<tr align='center'>###<td class='Bld'>",{"$f":"Sort!AH25","v":""},"</td>###<td class='Bld'>",{"$f":"IF(Sort!B25=\"\",\"\",IF(Sort!C25=\"\",Sort!B25,Sort!B25&\"<br />#\"&Sort!C25))","v":""},"</td>###<td>",{"$f":"IF(Sort!E25=\"\",\"\",Sort!E25&\" \"&Sort!F25&\"<br />\"&Sort!G25)","v":""},"</td>###<td class='GrayOut'>",{"$f":"IF(Sort!H25=\"\",\"\",IF(Sort!I25=0,Sort!H25&\"<br /><span class='ClnMatch'>&nbsp;&nbsp;0&nbsp;&nbsp;</span><br /><b>\"&Sort!J25&\"</b>\",Sort!H25&\"<br />\"&Sort!I25&\"<br /><b>\"&Sort!J25&\"</b>\"))","v":""},"</td>###<td class='GrayOut'>",{"$f":"IF(Sort!K25=\"\",\"\",IF(Sort!L25=0,Sort!K25&\"<br /><span class='ClnMatch'>&nbsp;&nbsp;0&nbsp;&nbsp;</span><br /><b>\"&Sort!M25&\"</b>\",Sort!K25&\"<br />\"&Sort!L25&\"<br /><b>\"&Sort!M25&\"</b>\"))","v":""},"</td>###<td class='GrayOut'>",{"$f":"IF(Sort!N25=\"\",\"\",IF(Sort!O25=0,Sort!N25&\"<br /><span class='ClnMatch'>&nbsp;&nbsp;0&nbsp;&nbsp;</span><br /><b>\"&Sort!P25&\"</b>\",Sort!N25&\"<br />\"&Sort!O25&\"<br /><b>\"&Sort!P25&\"</b>\"))","v":""},"</td>###<td class='GrayOut'>",{"$f":"IF(Sort!Q25=\"\",\"\",IF(Sort!R25=0,Sort!Q25&\"<br /><span class='ClnMatch'>&nbsp;&nbsp;0&nbsp;&nbsp;</span><br /><b>\"&Sort!S25&\"</b>\",Sort!Q25&\"<br />\"&Sort!R25&\"<br /><b>\"&Sort!S25&\"</b>\"))","v":""},"</td>###<td class='GrayOut'>",{"$f":"IF(Sort!T25=\"\",\"\",IF(Sort!U25=0,Sort!T25&\"<br /><span class='ClnMatch'>&nbsp;&nbsp;0&nbsp;&nbsp;</span><br /><b>\"&Sort!V25&\"</b>\",Sort!T25&\"<br />\"&Sort!U25&\"<br /><b>\"&Sort!V25&\"</b>\"))","v":""},"</td>###<td class='GrayOut'>",{"$f":"IF(Sort!W25=\"\",\"\",IF(Sort!X25=0,Sort!W25&\"<br /><span class='ClnMatch'>&nbsp;&nbsp;0&nbsp;&nbsp;</span><br /><b>\"&Sort!Y25&\"</b>\",Sort!W25&\"<br />\"&Sort!X25&\"<br /><b>\"&Sort!Y25&\"</b>\"))","v":""},"</td>###<td>",{"$f":"IF(Sort!Z25=\"\",\"\",IF(Sort!AA25=0,Sort!Z25&\"<br /><span class='ClnMatch'>&nbsp;&nbsp;0&nbsp;&nbsp;</span><br /><b>\"&Sort!AB25&\"</b>\",Sort!Z25&\"<br />\"&Sort!AA25&\"<br /><b>\"&Sort!AB25&\"</b>\"))","v":""},"</td>###<td class=\"BluBld\">",{"$f":"IF(Sort!B25=\"\",\"\",IF(Sort!AA25=0,Sort!AC25&\"<br /><span class='ClnMatch'>&nbsp;&nbsp;0&nbsp;&nbsp;</span><br /><b>\"&Sort!AE25&\"</b>\",Sort!AC25&\"<br />\"&Sort!AD25&\"<br /><b>\"&Sort!AE25&\"</b>\"))","v":""},"</td>###<td class=\"Bld\">",{"$f":"IF(Sort!AF25=\"\",\"\",Sort!AF25)","v":""},"</td>###<td class=\"Bld\">",{"$f":"IF(Sort!AG25=\"\",\"\",Sort!AG25)","v":""},"</td>###</tr>",null,{"$f":"IF(Sort!I25=\"\",\"\",Sort!I25)","v":""},{"$f":"IF(Sort!J25=\"\",\"\",Sort!J25)","v":0},{"$f":"IF(Sort!L25=\"\",\"\",Sort!L25)","v":""},{"$f":"IF(Sort!M25=\"\",\"\",Sort!M25)","v":0},{"$f":"IF(Sort!O25=\"\",\"\",Sort!O25)","v":""},{"$f":"IF(Sort!P25=\"\",\"\",Sort!P25)","v":0},{"$f":"IF(Sort!R25=\"\",\"\",Sort!R25)","v":""},{"$f":"IF(Sort!S25=\"\",\"\",Sort!S25)","v":0},{"$f":"IF(Sort!U25=\"\",\"\",Sort!U25)","v":""},{"$f":"IF(Sort!V25=\"\",\"\",Sort!V25)","v":0},{"$f":"IF(Sort!X25=\"\",\"\",Sort!X25)","v":""},{"$f":"IF(Sort!Y25=\"\",\"\",Sort!Y25)","v":0},{"$f":"IF(Sort!B25=\"\",\"\",Sort!AA25)","v":""}]
["<tr align='center'>###<td class='Bld'>",{"$f":"Sort!AH26","v":""},"</td>###<td class='Bld'>",{"$f":"IF(Sort!B26=\"\",\"\",IF(Sort!C26=\"\",Sort!B26,Sort!B26&\"<br />#\"&Sort!C26))","v":""},"</td>###<td>",{"$f":"IF(Sort!E26=\"\",\"\",Sort!E26&\" \"&Sort!F26&\"<br />\"&Sort!G26)","v":""},"</td>###<td class='GrayOut'>",{"$f":"IF(Sort!H26=\"\",\"\",IF(Sort!I26=0,Sort!H26&\"<br /><span class='ClnMatch'>&nbsp;&nbsp;0&nbsp;&nbsp;</span><br /><b>\"&Sort!J26&\"</b>\",Sort!H26&\"<br />\"&Sort!I26&\"<br /><b>\"&Sort!J26&\"</b>\"))","v":""},"</td>###<td class='GrayOut'>",{"$f":"IF(Sort!K26=\"\",\"\",IF(Sort!L26=0,Sort!K26&\"<br /><span class='ClnMatch'>&nbsp;&nbsp;0&nbsp;&nbsp;</span><br /><b>\"&Sort!M26&\"</b>\",Sort!K26&\"<br />\"&Sort!L26&\"<br /><b>\"&Sort!M26&\"</b>\"))","v":""},"</td>###<td class='GrayOut'>",{"$f":"IF(Sort!N26=\"\",\"\",IF(Sort!O26=0,Sort!N26&\"<br /><span class='ClnMatch'>&nbsp;&nbsp;0&nbsp;&nbsp;</span><br /><b>\"&Sort!P26&\"</b>\",Sort!N26&\"<br />\"&Sort!O26&\"<br /><b>\"&Sort!P26&\"</b>\"))","v":""},"</td>###<td class='GrayOut'>",{"$f":"IF(Sort!Q26=\"\",\"\",IF(Sort!R26=0,Sort!Q26&\"<br /><span class='ClnMatch'>&nbsp;&nbsp;0&nbsp;&nbsp;</span><br /><b>\"&Sort!S26&\"</b>\",Sort!Q26&\"<br />\"&Sort!R26&\"<br /><b>\"&Sort!S26&\"</b>\"))","v":""},"</td>###<td class='GrayOut'>",{"$f":"IF(Sort!T26=\"\",\"\",IF(Sort!U26=0,Sort!T26&\"<br /><span class='ClnMatch'>&nbsp;&nbsp;0&nbsp;&nbsp;</span><br /><b>\"&Sort!V26&\"</b>\",Sort!T26&\"<br />\"&Sort!U26&\"<br /><b>\"&Sort!V26&\"</b>\"))","v":""},"</td>###<td class='GrayOut'>",{"$f":"IF(Sort!W26=\"\",\"\",IF(Sort!X26=0,Sort!W26&\"<br /><span class='ClnMatch'>&nbsp;&nbsp;0&nbsp;&nbsp;</span><br /><b>\"&Sort!Y26&\"</b>\",Sort!W26&\"<br />\"&Sort!X26&\"<br /><b>\"&Sort!Y26&\"</b>\"))","v":""},"</td>###<td>",{"$f":"IF(Sort!Z26=\"\",\"\",IF(Sort!AA26=0,Sort!Z26&\"<br /><span class='ClnMatch'>&nbsp;&nbsp;0&nbsp;&nbsp;</span><br /><b>\"&Sort!AB26&\"</b>\",Sort!Z26&\"<br />\"&Sort!AA26&\"<br /><b>\"&Sort!AB26&\"</b>\"))","v":""},"</td>###<td class=\"BluBld\">",{"$f":"IF(Sort!B26=\"\",\"\",IF(Sort!AA26=0,Sort!AC26&\"<br /><span class='ClnMatch'>&nbsp;&nbsp;0&nbsp;&nbsp;</span><br /><b>\"&Sort!AE26&\"</b>\",Sort!AC26&\"<br />\"&Sort!AD26&\"<br /><b>\"&Sort!AE26&\"</b>\"))","v":""},"</td>###<td class=\"Bld\">",{"$f":"IF(Sort!AF26=\"\",\"\",Sort!AF26)","v":""},"</td>###<td class=\"Bld\">",{"$f":"IF(Sort!AG26=\"\",\"\",Sort!AG26)","v":""},"</td>###</tr>",null,{"$f":"IF(Sort!I26=\"\",\"\",Sort!I26)","v":""},{"$f":"IF(Sort!J26=\"\",\"\",Sort!J26)","v":0},{"$f":"IF(Sort!L26=\"\",\"\",Sort!L26)","v":""},{"$f":"IF(Sort!M26=\"\",\"\",Sort!M26)","v":0},{"$f":"IF(Sort!O26=\"\",\"\",Sort!O26)","v":""},{"$f":"IF(Sort!P26=\"\",\"\",Sort!P26)","v":0},{"$f":"IF(Sort!R26=\"\",\"\",Sort!R26)","v":""},{"$f":"IF(Sort!S26=\"\",\"\",Sort!S26)","v":0},{"$f":"IF(Sort!U26=\"\",\"\",Sort!U26)","v":""},{"$f":"IF(Sort!V26=\"\",\"\",Sort!V26)","v":0},{"$f":"IF(Sort!X26=\"\",\"\",Sort!X26)","v":""},{"$f":"IF(Sort!Y26=\"\",\"\",Sort!Y26)","v":0},{"$f":"IF(Sort!B26=\"\",\"\",Sort!AA26)","v":""}]
["<tr align='center'>###<td class='Bld'>",{"$f":"Sort!AH27","v":""},"</td>###<td class='Bld'>",{"$f":"IF(Sort!B27=\"\",\"\",IF(Sort!C27=\"\",Sort!B27,Sort!B27&\"<br />#\"&Sort!C27))","v":""},"</td>###<td>",{"$f":"IF(Sort!E27=\"\",\"\",Sort!E27&\" \"&Sort!F27&\"<br />\"&Sort!G27)","v":""},"</td>###<td class='GrayOut'>",{"$f":"IF(Sort!H27=\"\",\"\",IF(Sort!I27=0,Sort!H27&\"<br /><span class='ClnMatch'>&nbsp;&nbsp;0&nbsp;&nbsp;</span><br /><b>\"&Sort!J27&\"</b>\",Sort!H27&\"<br />\"&Sort!I27&\"<br /><b>\"&Sort!J27&\"</b>\"))","v":""},"</td>###<td class='GrayOut'>",{"$f":"IF(Sort!K27=\"\",\"\",IF(Sort!L27=0,Sort!K27&\"<br /><span class='ClnMatch'>&nbsp;&nbsp;0&nbsp;&nbsp;</span><br /><b>\"&Sort!M27&\"</b>\",Sort!K27&\"<br />\"&Sort!L27&\"<br /><b>\"&Sort!M27&\"</b>\"))","v":""},"</td>###<td class='GrayOut'>",{"$f":"IF(Sort!N27=\"\",\"\",IF(Sort!O27=0,Sort!N27&\"<br /><span class='ClnMatch'>&nbsp;&nbsp;0&nbsp;&nbsp;</span><br /><b>\"&Sort!P27&\"</b>\",Sort!N27&\"<br />\"&Sort!O27&\"<br /><b>\"&Sort!P27&\"</b>\"))","v":""},"</td>###<td class='GrayOut'>",{"$f":"IF(Sort!Q27=\"\",\"\",IF(Sort!R27=0,Sort!Q27&\"<br /><span class='ClnMatch'>&nbsp;&nbsp;0&nbsp;&nbsp;</span><br /><b>\"&Sort!S27&\"</b>\",Sort!Q27&\"<br />\"&Sort!R27&\"<br /><b>\"&Sort!S27&\"</b>\"))","v":""},"</td>###<td class='GrayOut'>",{"$f":"IF(Sort!T27=\"\",\"\",IF(Sort!U27=0,Sort!T27&\"<br /><span class='ClnMatch'>&nbsp;&nbsp;0&nbsp;&nbsp;</span><br /><b>\"&Sort!V27&\"</b>\",Sort!T27&\"<br />\"&Sort!U27&\"<br /><b>\"&Sort!V27&\"</b>\"))","v":""},"</td>###<td class='GrayOut'>",{"$f":"IF(Sort!W27=\"\",\"\",IF(Sort!X27=0,Sort!W27&\"<br /><span class='ClnMatch'>&nbsp;&nbsp;0&nbsp;&nbsp;</span><br /><b>\"&Sort!Y27&\"</b>\",Sort!W27&\"<br />\"&Sort!X27&\"<br /><b>\"&Sort!Y27&\"</b>\"))","v":""},"</td>###<td>",{"$f":"IF(Sort!Z27=\"\",\"\",IF(Sort!AA27=0,Sort!Z27&\"<br /><span class='ClnMatch'>&nbsp;&nbsp;0&nbsp;&nbsp;</span><br /><b>\"&Sort!AB27&\"</b>\",Sort!Z27&\"<br />\"&Sort!AA27&\"<br /><b>\"&Sort!AB27&\"</b>\"))","v":""},"</td>###<td class=\"BluBld\">",{"$f":"IF(Sort!B27=\"\",\"\",IF(Sort!AA27=0,Sort!AC27&\"<br /><span class='ClnMatch'>&nbsp;&nbsp;0&nbsp;&nbsp;</span><br /><b>\"&Sort!AE27&\"</b>\",Sort!AC27&\"<br />\"&Sort!AD27&\"<br /><b>\"&Sort!AE27&\"</b>\"))","v":""},"</td>###<td class=\"Bld\">",{"$f":"IF(Sort!AF27=\"\",\"\",Sort!AF27)","v":""},"</td>###<td class=\"Bld\">",{"$f":"IF(Sort!AG27=\"\",\"\",Sort!AG27)","v":""},"</td>###</tr>",null,{"$f":"IF(Sort!I27=\"\",\"\",Sort!I27)","v":""},{"$f":"IF(Sort!J27=\"\",\"\",Sort!J27)","v":0},{"$f":"IF(Sort!L27=\"\",\"\",Sort!L27)","v":""},{"$f":"IF(Sort!M27=\"\",\"\",Sort!M27)","v":0},{"$f":"IF(Sort!O27=\"\",\"\",Sort!O27)","v":""},{"$f":"IF(Sort!P27=\"\",\"\",Sort!P27)","v":0},{"$f":"IF(Sort!R27=\"\",\"\",Sort!R27)","v":""},{"$f":"IF(Sort!S27=\"\",\"\",Sort!S27)","v":0},{"$f":"IF(Sort!U27=\"\",\"\",Sort!U27)","v":""},{"$f":"IF(Sort!V27=\"\",\"\",Sort!V27)","v":0},{"$f":"IF(Sort!X27=\"\",\"\",Sort!X27)","v":""},{"$f":"IF(Sort!Y27=\"\",\"\",Sort!Y27)","v":0},{"$f":"IF(Sort!B27=\"\",\"\",Sort!AA27)","v":""}]
["<tr align='center'>###<td class='Bld'>",{"$f":"Sort!AH28","v":""},"</td>###<td class='Bld'>",{"$f":"IF(Sort!B28=\"\",\"\",IF(Sort!C28=\"\",Sort!B28,Sort!B28&\"<br />#\"&Sort!C28))","v":""},"</td>###<td>",{"$f":"IF(Sort!E28=\"\",\"\",Sort!E28&\" \"&Sort!F28&\"<br />\"&Sort!G28)","v":""},"</td>###<td class='GrayOut'>",{"$f":"IF(Sort!H28=\"\",\"\",IF(Sort!I28=0,Sort!H28&\"<br /><span class='ClnMatch'>&nbsp;&nbsp;0&nbsp;&nbsp;</span><br /><b>\"&Sort!J28&\"</b>\",Sort!H28&\"<br />\"&Sort!I28&\"<br /><b>\"&Sort!J28&\"</b>\"))","v":""},"</td>###<td class='GrayOut'>",{"$f":"IF(Sort!K28=\"\",\"\",IF(Sort!L28=0,Sort!K28&\"<br /><span class='ClnMatch'>&nbsp;&nbsp;0&nbsp;&nbsp;</span><br /><b>\"&Sort!M28&\"</b>\",Sort!K28&\"<br />\"&Sort!L28&\"<br /><b>\"&Sort!M28&\"</b>\"))","v":""},"</td>###<td class='GrayOut'>",{"$f":"IF(Sort!N28=\"\",\"\",IF(Sort!O28=0,Sort!N28&\"<br /><span class='ClnMatch'>&nbsp;&nbsp;0&nbsp;&nbsp;</span><br /><b>\"&Sort!P28&\"</b>\",Sort!N28&\"<br />\"&Sort!O28&\"<br /><b>\"&Sort!P28&\"</b>\"))","v":""},"</td>###<td class='GrayOut'>",{"$f":"IF(Sort!Q28=\"\",\"\",IF(Sort!R28=0,Sort!Q28&\"<br /><span class='ClnMatch'>&nbsp;&nbsp;0&nbsp;&nbsp;</span><br /><b>\"&Sort!S28&\"</b>\",Sort!Q28&\"<br />\"&Sort!R28&\"<br /><b>\"&Sort!S28&\"</b>\"))","v":""},"</td>###<td class='GrayOut'>",{"$f":"IF(Sort!T28=\"\",\"\",IF(Sort!U28=0,Sort!T28&\"<br /><span class='ClnMatch'>&nbsp;&nbsp;0&nbsp;&nbsp;</span><br /><b>\"&Sort!V28&\"</b>\",Sort!T28&\"<br />\"&Sort!U28&\"<br /><b>\"&Sort!V28&\"</b>\"))","v":""},"</td>###<td class='GrayOut'>",{"$f":"IF(Sort!W28=\"\",\"\",IF(Sort!X28=0,Sort!W28&\"<br /><span class='ClnMatch'>&nbsp;&nbsp;0&nbsp;&nbsp;</span><br /><b>\"&Sort!Y28&\"</b>\",Sort!W28&\"<br />\"&Sort!X28&\"<br /><b>\"&Sort!Y28&\"</b>\"))","v":""},"</td>###<td>",{"$f":"IF(Sort!Z28=\"\",\"\",IF(Sort!AA28=0,Sort!Z28&\"<br /><span class='ClnMatch'>&nbsp;&nbsp;0&nbsp;&nbsp;</span><br /><b>\"&Sort!AB28&\"</b>\",Sort!Z28&\"<br />\"&Sort!AA28&\"<br /><b>\"&Sort!AB28&\"</b>\"))","v":""},"</td>###<td class=\"BluBld\">",{"$f":"IF(Sort!B28=\"\",\"\",IF(Sort!AA28=0,Sort!AC28&\"<br /><span class='ClnMatch'>&nbsp;&nbsp;0&nbsp;&nbsp;</span><br /><b>\"&Sort!AE28&\"</b>\",Sort!AC28&\"<br />\"&Sort!AD28&\"<br /><b>\"&Sort!AE28&\"</b>\"))","v":""},"</td>###<td class=\"Bld\">",{"$f":"IF(Sort!AF28=\"\",\"\",Sort!AF28)","v":""},"</td>###<td class=\"Bld\">",{"$f":"IF(Sort!AG28=\"\",\"\",Sort!AG28)","v":""},"</td>###</tr>",null,{"$f":"IF(Sort!I28=\"\",\"\",Sort!I28)","v":""},{"$f":"IF(Sort!J28=\"\",\"\",Sort!J28)","v":0},{"$f":"IF(Sort!L28=\"\",\"\",Sort!L28)","v":""},{"$f":"IF(Sort!M28=\"\",\"\",Sort!M28)","v":0},{"$f":"IF(Sort!O28=\"\",\"\",Sort!O28)","v":""},{"$f":"IF(Sort!P28=\"\",\"\",Sort!P28)","v":0},{"$f":"IF(Sort!R28=\"\",\"\",Sort!R28)","v":""},{"$f":"IF(Sort!S28=\"\",\"\",Sort!S28)","v":0},{"$f":"IF(Sort!U28=\"\",\"\",Sort!U28)","v":""},{"$f":"IF(Sort!V28=\"\",\"\",Sort!V28)","v":0},{"$f":"IF(Sort!X28=\"\",\"\",Sort!X28)","v":""},{"$f":"IF(Sort!Y28=\"\",\"\",Sort!Y28)","v":0},{"$f":"IF(Sort!B28=\"\",\"\",Sort!AA28)","v":""}]
["<tr align='center'>###<td class='Bld'>",{"$f":"Sort!AH29","v":""},"</td>###<td class='Bld'>",{"$f":"IF(Sort!B29=\"\",\"\",IF(Sort!C29=\"\",Sort!B29,Sort!B29&\"<br />#\"&Sort!C29))","v":""},"</td>###<td>",{"$f":"IF(Sort!E29=\"\",\"\",Sort!E29&\" \"&Sort!F29&\"<br />\"&Sort!G29)","v":""},"</td>###<td class='GrayOut'>",{"$f":"IF(Sort!H29=\"\",\"\",IF(Sort!I29=0,Sort!H29&\"<br /><span class='ClnMatch'>&nbsp;&nbsp;0&nbsp;&nbsp;</span><br /><b>\"&Sort!J29&\"</b>\",Sort!H29&\"<br />\"&Sort!I29&\"<br /><b>\"&Sort!J29&\"</b>\"))","v":""},"</td>###<td class='GrayOut'>",{"$f":"IF(Sort!K29=\"\",\"\",IF(Sort!L29=0,Sort!K29&\"<br /><span class='ClnMatch'>&nbsp;&nbsp;0&nbsp;&nbsp;</span><br /><b>\"&Sort!M29&\"</b>\",Sort!K29&\"<br />\"&Sort!L29&\"<br /><b>\"&Sort!M29&\"</b>\"))","v":""},"</td>###<td class='GrayOut'>",{"$f":"IF(Sort!N29=\"\",\"\",IF(Sort!O29=0,Sort!N29&\"<br /><span class='ClnMatch'>&nbsp;&nbsp;0&nbsp;&nbsp;</span><br /><b>\"&Sort!P29&\"</b>\",Sort!N29&\"<br />\"&Sort!O29&\"<br /><b>\"&Sort!P29&\"</b>\"))","v":""},"</td>###<td class='GrayOut'>",{"$f":"IF(Sort!Q29=\"\",\"\",IF(Sort!R29=0,Sort!Q29&\"<br /><span class='ClnMatch'>&nbsp;&nbsp;0&nbsp;&nbsp;</span><br /><b>\"&Sort!S29&\"</b>\",Sort!Q29&\"<br />\"&Sort!R29&\"<br /><b>\"&Sort!S29&\"</b>\"))","v":""},"</td>###<td class='GrayOut'>",{"$f":"IF(Sort!T29=\"\",\"\",IF(Sort!U29=0,Sort!T29&\"<br /><span class='ClnMatch'>&nbsp;&nbsp;0&nbsp;&nbsp;</span><br /><b>\"&Sort!V29&\"</b>\",Sort!T29&\"<br />\"&Sort!U29&\"<br /><b>\"&Sort!V29&\"</b>\"))","v":""},"</td>###<td class='GrayOut'>",{"$f":"IF(Sort!W29=\"\",\"\",IF(Sort!X29=0,Sort!W29&\"<br /><span class='ClnMatch'>&nbsp;&nbsp;0&nbsp;&nbsp;</span><br /><b>\"&Sort!Y29&\"</b>\",Sort!W29&\"<br />\"&Sort!X29&\"<br /><b>\"&Sort!Y29&\"</b>\"))","v":""},"</td>###<td>",{"$f":"IF(Sort!Z29=\"\",\"\",IF(Sort!AA29=0,Sort!Z29&\"<br /><span class='ClnMatch'>&nbsp;&nbsp;0&nbsp;&nbsp;</span><br /><b>\"&Sort!AB29&\"</b>\",Sort!Z29&\"<br />\"&Sort!AA29&\"<br /><b>\"&Sort!AB29&\"</b>\"))","v":""},"</td>###<td class=\"BluBld\">",{"$f":"IF(Sort!B29=\"\",\"\",IF(Sort!AA29=0,Sort!AC29&\"<br /><span class='ClnMatch'>&nbsp;&nbsp;0&nbsp;&nbsp;</span><br /><b>\"&Sort!AE29&\"</b>\",Sort!AC29&\"<br />\"&Sort!AD29&\"<br /><b>\"&Sort!AE29&\"</b>\"))","v":""},"</td>###<td class=\"Bld\">",{"$f":"IF(Sort!AF29=\"\",\"\",Sort!AF29)","v":""},"</td>###<td class=\"Bld\">",{"$f":"IF(Sort!AG29=\"\",\"\",Sort!AG29)","v":""},"</td>###</tr>",null,{"$f":"IF(Sort!I29=\"\",\"\",Sort!I29)","v":""},{"$f":"IF(Sort!J29=\"\",\"\",Sort!J29)","v":0},{"$f":"IF(Sort!L29=\"\",\"\",Sort!L29)","v":""},{"$f":"IF(Sort!M29=\"\",\"\",Sort!M29)","v":0},{"$f":"IF(Sort!O29=\"\",\"\",Sort!O29)","v":""},{"$f":"IF(Sort!P29=\"\",\"\",Sort!P29)","v":0},{"$f":"IF(Sort!R29=\"\",\"\",Sort!R29)","v":""},{"$f":"IF(Sort!S29=\"\",\"\",Sort!S29)","v":0},{"$f":"IF(Sort!U29=\"\",\"\",Sort!U29)","v":""},{"$f":"IF(Sort!V29=\"\",\"\",Sort!V29)","v":0},{"$f":"IF(Sort!X29=\"\",\"\",Sort!X29)","v":""},{"$f":"IF(Sort!Y29=\"\",\"\",Sort!Y29)","v":0},{"$f":"IF(Sort!B29=\"\",\"\",Sort!AA29)","v":""}]
["<tr align='center'>###<td class='Bld'>",{"$f":"Sort!AH30","v":""},"</td>###<td class='Bld'>",{"$f":"IF(Sort!B30=\"\",\"\",IF(Sort!C30=\"\",Sort!B30,Sort!B30&\"<br />#\"&Sort!C30))","v":""},"</td>###<td>",{"$f":"IF(Sort!E30=\"\",\"\",Sort!E30&\" \"&Sort!F30&\"<br />\"&Sort!G30)","v":""},"</td>###<td class='GrayOut'>",{"$f":"IF(Sort!H30=\"\",\"\",IF(Sort!I30=0,Sort!H30&\"<br /><span class='ClnMatch'>&nbsp;&nbsp;0&nbsp;&nbsp;</span><br /><b>\"&Sort!J30&\"</b>\",Sort!H30&\"<br />\"&Sort!I30&\"<br /><b>\"&Sort!J30&\"</b>\"))","v":""},"</td>###<td class='GrayOut'>",{"$f":"IF(Sort!K30=\"\",\"\",IF(Sort!L30=0,Sort!K30&\"<br /><span class='ClnMatch'>&nbsp;&nbsp;0&nbsp;&nbsp;</span><br /><b>\"&Sort!M30&\"</b>\",Sort!K30&\"<br />\"&Sort!L30&\"<br /><b>\"&Sort!M30&\"</b>\"))","v":""},"</td>###<td class='GrayOut'>",{"$f":"IF(Sort!N30=\"\",\"\",IF(Sort!O30=0,Sort!N30&\"<br /><span class='ClnMatch'>&nbsp;&nbsp;0&nbsp;&nbsp;</span><br /><b>\"&Sort!P30&\"</b>\",Sort!N30&\"<br />\"&Sort!O30&\"<br /><b>\"&Sort!P30&\"</b>\"))","v":""},"</td>###<td class='GrayOut'>",{"$f":"IF(Sort!Q30=\"\",\"\",IF(Sort!R30=0,Sort!Q30&\"<br /><span class='ClnMatch'>&nbsp;&nbsp;0&nbsp;&nbsp;</span><br /><b>\"&Sort!S30&\"</b>\",Sort!Q30&\"<br />\"&Sort!R30&\"<br /><b>\"&Sort!S30&\"</b>\"))","v":""},"</td>###<td class='GrayOut'>",{"$f":"IF(Sort!T30=\"\",\"\",IF(Sort!U30=0,Sort!T30&\"<br /><span class='ClnMatch'>&nbsp;&nbsp;0&nbsp;&nbsp;</span><br /><b>\"&Sort!V30&\"</b>\",Sort!T30&\"<br />\"&Sort!U30&\"<br /><b>\"&Sort!V30&\"</b>\"))","v":""},"</td>###<td class='GrayOut'>",{"$f":"IF(Sort!W30=\"\",\"\",IF(Sort!X30=0,Sort!W30&\"<br /><span class='ClnMatch'>&nbsp;&nbsp;0&nbsp;&nbsp;</span><br /><b>\"&Sort!Y30&\"</b>\",Sort!W30&\"<br />\"&Sort!X30&\"<br /><b>\"&Sort!Y30&\"</b>\"))","v":""},"</td>###<td>",{"$f":"IF(Sort!Z30=\"\",\"\",IF(Sort!AA30=0,Sort!Z30&\"<br /><span class='ClnMatch'>&nbsp;&nbsp;0&nbsp;&nbsp;</span><br /><b>\"&Sort!AB30&\"</b>\",Sort!Z30&\"<br />\"&Sort!AA30&\"<br /><b>\"&Sort!AB30&\"</b>\"))","v":""},"</td>###<td class=\"BluBld\">",{"$f":"IF(Sort!B30=\"\",\"\",IF(Sort!AA30=0,Sort!AC30&\"<br /><span class='ClnMatch'>&nbsp;&nbsp;0&nbsp;&nbsp;</span><br /><b>\"&Sort!AE30&\"</b>\",Sort!AC30&\"<br />\"&Sort!AD30&\"<br /><b>\"&Sort!AE30&\"</b>\"))","v":""},"</td>###<td class=\"Bld\">",{"$f":"IF(Sort!AF30=\"\",\"\",Sort!AF30)","v":""},"</td>###<td class=\"Bld\">",{"$f":"IF(Sort!AG30=\"\",\"\",Sort!AG30)","v":""},"</td>###</tr>",null,{"$f":"IF(Sort!I30=\"\",\"\",Sort!I30)","v":""},{"$f":"IF(Sort!J30=\"\",\"\",Sort!J30)","v":0},{"$f":"IF(Sort!L30=\"\",\"\",Sort!L30)","v":""},{"$f":"IF(Sort!M30=\"\",\"\",Sort!M30)","v":0},{"$f":"IF(Sort!O30=\"\",\"\",Sort!O30)","v":""},{"$f":"IF(Sort!P30=\"\",\"\",Sort!P30)","v":0},{"$f":"IF(Sort!R30=\"\",\"\",Sort!R30)","v":""},{"$f":"IF(Sort!S30=\"\",\"\",Sort!S30)","v":0},{"$f":"IF(Sort!U30=\"\",\"\",Sort!U30)","v":""},{"$f":"IF(Sort!V30=\"\",\"\",Sort!V30)","v":0},{"$f":"IF(Sort!X30=\"\",\"\",Sort!X30)","v":""},{"$f":"IF(Sort!Y30=\"\",\"\",Sort!Y30)","v":0},{"$f":"IF(Sort!B30=\"\",\"\",Sort!AA30)","v":""}]
["<tr align='center'>###<td class='Bld'>",{"$f":"Sort!AH31","v":""},"</td>###<td class='Bld'>",{"$f":"IF(Sort!B31=\"\",\"\",IF(Sort!C31=\"\",Sort!B31,Sort!B31&\"<br />#\"&Sort!C31))","v":""},"</td>###<td>",{"$f":"IF(Sort!E31=\"\",\"\",Sort!E31&\" \"&Sort!F31&\"<br />\"&Sort!G31)","v":""},"</td>###<td class='GrayOut'>",{"$f":"IF(Sort!H31=\"\",\"\",IF(Sort!I31=0,Sort!H31&\"<br /><span class='ClnMatch'>&nbsp;&nbsp;0&nbsp;&nbsp;</span><br /><b>\"&Sort!J31&\"</b>\",Sort!H31&\"<br />\"&Sort!I31&\"<br /><b>\"&Sort!J31&\"</b>\"))","v":""},"</td>###<td class='GrayOut'>",{"$f":"IF(Sort!K31=\"\",\"\",IF(Sort!L31=0,Sort!K31&\"<br /><span class='ClnMatch'>&nbsp;&nbsp;0&nbsp;&nbsp;</span><br /><b>\"&Sort!M31&\"</b>\",Sort!K31&\"<br />\"&Sort!L31&\"<br /><b>\"&Sort!M31&\"</b>\"))","v":""},"</td>###<td class='GrayOut'>",{"$f":"IF(Sort!N31=\"\",\"\",IF(Sort!O31=0,Sort!N31&\"<br /><span class='ClnMatch'>&nbsp;&nbsp;0&nbsp;&nbsp;</span><br /><b>\"&Sort!P31&\"</b>\",Sort!N31&\"<br />\"&Sort!O31&\"<br /><b>\"&Sort!P31&\"</b>\"))","v":""},"</td>###<td class='GrayOut'>",{"$f":"IF(Sort!Q31=\"\",\"\",IF(Sort!R31=0,Sort!Q31&\"<br /><span class='ClnMatch'>&nbsp;&nbsp;0&nbsp;&nbsp;</span><br /><b>\"&Sort!S31&\"</b>\",Sort!Q31&\"<br />\"&Sort!R31&\"<br /><b>\"&Sort!S31&\"</b>\"))","v":""},"</td>###<td class='GrayOut'>",{"$f":"IF(Sort!T31=\"\",\"\",IF(Sort!U31=0,Sort!T31&\"<br /><span class='ClnMatch'>&nbsp;&nbsp;0&nbsp;&nbsp;</span><br /><b>\"&Sort!V31&\"</b>\",Sort!T31&\"<br />\"&Sort!U31&\"<br /><b>\"&Sort!V31&\"</b>\"))","v":""},"</td>###<td class='GrayOut'>",{"$f":"IF(Sort!W31=\"\",\"\",IF(Sort!X31=0,Sort!W31&\"<br /><span class='ClnMatch'>&nbsp;&nbsp;0&nbsp;&nbsp;</span><br /><b>\"&Sort!Y31&\"</b>\",Sort!W31&\"<br />\"&Sort!X31&\"<br /><b>\"&Sort!Y31&\"</b>\"))","v":""},"</td>###<td>",{"$f":"IF(Sort!Z31=\"\",\"\",IF(Sort!AA31=0,Sort!Z31&\"<br /><span class='ClnMatch'>&nbsp;&nbsp;0&nbsp;&nbsp;</span><br /><b>\"&Sort!AB31&\"</b>\",Sort!Z31&\"<br />\"&Sort!AA31&\"<br /><b>\"&Sort!AB31&\"</b>\"))","v":""},"</td>###<td class=\"BluBld\">",{"$f":"IF(Sort!B31=\"\",\"\",IF(Sort!AA31=0,Sort!AC31&\"<br /><span class='ClnMatch'>&nbsp;&nbsp;0&nbsp;&nbsp;</span><br /><b>\"&Sort!AE31&\"</b>\",Sort!AC31&\"<br />\"&Sort!AD31&\"<br /><b>\"&Sort!AE31&\"</b>\"))","v":""},"</td>###<td class=\"Bld\">",{"$f":"IF(Sort!AF31=\"\",\"\",Sort!AF31)","v":""},"</td>###<td class=\"Bld\">",{"$f":"IF(Sort!AG31=\"\",\"\",Sort!AG31)","v":""},"</td>###</tr>",null,{"$f":"IF(Sort!I31=\"\",\"\",Sort!I31)","v":""},{"$f":"IF(Sort!J31=\"\",\"\",Sort!J31)","v":0},{"$f":"IF(Sort!L31=\"\",\"\",Sort!L31)","v":""},{"$f":"IF(Sort!M31=\"\",\"\",Sort!M31)","v":0},{"$f":"IF(Sort!O31=\"\",\"\",Sort!O31)","v":""},{"$f":"IF(Sort!P31=\"\",\"\",Sort!P31)","v":0},{"$f":"IF(Sort!R31=\"\",\"\",Sort!R31)","v":""},{"$f":"IF(Sort!S31=\"\",\"\",Sort!S31)","v":0},{"$f":"IF(Sort!U31=\"\",\"\",Sort!U31)","v":""},{"$f":"IF(Sort!V31=\"\",\"\",Sort!V31)","v":0},{"$f":"IF(Sort!X31=\"\",\"\",Sort!X31)","v":""},{"$f":"IF(Sort!Y31=\"\",\"\",Sort!Y31)","v":0},{"$f":"IF(Sort!B31=\"\",\"\",Sort!AA31)","v":""}]
["<tr align='center'>###<td class='Bld'>",{"$f":"Sort!AH32","v":""},"</td>###<td class='Bld'>",{"$f":"IF(Sort!B32=\"\",\"\",IF(Sort!C32=\"\",Sort!B32,Sort!B32&\"<br />#\"&Sort!C32))","v":""},"</td>###<td>",{"$f":"IF(Sort!E32=\"\",\"\",Sort!E32&\" \"&Sort!F32&\"<br />\"&Sort!G32)","v":""},"</td>###<td class='GrayOut'>",{"$f":"IF(Sort!H32=\"\",\"\",IF(Sort!I32=0,Sort!H32&\"<br /><span class='ClnMatch'>&nbsp;&nbsp;0&nbsp;&nbsp;</span><br /><b>\"&Sort!J32&\"</b>\",Sort!H32&\"<br />\"&Sort!I32&\"<br /><b>\"&Sort!J32&\"</b>\"))","v":""},"</td>###<td class='GrayOut'>",{"$f":"IF(Sort!K32=\"\",\"\",IF(Sort!L32=0,Sort!K32&\"<br /><span class='ClnMatch'>&nbsp;&nbsp;0&nbsp;&nbsp;</span><br /><b>\"&Sort!M32&\"</b>\",Sort!K32&\"<br />\"&Sort!L32&\"<br /><b>\"&Sort!M32&\"</b>\"))","v":""},"</td>###<td class='GrayOut'>",{"$f":"IF(Sort!N32=\"\",\"\",IF(Sort!O32=0,Sort!N32&\"<br /><span class='ClnMatch'>&nbsp;&nbsp;0&nbsp;&nbsp;</span><br /><b>\"&Sort!P32&\"</b>\",Sort!N32&\"<br />\"&Sort!O32&\"<br /><b>\"&Sort!P32&\"</b>\"))","v":""},"</td>###<td class='GrayOut'>",{"$f":"IF(Sort!Q32=\"\",\"\",IF(Sort!R32=0,Sort!Q32&\"<br /><span class='ClnMatch'>&nbsp;&nbsp;0&nbsp;&nbsp;</span><br /><b>\"&Sort!S32&\"</b>\",Sort!Q32&\"<br />\"&Sort!R32&\"<br /><b>\"&Sort!S32&\"</b>\"))","v":""},"</td>###<td class='GrayOut'>",{"$f":"IF(Sort!T32=\"\",\"\",IF(Sort!U32=0,Sort!T32&\"<br /><span class='ClnMatch'>&nbsp;&nbsp;0&nbsp;&nbsp;</span><br /><b>\"&Sort!V32&\"</b>\",Sort!T32&\"<br />\"&Sort!U32&\"<br /><b>\"&Sort!V32&\"</b>\"))","v":""},"</td>###<td class='GrayOut'>",{"$f":"IF(Sort!W32=\"\",\"\",IF(Sort!X32=0,Sort!W32&\"<br /><span class='ClnMatch'>&nbsp;&nbsp;0&nbsp;&nbsp;</span><br /><b>\"&Sort!Y32&\"</b>\",Sort!W32&\"<br />\"&Sort!X32&\"<br /><b>\"&Sort!Y32&\"</b>\"))","v":""},"</td>###<td>",{"$f":"IF(Sort!Z32=\"\",\"\",IF(Sort!AA32=0,Sort!Z32&\"<br /><span class='ClnMatch'>&nbsp;&nbsp;0&nbsp;&nbsp;</span><br /><b>\"&Sort!AB32&\"</b>\",Sort!Z32&\"<br />\"&Sort!AA32&\"<br /><b>\"&Sort!AB32&\"</b>\"))","v":""},"</td>###<td class=\"BluBld\">",{"$f":"IF(Sort!B32=\"\",\"\",IF(Sort!AA32=0,Sort!AC32&\"<br /><span class='ClnMatch'>&nbsp;&nbsp;0&nbsp;&nbsp;</span><br /><b>\"&Sort!AE32&\"</b>\",Sort!AC32&\"<br />\"&Sort!AD32&\"<br /><b>\"&Sort!AE32&\"</b>\"))","v":""},"</td>###<td class=\"Bld\">",{"$f":"IF(Sort!AF32=\"\",\"\",Sort!AF32)","v":""},"</td>###<td class=\"Bld\">",{"$f":"IF(Sort!AG32=\"\",\"\",Sort!AG32)","v":""},"</td>###</tr>",null,{"$f":"IF(Sort!I32=\"\",\"\",Sort!I32)","v":""},{"$f":"IF(Sort!J32=\"\",\"\",Sort!J32)","v":0},{"$f":"IF(Sort!L32=\"\",\"\",Sort!L32)","v":""},{"$f":"IF(Sort!M32=\"\",\"\",Sort!M32)","v":0},{"$f":"IF(Sort!O32=\"\",\"\",Sort!O32)","v":""},{"$f":"IF(Sort!P32=\"\",\"\",Sort!P32)","v":0},{"$f":"IF(Sort!R32=\"\",\"\",Sort!R32)","v":""},{"$f":"IF(Sort!S32=\"\",\"\",Sort!S32)","v":0},{"$f":"IF(Sort!U32=\"\",\"\",Sort!U32)","v":""},{"$f":"IF(Sort!V32=\"\",\"\",Sort!V32)","v":0},{"$f":"IF(Sort!X32=\"\",\"\",Sort!X32)","v":""},{"$f":"IF(Sort!Y32=\"\",\"\",Sort!Y32)","v":0},{"$f":"IF(Sort!B32=\"\",\"\",Sort!AA32)","v":""}]
["<tr align='center'>###<td class='Bld'>",{"$f":"Sort!AH33","v":""},"</td>###<td class='Bld'>",{"$f":"IF(Sort!B33=\"\",\"\",IF(Sort!C33=\"\",Sort!B33,Sort!B33&\"<br />#\"&Sort!C33))","v":""},"</td>###<td>",{"$f":"IF(Sort!E33=\"\",\"\",Sort!E33&\" \"&Sort!F33&\"<br />\"&Sort!G33)","v":""},"</td>###<td class='GrayOut'>",{"$f":"IF(Sort!H33=\"\",\"\",IF(Sort!I33=0,Sort!H33&\"<br /><span class='ClnMatch'>&nbsp;&nbsp;0&nbsp;&nbsp;</span><br /><b>\"&Sort!J33&\"</b>\",Sort!H33&\"<br />\"&Sort!I33&\"<br /><b>\"&Sort!J33&\"</b>\"))","v":""},"</td>###<td class='GrayOut'>",{"$f":"IF(Sort!K33=\"\",\"\",IF(Sort!L33=0,Sort!K33&\"<br /><span class='ClnMatch'>&nbsp;&nbsp;0&nbsp;&nbsp;</span><br /><b>\"&Sort!M33&\"</b>\",Sort!K33&\"<br />\"&Sort!L33&\"<br /><b>\"&Sort!M33&\"</b>\"))","v":""},"</td>###<td class='GrayOut'>",{"$f":"IF(Sort!N33=\"\",\"\",IF(Sort!O33=0,Sort!N33&\"<br /><span class='ClnMatch'>&nbsp;&nbsp;0&nbsp;&nbsp;</span><br /><b>\"&Sort!P33&\"</b>\",Sort!N33&\"<br />\"&Sort!O33&\"<br /><b>\"&Sort!P33&\"</b>\"))","v":""},"</td>###<td class='GrayOut'>",{"$f":"IF(Sort!Q33=\"\",\"\",IF(Sort!R33=0,Sort!Q33&\"<br /><span class='ClnMatch'>&nbsp;&nbsp;0&nbsp;&nbsp;</span><br /><b>\"&Sort!S33&\"</b>\",Sort!Q33&\"<br />\"&Sort!R33&\"<br /><b>\"&Sort!S33&\"</b>\"))","v":""},"</td>###<td class='GrayOut'>",{"$f":"IF(Sort!T33=\"\",\"\",IF(Sort!U33=0,Sort!T33&\"<br /><span class='ClnMatch'>&nbsp;&nbsp;0&nbsp;&nbsp;</span><br /><b>\"&Sort!V33&\"</b>\",Sort!T33&\"<br />\"&Sort!U33&\"<br /><b>\"&Sort!V33&\"</b>\"))","v":""},"</td>###<td class='GrayOut'>",{"$f":"IF(Sort!W33=\"\",\"\",IF(Sort!X33=0,Sort!W33&\"<br /><span class='ClnMatch'>&nbsp;&nbsp;0&nbsp;&nbsp;</span><br /><b>\"&Sort!Y33&\"</b>\",Sort!W33&\"<br />\"&Sort!X33&\"<br /><b>\"&Sort!Y33&\"</b>\"))","v":""},"</td>###<td>",{"$f":"IF(Sort!Z33=\"\",\"\",IF(Sort!AA33=0,Sort!Z33&\"<br /><span class='ClnMatch'>&nbsp;&nbsp;0&nbsp;&nbsp;</span><br /><b>\"&Sort!AB33&\"</b>\",Sort!Z33&\"<br />\"&Sort!AA33&\"<br /><b>\"&Sort!AB33&\"</b>\"))","v":""},"</td>###<td class=\"BluBld\">",{"$f":"IF(Sort!B33=\"\",\"\",IF(Sort!AA33=0,Sort!AC33&\"<br /><span class='ClnMatch'>&nbsp;&nbsp;0&nbsp;&nbsp;</span><br /><b>\"&Sort!AE33&\"</b>\",Sort!AC33&\"<br />\"&Sort!AD33&\"<br /><b>\"&Sort!AE33&\"</b>\"))","v":""},"</td>###<td class=\"Bld\">",{"$f":"IF(Sort!AF33=\"\",\"\",Sort!AF33)","v":""},"</td>###<td class=\"Bld\">",{"$f":"IF(Sort!AG33=\"\",\"\",Sort!AG33)","v":""},"</td>###</tr>",null,{"$f":"IF(Sort!I33=\"\",\"\",Sort!I33)","v":""},{"$f":"IF(Sort!J33=\"\",\"\",Sort!J33)","v":0},{"$f":"IF(Sort!L33=\"\",\"\",Sort!L33)","v":""},{"$f":"IF(Sort!M33=\"\",\"\",Sort!M33)","v":0},{"$f":"IF(Sort!O33=\"\",\"\",Sort!O33)","v":""},{"$f":"IF(Sort!P33=\"\",\"\",Sort!P33)","v":0},{"$f":"IF(Sort!R33=\"\",\"\",Sort!R33)","v":""},{"$f":"IF(Sort!S33=\"\",\"\",Sort!S33)","v":0},{"$f":"IF(Sort!U33=\"\",\"\",Sort!U33)","v":""},{"$f":"IF(Sort!V33=\"\",\"\",Sort!V33)","v":0},{"$f":"IF(Sort!X33=\"\",\"\",Sort!X33)","v":""},{"$f":"IF(Sort!Y33=\"\",\"\",Sort!Y33)","v":0},{"$f":"IF(Sort!B33=\"\",\"\",Sort!AA33)","v":""}]
["<tr align='center'>###<td class='Bld'>",{"$f":"Sort!AH34","v":""},"</td>###<td class='Bld'>",{"$f":"IF(Sort!B34=\"\",\"\",IF(Sort!C34=\"\",Sort!B34,Sort!B34&\"<br />#\"&Sort!C34))","v":""},"</td>###<td>",{"$f":"IF(Sort!E34=\"\",\"\",Sort!E34&\" \"&Sort!F34&\"<br />\"&Sort!G34)","v":""},"</td>###<td class='GrayOut'>",{"$f":"IF(Sort!H34=\"\",\"\",IF(Sort!I34=0,Sort!H34&\"<br /><span class='ClnMatch'>&nbsp;&nbsp;0&nbsp;&nbsp;</span><br /><b>\"&Sort!J34&\"</b>\",Sort!H34&\"<br />\"&Sort!I34&\"<br /><b>\"&Sort!J34&\"</b>\"))","v":""},"</td>###<td class='GrayOut'>",{"$f":"IF(Sort!K34=\"\",\"\",IF(Sort!L34=0,Sort!K34&\"<br /><span class='ClnMatch'>&nbsp;&nbsp;0&nbsp;&nbsp;</span><br /><b>\"&Sort!M34&\"</b>\",Sort!K34&\"<br />\"&Sort!L34&\"<br /><b>\"&Sort!M34&\"</b>\"))","v":""},"</td>###<td class='GrayOut'>",{"$f":"IF(Sort!N34=\"\",\"\",IF(Sort!O34=0,Sort!N34&\"<br /><span class='ClnMatch'>&nbsp;&nbsp;0&nbsp;&nbsp;</span><br /><b>\"&Sort!P34&\"</b>\",Sort!N34&\"<br />\"&Sort!O34&\"<br /><b>\"&Sort!P34&\"</b>\"))","v":""},"</td>###<td class='GrayOut'>",{"$f":"IF(Sort!Q34=\"\",\"\",IF(Sort!R34=0,Sort!Q34&\"<br /><span class='ClnMatch'>&nbsp;&nbsp;0&nbsp;&nbsp;</span><br /><b>\"&Sort!S34&\"</b>\",Sort!Q34&\"<br />\"&Sort!R34&\"<br /><b>\"&Sort!S34&\"</b>\"))","v":""},"</td>###<td class='GrayOut'>",{"$f":"IF(Sort!T34=\"\",\"\",IF(Sort!U34=0,Sort!T34&\"<br /><span class='ClnMatch'>&nbsp;&nbsp;0&nbsp;&nbsp;</span><br /><b>\"&Sort!V34&\"</b>\",Sort!T34&\"<br />\"&Sort!U34&\"<br /><b>\"&Sort!V34&\"</b>\"))","v":""},"</td>###<td class='GrayOut'>",{"$f":"IF(Sort!W34=\"\",\"\",IF(Sort!X34=0,Sort!W34&\"<br /><span class='ClnMatch'>&nbsp;&nbsp;0&nbsp;&nbsp;</span><br /><b>\"&Sort!Y34&\"</b>\",Sort!W34&\"<br />\"&Sort!X34&\"<br /><b>\"&Sort!Y34&\"</b>\"))","v":""},"</td>###<td>",{"$f":"IF(Sort!Z34=\"\",\"\",IF(Sort!AA34=0,Sort!Z34&\"<br /><span class='ClnMatch'>&nbsp;&nbsp;0&nbsp;&nbsp;</span><br /><b>\"&Sort!AB34&\"</b>\",Sort!Z34&\"<br />\"&Sort!AA34&\"<br /><b>\"&Sort!AB34&\"</b>\"))","v":""},"</td>###<td class=\"BluBld\">",{"$f":"IF(Sort!B34=\"\",\"\",IF(Sort!AA34=0,Sort!AC34&\"<br /><span class='ClnMatch'>&nbsp;&nbsp;0&nbsp;&nbsp;</span><br /><b>\"&Sort!AE34&\"</b>\",Sort!AC34&\"<br />\"&Sort!AD34&\"<br /><b>\"&Sort!AE34&\"</b>\"))","v":""},"</td>###<td class=\"Bld\">",{"$f":"IF(Sort!AF34=\"\",\"\",Sort!AF34)","v":""},"</td>###<td class=\"Bld\">",{"$f":"IF(Sort!AG34=\"\",\"\",Sort!AG34)","v":""},"</td>###</tr>",null,{"$f":"IF(Sort!I34=\"\",\"\",Sort!I34)","v":""},{"$f":"IF(Sort!J34=\"\",\"\",Sort!J34)","v":0},{"$f":"IF(Sort!L34=\"\",\"\",Sort!L34)","v":""},{"$f":"IF(Sort!M34=\"\",\"\",Sort!M34)","v":0},{"$f":"IF(Sort!O34=\"\",\"\",Sort!O34)","v":""},{"$f":"IF(Sort!P34=\"\",\"\",Sort!P34)","v":0},{"$f":"IF(Sort!R34=\"\",\"\",Sort!R34)","v":""},{"$f":"IF(Sort!S34=\"\",\"\",Sort!S34)","v":0},{"$f":"IF(Sort!U34=\"\",\"\",Sort!U34)","v":""},{"$f":"IF(Sort!V34=\"\",\"\",Sort!V34)","v":0},{"$f":"IF(Sort!X34=\"\",\"\",Sort!X34)","v":""},{"$f":"IF(Sort!Y34=\"\",\"\",Sort!Y34)","v":0},{"$f":"IF(Sort!B34=\"\",\"\",Sort!AA34)","v":""}]
["<tr align='center'>###<td class='Bld'>",{"$f":"Sort!AH35","v":""},"</td>###<td class='Bld'>",{"$f":"IF(Sort!B35=\"\",\"\",IF(Sort!C35=\"\",Sort!B35,Sort!B35&\"<br />#\"&Sort!C35))","v":""},"</td>###<td>",{"$f":"IF(Sort!E35=\"\",\"\",Sort!E35&\" \"&Sort!F35&\"<br />\"&Sort!G35)","v":""},"</td>###<td class='GrayOut'>",{"$f":"IF(Sort!H35=\"\",\"\",IF(Sort!I35=0,Sort!H35&\"<br /><span class='ClnMatch'>&nbsp;&nbsp;0&nbsp;&nbsp;</span><br /><b>\"&Sort!J35&\"</b>\",Sort!H35&\"<br />\"&Sort!I35&\"<br /><b>\"&Sort!J35&\"</b>\"))","v":""},"</td>###<td class='GrayOut'>",{"$f":"IF(Sort!K35=\"\",\"\",IF(Sort!L35=0,Sort!K35&\"<br /><span class='ClnMatch'>&nbsp;&nbsp;0&nbsp;&nbsp;</span><br /><b>\"&Sort!M35&\"</b>\",Sort!K35&\"<br />\"&Sort!L35&\"<br /><b>\"&Sort!M35&\"</b>\"))","v":""},"</td>###<td class='GrayOut'>",{"$f":"IF(Sort!N35=\"\",\"\",IF(Sort!O35=0,Sort!N35&\"<br /><span class='ClnMatch'>&nbsp;&nbsp;0&nbsp;&nbsp;</span><br /><b>\"&Sort!P35&\"</b>\",Sort!N35&\"<br />\"&Sort!O35&\"<br /><b>\"&Sort!P35&\"</b>\"))","v":""},"</td>###<td class='GrayOut'>",{"$f":"IF(Sort!Q35=\"\",\"\",IF(Sort!R35=0,Sort!Q35&\"<br /><span class='ClnMatch'>&nbsp;&nbsp;0&nbsp;&nbsp;</span><br /><b>\"&Sort!S35&\"</b>\",Sort!Q35&\"<br />\"&Sort!R35&\"<br /><b>\"&Sort!S35&\"</b>\"))","v":""},"</td>###<td class='GrayOut'>",{"$f":"IF(Sort!T35=\"\",\"\",IF(Sort!U35=0,Sort!T35&\"<br /><span class='ClnMatch'>&nbsp;&nbsp;0&nbsp;&nbsp;</span><br /><b>\"&Sort!V35&\"</b>\",Sort!T35&\"<br />\"&Sort!U35&\"<br /><b>\"&Sort!V35&\"</b>\"))","v":""},"</td>###<td class='GrayOut'>",{"$f":"IF(Sort!W35=\"\",\"\",IF(Sort!X35=0,Sort!W35&\"<br /><span class='ClnMatch'>&nbsp;&nbsp;0&nbsp;&nbsp;</span><br /><b>\"&Sort!Y35&\"</b>\",Sort!W35&\"<br />\"&Sort!X35&\"<br /><b>\"&Sort!Y35&\"</b>\"))","v":""},"</td>###<td>",{"$f":"IF(Sort!Z35=\"\",\"\",IF(Sort!AA35=0,Sort!Z35&\"<br /><span class='ClnMatch'>&nbsp;&nbsp;0&nbsp;&nbsp;</span><br /><b>\"&Sort!AB35&\"</b>\",Sort!Z35&\"<br />\"&Sort!AA35&\"<br /><b>\"&Sort!AB35&\"</b>\"))","v":""},"</td>###<td class=\"BluBld\">",{"$f":"IF(Sort!B35=\"\",\"\",IF(Sort!AA35=0,Sort!AC35&\"<br /><span class='ClnMatch'>&nbsp;&nbsp;0&nbsp;&nbsp;</span><br /><b>\"&Sort!AE35&\"</b>\",Sort!AC35&\"<br />\"&Sort!AD35&\"<br /><b>\"&Sort!AE35&\"</b>\"))","v":""},"</td>###<td class=\"Bld\">",{"$f":"IF(Sort!AF35=\"\",\"\",Sort!AF35)","v":""},"</td>###<td class=\"Bld\">",{"$f":"IF(Sort!AG35=\"\",\"\",Sort!AG35)","v":""},"</td>###</tr>",null,{"$f":"IF(Sort!I35=\"\",\"\",Sort!I35)","v":""},{"$f":"IF(Sort!J35=\"\",\"\",Sort!J35)","v":0},{"$f":"IF(Sort!L35=\"\",\"\",Sort!L35)","v":""},{"$f":"IF(Sort!M35=\"\",\"\",Sort!M35)","v":0},{"$f":"IF(Sort!O35=\"\",\"\",Sort!O35)","v":""},{"$f":"IF(Sort!P35=\"\",\"\",Sort!P35)","v":0},{"$f":"IF(Sort!R35=\"\",\"\",Sort!R35)","v":""},{"$f":"IF(Sort!S35=\"\",\"\",Sort!S35)","v":0},{"$f":"IF(Sort!U35=\"\",\"\",Sort!U35)","v":""},{"$f":"IF(Sort!V35=\"\",\"\",Sort!V35)","v":0},{"$f":"IF(Sort!X35=\"\",\"\",Sort!X35)","v":""},{"$f":"IF(Sort!Y35=\"\",\"\",Sort!Y35)","v":0},{"$f":"IF(Sort!B35=\"\",\"\",Sort!AA35)","v":""}]
["<tr align='center'>###<td class='Bld'>",{"$f":"Sort!AH36","v":""},"</td>###<td class='Bld'>",{"$f":"IF(Sort!B36=\"\",\"\",IF(Sort!C36=\"\",Sort!B36,Sort!B36&\"<br />#\"&Sort!C36))","v":""},"</td>###<td>",{"$f":"IF(Sort!E36=\"\",\"\",Sort!E36&\" \"&Sort!F36&\"<br />\"&Sort!G36)","v":""},"</td>###<td class='GrayOut'>",{"$f":"IF(Sort!H36=\"\",\"\",IF(Sort!I36=0,Sort!H36&\"<br /><span class='ClnMatch'>&nbsp;&nbsp;0&nbsp;&nbsp;</span><br /><b>\"&Sort!J36&\"</b>\",Sort!H36&\"<br />\"&Sort!I36&\"<br /><b>\"&Sort!J36&\"</b>\"))","v":""},"</td>###<td class='GrayOut'>",{"$f":"IF(Sort!K36=\"\",\"\",IF(Sort!L36=0,Sort!K36&\"<br /><span class='ClnMatch'>&nbsp;&nbsp;0&nbsp;&nbsp;</span><br /><b>\"&Sort!M36&\"</b>\",Sort!K36&\"<br />\"&Sort!L36&\"<br /><b>\"&Sort!M36&\"</b>\"))","v":""},"</td>###<td class='GrayOut'>",{"$f":"IF(Sort!N36=\"\",\"\",IF(Sort!O36=0,Sort!N36&\"<br /><span class='ClnMatch'>&nbsp;&nbsp;0&nbsp;&nbsp;</span><br /><b>\"&Sort!P36&\"</b>\",Sort!N36&\"<br />\"&Sort!O36&\"<br /><b>\"&Sort!P36&\"</b>\"))","v":""},"</td>###<td class='GrayOut'>",{"$f":"IF(Sort!Q36=\"\",\"\",IF(Sort!R36=0,Sort!Q36&\"<br /><span class='ClnMatch'>&nbsp;&nbsp;0&nbsp;&nbsp;</span><br /><b>\"&Sort!S36&\"</b>\",Sort!Q36&\"<br />\"&Sort!R36&\"<br /><b>\"&Sort!S36&\"</b>\"))","v":""},"</td>###<td class='GrayOut'>",{"$f":"IF(Sort!T36=\"\",\"\",IF(Sort!U36=0,Sort!T36&\"<br /><span class='ClnMatch'>&nbsp;&nbsp;0&nbsp;&nbsp;</span><br /><b>\"&Sort!V36&\"</b>\",Sort!T36&\"<br />\"&Sort!U36&\"<br /><b>\"&Sort!V36&\"</b>\"))","v":""},"</td>###<td class='GrayOut'>",{"$f":"IF(Sort!W36=\"\",\"\",IF(Sort!X36=0,Sort!W36&\"<br /><span class='ClnMatch'>&nbsp;&nbsp;0&nbsp;&nbsp;</span><br /><b>\"&Sort!Y36&\"</b>\",Sort!W36&\"<br />\"&Sort!X36&\"<br /><b>\"&Sort!Y36&\"</b>\"))","v":""},"</td>###<td>",{"$f":"IF(Sort!Z36=\"\",\"\",IF(Sort!AA36=0,Sort!Z36&\"<br /><span class='ClnMatch'>&nbsp;&nbsp;0&nbsp;&nbsp;</span><br /><b>\"&Sort!AB36&\"</b>\",Sort!Z36&\"<br />\"&Sort!AA36&\"<br /><b>\"&Sort!AB36&\"</b>\"))","v":""},"</td>###<td class=\"BluBld\">",{"$f":"IF(Sort!B36=\"\",\"\",IF(Sort!AA36=0,Sort!AC36&\"<br /><span class='ClnMatch'>&nbsp;&nbsp;0&nbsp;&nbsp;</span><br /><b>\"&Sort!AE36&\"</b>\",Sort!AC36&\"<br />\"&Sort!AD36&\"<br /><b>\"&Sort!AE36&\"</b>\"))","v":""},"</td>###<td class=\"Bld\">",{"$f":"IF(Sort!AF36=\"\",\"\",Sort!AF36)","v":""},"</td>###<td class=\"Bld\">",{"$f":"IF(Sort!AG36=\"\",\"\",Sort!AG36)","v":""},"</td>###</tr>",null,{"$f":"IF(Sort!I36=\"\",\"\",Sort!I36)","v":""},{"$f":"IF(Sort!J36=\"\",\"\",Sort!J36)","v":0},{"$f":"IF(Sort!L36=\"\",\"\",Sort!L36)","v":""},{"$f":"IF(Sort!M36=\"\",\"\",Sort!M36)","v":0},{"$f":"IF(Sort!O36=\"\",\"\",Sort!O36)","v":""},{"$f":"IF(Sort!P36=\"\",\"\",Sort!P36)","v":0},{"$f":"IF(Sort!R36=\"\",\"\",Sort!R36)","v":""},{"$f":"IF(Sort!S36=\"\",\"\",Sort!S36)","v":0},{"$f":"IF(Sort!U36=\"\",\"\",Sort!U36)","v":""},{"$f":"IF(Sort!V36=\"\",\"\",Sort!V36)","v":0},{"$f":"IF(Sort!X36=\"\",\"\",Sort!X36)","v":""},{"$f":"IF(Sort!Y36=\"\",\"\",Sort!Y36)","v":0},{"$f":"IF(Sort!B36=\"\",\"\",Sort!AA36)","v":""}]
["<tr align='center'>###<td class='Bld'>",{"$f":"Sort!AH37","v":""},"</td>###<td class='Bld'>",{"$f":"IF(Sort!B37=\"\",\"\",IF(Sort!C37=\"\",Sort!B37,Sort!B37&\"<br />#\"&Sort!C37))","v":""},"</td>###<td>",{"$f":"IF(Sort!E37=\"\",\"\",Sort!E37&\" \"&Sort!F37&\"<br />\"&Sort!G37)","v":""},"</td>###<td class='GrayOut'>",{"$f":"IF(Sort!H37=\"\",\"\",IF(Sort!I37=0,Sort!H37&\"<br /><span class='ClnMatch'>&nbsp;&nbsp;0&nbsp;&nbsp;</span><br /><b>\"&Sort!J37&\"</b>\",Sort!H37&\"<br />\"&Sort!I37&\"<br /><b>\"&Sort!J37&\"</b>\"))","v":""},"</td>###<td class='GrayOut'>",{"$f":"IF(Sort!K37=\"\",\"\",IF(Sort!L37=0,Sort!K37&\"<br /><span class='ClnMatch'>&nbsp;&nbsp;0&nbsp;&nbsp;</span><br /><b>\"&Sort!M37&\"</b>\",Sort!K37&\"<br />\"&Sort!L37&\"<br /><b>\"&Sort!M37&\"</b>\"))","v":""},"</td>###<td class='GrayOut'>",{"$f":"IF(Sort!N37=\"\",\"\",IF(Sort!O37=0,Sort!N37&\"<br /><span class='ClnMatch'>&nbsp;&nbsp;0&nbsp;&nbsp;</span><br /><b>\"&Sort!P37&\"</b>\",Sort!N37&\"<br />\"&Sort!O37&\"<br /><b>\"&Sort!P37&\"</b>\"))","v":""},"</td>###<td class='GrayOut'>",{"$f":"IF(Sort!Q37=\"\",\"\",IF(Sort!R37=0,Sort!Q37&\"<br /><span class='ClnMatch'>&nbsp;&nbsp;0&nbsp;&nbsp;</span><br /><b>\"&Sort!S37&\"</b>\",Sort!Q37&\"<br />\"&Sort!R37&\"<br /><b>\"&Sort!S37&\"</b>\"))","v":""},"</td>###<td class='GrayOut'>",{"$f":"IF(Sort!T37=\"\",\"\",IF(Sort!U37=0,Sort!T37&\"<br /><span class='ClnMatch'>&nbsp;&nbsp;0&nbsp;&nbsp;</span><br /><b>\"&Sort!V37&\"</b>\",Sort!T37&\"<br />\"&Sort!U37&\"<br /><b>\"&Sort!V37&\"</b>\"))","v":""},"</td>###<td class='GrayOut'>",{"$f":"IF(Sort!W37=\"\",\"\",IF(Sort!X37=0,Sort!W37&\"<br /><span class='ClnMatch'>&nbsp;&nbsp;0&nbsp;&nbsp;</span><br /><b>\"&Sort!Y37&\"</b>\",Sort!W37&\"<br />\"&Sort!X37&\"<br /><b>\"&Sort!Y37&\"</b>\"))","v":""},"</td>###<td>",{"$f":"IF(Sort!Z37=\"\",\"\",IF(Sort!AA37=0,Sort!Z37&\"<br /><span class='ClnMatch'>&nbsp;&nbsp;0&nbsp;&nbsp;</span><br /><b>\"&Sort!AB37&\"</b>\",Sort!Z37&\"<br />\"&Sort!AA37&\"<br /><b>\"&Sort!AB37&\"</b>\"))","v":""},"</td>###<td class=\"BluBld\">",{"$f":"IF(Sort!B37=\"\",\"\",IF(Sort!AA37=0,Sort!AC37&\"<br /><span class='ClnMatch'>&nbsp;&nbsp;0&nbsp;&nbsp;</span><br /><b>\"&Sort!AE37&\"</b>\",Sort!AC37&\"<br />\"&Sort!AD37&\"<br /><b>\"&Sort!AE37&\"</b>\"))","v":""},"</td>###<td class=\"Bld\">",{"$f":"IF(Sort!AF37=\"\",\"\",Sort!AF37)","v":""},"</td>###<td class=\"Bld\">",{"$f":"IF(Sort!AG37=\"\",\"\",Sort!AG37)","v":""},"</td>###</tr>",null,{"$f":"IF(Sort!I37=\"\",\"\",Sort!I37)","v":""},{"$f":"IF(Sort!J37=\"\",\"\",Sort!J37)","v":0},{"$f":"IF(Sort!L37=\"\",\"\",Sort!L37)","v":""},{"$f":"IF(Sort!M37=\"\",\"\",Sort!M37)","v":0},{"$f":"IF(Sort!O37=\"\",\"\",Sort!O37)","v":""},{"$f":"IF(Sort!P37=\"\",\"\",Sort!P37)","v":0},{"$f":"IF(Sort!R37=\"\",\"\",Sort!R37)","v":""},{"$f":"IF(Sort!S37=\"\",\"\",Sort!S37)","v":0},{"$f":"IF(Sort!U37=\"\",\"\",Sort!U37)","v":""},{"$f":"IF(Sort!V37=\"\",\"\",Sort!V37)","v":0},{"$f":"IF(Sort!X37=\"\",\"\",Sort!X37)","v":""},{"$f":"IF(Sort!Y37=\"\",\"\",Sort!Y37)","v":0},{"$f":"IF(Sort!B37=\"\",\"\",Sort!AA37)","v":""}]
["<tr align='center'>###<td class='Bld'>",{"$f":"Sort!AH38","v":""},"</td>###<td class='Bld'>",{"$f":"IF(Sort!B38=\"\",\"\",IF(Sort!C38=\"\",Sort!B38,Sort!B38&\"<br />#\"&Sort!C38))","v":""},"</td>###<td>",{"$f":"IF(Sort!E38=\"\",\"\",Sort!E38&\" \"&Sort!F38&\"<br />\"&Sort!G38)","v":""},"</td>###<td class='GrayOut'>",{"$f":"IF(Sort!H38=\"\",\"\",IF(Sort!I38=0,Sort!H38&\"<br /><span class='ClnMatch'>&nbsp;&nbsp;0&nbsp;&nbsp;</span><br /><b>\"&Sort!J38&\"</b>\",Sort!H38&\"<br />\"&Sort!I38&\"<br /><b>\"&Sort!J38&\"</b>\"))","v":""},"</td>###<td class='GrayOut'>",{"$f":"IF(Sort!K38=\"\",\"\",IF(Sort!L38=0,Sort!K38&\"<br /><span class='ClnMatch'>&nbsp;&nbsp;0&nbsp;&nbsp;</span><br /><b>\"&Sort!M38&\"</b>\",Sort!K38&\"<br />\"&Sort!L38&\"<br /><b>\"&Sort!M38&\"</b>\"))","v":""},"</td>###<td class='GrayOut'>",{"$f":"IF(Sort!N38=\"\",\"\",IF(Sort!O38=0,Sort!N38&\"<br /><span class='ClnMatch'>&nbsp;&nbsp;0&nbsp;&nbsp;</span><br /><b>\"&Sort!P38&\"</b>\",Sort!N38&\"<br />\"&Sort!O38&\"<br /><b>\"&Sort!P38&\"</b>\"))","v":""},"</td>###<td class='GrayOut'>",{"$f":"IF(Sort!Q38=\"\",\"\",IF(Sort!R38=0,Sort!Q38&\"<br /><span class='ClnMatch'>&nbsp;&nbsp;0&nbsp;&nbsp;</span><br /><b>\"&Sort!S38&\"</b>\",Sort!Q38&\"<br />\"&Sort!R38&\"<br /><b>\"&Sort!S38&\"</b>\"))","v":""},"</td>###<td class='GrayOut'>",{"$f":"IF(Sort!T38=\"\",\"\",IF(Sort!U38=0,Sort!T38&\"<br /><span class='ClnMatch'>&nbsp;&nbsp;0&nbsp;&nbsp;</span><br /><b>\"&Sort!V38&\"</b>\",Sort!T38&\"<br />\"&Sort!U38&\"<br /><b>\"&Sort!V38&\"</b>\"))","v":""},"</td>###<td class='GrayOut'>",{"$f":"IF(Sort!W38=\"\",\"\",IF(Sort!X38=0,Sort!W38&\"<br /><span class='ClnMatch'>&nbsp;&nbsp;0&nbsp;&nbsp;</span><br /><b>\"&Sort!Y38&\"</b>\",Sort!W38&\"<br />\"&Sort!X38&\"<br /><b>\"&Sort!Y38&\"</b>\"))","v":""},"</td>###<td>",{"$f":"IF(Sort!Z38=\"\",\"\",IF(Sort!AA38=0,Sort!Z38&\"<br /><span class='ClnMatch'>&nbsp;&nbsp;0&nbsp;&nbsp;</span><br /><b>\"&Sort!AB38&\"</b>\",Sort!Z38&\"<br />\"&Sort!AA38&\"<br /><b>\"&Sort!AB38&\"</b>\"))","v":""},"</td>###<td class=\"BluBld\">",{"$f":"IF(Sort!B38=\"\",\"\",IF(Sort!AA38=0,Sort!AC38&\"<br /><span class='ClnMatch'>&nbsp;&nbsp;0&nbsp;&nbsp;</span><br /><b>\"&Sort!AE38&\"</b>\",Sort!AC38&\"<br />\"&Sort!AD38&\"<br /><b>\"&Sort!AE38&\"</b>\"))","v":""},"</td>###<td class=\"Bld\">",{"$f":"IF(Sort!AF38=\"\",\"\",Sort!AF38)","v":""},"</td>###<td class=\"Bld\">",{"$f":"IF(Sort!AG38=\"\",\"\",Sort!AG38)","v":""},"</td>###</tr>",null,{"$f":"IF(Sort!I38=\"\",\"\",Sort!I38)","v":""},{"$f":"IF(Sort!J38=\"\",\"\",Sort!J38)","v":0},{"$f":"IF(Sort!L38=\"\",\"\",Sort!L38)","v":""},{"$f":"IF(Sort!M38=\"\",\"\",Sort!M38)","v":0},{"$f":"IF(Sort!O38=\"\",\"\",Sort!O38)","v":""},{"$f":"IF(Sort!P38=\"\",\"\",Sort!P38)","v":0},{"$f":"IF(Sort!R38=\"\",\"\",Sort!R38)","v":""},{"$f":"IF(Sort!S38=\"\",\"\",Sort!S38)","v":0},{"$f":"IF(Sort!U38=\"\",\"\",Sort!U38)","v":""},{"$f":"IF(Sort!V38=\"\",\"\",Sort!V38)","v":0},{"$f":"IF(Sort!X38=\"\",\"\",Sort!X38)","v":""},{"$f":"IF(Sort!Y38=\"\",\"\",Sort!Y38)","v":0},{"$f":"IF(Sort!B38=\"\",\"\",Sort!AA38)","v":""}]
["<tr align='center'>###<td class='Bld'>",{"$f":"Sort!AH39","v":""},"</td>###<td class='Bld'>",{"$f":"IF(Sort!B39=\"\",\"\",IF(Sort!C39=\"\",Sort!B39,Sort!B39&\"<br />#\"&Sort!C39))","v":""},"</td>###<td>",{"$f":"IF(Sort!E39=\"\",\"\",Sort!E39&\" \"&Sort!F39&\"<br />\"&Sort!G39)","v":""},"</td>###<td class='GrayOut'>",{"$f":"IF(Sort!H39=\"\",\"\",IF(Sort!I39=0,Sort!H39&\"<br /><span class='ClnMatch'>&nbsp;&nbsp;0&nbsp;&nbsp;</span><br /><b>\"&Sort!J39&\"</b>\",Sort!H39&\"<br />\"&Sort!I39&\"<br /><b>\"&Sort!J39&\"</b>\"))","v":""},"</td>###<td class='GrayOut'>",{"$f":"IF(Sort!K39=\"\",\"\",IF(Sort!L39=0,Sort!K39&\"<br /><span class='ClnMatch'>&nbsp;&nbsp;0&nbsp;&nbsp;</span><br /><b>\"&Sort!M39&\"</b>\",Sort!K39&\"<br />\"&Sort!L39&\"<br /><b>\"&Sort!M39&\"</b>\"))","v":""},"</td>###<td class='GrayOut'>",{"$f":"IF(Sort!N39=\"\",\"\",IF(Sort!O39=0,Sort!N39&\"<br /><span class='ClnMatch'>&nbsp;&nbsp;0&nbsp;&nbsp;</span><br /><b>\"&Sort!P39&\"</b>\",Sort!N39&\"<br />\"&Sort!O39&\"<br /><b>\"&Sort!P39&\"</b>\"))","v":""},"</td>###<td class='GrayOut'>",{"$f":"IF(Sort!Q39=\"\",\"\",IF(Sort!R39=0,Sort!Q39&\"<br /><span class='ClnMatch'>&nbsp;&nbsp;0&nbsp;&nbsp;</span><br /><b>\"&Sort!S39&\"</b>\",Sort!Q39&\"<br />\"&Sort!R39&\"<br /><b>\"&Sort!S39&\"</b>\"))","v":""},"</td>###<td class='GrayOut'>",{"$f":"IF(Sort!T39=\"\",\"\",IF(Sort!U39=0,Sort!T39&\"<br /><span class='ClnMatch'>&nbsp;&nbsp;0&nbsp;&nbsp;</span><br /><b>\"&Sort!V39&\"</b>\",Sort!T39&\"<br />\"&Sort!U39&\"<br /><b>\"&Sort!V39&\"</b>\"))","v":""},"</td>###<td class='GrayOut'>",{"$f":"IF(Sort!W39=\"\",\"\",IF(Sort!X39=0,Sort!W39&\"<br /><span class='ClnMatch'>&nbsp;&nbsp;0&nbsp;&nbsp;</span><br /><b>\"&Sort!Y39&\"</b>\",Sort!W39&\"<br />\"&Sort!X39&\"<br /><b>\"&Sort!Y39&\"</b>\"))","v":""},"</td>###<td>",{"$f":"IF(Sort!Z39=\"\",\"\",IF(Sort!AA39=0,Sort!Z39&\"<br /><span class='ClnMatch'>&nbsp;&nbsp;0&nbsp;&nbsp;</span><br /><b>\"&Sort!AB39&\"</b>\",Sort!Z39&\"<br />\"&Sort!AA39&\"<br /><b>\"&Sort!AB39&\"</b>\"))","v":""},"</td>###<td class=\"BluBld\">",{"$f":"IF(Sort!B39=\"\",\"\",IF(Sort!AA39=0,Sort!AC39&\"<br /><span class='ClnMatch'>&nbsp;&nbsp;0&nbsp;&nbsp;</span><br /><b>\"&Sort!AE39&\"</b>\",Sort!AC39&\"<br />\"&Sort!AD39&\"<br /><b>\"&Sort!AE39&\"</b>\"))","v":""},"</td>###<td class=\"Bld\">",{"$f":"IF(Sort!AF39=\"\",\"\",Sort!AF39)","v":""},"</td>###<td class=\"Bld\">",{"$f":"IF(Sort!AG39=\"\",\"\",Sort!AG39)","v":""},"</td>###</tr>",null,{"$f":"IF(Sort!I39=\"\",\"\",Sort!I39)","v":""},{"$f":"IF(Sort!J39=\"\",\"\",Sort!J39)","v":0},{"$f":"IF(Sort!L39=\"\",\"\",Sort!L39)","v":""},{"$f":"IF(Sort!M39=\"\",\"\",Sort!M39)","v":0},{"$f":"IF(Sort!O39=\"\",\"\",Sort!O39)","v":""},{"$f":"IF(Sort!P39=\"\",\"\",Sort!P39)","v":0},{"$f":"IF(Sort!R39=\"\",\"\",Sort!R39)","v":""},{"$f":"IF(Sort!S39=\"\",\"\",Sort!S39)","v":0},{"$f":"IF(Sort!U39=\"\",\"\",Sort!U39)","v":""},{"$f":"IF(Sort!V39=\"\",\"\",Sort!V39)","v":0},{"$f":"IF(Sort!X39=\"\",\"\",Sort!X39)","v":""},{"$f":"IF(Sort!Y39=\"\",\"\",Sort!Y39)","v":0},{"$f":"IF(Sort!B39=\"\",\"\",Sort!AA39)","v":""}]
["<tr align='center'>###<td class='Bld'>",{"$f":"Sort!AH40","v":""},"</td>###<td class='Bld'>",{"$f":"IF(Sort!B40=\"\",\"\",IF(Sort!C40=\"\",Sort!B40,Sort!B40&\"<br />#\"&Sort!C40))","v":""},"</td>###<td>",{"$f":"IF(Sort!E40=\"\",\"\",Sort!E40&\" \"&Sort!F40&\"<br />\"&Sort!G40)","v":""},"</td>###<td class='GrayOut'>",{"$f":"IF(Sort!H40=\"\",\"\",IF(Sort!I40=0,Sort!H40&\"<br /><span class='ClnMatch'>&nbsp;&nbsp;0&nbsp;&nbsp;</span><br /><b>\"&Sort!J40&\"</b>\",Sort!H40&\"<br />\"&Sort!I40&\"<br /><b>\"&Sort!J40&\"</b>\"))","v":""},"</td>###<td class='GrayOut'>",{"$f":"IF(Sort!K40=\"\",\"\",IF(Sort!L40=0,Sort!K40&\"<br /><span class='ClnMatch'>&nbsp;&nbsp;0&nbsp;&nbsp;</span><br /><b>\"&Sort!M40&\"</b>\",Sort!K40&\"<br />\"&Sort!L40&\"<br /><b>\"&Sort!M40&\"</b>\"))","v":""},"</td>###<td class='GrayOut'>",{"$f":"IF(Sort!N40=\"\",\"\",IF(Sort!O40=0,Sort!N40&\"<br /><span class='ClnMatch'>&nbsp;&nbsp;0&nbsp;&nbsp;</span><br /><b>\"&Sort!P40&\"</b>\",Sort!N40&\"<br />\"&Sort!O40&\"<br /><b>\"&Sort!P40&\"</b>\"))","v":""},"</td>###<td class='GrayOut'>",{"$f":"IF(Sort!Q40=\"\",\"\",IF(Sort!R40=0,Sort!Q40&\"<br /><span class='ClnMatch'>&nbsp;&nbsp;0&nbsp;&nbsp;</span><br /><b>\"&Sort!S40&\"</b>\",Sort!Q40&\"<br />\"&Sort!R40&\"<br /><b>\"&Sort!S40&\"</b>\"))","v":""},"</td>###<td class='GrayOut'>",{"$f":"IF(Sort!T40=\"\",\"\",IF(Sort!U40=0,Sort!T40&\"<br /><span class='ClnMatch'>&nbsp;&nbsp;0&nbsp;&nbsp;</span><br /><b>\"&Sort!V40&\"</b>\",Sort!T40&\"<br />\"&Sort!U40&\"<br /><b>\"&Sort!V40&\"</b>\"))","v":""},"</td>###<td class='GrayOut'>",{"$f":"IF(Sort!W40=\"\",\"\",IF(Sort!X40=0,Sort!W40&\"<br /><span class='ClnMatch'>&nbsp;&nbsp;0&nbsp;&nbsp;</span><br /><b>\"&Sort!Y40&\"</b>\",Sort!W40&\"<br />\"&Sort!X40&\"<br /><b>\"&Sort!Y40&\"</b>\"))","v":""},"</td>###<td>",{"$f":"IF(Sort!Z40=\"\",\"\",IF(Sort!AA40=0,Sort!Z40&\"<br /><span class='ClnMatch'>&nbsp;&nbsp;0&nbsp;&nbsp;</span><br /><b>\"&Sort!AB40&\"</b>\",Sort!Z40&\"<br />\"&Sort!AA40&\"<br /><b>\"&Sort!AB40&\"</b>\"))","v":""},"</td>###<td class=\"BluBld\">",{"$f":"IF(Sort!B40=\"\",\"\",IF(Sort!AA40=0,Sort!AC40&\"<br /><span class='ClnMatch'>&nbsp;&nbsp;0&nbsp;&nbsp;</span><br /><b>\"&Sort!AE40&\"</b>\",Sort!AC40&\"<br />\"&Sort!AD40&\"<br /><b>\"&Sort!AE40&\"</b>\"))","v":""},"</td>###<td class=\"Bld\">",{"$f":"IF(Sort!AF40=\"\",\"\",Sort!AF40)","v":""},"</td>###<td class=\"Bld\">",{"$f":"IF(Sort!AG40=\"\",\"\",Sort!AG40)","v":""},"</td>###</tr>",null,{"$f":"IF(Sort!I40=\"\",\"\",Sort!I40)","v":""},{"$f":"IF(Sort!J40=\"\",\"\",Sort!J40)","v":0},{"$f":"IF(Sort!L40=\"\",\"\",Sort!L40)","v":""},{"$f":"IF(Sort!M40=\"\",\"\",Sort!M40)","v":0},{"$f":"IF(Sort!O40=\"\",\"\",Sort!O40)","v":""},{"$f":"IF(Sort!P40=\"\",\"\",Sort!P40)","v":0},{"$f":"IF(Sort!R40=\"\",\"\",Sort!R40)","v":""},{"$f":"IF(Sort!S40=\"\",\"\",Sort!S40)","v":0},{"$f":"IF(Sort!U40=\"\",\"\",Sort!U40)","v":""},{"$f":"IF(Sort!V40=\"\",\"\",Sort!V40)","v":0},{"$f":"IF(Sort!X40=\"\",\"\",Sort!X40)","v":""},{"$f":"IF(Sort!Y40=\"\",\"\",Sort!Y40)","v":0},{"$f":"IF(Sort!B40=\"\",\"\",Sort!AA40)","v":""}]
["<tr align='center'>###<td class='Bld'>",{"$f":"Sort!AH41","v":""},"</td>###<td class='Bld'>",{"$f":"IF(Sort!B41=\"\",\"\",IF(Sort!C41=\"\",Sort!B41,Sort!B41&\"<br />#\"&Sort!C41))","v":""},"</td>###<td>",{"$f":"IF(Sort!E41=\"\",\"\",Sort!E41&\" \"&Sort!F41&\"<br />\"&Sort!G41)","v":""},"</td>###<td class='GrayOut'>",{"$f":"IF(Sort!H41=\"\",\"\",IF(Sort!I41=0,Sort!H41&\"<br /><span class='ClnMatch'>&nbsp;&nbsp;0&nbsp;&nbsp;</span><br /><b>\"&Sort!J41&\"</b>\",Sort!H41&\"<br />\"&Sort!I41&\"<br /><b>\"&Sort!J41&\"</b>\"))","v":""},"</td>###<td class='GrayOut'>",{"$f":"IF(Sort!K41=\"\",\"\",IF(Sort!L41=0,Sort!K41&\"<br /><span class='ClnMatch'>&nbsp;&nbsp;0&nbsp;&nbsp;</span><br /><b>\"&Sort!M41&\"</b>\",Sort!K41&\"<br />\"&Sort!L41&\"<br /><b>\"&Sort!M41&\"</b>\"))","v":""},"</td>###<td class='GrayOut'>",{"$f":"IF(Sort!N41=\"\",\"\",IF(Sort!O41=0,Sort!N41&\"<br /><span class='ClnMatch'>&nbsp;&nbsp;0&nbsp;&nbsp;</span><br /><b>\"&Sort!P41&\"</b>\",Sort!N41&\"<br />\"&Sort!O41&\"<br /><b>\"&Sort!P41&\"</b>\"))","v":""},"</td>###<td class='GrayOut'>",{"$f":"IF(Sort!Q41=\"\",\"\",IF(Sort!R41=0,Sort!Q41&\"<br /><span class='ClnMatch'>&nbsp;&nbsp;0&nbsp;&nbsp;</span><br /><b>\"&Sort!S41&\"</b>\",Sort!Q41&\"<br />\"&Sort!R41&\"<br /><b>\"&Sort!S41&\"</b>\"))","v":""},"</td>###<td class='GrayOut'>",{"$f":"IF(Sort!T41=\"\",\"\",IF(Sort!U41=0,Sort!T41&\"<br /><span class='ClnMatch'>&nbsp;&nbsp;0&nbsp;&nbsp;</span><br /><b>\"&Sort!V41&\"</b>\",Sort!T41&\"<br />\"&Sort!U41&\"<br /><b>\"&Sort!V41&\"</b>\"))","v":""},"</td>###<td class='GrayOut'>",{"$f":"IF(Sort!W41=\"\",\"\",IF(Sort!X41=0,Sort!W41&\"<br /><span class='ClnMatch'>&nbsp;&nbsp;0&nbsp;&nbsp;</span><br /><b>\"&Sort!Y41&\"</b>\",Sort!W41&\"<br />\"&Sort!X41&\"<br /><b>\"&Sort!Y41&\"</b>\"))","v":""},"</td>###<td>",{"$f":"IF(Sort!Z41=\"\",\"\",IF(Sort!AA41=0,Sort!Z41&\"<br /><span class='ClnMatch'>&nbsp;&nbsp;0&nbsp;&nbsp;</span><br /><b>\"&Sort!AB41&\"</b>\",Sort!Z41&\"<br />\"&Sort!AA41&\"<br /><b>\"&Sort!AB41&\"</b>\"))","v":""},"</td>###<td class=\"BluBld\">",{"$f":"IF(Sort!B41=\"\",\"\",IF(Sort!AA41=0,Sort!AC41&\"<br /><span class='ClnMatch'>&nbsp;&nbsp;0&nbsp;&nbsp;</span><br /><b>\"&Sort!AE41&\"</b>\",Sort!AC41&\"<br />\"&Sort!AD41&\"<br /><b>\"&Sort!AE41&\"</b>\"))","v":""},"</td>###<td class=\"Bld\">",{"$f":"IF(Sort!AF41=\"\",\"\",Sort!AF41)","v":""},"</td>###<td class=\"Bld\">",{"$f":"IF(Sort!AG41=\"\",\"\",Sort!AG41)","v":""},"</td>###</tr>",null,{"$f":"IF(Sort!I41=\"\",\"\",Sort!I41)","v":""},{"$f":"IF(Sort!J41=\"\",\"\",Sort!J41)","v":0},{"$f":"IF(Sort!L41=\"\",\"\",Sort!L41)","v":""},{"$f":"IF(Sort!M41=\"\",\"\",Sort!M41)","v":0},{"$f":"IF(Sort!O41=\"\",\"\",Sort!O41)","v":""},{"$f":"IF(Sort!P41=\"\",\"\",Sort!P41)","v":0},{"$f":"IF(Sort!R41=\"\",\"\",Sort!R41)","v":""},{"$f":"IF(Sort!S41=\"\",\"\",Sort!S41)","v":0},{"$f":"IF(Sort!U41=\"\",\"\",Sort!U41)","v":""},{"$f":"IF(Sort!V41=\"\",\"\",Sort!V41)","v":0},{"$f":"IF(Sort!X41=\"\",\"\",Sort!X41)","v":""},{"$f":"IF(Sort!Y41=\"\",\"\",Sort!Y41)","v":0},{"$f":"IF(Sort!B41=\"\",\"\",Sort!AA41)","v":""}]
["<tr align='center'>###<td class='Bld'>",{"$f":"Sort!AH42","v":""},"</td>###<td class='Bld'>",{"$f":"IF(Sort!B42=\"\",\"\",IF(Sort!C42=\"\",Sort!B42,Sort!B42&\"<br />#\"&Sort!C42))","v":""},"</td>###<td>",{"$f":"IF(Sort!E42=\"\",\"\",Sort!E42&\" \"&Sort!F42&\"<br />\"&Sort!G42)","v":""},"</td>###<td class='GrayOut'>",{"$f":"IF(Sort!H42=\"\",\"\",IF(Sort!I42=0,Sort!H42&\"<br /><span class='ClnMatch'>&nbsp;&nbsp;0&nbsp;&nbsp;</span><br /><b>\"&Sort!J42&\"</b>\",Sort!H42&\"<br />\"&Sort!I42&\"<br /><b>\"&Sort!J42&\"</b>\"))","v":""},"</td>###<td class='GrayOut'>",{"$f":"IF(Sort!K42=\"\",\"\",IF(Sort!L42=0,Sort!K42&\"<br /><span class='ClnMatch'>&nbsp;&nbsp;0&nbsp;&nbsp;</span><br /><b>\"&Sort!M42&\"</b>\",Sort!K42&\"<br />\"&Sort!L42&\"<br /><b>\"&Sort!M42&\"</b>\"))","v":""},"</td>###<td class='GrayOut'>",{"$f":"IF(Sort!N42=\"\",\"\",IF(Sort!O42=0,Sort!N42&\"<br /><span class='ClnMatch'>&nbsp;&nbsp;0&nbsp;&nbsp;</span><br /><b>\"&Sort!P42&\"</b>\",Sort!N42&\"<br />\"&Sort!O42&\"<br /><b>\"&Sort!P42&\"</b>\"))","v":""},"</td>###<td class='GrayOut'>",{"$f":"IF(Sort!Q42=\"\",\"\",IF(Sort!R42=0,Sort!Q42&\"<br /><span class='ClnMatch'>&nbsp;&nbsp;0&nbsp;&nbsp;</span><br /><b>\"&Sort!S42&\"</b>\",Sort!Q42&\"<br />\"&Sort!R42&\"<br /><b>\"&Sort!S42&\"</b>\"))","v":""},"</td>###<td class='GrayOut'>",{"$f":"IF(Sort!T42=\"\",\"\",IF(Sort!U42=0,Sort!T42&\"<br /><span class='ClnMatch'>&nbsp;&nbsp;0&nbsp;&nbsp;</span><br /><b>\"&Sort!V42&\"</b>\",Sort!T42&\"<br />\"&Sort!U42&\"<br /><b>\"&Sort!V42&\"</b>\"))","v":""},"</td>###<td class='GrayOut'>",{"$f":"IF(Sort!W42=\"\",\"\",IF(Sort!X42=0,Sort!W42&\"<br /><span class='ClnMatch'>&nbsp;&nbsp;0&nbsp;&nbsp;</span><br /><b>\"&Sort!Y42&\"</b>\",Sort!W42&\"<br />\"&Sort!X42&\"<br /><b>\"&Sort!Y42&\"</b>\"))","v":""},"</td>###<td>",{"$f":"IF(Sort!Z42=\"\",\"\",IF(Sort!AA42=0,Sort!Z42&\"<br /><span class='ClnMatch'>&nbsp;&nbsp;0&nbsp;&nbsp;</span><br /><b>\"&Sort!AB42&\"</b>\",Sort!Z42&\"<br />\"&Sort!AA42&\"<br /><b>\"&Sort!AB42&\"</b>\"))","v":""},"</td>###<td class=\"BluBld\">",{"$f":"IF(Sort!B42=\"\",\"\",IF(Sort!AA42=0,Sort!AC42&\"<br /><span class='ClnMatch'>&nbsp;&nbsp;0&nbsp;&nbsp;</span><br /><b>\"&Sort!AE42&\"</b>\",Sort!AC42&\"<br />\"&Sort!AD42&\"<br /><b>\"&Sort!AE42&\"</b>\"))","v":""},"</td>###<td class=\"Bld\">",{"$f":"IF(Sort!AF42=\"\",\"\",Sort!AF42)","v":""},"</td>###<td class=\"Bld\">",{"$f":"IF(Sort!AG42=\"\",\"\",Sort!AG42)","v":""},"</td>###</tr>",null,{"$f":"IF(Sort!I42=\"\",\"\",Sort!I42)","v":""},{"$f":"IF(Sort!J42=\"\",\"\",Sort!J42)","v":0},{"$f":"IF(Sort!L42=\"\",\"\",Sort!L42)","v":""},{"$f":"IF(Sort!M42=\"\",\"\",Sort!M42)","v":0},{"$f":"IF(Sort!O42=\"\",\"\",Sort!O42)","v":""},{"$f":"IF(Sort!P42=\"\",\"\",Sort!P42)","v":0},{"$f":"IF(Sort!R42=\"\",\"\",Sort!R42)","v":""},{"$f":"IF(Sort!S42=\"\",\"\",Sort!S42)","v":0},{"$f":"IF(Sort!U42=\"\",\"\",Sort!U42)","v":""},{"$f":"IF(Sort!V42=\"\",\"\",Sort!V42)","v":0},{"$f":"IF(Sort!X42=\"\",\"\",Sort!X42)","v":""},{"$f":"IF(Sort!Y42=\"\",\"\",Sort!Y42)","v":0},{"$f":"IF(Sort!B42=\"\",\"\",Sort!AA42)","v":""}]
["<tr align='center'>###<td class='Bld'>",{"$f":"Sort!AH43","v":""},"</td>###<td class='Bld'>",{"$f":"IF(Sort!B43=\"\",\"\",IF(Sort!C43=\"\",Sort!B43,Sort!B43&\"<br />#\"&Sort!C43))","v":""},"</td>###<td>",{"$f":"IF(Sort!E43=\"\",\"\",Sort!E43&\" \"&Sort!F43&\"<br />\"&Sort!G43)","v":""},"</td>###<td class='GrayOut'>",{"$f":"IF(Sort!H43=\"\",\"\",IF(Sort!I43=0,Sort!H43&\"<br /><span class='ClnMatch'>&nbsp;&nbsp;0&nbsp;&nbsp;</span><br /><b>\"&Sort!J43&\"</b>\",Sort!H43&\"<br />\"&Sort!I43&\"<br /><b>\"&Sort!J43&\"</b>\"))","v":""},"</td>###<td class='GrayOut'>",{"$f":"IF(Sort!K43=\"\",\"\",IF(Sort!L43=0,Sort!K43&\"<br /><span class='ClnMatch'>&nbsp;&nbsp;0&nbsp;&nbsp;</span><br /><b>\"&Sort!M43&\"</b>\",Sort!K43&\"<br />\"&Sort!L43&\"<br /><b>\"&Sort!M43&\"</b>\"))","v":""},"</td>###<td class='GrayOut'>",{"$f":"IF(Sort!N43=\"\",\"\",IF(Sort!O43=0,Sort!N43&\"<br /><span class='ClnMatch'>&nbsp;&nbsp;0&nbsp;&nbsp;</span><br /><b>\"&Sort!P43&\"</b>\",Sort!N43&\"<br />\"&Sort!O43&\"<br /><b>\"&Sort!P43&\"</b>\"))","v":""},"</td>###<td class='GrayOut'>",{"$f":"IF(Sort!Q43=\"\",\"\",IF(Sort!R43=0,Sort!Q43&\"<br /><span class='ClnMatch'>&nbsp;&nbsp;0&nbsp;&nbsp;</span><br /><b>\"&Sort!S43&\"</b>\",Sort!Q43&\"<br />\"&Sort!R43&\"<br /><b>\"&Sort!S43&\"</b>\"))","v":""},"</td>###<td class='GrayOut'>",{"$f":"IF(Sort!T43=\"\",\"\",IF(Sort!U43=0,Sort!T43&\"<br /><span class='ClnMatch'>&nbsp;&nbsp;0&nbsp;&nbsp;</span><br /><b>\"&Sort!V43&\"</b>\",Sort!T43&\"<br />\"&Sort!U43&\"<br /><b>\"&Sort!V43&\"</b>\"))","v":""},"</td>###<td class='GrayOut'>",{"$f":"IF(Sort!W43=\"\",\"\",IF(Sort!X43=0,Sort!W43&\"<br /><span class='ClnMatch'>&nbsp;&nbsp;0&nbsp;&nbsp;</span><br /><b>\"&Sort!Y43&\"</b>\",Sort!W43&\"<br />\"&Sort!X43&\"<br /><b>\"&Sort!Y43&\"</b>\"))","v":""},"</td>###<td>",{"$f":"IF(Sort!Z43=\"\",\"\",IF(Sort!AA43=0,Sort!Z43&\"<br /><span class='ClnMatch'>&nbsp;&nbsp;0&nbsp;&nbsp;</span><br /><b>\"&Sort!AB43&\"</b>\",Sort!Z43&\"<br />\"&Sort!AA43&\"<br /><b>\"&Sort!AB43&\"</b>\"))","v":""},"</td>###<td class=\"BluBld\">",{"$f":"IF(Sort!B43=\"\",\"\",IF(Sort!AA43=0,Sort!AC43&\"<br /><span class='ClnMatch'>&nbsp;&nbsp;0&nbsp;&nbsp;</span><br /><b>\"&Sort!AE43&\"</b>\",Sort!AC43&\"<br />\"&Sort!AD43&\"<br /><b>\"&Sort!AE43&\"</b>\"))","v":""},"</td>###<td class=\"Bld\">",{"$f":"IF(Sort!AF43=\"\",\"\",Sort!AF43)","v":""},"</td>###<td class=\"Bld\">",{"$f":"IF(Sort!AG43=\"\",\"\",Sort!AG43)","v":""},"</td>###</tr>",null,{"$f":"IF(Sort!I43=\"\",\"\",Sort!I43)","v":""},{"$f":"IF(Sort!J43=\"\",\"\",Sort!J43)","v":0},{"$f":"IF(Sort!L43=\"\",\"\",Sort!L43)","v":""},{"$f":"IF(Sort!M43=\"\",\"\",Sort!M43)","v":0},{"$f":"IF(Sort!O43=\"\",\"\",Sort!O43)","v":""},{"$f":"IF(Sort!P43=\"\",\"\",Sort!P43)","v":0},{"$f":"IF(Sort!R43=\"\",\"\",Sort!R43)","v":""},{"$f":"IF(Sort!S43=\"\",\"\",Sort!S43)","v":0},{"$f":"IF(Sort!U43=\"\",\"\",Sort!U43)","v":""},{"$f":"IF(Sort!V43=\"\",\"\",Sort!V43)","v":0},{"$f":"IF(Sort!X43=\"\",\"\",Sort!X43)","v":""},{"$f":"IF(Sort!Y43=\"\",\"\",Sort!Y43)","v":0},{"$f":"IF(Sort!B43=\"\",\"\",Sort!AA43)","v":""}]
["<tr align='center'>###<td class='Bld'>",{"$f":"Sort!AH44","v":""},"</td>###<td class='Bld'>",{"$f":"IF(Sort!B44=\"\",\"\",IF(Sort!C44=\"\",Sort!B44,Sort!B44&\"<br />#\"&Sort!C44))","v":""},"</td>###<td>",{"$f":"IF(Sort!E44=\"\",\"\",Sort!E44&\" \"&Sort!F44&\"<br />\"&Sort!G44)","v":""},"</td>###<td class='GrayOut'>",{"$f":"IF(Sort!H44=\"\",\"\",IF(Sort!I44=0,Sort!H44&\"<br /><span class='ClnMatch'>&nbsp;&nbsp;0&nbsp;&nbsp;</span><br /><b>\"&Sort!J44&\"</b>\",Sort!H44&\"<br />\"&Sort!I44&\"<br /><b>\"&Sort!J44&\"</b>\"))","v":""},"</td>###<td class='GrayOut'>",{"$f":"IF(Sort!K44=\"\",\"\",IF(Sort!L44=0,Sort!K44&\"<br /><span class='ClnMatch'>&nbsp;&nbsp;0&nbsp;&nbsp;</span><br /><b>\"&Sort!M44&\"</b>\",Sort!K44&\"<br />\"&Sort!L44&\"<br /><b>\"&Sort!M44&\"</b>\"))","v":""},"</td>###<td class='GrayOut'>",{"$f":"IF(Sort!N44=\"\",\"\",IF(Sort!O44=0,Sort!N44&\"<br /><span class='ClnMatch'>&nbsp;&nbsp;0&nbsp;&nbsp;</span><br /><b>\"&Sort!P44&\"</b>\",Sort!N44&\"<br />\"&Sort!O44&\"<br /><b>\"&Sort!P44&\"</b>\"))","v":""},"</td>###<td class='GrayOut'>",{"$f":"IF(Sort!Q44=\"\",\"\",IF(Sort!R44=0,Sort!Q44&\"<br /><span class='ClnMatch'>&nbsp;&nbsp;0&nbsp;&nbsp;</span><br /><b>\"&Sort!S44&\"</b>\",Sort!Q44&\"<br />\"&Sort!R44&\"<br /><b>\"&Sort!S44&\"</b>\"))","v":""},"</td>###<td class='GrayOut'>",{"$f":"IF(Sort!T44=\"\",\"\",IF(Sort!U44=0,Sort!T44&\"<br /><span class='ClnMatch'>&nbsp;&nbsp;0&nbsp;&nbsp;</span><br /><b>\"&Sort!V44&\"</b>\",Sort!T44&\"<br />\"&Sort!U44&\"<br /><b>\"&Sort!V44&\"</b>\"))","v":""},"</td>###<td class='GrayOut'>",{"$f":"IF(Sort!W44=\"\",\"\",IF(Sort!X44=0,Sort!W44&\"<br /><span class='ClnMatch'>&nbsp;&nbsp;0&nbsp;&nbsp;</span><br /><b>\"&Sort!Y44&\"</b>\",Sort!W44&\"<br />\"&Sort!X44&\"<br /><b>\"&Sort!Y44&\"</b>\"))","v":""},"</td>###<td>",{"$f":"IF(Sort!Z44=\"\",\"\",IF(Sort!AA44=0,Sort!Z44&\"<br /><span class='ClnMatch'>&nbsp;&nbsp;0&nbsp;&nbsp;</span><br /><b>\"&Sort!AB44&\"</b>\",Sort!Z44&\"<br />\"&Sort!AA44&\"<br /><b>\"&Sort!AB44&\"</b>\"))","v":""},"</td>###<td class=\"BluBld\">",{"$f":"IF(Sort!B44=\"\",\"\",IF(Sort!AA44=0,Sort!AC44&\"<br /><span class='ClnMatch'>&nbsp;&nbsp;0&nbsp;&nbsp;</span><br /><b>\"&Sort!AE44&\"</b>\",Sort!AC44&\"<br />\"&Sort!AD44&\"<br /><b>\"&Sort!AE44&\"</b>\"))","v":""},"</td>###<td class=\"Bld\">",{"$f":"IF(Sort!AF44=\"\",\"\",Sort!AF44)","v":""},"</td>###<td class=\"Bld\">",{"$f":"IF(Sort!AG44=\"\",\"\",Sort!AG44)","v":""},"</td>###</tr>",null,{"$f":"IF(Sort!I44=\"\",\"\",Sort!I44)","v":""},{"$f":"IF(Sort!J44=\"\",\"\",Sort!J44)","v":0},{"$f":"IF(Sort!L44=\"\",\"\",Sort!L44)","v":""},{"$f":"IF(Sort!M44=\"\",\"\",Sort!M44)","v":0},{"$f":"IF(Sort!O44=\"\",\"\",Sort!O44)","v":""},{"$f":"IF(Sort!P44=\"\",\"\",Sort!P44)","v":0},{"$f":"IF(Sort!R44=\"\",\"\",Sort!R44)","v":""},{"$f":"IF(Sort!S44=\"\",\"\",Sort!S44)","v":0},{"$f":"IF(Sort!U44=\"\",\"\",Sort!U44)","v":""},{"$f":"IF(Sort!V44=\"\",\"\",Sort!V44)","v":0},{"$f":"IF(Sort!X44=\"\",\"\",Sort!X44)","v":""},{"$f":"IF(Sort!Y44=\"\",\"\",Sort!Y44)","v":0},{"$f":"IF(Sort!B44=\"\",\"\",Sort!AA44)","v":""}]
["<tr align='center'>###<td class='Bld'>",{"$f":"Sort!AH45","v":""},"</td>###<td class='Bld'>",{"$f":"IF(Sort!B45=\"\",\"\",IF(Sort!C45=\"\",Sort!B45,Sort!B45&\"<br />#\"&Sort!C45))","v":""},"</td>###<td>",{"$f":"IF(Sort!E45=\"\",\"\",Sort!E45&\" \"&Sort!F45&\"<br />\"&Sort!G45)","v":""},"</td>###<td class='GrayOut'>",{"$f":"IF(Sort!H45=\"\",\"\",IF(Sort!I45=0,Sort!H45&\"<br /><span class='ClnMatch'>&nbsp;&nbsp;0&nbsp;&nbsp;</span><br /><b>\"&Sort!J45&\"</b>\",Sort!H45&\"<br />\"&Sort!I45&\"<br /><b>\"&Sort!J45&\"</b>\"))","v":""},"</td>###<td class='GrayOut'>",{"$f":"IF(Sort!K45=\"\",\"\",IF(Sort!L45=0,Sort!K45&\"<br /><span class='ClnMatch'>&nbsp;&nbsp;0&nbsp;&nbsp;</span><br /><b>\"&Sort!M45&\"</b>\",Sort!K45&\"<br />\"&Sort!L45&\"<br /><b>\"&Sort!M45&\"</b>\"))","v":""},"</td>###<td class='GrayOut'>",{"$f":"IF(Sort!N45=\"\",\"\",IF(Sort!O45=0,Sort!N45&\"<br /><span class='ClnMatch'>&nbsp;&nbsp;0&nbsp;&nbsp;</span><br /><b>\"&Sort!P45&\"</b>\",Sort!N45&\"<br />\"&Sort!O45&\"<br /><b>\"&Sort!P45&\"</b>\"))","v":""},"</td>###<td class='GrayOut'>",{"$f":"IF(Sort!Q45=\"\",\"\",IF(Sort!R45=0,Sort!Q45&\"<br /><span class='ClnMatch'>&nbsp;&nbsp;0&nbsp;&nbsp;</span><br /><b>\"&Sort!S45&\"</b>\",Sort!Q45&\"<br />\"&Sort!R45&\"<br /><b>\"&Sort!S45&\"</b>\"))","v":""},"</td>###<td class='GrayOut'>",{"$f":"IF(Sort!T45=\"\",\"\",IF(Sort!U45=0,Sort!T45&\"<br /><span class='ClnMatch'>&nbsp;&nbsp;0&nbsp;&nbsp;</span><br /><b>\"&Sort!V45&\"</b>\",Sort!T45&\"<br />\"&Sort!U45&\"<br /><b>\"&Sort!V45&\"</b>\"))","v":""},"</td>###<td class='GrayOut'>",{"$f":"IF(Sort!W45=\"\",\"\",IF(Sort!X45=0,Sort!W45&\"<br /><span class='ClnMatch'>&nbsp;&nbsp;0&nbsp;&nbsp;</span><br /><b>\"&Sort!Y45&\"</b>\",Sort!W45&\"<br />\"&Sort!X45&\"<br /><b>\"&Sort!Y45&\"</b>\"))","v":""},"</td>###<td>",{"$f":"IF(Sort!Z45=\"\",\"\",IF(Sort!AA45=0,Sort!Z45&\"<br /><span class='ClnMatch'>&nbsp;&nbsp;0&nbsp;&nbsp;</span><br /><b>\"&Sort!AB45&\"</b>\",Sort!Z45&\"<br />\"&Sort!AA45&\"<br /><b>\"&Sort!AB45&\"</b>\"))","v":""},"</td>###<td class=\"BluBld\">",{"$f":"IF(Sort!B45=\"\",\"\",IF(Sort!AA45=0,Sort!AC45&\"<br /><span class='ClnMatch'>&nbsp;&nbsp;0&nbsp;&nbsp;</span><br /><b>\"&Sort!AE45&\"</b>\",Sort!AC45&\"<br />\"&Sort!AD45&\"<br /><b>\"&Sort!AE45&\"</b>\"))","v":""},"</td>###<td class=\"Bld\">",{"$f":"IF(Sort!AF45=\"\",\"\",Sort!AF45)","v":""},"</td>###<td class=\"Bld\">",{"$f":"IF(Sort!AG45=\"\",\"\",Sort!AG45)","v":""},"</td>###</tr>",null,{"$f":"IF(Sort!I45=\"\",\"\",Sort!I45)","v":""},{"$f":"IF(Sort!J45=\"\",\"\",Sort!J45)","v":0},{"$f":"IF(Sort!L45=\"\",\"\",Sort!L45)","v":""},{"$f":"IF(Sort!M45=\"\",\"\",Sort!M45)","v":0},{"$f":"IF(Sort!O45=\"\",\"\",Sort!O45)","v":""},{"$f":"IF(Sort!P45=\"\",\"\",Sort!P45)","v":0},{"$f":"IF(Sort!R45=\"\",\"\",Sort!R45)","v":""},{"$f":"IF(Sort!S45=\"\",\"\",Sort!S45)","v":0},{"$f":"IF(Sort!U45=\"\",\"\",Sort!U45)","v":""},{"$f":"IF(Sort!V45=\"\",\"\",Sort!V45)","v":0},{"$f":"IF(Sort!X45=\"\",\"\",Sort!X45)","v":""},{"$f":"IF(Sort!Y45=\"\",\"\",Sort!Y45)","v":0},{"$f":"IF(Sort!B45=\"\",\"\",Sort!AA45)","v":""}]
["<tr align='center'>###<td class='Bld'>",{"$f":"Sort!AH46","v":""},"</td>###<td class='Bld'>",{"$f":"IF(Sort!B46=\"\",\"\",IF(Sort!C46=\"\",Sort!B46,Sort!B46&\"<br />#\"&Sort!C46))","v":""},"</td>###<td>",{"$f":"IF(Sort!E46=\"\",\"\",Sort!E46&\" \"&Sort!F46&\"<br />\"&Sort!G46)","v":""},"</td>###<td class='GrayOut'>",{"$f":"IF(Sort!H46=\"\",\"\",IF(Sort!I46=0,Sort!H46&\"<br /><span class='ClnMatch'>&nbsp;&nbsp;0&nbsp;&nbsp;</span><br /><b>\"&Sort!J46&\"</b>\",Sort!H46&\"<br />\"&Sort!I46&\"<br /><b>\"&Sort!J46&\"</b>\"))","v":""},"</td>###<td class='GrayOut'>",{"$f":"IF(Sort!K46=\"\",\"\",IF(Sort!L46=0,Sort!K46&\"<br /><span class='ClnMatch'>&nbsp;&nbsp;0&nbsp;&nbsp;</span><br /><b>\"&Sort!M46&\"</b>\",Sort!K46&\"<br />\"&Sort!L46&\"<br /><b>\"&Sort!M46&\"</b>\"))","v":""},"</td>###<td class='GrayOut'>",{"$f":"IF(Sort!N46=\"\",\"\",IF(Sort!O46=0,Sort!N46&\"<br /><span class='ClnMatch'>&nbsp;&nbsp;0&nbsp;&nbsp;</span><br /><b>\"&Sort!P46&\"</b>\",Sort!N46&\"<br />\"&Sort!O46&\"<br /><b>\"&Sort!P46&\"</b>\"))","v":""},"</td>###<td class='GrayOut'>",{"$f":"IF(Sort!Q46=\"\",\"\",IF(Sort!R46=0,Sort!Q46&\"<br /><span class='ClnMatch'>&nbsp;&nbsp;0&nbsp;&nbsp;</span><br /><b>\"&Sort!S46&\"</b>\",Sort!Q46&\"<br />\"&Sort!R46&\"<br /><b>\"&Sort!S46&\"</b>\"))","v":""},"</td>###<td class='GrayOut'>",{"$f":"IF(Sort!T46=\"\",\"\",IF(Sort!U46=0,Sort!T46&\"<br /><span class='ClnMatch'>&nbsp;&nbsp;0&nbsp;&nbsp;</span><br /><b>\"&Sort!V46&\"</b>\",Sort!T46&\"<br />\"&Sort!U46&\"<br /><b>\"&Sort!V46&\"</b>\"))","v":""},"</td>###<td class='GrayOut'>",{"$f":"IF(Sort!W46=\"\",\"\",IF(Sort!X46=0,Sort!W46&\"<br /><span class='ClnMatch'>&nbsp;&nbsp;0&nbsp;&nbsp;</span><br /><b>\"&Sort!Y46&\"</b>\",Sort!W46&\"<br />\"&Sort!X46&\"<br /><b>\"&Sort!Y46&\"</b>\"))","v":""},"</td>###<td>",{"$f":"IF(Sort!Z46=\"\",\"\",IF(Sort!AA46=0,Sort!Z46&\"<br /><span class='ClnMatch'>&nbsp;&nbsp;0&nbsp;&nbsp;</span><br /><b>\"&Sort!AB46&\"</b>\",Sort!Z46&\"<br />\"&Sort!AA46&\"<br /><b>\"&Sort!AB46&\"</b>\"))","v":""},"</td>###<td class=\"BluBld\">",{"$f":"IF(Sort!B46=\"\",\"\",IF(Sort!AA46=0,Sort!AC46&\"<br /><span class='ClnMatch'>&nbsp;&nbsp;0&nbsp;&nbsp;</span><br /><b>\"&Sort!AE46&\"</b>\",Sort!AC46&\"<br />\"&Sort!AD46&\"<br /><b>\"&Sort!AE46&\"</b>\"))","v":""},"</td>###<td class=\"Bld\">",{"$f":"IF(Sort!AF46=\"\",\"\",Sort!AF46)","v":""},"</td>###<td class=\"Bld\">",{"$f":"IF(Sort!AG46=\"\",\"\",Sort!AG46)","v":""},"</td>###</tr>",null,{"$f":"IF(Sort!I46=\"\",\"\",Sort!I46)","v":""},{"$f":"IF(Sort!J46=\"\",\"\",Sort!J46)","v":0},{"$f":"IF(Sort!L46=\"\",\"\",Sort!L46)","v":""},{"$f":"IF(Sort!M46=\"\",\"\",Sort!M46)","v":0},{"$f":"IF(Sort!O46=\"\",\"\",Sort!O46)","v":""},{"$f":"IF(Sort!P46=\"\",\"\",Sort!P46)","v":0},{"$f":"IF(Sort!R46=\"\",\"\",Sort!R46)","v":""},{"$f":"IF(Sort!S46=\"\",\"\",Sort!S46)","v":0},{"$f":"IF(Sort!U46=\"\",\"\",Sort!U46)","v":""},{"$f":"IF(Sort!V46=\"\",\"\",Sort!V46)","v":0},{"$f":"IF(Sort!X46=\"\",\"\",Sort!X46)","v":""},{"$f":"IF(Sort!Y46=\"\",\"\",Sort!Y46)","v":0},{"$f":"IF(Sort!B46=\"\",\"\",Sort!AA46)","v":""}]
["<tr align='center'>###<td class='Bld'>",{"$f":"Sort!AH47","v":""},"</td>###<td class='Bld'>",{"$f":"IF(Sort!B47=\"\",\"\",IF(Sort!C47=\"\",Sort!B47,Sort!B47&\"<br />#\"&Sort!C47))","v":""},"</td>###<td>",{"$f":"IF(Sort!E47=\"\",\"\",Sort!E47&\" \"&Sort!F47&\"<br />\"&Sort!G47)","v":""},"</td>###<td class='GrayOut'>",{"$f":"IF(Sort!H47=\"\",\"\",IF(Sort!I47=0,Sort!H47&\"<br /><span class='ClnMatch'>&nbsp;&nbsp;0&nbsp;&nbsp;</span><br /><b>\"&Sort!J47&\"</b>\",Sort!H47&\"<br />\"&Sort!I47&\"<br /><b>\"&Sort!J47&\"</b>\"))","v":""},"</td>###<td class='GrayOut'>",{"$f":"IF(Sort!K47=\"\",\"\",IF(Sort!L47=0,Sort!K47&\"<br /><span class='ClnMatch'>&nbsp;&nbsp;0&nbsp;&nbsp;</span><br /><b>\"&Sort!M47&\"</b>\",Sort!K47&\"<br />\"&Sort!L47&\"<br /><b>\"&Sort!M47&\"</b>\"))","v":""},"</td>###<td class='GrayOut'>",{"$f":"IF(Sort!N47=\"\",\"\",IF(Sort!O47=0,Sort!N47&\"<br /><span class='ClnMatch'>&nbsp;&nbsp;0&nbsp;&nbsp;</span><br /><b>\"&Sort!P47&\"</b>\",Sort!N47&\"<br />\"&Sort!O47&\"<br /><b>\"&Sort!P47&\"</b>\"))","v":""},"</td>###<td class='GrayOut'>",{"$f":"IF(Sort!Q47=\"\",\"\",IF(Sort!R47=0,Sort!Q47&\"<br /><span class='ClnMatch'>&nbsp;&nbsp;0&nbsp;&nbsp;</span><br /><b>\"&Sort!S47&\"</b>\",Sort!Q47&\"<br />\"&Sort!R47&\"<br /><b>\"&Sort!S47&\"</b>\"))","v":""},"</td>###<td class='GrayOut'>",{"$f":"IF(Sort!T47=\"\",\"\",IF(Sort!U47=0,Sort!T47&\"<br /><span class='ClnMatch'>&nbsp;&nbsp;0&nbsp;&nbsp;</span><br /><b>\"&Sort!V47&\"</b>\",Sort!T47&\"<br />\"&Sort!U47&\"<br /><b>\"&Sort!V47&\"</b>\"))","v":""},"</td>###<td class='GrayOut'>",{"$f":"IF(Sort!W47=\"\",\"\",IF(Sort!X47=0,Sort!W47&\"<br /><span class='ClnMatch'>&nbsp;&nbsp;0&nbsp;&nbsp;</span><br /><b>\"&Sort!Y47&\"</b>\",Sort!W47&\"<br />\"&Sort!X47&\"<br /><b>\"&Sort!Y47&\"</b>\"))","v":""},"</td>###<td>",{"$f":"IF(Sort!Z47=\"\",\"\",IF(Sort!AA47=0,Sort!Z47&\"<br /><span class='ClnMatch'>&nbsp;&nbsp;0&nbsp;&nbsp;</span><br /><b>\"&Sort!AB47&\"</b>\",Sort!Z47&\"<br />\"&Sort!AA47&\"<br /><b>\"&Sort!AB47&\"</b>\"))","v":""},"</td>###<td class=\"BluBld\">",{"$f":"IF(Sort!B47=\"\",\"\",IF(Sort!AA47=0,Sort!AC47&\"<br /><span class='ClnMatch'>&nbsp;&nbsp;0&nbsp;&nbsp;</span><br /><b>\"&Sort!AE47&\"</b>\",Sort!AC47&\"<br />\"&Sort!AD47&\"<br /><b>\"&Sort!AE47&\"</b>\"))","v":""},"</td>###<td class=\"Bld\">",{"$f":"IF(Sort!AF47=\"\",\"\",Sort!AF47)","v":""},"</td>###<td class=\"Bld\">",{"$f":"IF(Sort!AG47=\"\",\"\",Sort!AG47)","v":""},"</td>###</tr>",null,{"$f":"IF(Sort!I47=\"\",\"\",Sort!I47)","v":""},{"$f":"IF(Sort!J47=\"\",\"\",Sort!J47)","v":0},{"$f":"IF(Sort!L47=\"\",\"\",Sort!L47)","v":""},{"$f":"IF(Sort!M47=\"\",\"\",Sort!M47)","v":0},{"$f":"IF(Sort!O47=\"\",\"\",Sort!O47)","v":""},{"$f":"IF(Sort!P47=\"\",\"\",Sort!P47)","v":0},{"$f":"IF(Sort!R47=\"\",\"\",Sort!R47)","v":""},{"$f":"IF(Sort!S47=\"\",\"\",Sort!S47)","v":0},{"$f":"IF(Sort!U47=\"\",\"\",Sort!U47)","v":""},{"$f":"IF(Sort!V47=\"\",\"\",Sort!V47)","v":0},{"$f":"IF(Sort!X47=\"\",\"\",Sort!X47)","v":""},{"$f":"IF(Sort!Y47=\"\",\"\",Sort!Y47)","v":0},{"$f":"IF(Sort!B47=\"\",\"\",Sort!AA47)","v":""}]
["<tr align='center'>###<td class='Bld'>",{"$f":"Sort!AH48","v":""},"</td>###<td class='Bld'>",{"$f":"IF(Sort!B48=\"\",\"\",IF(Sort!C48=\"\",Sort!B48,Sort!B48&\"<br />#\"&Sort!C48))","v":""},"</td>###<td>",{"$f":"IF(Sort!E48=\"\",\"\",Sort!E48&\" \"&Sort!F48&\"<br />\"&Sort!G48)","v":""},"</td>###<td class='GrayOut'>",{"$f":"IF(Sort!H48=\"\",\"\",IF(Sort!I48=0,Sort!H48&\"<br /><span class='ClnMatch'>&nbsp;&nbsp;0&nbsp;&nbsp;</span><br /><b>\"&Sort!J48&\"</b>\",Sort!H48&\"<br />\"&Sort!I48&\"<br /><b>\"&Sort!J48&\"</b>\"))","v":""},"</td>###<td class='GrayOut'>",{"$f":"IF(Sort!K48=\"\",\"\",IF(Sort!L48=0,Sort!K48&\"<br /><span class='ClnMatch'>&nbsp;&nbsp;0&nbsp;&nbsp;</span><br /><b>\"&Sort!M48&\"</b>\",Sort!K48&\"<br />\"&Sort!L48&\"<br /><b>\"&Sort!M48&\"</b>\"))","v":""},"</td>###<td class='GrayOut'>",{"$f":"IF(Sort!N48=\"\",\"\",IF(Sort!O48=0,Sort!N48&\"<br /><span class='ClnMatch'>&nbsp;&nbsp;0&nbsp;&nbsp;</span><br /><b>\"&Sort!P48&\"</b>\",Sort!N48&\"<br />\"&Sort!O48&\"<br /><b>\"&Sort!P48&\"</b>\"))","v":""},"</td>###<td class='GrayOut'>",{"$f":"IF(Sort!Q48=\"\",\"\",IF(Sort!R48=0,Sort!Q48&\"<br /><span class='ClnMatch'>&nbsp;&nbsp;0&nbsp;&nbsp;</span><br /><b>\"&Sort!S48&\"</b>\",Sort!Q48&\"<br />\"&Sort!R48&\"<br /><b>\"&Sort!S48&\"</b>\"))","v":""},"</td>###<td class='GrayOut'>",{"$f":"IF(Sort!T48=\"\",\"\",IF(Sort!U48=0,Sort!T48&\"<br /><span class='ClnMatch'>&nbsp;&nbsp;0&nbsp;&nbsp;</span><br /><b>\"&Sort!V48&\"</b>\",Sort!T48&\"<br />\"&Sort!U48&\"<br /><b>\"&Sort!V48&\"</b>\"))","v":""},"</td>###<td class='GrayOut'>",{"$f":"IF(Sort!W48=\"\",\"\",IF(Sort!X48=0,Sort!W48&\"<br /><span class='ClnMatch'>&nbsp;&nbsp;0&nbsp;&nbsp;</span><br /><b>\"&Sort!Y48&\"</b>\",Sort!W48&\"<br />\"&Sort!X48&\"<br /><b>\"&Sort!Y48&\"</b>\"))","v":""},"</td>###<td>",{"$f":"IF(Sort!Z48=\"\",\"\",IF(Sort!AA48=0,Sort!Z48&\"<br /><span class='ClnMatch'>&nbsp;&nbsp;0&nbsp;&nbsp;</span><br /><b>\"&Sort!AB48&\"</b>\",Sort!Z48&\"<br />\"&Sort!AA48&\"<br /><b>\"&Sort!AB48&\"</b>\"))","v":""},"</td>###<td class=\"BluBld\">",{"$f":"IF(Sort!B48=\"\",\"\",IF(Sort!AA48=0,Sort!AC48&\"<br /><span class='ClnMatch'>&nbsp;&nbsp;0&nbsp;&nbsp;</span><br /><b>\"&Sort!AE48&\"</b>\",Sort!AC48&\"<br />\"&Sort!AD48&\"<br /><b>\"&Sort!AE48&\"</b>\"))","v":""},"</td>###<td class=\"Bld\">",{"$f":"IF(Sort!AF48=\"\",\"\",Sort!AF48)","v":""},"</td>###<td class=\"Bld\">",{"$f":"IF(Sort!AG48=\"\",\"\",Sort!AG48)","v":""},"</td>###</tr>",null,{"$f":"IF(Sort!I48=\"\",\"\",Sort!I48)","v":""},{"$f":"IF(Sort!J48=\"\",\"\",Sort!J48)","v":0},{"$f":"IF(Sort!L48=\"\",\"\",Sort!L48)","v":""},{"$f":"IF(Sort!M48=\"\",\"\",Sort!M48)","v":0},{"$f":"IF(Sort!O48=\"\",\"\",Sort!O48)","v":""},{"$f":"IF(Sort!P48=\"\",\"\",Sort!P48)","v":0},{"$f":"IF(Sort!R48=\"\",\"\",Sort!R48)","v":""},{"$f":"IF(Sort!S48=\"\",\"\",Sort!S48)","v":0},{"$f":"IF(Sort!U48=\"\",\"\",Sort!U48)","v":""},{"$f":"IF(Sort!V48=\"\",\"\",Sort!V48)","v":0},{"$f":"IF(Sort!X48=\"\",\"\",Sort!X48)","v":""},{"$f":"IF(Sort!Y48=\"\",\"\",Sort!Y48)","v":0},{"$f":"IF(Sort!B48=\"\",\"\",Sort!AA48)","v":""}]
["<tr align='center'>###<td class='Bld'>",{"$f":"Sort!AH49","v":""},"</td>###<td class='Bld'>",{"$f":"IF(Sort!B49=\"\",\"\",IF(Sort!C49=\"\",Sort!B49,Sort!B49&\"<br />#\"&Sort!C49))","v":""},"</td>###<td>",{"$f":"IF(Sort!E49=\"\",\"\",Sort!E49&\" \"&Sort!F49&\"<br />\"&Sort!G49)","v":""},"</td>###<td class='GrayOut'>",{"$f":"IF(Sort!H49=\"\",\"\",IF(Sort!I49=0,Sort!H49&\"<br /><span class='ClnMatch'>&nbsp;&nbsp;0&nbsp;&nbsp;</span><br /><b>\"&Sort!J49&\"</b>\",Sort!H49&\"<br />\"&Sort!I49&\"<br /><b>\"&Sort!J49&\"</b>\"))","v":""},"</td>###<td class='GrayOut'>",{"$f":"IF(Sort!K49=\"\",\"\",IF(Sort!L49=0,Sort!K49&\"<br /><span class='ClnMatch'>&nbsp;&nbsp;0&nbsp;&nbsp;</span><br /><b>\"&Sort!M49&\"</b>\",Sort!K49&\"<br />\"&Sort!L49&\"<br /><b>\"&Sort!M49&\"</b>\"))","v":""},"</td>###<td class='GrayOut'>",{"$f":"IF(Sort!N49=\"\",\"\",IF(Sort!O49=0,Sort!N49&\"<br /><span class='ClnMatch'>&nbsp;&nbsp;0&nbsp;&nbsp;</span><br /><b>\"&Sort!P49&\"</b>\",Sort!N49&\"<br />\"&Sort!O49&\"<br /><b>\"&Sort!P49&\"</b>\"))","v":""},"</td>###<td class='GrayOut'>",{"$f":"IF(Sort!Q49=\"\",\"\",IF(Sort!R49=0,Sort!Q49&\"<br /><span class='ClnMatch'>&nbsp;&nbsp;0&nbsp;&nbsp;</span><br /><b>\"&Sort!S49&\"</b>\",Sort!Q49&\"<br />\"&Sort!R49&\"<br /><b>\"&Sort!S49&\"</b>\"))","v":""},"</td>###<td class='GrayOut'>",{"$f":"IF(Sort!T49=\"\",\"\",IF(Sort!U49=0,Sort!T49&\"<br /><span class='ClnMatch'>&nbsp;&nbsp;0&nbsp;&nbsp;</span><br /><b>\"&Sort!V49&\"</b>\",Sort!T49&\"<br />\"&Sort!U49&\"<br /><b>\"&Sort!V49&\"</b>\"))","v":""},"</td>###<td class='GrayOut'>",{"$f":"IF(Sort!W49=\"\",\"\",IF(Sort!X49=0,Sort!W49&\"<br /><span class='ClnMatch'>&nbsp;&nbsp;0&nbsp;&nbsp;</span><br /><b>\"&Sort!Y49&\"</b>\",Sort!W49&\"<br />\"&Sort!X49&\"<br /><b>\"&Sort!Y49&\"</b>\"))","v":""},"</td>###<td>",{"$f":"IF(Sort!Z49=\"\",\"\",IF(Sort!AA49=0,Sort!Z49&\"<br /><span class='ClnMatch'>&nbsp;&nbsp;0&nbsp;&nbsp;</span><br /><b>\"&Sort!AB49&\"</b>\",Sort!Z49&\"<br />\"&Sort!AA49&\"<br /><b>\"&Sort!AB49&\"</b>\"))","v":""},"</td>###<td class=\"BluBld\">",{"$f":"IF(Sort!B49=\"\",\"\",IF(Sort!AA49=0,Sort!AC49&\"<br /><span class='ClnMatch'>&nbsp;&nbsp;0&nbsp;&nbsp;</span><br /><b>\"&Sort!AE49&\"</b>\",Sort!AC49&\"<br />\"&Sort!AD49&\"<br /><b>\"&Sort!AE49&\"</b>\"))","v":""},"</td>###<td class=\"Bld\">",{"$f":"IF(Sort!AF49=\"\",\"\",Sort!AF49)","v":""},"</td>###<td class=\"Bld\">",{"$f":"IF(Sort!AG49=\"\",\"\",Sort!AG49)","v":""},"</td>###</tr>",null,{"$f":"IF(Sort!I49=\"\",\"\",Sort!I49)","v":""},{"$f":"IF(Sort!J49=\"\",\"\",Sort!J49)","v":0},{"$f":"IF(Sort!L49=\"\",\"\",Sort!L49)","v":""},{"$f":"IF(Sort!M49=\"\",\"\",Sort!M49)","v":0},{"$f":"IF(Sort!O49=\"\",\"\",Sort!O49)","v":""},{"$f":"IF(Sort!P49=\"\",\"\",Sort!P49)","v":0},{"$f":"IF(Sort!R49=\"\",\"\",Sort!R49)","v":""},{"$f":"IF(Sort!S49=\"\",\"\",Sort!S49)","v":0},{"$f":"IF(Sort!U49=\"\",\"\",Sort!U49)","v":""},{"$f":"IF(Sort!V49=\"\",\"\",Sort!V49)","v":0},{"$f":"IF(Sort!X49=\"\",\"\",Sort!X49)","v":""},{"$f":"IF(Sort!Y49=\"\",\"\",Sort!Y49)","v":0},{"$f":"IF(Sort!B49=\"\",\"\",Sort!AA49)","v":""}]
["<tr align='center'>###<td class='Bld'>",{"$f":"Sort!AH50","v":""},"</td>###<td class='Bld'>",{"$f":"IF(Sort!B50=\"\",\"\",IF(Sort!C50=\"\",Sort!B50,Sort!B50&\"<br />#\"&Sort!C50))","v":""},"</td>###<td>",{"$f":"IF(Sort!E50=\"\",\"\",Sort!E50&\" \"&Sort!F50&\"<br />\"&Sort!G50)","v":""},"</td>###<td class='GrayOut'>",{"$f":"IF(Sort!H50=\"\",\"\",IF(Sort!I50=0,Sort!H50&\"<br /><span class='ClnMatch'>&nbsp;&nbsp;0&nbsp;&nbsp;</span><br /><b>\"&Sort!J50&\"</b>\",Sort!H50&\"<br />\"&Sort!I50&\"<br /><b>\"&Sort!J50&\"</b>\"))","v":""},"</td>###<td class='GrayOut'>",{"$f":"IF(Sort!K50=\"\",\"\",IF(Sort!L50=0,Sort!K50&\"<br /><span class='ClnMatch'>&nbsp;&nbsp;0&nbsp;&nbsp;</span><br /><b>\"&Sort!M50&\"</b>\",Sort!K50&\"<br />\"&Sort!L50&\"<br /><b>\"&Sort!M50&\"</b>\"))","v":""},"</td>###<td class='GrayOut'>",{"$f":"IF(Sort!N50=\"\",\"\",IF(Sort!O50=0,Sort!N50&\"<br /><span class='ClnMatch'>&nbsp;&nbsp;0&nbsp;&nbsp;</span><br /><b>\"&Sort!P50&\"</b>\",Sort!N50&\"<br />\"&Sort!O50&\"<br /><b>\"&Sort!P50&\"</b>\"))","v":""},"</td>###<td class='GrayOut'>",{"$f":"IF(Sort!Q50=\"\",\"\",IF(Sort!R50=0,Sort!Q50&\"<br /><span class='ClnMatch'>&nbsp;&nbsp;0&nbsp;&nbsp;</span><br /><b>\"&Sort!S50&\"</b>\",Sort!Q50&\"<br />\"&Sort!R50&\"<br /><b>\"&Sort!S50&\"</b>\"))","v":""},"</td>###<td class='GrayOut'>",{"$f":"IF(Sort!T50=\"\",\"\",IF(Sort!U50=0,Sort!T50&\"<br /><span class='ClnMatch'>&nbsp;&nbsp;0&nbsp;&nbsp;</span><br /><b>\"&Sort!V50&\"</b>\",Sort!T50&\"<br />\"&Sort!U50&\"<br /><b>\"&Sort!V50&\"</b>\"))","v":""},"</td>###<td class='GrayOut'>",{"$f":"IF(Sort!W50=\"\",\"\",IF(Sort!X50=0,Sort!W50&\"<br /><span class='ClnMatch'>&nbsp;&nbsp;0&nbsp;&nbsp;</span><br /><b>\"&Sort!Y50&\"</b>\",Sort!W50&\"<br />\"&Sort!X50&\"<br /><b>\"&Sort!Y50&\"</b>\"))","v":""},"</td>###<td>",{"$f":"IF(Sort!Z50=\"\",\"\",IF(Sort!AA50=0,Sort!Z50&\"<br /><span class='ClnMatch'>&nbsp;&nbsp;0&nbsp;&nbsp;</span><br /><b>\"&Sort!AB50&\"</b>\",Sort!Z50&\"<br />\"&Sort!AA50&\"<br /><b>\"&Sort!AB50&\"</b>\"))","v":""},"</td>###<td class=\"BluBld\">",{"$f":"IF(Sort!B50=\"\",\"\",IF(Sort!AA50=0,Sort!AC50&\"<br /><span class='ClnMatch'>&nbsp;&nbsp;0&nbsp;&nbsp;</span><br /><b>\"&Sort!AE50&\"</b>\",Sort!AC50&\"<br />\"&Sort!AD50&\"<br /><b>\"&Sort!AE50&\"</b>\"))","v":""},"</td>###<td class=\"Bld\">",{"$f":"IF(Sort!AF50=\"\",\"\",Sort!AF50)","v":""},"</td>###<td class=\"Bld\">",{"$f":"IF(Sort!AG50=\"\",\"\",Sort!AG50)","v":""},"</td>###</tr>",null,{"$f":"IF(Sort!I50=\"\",\"\",Sort!I50)","v":""},{"$f":"IF(Sort!J50=\"\",\"\",Sort!J50)","v":0},{"$f":"IF(Sort!L50=\"\",\"\",Sort!L50)","v":""},{"$f":"IF(Sort!M50=\"\",\"\",Sort!M50)","v":0},{"$f":"IF(Sort!O50=\"\",\"\",Sort!O50)","v":""},{"$f":"IF(Sort!P50=\"\",\"\",Sort!P50)","v":0},{"$f":"IF(Sort!R50=\"\",\"\",Sort!R50)","v":""},{"$f":"IF(Sort!S50=\"\",\"\",Sort!S50)","v":0},{"$f":"IF(Sort!U50=\"\",\"\",Sort!U50)","v":""},{"$f":"IF(Sort!V50=\"\",\"\",Sort!V50)","v":0},{"$f":"IF(Sort!X50=\"\",\"\",Sort!X50)","v":""},{"$f":"IF(Sort!Y50=\"\",\"\",Sort!Y50)","v":0},{"$f":"IF(Sort!B50=\"\",\"\",Sort!AA50)","v":""}]
["<tr align='center'>###<td class='Bld'>",{"$f":"Sort!AH51","v":""},"</td>###<td class='Bld'>",{"$f":"IF(Sort!B51=\"\",\"\",IF(Sort!C51=\"\",Sort!B51,Sort!B51&\"<br />#\"&Sort!C51))","v":""},"</td>###<td>",{"$f":"IF(Sort!E51=\"\",\"\",Sort!E51&\" \"&Sort!F51&\"<br />\"&Sort!G51)","v":""},"</td>###<td class='GrayOut'>",{"$f":"IF(Sort!H51=\"\",\"\",IF(Sort!I51=0,Sort!H51&\"<br /><span class='ClnMatch'>&nbsp;&nbsp;0&nbsp;&nbsp;</span><br /><b>\"&Sort!J51&\"</b>\",Sort!H51&\"<br />\"&Sort!I51&\"<br /><b>\"&Sort!J51&\"</b>\"))","v":""},"</td>###<td class='GrayOut'>",{"$f":"IF(Sort!K51=\"\",\"\",IF(Sort!L51=0,Sort!K51&\"<br /><span class='ClnMatch'>&nbsp;&nbsp;0&nbsp;&nbsp;</span><br /><b>\"&Sort!M51&\"</b>\",Sort!K51&\"<br />\"&Sort!L51&\"<br /><b>\"&Sort!M51&\"</b>\"))","v":""},"</td>###<td class='GrayOut'>",{"$f":"IF(Sort!N51=\"\",\"\",IF(Sort!O51=0,Sort!N51&\"<br /><span class='ClnMatch'>&nbsp;&nbsp;0&nbsp;&nbsp;</span><br /><b>\"&Sort!P51&\"</b>\",Sort!N51&\"<br />\"&Sort!O51&\"<br /><b>\"&Sort!P51&\"</b>\"))","v":""},"</td>###<td class='GrayOut'>",{"$f":"IF(Sort!Q51=\"\",\"\",IF(Sort!R51=0,Sort!Q51&\"<br /><span class='ClnMatch'>&nbsp;&nbsp;0&nbsp;&nbsp;</span><br /><b>\"&Sort!S51&\"</b>\",Sort!Q51&\"<br />\"&Sort!R51&\"<br /><b>\"&Sort!S51&\"</b>\"))","v":""},"</td>###<td class='GrayOut'>",{"$f":"IF(Sort!T51=\"\",\"\",IF(Sort!U51=0,Sort!T51&\"<br /><span class='ClnMatch'>&nbsp;&nbsp;0&nbsp;&nbsp;</span><br /><b>\"&Sort!V51&\"</b>\",Sort!T51&\"<br />\"&Sort!U51&\"<br /><b>\"&Sort!V51&\"</b>\"))","v":""},"</td>###<td class='GrayOut'>",{"$f":"IF(Sort!W51=\"\",\"\",IF(Sort!X51=0,Sort!W51&\"<br /><span class='ClnMatch'>&nbsp;&nbsp;0&nbsp;&nbsp;</span><br /><b>\"&Sort!Y51&\"</b>\",Sort!W51&\"<br />\"&Sort!X51&\"<br /><b>\"&Sort!Y51&\"</b>\"))","v":""},"</td>###<td>",{"$f":"IF(Sort!Z51=\"\",\"\",IF(Sort!AA51=0,Sort!Z51&\"<br /><span class='ClnMatch'>&nbsp;&nbsp;0&nbsp;&nbsp;</span><br /><b>\"&Sort!AB51&\"</b>\",Sort!Z51&\"<br />\"&Sort!AA51&\"<br /><b>\"&Sort!AB51&\"</b>\"))","v":""},"</td>###<td class=\"BluBld\">",{"$f":"IF(Sort!B51=\"\",\"\",IF(Sort!AA51=0,Sort!AC51&\"<br /><span class='ClnMatch'>&nbsp;&nbsp;0&nbsp;&nbsp;</span><br /><b>\"&Sort!AE51&\"</b>\",Sort!AC51&\"<br />\"&Sort!AD51&\"<br /><b>\"&Sort!AE51&\"</b>\"))","v":""},"</td>###<td class=\"Bld\">",{"$f":"IF(Sort!AF51=\"\",\"\",Sort!AF51)","v":""},"</td>###<td class=\"Bld\">",{"$f":"IF(Sort!AG51=\"\",\"\",Sort!AG51)","v":""},"</td>###</tr>",null,{"$f":"IF(Sort!I51=\"\",\"\",Sort!I51)","v":""},{"$f":"IF(Sort!J51=\"\",\"\",Sort!J51)","v":0},{"$f":"IF(Sort!L51=\"\",\"\",Sort!L51)","v":""},{"$f":"IF(Sort!M51=\"\",\"\",Sort!M51)","v":0},{"$f":"IF(Sort!O51=\"\",\"\",Sort!O51)","v":""},{"$f":"IF(Sort!P51=\"\",\"\",Sort!P51)","v":0},{"$f":"IF(Sort!R51=\"\",\"\",Sort!R51)","v":""},{"$f":"IF(Sort!S51=\"\",\"\",Sort!S51)","v":0},{"$f":"IF(Sort!U51=\"\",\"\",Sort!U51)","v":""},{"$f":"IF(Sort!V51=\"\",\"\",Sort!V51)","v":0},{"$f":"IF(Sort!X51=\"\",\"\",Sort!X51)","v":""},{"$f":"IF(Sort!Y51=\"\",\"\",Sort!Y51)","v":0},{"$f":"IF(Sort!B51=\"\",\"\",Sort!AA51)","v":""}]
["<tr align='center'>###<td class='Bld'>",{"$f":"Sort!AH52","v":""},"</td>###<td class='Bld'>",{"$f":"IF(Sort!B52=\"\",\"\",IF(Sort!C52=\"\",Sort!B52,Sort!B52&\"<br />#\"&Sort!C52))","v":""},"</td>###<td>",{"$f":"IF(Sort!E52=\"\",\"\",Sort!E52&\" \"&Sort!F52&\"<br />\"&Sort!G52)","v":""},"</td>###<td class='GrayOut'>",{"$f":"IF(Sort!H52=\"\",\"\",IF(Sort!I52=0,Sort!H52&\"<br /><span class='ClnMatch'>&nbsp;&nbsp;0&nbsp;&nbsp;</span><br /><b>\"&Sort!J52&\"</b>\",Sort!H52&\"<br />\"&Sort!I52&\"<br /><b>\"&Sort!J52&\"</b>\"))","v":""},"</td>###<td class='GrayOut'>",{"$f":"IF(Sort!K52=\"\",\"\",IF(Sort!L52=0,Sort!K52&\"<br /><span class='ClnMatch'>&nbsp;&nbsp;0&nbsp;&nbsp;</span><br /><b>\"&Sort!M52&\"</b>\",Sort!K52&\"<br />\"&Sort!L52&\"<br /><b>\"&Sort!M52&\"</b>\"))","v":""},"</td>###<td class='GrayOut'>",{"$f":"IF(Sort!N52=\"\",\"\",IF(Sort!O52=0,Sort!N52&\"<br /><span class='ClnMatch'>&nbsp;&nbsp;0&nbsp;&nbsp;</span><br /><b>\"&Sort!P52&\"</b>\",Sort!N52&\"<br />\"&Sort!O52&\"<br /><b>\"&Sort!P52&\"</b>\"))","v":""},"</td>###<td class='GrayOut'>",{"$f":"IF(Sort!Q52=\"\",\"\",IF(Sort!R52=0,Sort!Q52&\"<br /><span class='ClnMatch'>&nbsp;&nbsp;0&nbsp;&nbsp;</span><br /><b>\"&Sort!S52&\"</b>\",Sort!Q52&\"<br />\"&Sort!R52&\"<br /><b>\"&Sort!S52&\"</b>\"))","v":""},"</td>###<td class='GrayOut'>",{"$f":"IF(Sort!T52=\"\",\"\",IF(Sort!U52=0,Sort!T52&\"<br /><span class='ClnMatch'>&nbsp;&nbsp;0&nbsp;&nbsp;</span><br /><b>\"&Sort!V52&\"</b>\",Sort!T52&\"<br />\"&Sort!U52&\"<br /><b>\"&Sort!V52&\"</b>\"))","v":""},"</td>###<td class='GrayOut'>",{"$f":"IF(Sort!W52=\"\",\"\",IF(Sort!X52=0,Sort!W52&\"<br /><span class='ClnMatch'>&nbsp;&nbsp;0&nbsp;&nbsp;</span><br /><b>\"&Sort!Y52&\"</b>\",Sort!W52&\"<br />\"&Sort!X52&\"<br /><b>\"&Sort!Y52&\"</b>\"))","v":""},"</td>###<td>",{"$f":"IF(Sort!Z52=\"\",\"\",IF(Sort!AA52=0,Sort!Z52&\"<br /><span class='ClnMatch'>&nbsp;&nbsp;0&nbsp;&nbsp;</span><br /><b>\"&Sort!AB52&\"</b>\",Sort!Z52&\"<br />\"&Sort!AA52&\"<br /><b>\"&Sort!AB52&\"</b>\"))","v":""},"</td>###<td class=\"BluBld\">",{"$f":"IF(Sort!B52=\"\",\"\",IF(Sort!AA52=0,Sort!AC52&\"<br /><span class='ClnMatch'>&nbsp;&nbsp;0&nbsp;&nbsp;</span><br /><b>\"&Sort!AE52&\"</b>\",Sort!AC52&\"<br />\"&Sort!AD52&\"<br /><b>\"&Sort!AE52&\"</b>\"))","v":""},"</td>###<td class=\"Bld\">",{"$f":"IF(Sort!AF52=\"\",\"\",Sort!AF52)","v":""},"</td>###<td class=\"Bld\">",{"$f":"IF(Sort!AG52=\"\",\"\",Sort!AG52)","v":""},"</td>###</tr>",null,{"$f":"IF(Sort!I52=\"\",\"\",Sort!I52)","v":""},{"$f":"IF(Sort!J52=\"\",\"\",Sort!J52)","v":0},{"$f":"IF(Sort!L52=\"\",\"\",Sort!L52)","v":""},{"$f":"IF(Sort!M52=\"\",\"\",Sort!M52)","v":0},{"$f":"IF(Sort!O52=\"\",\"\",Sort!O52)","v":""},{"$f":"IF(Sort!P52=\"\",\"\",Sort!P52)","v":0},{"$f":"IF(Sort!R52=\"\",\"\",Sort!R52)","v":""},{"$f":"IF(Sort!S52=\"\",\"\",Sort!S52)","v":0},{"$f":"IF(Sort!U52=\"\",\"\",Sort!U52)","v":""},{"$f":"IF(Sort!V52=\"\",\"\",Sort!V52)","v":0},{"$f":"IF(Sort!X52=\"\",\"\",Sort!X52)","v":""},{"$f":"IF(Sort!Y52=\"\",\"\",Sort!Y52)","v":0},{"$f":"IF(Sort!B52=\"\",\"\",Sort!AA52)","v":""}]
["<tr align='center'>###<td class='Bld'>",{"$f":"Sort!AH53","v":""},"</td>###<td class='Bld'>",{"$f":"IF(Sort!B53=\"\",\"\",IF(Sort!C53=\"\",Sort!B53,Sort!B53&\"<br />#\"&Sort!C53))","v":""},"</td>###<td>",{"$f":"IF(Sort!E53=\"\",\"\",Sort!E53&\" \"&Sort!F53&\"<br />\"&Sort!G53)","v":""},"</td>###<td class='GrayOut'>",{"$f":"IF(Sort!H53=\"\",\"\",IF(Sort!I53=0,Sort!H53&\"<br /><span class='ClnMatch'>&nbsp;&nbsp;0&nbsp;&nbsp;</span><br /><b>\"&Sort!J53&\"</b>\",Sort!H53&\"<br />\"&Sort!I53&\"<br /><b>\"&Sort!J53&\"</b>\"))","v":""},"</td>###<td class='GrayOut'>",{"$f":"IF(Sort!K53=\"\",\"\",IF(Sort!L53=0,Sort!K53&\"<br /><span class='ClnMatch'>&nbsp;&nbsp;0&nbsp;&nbsp;</span><br /><b>\"&Sort!M53&\"</b>\",Sort!K53&\"<br />\"&Sort!L53&\"<br /><b>\"&Sort!M53&\"</b>\"))","v":""},"</td>###<td class='GrayOut'>",{"$f":"IF(Sort!N53=\"\",\"\",IF(Sort!O53=0,Sort!N53&\"<br /><span class='ClnMatch'>&nbsp;&nbsp;0&nbsp;&nbsp;</span><br /><b>\"&Sort!P53&\"</b>\",Sort!N53&\"<br />\"&Sort!O53&\"<br /><b>\"&Sort!P53&\"</b>\"))","v":""},"</td>###<td class='GrayOut'>",{"$f":"IF(Sort!Q53=\"\",\"\",IF(Sort!R53=0,Sort!Q53&\"<br /><span class='ClnMatch'>&nbsp;&nbsp;0&nbsp;&nbsp;</span><br /><b>\"&Sort!S53&\"</b>\",Sort!Q53&\"<br />\"&Sort!R53&\"<br /><b>\"&Sort!S53&\"</b>\"))","v":""},"</td>###<td class='GrayOut'>",{"$f":"IF(Sort!T53=\"\",\"\",IF(Sort!U53=0,Sort!T53&\"<br /><span class='ClnMatch'>&nbsp;&nbsp;0&nbsp;&nbsp;</span><br /><b>\"&Sort!V53&\"</b>\",Sort!T53&\"<br />\"&Sort!U53&\"<br /><b>\"&Sort!V53&\"</b>\"))","v":""},"</td>###<td class='GrayOut'>",{"$f":"IF(Sort!W53=\"\",\"\",IF(Sort!X53=0,Sort!W53&\"<br /><span class='ClnMatch'>&nbsp;&nbsp;0&nbsp;&nbsp;</span><br /><b>\"&Sort!Y53&\"</b>\",Sort!W53&\"<br />\"&Sort!X53&\"<br /><b>\"&Sort!Y53&\"</b>\"))","v":""},"</td>###<td>",{"$f":"IF(Sort!Z53=\"\",\"\",IF(Sort!AA53=0,Sort!Z53&\"<br /><span class='ClnMatch'>&nbsp;&nbsp;0&nbsp;&nbsp;</span><br /><b>\"&Sort!AB53&\"</b>\",Sort!Z53&\"<br />\"&Sort!AA53&\"<br /><b>\"&Sort!AB53&\"</b>\"))","v":""},"</td>###<td class=\"BluBld\">",{"$f":"IF(Sort!B53=\"\",\"\",IF(Sort!AA53=0,Sort!AC53&\"<br /><span class='ClnMatch'>&nbsp;&nbsp;0&nbsp;&nbsp;</span><br /><b>\"&Sort!AE53&\"</b>\",Sort!AC53&\"<br />\"&Sort!AD53&\"<br /><b>\"&Sort!AE53&\"</b>\"))","v":""},"</td>###<td class=\"Bld\">",{"$f":"IF(Sort!AF53=\"\",\"\",Sort!AF53)","v":""},"</td>###<td class=\"Bld\">",{"$f":"IF(Sort!AG53=\"\",\"\",Sort!AG53)","v":""},"</td>###</tr>",null,{"$f":"IF(Sort!I53=\"\",\"\",Sort!I53)","v":""},{"$f":"IF(Sort!J53=\"\",\"\",Sort!J53)","v":0},{"$f":"IF(Sort!L53=\"\",\"\",Sort!L53)","v":""},{"$f":"IF(Sort!M53=\"\",\"\",Sort!M53)","v":0},{"$f":"IF(Sort!O53=\"\",\"\",Sort!O53)","v":""},{"$f":"IF(Sort!P53=\"\",\"\",Sort!P53)","v":0},{"$f":"IF(Sort!R53=\"\",\"\",Sort!R53)","v":""},{"$f":"IF(Sort!S53=\"\",\"\",Sort!S53)","v":0},{"$f":"IF(Sort!U53=\"\",\"\",Sort!U53)","v":""},{"$f":"IF(Sort!V53=\"\",\"\",Sort!V53)","v":0},{"$f":"IF(Sort!X53=\"\",\"\",Sort!X53)","v":""},{"$f":"IF(Sort!Y53=\"\",\"\",Sort!Y53)","v":0},{"$f":"IF(Sort!B53=\"\",\"\",Sort!AA53)","v":""}]
["<tr align='center'>###<td class='Bld'>",{"$f":"Sort!AH54","v":""},"</td>###<td class='Bld'>",{"$f":"IF(Sort!B54=\"\",\"\",IF(Sort!C54=\"\",Sort!B54,Sort!B54&\"<br />#\"&Sort!C54))","v":""},"</td>###<td>",{"$f":"IF(Sort!E54=\"\",\"\",Sort!E54&\" \"&Sort!F54&\"<br />\"&Sort!G54)","v":""},"</td>###<td class='GrayOut'>",{"$f":"IF(Sort!H54=\"\",\"\",IF(Sort!I54=0,Sort!H54&\"<br /><span class='ClnMatch'>&nbsp;&nbsp;0&nbsp;&nbsp;</span><br /><b>\"&Sort!J54&\"</b>\",Sort!H54&\"<br />\"&Sort!I54&\"<br /><b>\"&Sort!J54&\"</b>\"))","v":""},"</td>###<td class='GrayOut'>",{"$f":"IF(Sort!K54=\"\",\"\",IF(Sort!L54=0,Sort!K54&\"<br /><span class='ClnMatch'>&nbsp;&nbsp;0&nbsp;&nbsp;</span><br /><b>\"&Sort!M54&\"</b>\",Sort!K54&\"<br />\"&Sort!L54&\"<br /><b>\"&Sort!M54&\"</b>\"))","v":""},"</td>###<td class='GrayOut'>",{"$f":"IF(Sort!N54=\"\",\"\",IF(Sort!O54=0,Sort!N54&\"<br /><span class='ClnMatch'>&nbsp;&nbsp;0&nbsp;&nbsp;</span><br /><b>\"&Sort!P54&\"</b>\",Sort!N54&\"<br />\"&Sort!O54&\"<br /><b>\"&Sort!P54&\"</b>\"))","v":""},"</td>###<td class='GrayOut'>",{"$f":"IF(Sort!Q54=\"\",\"\",IF(Sort!R54=0,Sort!Q54&\"<br /><span class='ClnMatch'>&nbsp;&nbsp;0&nbsp;&nbsp;</span><br /><b>\"&Sort!S54&\"</b>\",Sort!Q54&\"<br />\"&Sort!R54&\"<br /><b>\"&Sort!S54&\"</b>\"))","v":""},"</td>###<td class='GrayOut'>",{"$f":"IF(Sort!T54=\"\",\"\",IF(Sort!U54=0,Sort!T54&\"<br /><span class='ClnMatch'>&nbsp;&nbsp;0&nbsp;&nbsp;</span><br /><b>\"&Sort!V54&\"</b>\",Sort!T54&\"<br />\"&Sort!U54&\"<br /><b>\"&Sort!V54&\"</b>\"))","v":""},"</td>###<td class='GrayOut'>",{"$f":"IF(Sort!W54=\"\",\"\",IF(Sort!X54=0,Sort!W54&\"<br /><span class='ClnMatch'>&nbsp;&nbsp;0&nbsp;&nbsp;</span><br /><b>\"&Sort!Y54&\"</b>\",Sort!W54&\"<br />\"&Sort!X54&\"<br /><b>\"&Sort!Y54&\"</b>\"))","v":""},"</td>###<td>",{"$f":"IF(Sort!Z54=\"\",\"\",IF(Sort!AA54=0,Sort!Z54&\"<br /><span class='ClnMatch'>&nbsp;&nbsp;0&nbsp;&nbsp;</span><br /><b>\"&Sort!AB54&\"</b>\",Sort!Z54&\"<br />\"&Sort!AA54&\"<br /><b>\"&Sort!AB54&\"</b>\"))","v":""},"</td>###<td class=\"BluBld\">",{"$f":"IF(Sort!B54=\"\",\"\",IF(Sort!AA54=0,Sort!AC54&\"<br /><span class='ClnMatch'>&nbsp;&nbsp;0&nbsp;&nbsp;</span><br /><b>\"&Sort!AE54&\"</b>\",Sort!AC54&\"<br />\"&Sort!AD54&\"<br /><b>\"&Sort!AE54&\"</b>\"))","v":""},"</td>###<td class=\"Bld\">",{"$f":"IF(Sort!AF54=\"\",\"\",Sort!AF54)","v":""},"</td>###<td class=\"Bld\">",{"$f":"IF(Sort!AG54=\"\",\"\",Sort!AG54)","v":""},"</td>###</tr>",null,{"$f":"IF(Sort!I54=\"\",\"\",Sort!I54)","v":""},{"$f":"IF(Sort!J54=\"\",\"\",Sort!J54)","v":0},{"$f":"IF(Sort!L54=\"\",\"\",Sort!L54)","v":""},{"$f":"IF(Sort!M54=\"\",\"\",Sort!M54)","v":0},{"$f":"IF(Sort!O54=\"\",\"\",Sort!O54)","v":""},{"$f":"IF(Sort!P54=\"\",\"\",Sort!P54)","v":0},{"$f":"IF(Sort!R54=\"\",\"\",Sort!R54)","v":""},{"$f":"IF(Sort!S54=\"\",\"\",Sort!S54)","v":0},{"$f":"IF(Sort!U54=\"\",\"\",Sort!U54)","v":""},{"$f":"IF(Sort!V54=\"\",\"\",Sort!V54)","v":0},{"$f":"IF(Sort!X54=\"\",\"\",Sort!X54)","v":""},{"$f":"IF(Sort!Y54=\"\",\"\",Sort!Y54)","v":0},{"$f":"IF(Sort!B54=\"\",\"\",Sort!AA54)","v":""}]
["<tr align='center'>###<td class='Bld'>",{"$f":"Sort!AH55","v":""},"</td>###<td class='Bld'>",{"$f":"IF(Sort!B55=\"\",\"\",IF(Sort!C55=\"\",Sort!B55,Sort!B55&\"<br />#\"&Sort!C55))","v":""},"</td>###<td>",{"$f":"IF(Sort!E55=\"\",\"\",Sort!E55&\" \"&Sort!F55&\"<br />\"&Sort!G55)","v":""},"</td>###<td class='GrayOut'>",{"$f":"IF(Sort!H55=\"\",\"\",IF(Sort!I55=0,Sort!H55&\"<br /><span class='ClnMatch'>&nbsp;&nbsp;0&nbsp;&nbsp;</span><br /><b>\"&Sort!J55&\"</b>\",Sort!H55&\"<br />\"&Sort!I55&\"<br /><b>\"&Sort!J55&\"</b>\"))","v":""},"</td>###<td class='GrayOut'>",{"$f":"IF(Sort!K55=\"\",\"\",IF(Sort!L55=0,Sort!K55&\"<br /><span class='ClnMatch'>&nbsp;&nbsp;0&nbsp;&nbsp;</span><br /><b>\"&Sort!M55&\"</b>\",Sort!K55&\"<br />\"&Sort!L55&\"<br /><b>\"&Sort!M55&\"</b>\"))","v":""},"</td>###<td class='GrayOut'>",{"$f":"IF(Sort!N55=\"\",\"\",IF(Sort!O55=0,Sort!N55&\"<br /><span class='ClnMatch'>&nbsp;&nbsp;0&nbsp;&nbsp;</span><br /><b>\"&Sort!P55&\"</b>\",Sort!N55&\"<br />\"&Sort!O55&\"<br /><b>\"&Sort!P55&\"</b>\"))","v":""},"</td>###<td class='GrayOut'>",{"$f":"IF(Sort!Q55=\"\",\"\",IF(Sort!R55=0,Sort!Q55&\"<br /><span class='ClnMatch'>&nbsp;&nbsp;0&nbsp;&nbsp;</span><br /><b>\"&Sort!S55&\"</b>\",Sort!Q55&\"<br />\"&Sort!R55&\"<br /><b>\"&Sort!S55&\"</b>\"))","v":""},"</td>###<td class='GrayOut'>",{"$f":"IF(Sort!T55=\"\",\"\",IF(Sort!U55=0,Sort!T55&\"<br /><span class='ClnMatch'>&nbsp;&nbsp;0&nbsp;&nbsp;</span><br /><b>\"&Sort!V55&\"</b>\",Sort!T55&\"<br />\"&Sort!U55&\"<br /><b>\"&Sort!V55&\"</b>\"))","v":""},"</td>###<td class='GrayOut'>",{"$f":"IF(Sort!W55=\"\",\"\",IF(Sort!X55=0,Sort!W55&\"<br /><span class='ClnMatch'>&nbsp;&nbsp;0&nbsp;&nbsp;</span><br /><b>\"&Sort!Y55&\"</b>\",Sort!W55&\"<br />\"&Sort!X55&\"<br /><b>\"&Sort!Y55&\"</b>\"))","v":""},"</td>###<td>",{"$f":"IF(Sort!Z55=\"\",\"\",IF(Sort!AA55=0,Sort!Z55&\"<br /><span class='ClnMatch'>&nbsp;&nbsp;0&nbsp;&nbsp;</span><br /><b>\"&Sort!AB55&\"</b>\",Sort!Z55&\"<br />\"&Sort!AA55&\"<br /><b>\"&Sort!AB55&\"</b>\"))","v":""},"</td>###<td class=\"BluBld\">",{"$f":"IF(Sort!B55=\"\",\"\",IF(Sort!AA55=0,Sort!AC55&\"<br /><span class='ClnMatch'>&nbsp;&nbsp;0&nbsp;&nbsp;</span><br /><b>\"&Sort!AE55&\"</b>\",Sort!AC55&\"<br />\"&Sort!AD55&\"<br /><b>\"&Sort!AE55&\"</b>\"))","v":""},"</td>###<td class=\"Bld\">",{"$f":"IF(Sort!AF55=\"\",\"\",Sort!AF55)","v":""},"</td>###<td class=\"Bld\">",{"$f":"IF(Sort!AG55=\"\",\"\",Sort!AG55)","v":""},"</td>###</tr>",null,{"$f":"IF(Sort!I55=\"\",\"\",Sort!I55)","v":""},{"$f":"IF(Sort!J55=\"\",\"\",Sort!J55)","v":0},{"$f":"IF(Sort!L55=\"\",\"\",Sort!L55)","v":""},{"$f":"IF(Sort!M55=\"\",\"\",Sort!M55)","v":0},{"$f":"IF(Sort!O55=\"\",\"\",Sort!O55)","v":""},{"$f":"IF(Sort!P55=\"\",\"\",Sort!P55)","v":0},{"$f":"IF(Sort!R55=\"\",\"\",Sort!R55)","v":""},{"$f":"IF(Sort!S55=\"\",\"\",Sort!S55)","v":0},{"$f":"IF(Sort!U55=\"\",\"\",Sort!U55)","v":""},{"$f":"IF(Sort!V55=\"\",\"\",Sort!V55)","v":0},{"$f":"IF(Sort!X55=\"\",\"\",Sort!X55)","v":""},{"$f":"IF(Sort!Y55=\"\",\"\",Sort!Y55)","v":0},{"$f":"IF(Sort!B55=\"\",\"\",Sort!AA55)","v":""}]
["<tr align='center'>###<td class='Bld'>",{"$f":"Sort!AH56","v":""},"</td>###<td class='Bld'>",{"$f":"IF(Sort!B56=\"\",\"\",IF(Sort!C56=\"\",Sort!B56,Sort!B56&\"<br />#\"&Sort!C56))","v":""},"</td>###<td>",{"$f":"IF(Sort!E56=\"\",\"\",Sort!E56&\" \"&Sort!F56&\"<br />\"&Sort!G56)","v":""},"</td>###<td class='GrayOut'>",{"$f":"IF(Sort!H56=\"\",\"\",IF(Sort!I56=0,Sort!H56&\"<br /><span class='ClnMatch'>&nbsp;&nbsp;0&nbsp;&nbsp;</span><br /><b>\"&Sort!J56&\"</b>\",Sort!H56&\"<br />\"&Sort!I56&\"<br /><b>\"&Sort!J56&\"</b>\"))","v":""},"</td>###<td class='GrayOut'>",{"$f":"IF(Sort!K56=\"\",\"\",IF(Sort!L56=0,Sort!K56&\"<br /><span class='ClnMatch'>&nbsp;&nbsp;0&nbsp;&nbsp;</span><br /><b>\"&Sort!M56&\"</b>\",Sort!K56&\"<br />\"&Sort!L56&\"<br /><b>\"&Sort!M56&\"</b>\"))","v":""},"</td>###<td class='GrayOut'>",{"$f":"IF(Sort!N56=\"\",\"\",IF(Sort!O56=0,Sort!N56&\"<br /><span class='ClnMatch'>&nbsp;&nbsp;0&nbsp;&nbsp;</span><br /><b>\"&Sort!P56&\"</b>\",Sort!N56&\"<br />\"&Sort!O56&\"<br /><b>\"&Sort!P56&\"</b>\"))","v":""},"</td>###<td class='GrayOut'>",{"$f":"IF(Sort!Q56=\"\",\"\",IF(Sort!R56=0,Sort!Q56&\"<br /><span class='ClnMatch'>&nbsp;&nbsp;0&nbsp;&nbsp;</span><br /><b>\"&Sort!S56&\"</b>\",Sort!Q56&\"<br />\"&Sort!R56&\"<br /><b>\"&Sort!S56&\"</b>\"))","v":""},"</td>###<td class='GrayOut'>",{"$f":"IF(Sort!T56=\"\",\"\",IF(Sort!U56=0,Sort!T56&\"<br /><span class='ClnMatch'>&nbsp;&nbsp;0&nbsp;&nbsp;</span><br /><b>\"&Sort!V56&\"</b>\",Sort!T56&\"<br />\"&Sort!U56&\"<br /><b>\"&Sort!V56&\"</b>\"))","v":""},"</td>###<td class='GrayOut'>",{"$f":"IF(Sort!W56=\"\",\"\",IF(Sort!X56=0,Sort!W56&\"<br /><span class='ClnMatch'>&nbsp;&nbsp;0&nbsp;&nbsp;</span><br /><b>\"&Sort!Y56&\"</b>\",Sort!W56&\"<br />\"&Sort!X56&\"<br /><b>\"&Sort!Y56&\"</b>\"))","v":""},"</td>###<td>",{"$f":"IF(Sort!Z56=\"\",\"\",IF(Sort!AA56=0,Sort!Z56&\"<br /><span class='ClnMatch'>&nbsp;&nbsp;0&nbsp;&nbsp;</span><br /><b>\"&Sort!AB56&\"</b>\",Sort!Z56&\"<br />\"&Sort!AA56&\"<br /><b>\"&Sort!AB56&\"</b>\"))","v":""},"</td>###<td class=\"BluBld\">",{"$f":"IF(Sort!B56=\"\",\"\",IF(Sort!AA56=0,Sort!AC56&\"<br /><span class='ClnMatch'>&nbsp;&nbsp;0&nbsp;&nbsp;</span><br /><b>\"&Sort!AE56&\"</b>\",Sort!AC56&\"<br />\"&Sort!AD56&\"<br /><b>\"&Sort!AE56&\"</b>\"))","v":""},"</td>###<td class=\"Bld\">",{"$f":"IF(Sort!AF56=\"\",\"\",Sort!AF56)","v":""},"</td>###<td class=\"Bld\">",{"$f":"IF(Sort!AG56=\"\",\"\",Sort!AG56)","v":""},"</td>###</tr>",null,{"$f":"IF(Sort!I56=\"\",\"\",Sort!I56)","v":""},{"$f":"IF(Sort!J56=\"\",\"\",Sort!J56)","v":0},{"$f":"IF(Sort!L56=\"\",\"\",Sort!L56)","v":""},{"$f":"IF(Sort!M56=\"\",\"\",Sort!M56)","v":0},{"$f":"IF(Sort!O56=\"\",\"\",Sort!O56)","v":""},{"$f":"IF(Sort!P56=\"\",\"\",Sort!P56)","v":0},{"$f":"IF(Sort!R56=\"\",\"\",Sort!R56)","v":""},{"$f":"IF(Sort!S56=\"\",\"\",Sort!S56)","v":0},{"$f":"IF(Sort!U56=\"\",\"\",Sort!U56)","v":""},{"$f":"IF(Sort!V56=\"\",\"\",Sort!V56)","v":0},{"$f":"IF(Sort!X56=\"\",\"\",Sort!X56)","v":""},{"$f":"IF(Sort!Y56=\"\",\"\",Sort!Y56)","v":0},{"$f":"IF(Sort!B56=\"\",\"\",Sort!AA56)","v":""}]
["<tr align='center'>###<td class='Bld'>",{"$f":"Sort!AH57","v":""},"</td>###<td class='Bld'>",{"$f":"IF(Sort!B57=\"\",\"\",IF(Sort!C57=\"\",Sort!B57,Sort!B57&\"<br />#\"&Sort!C57))","v":""},"</td>###<td>",{"$f":"IF(Sort!E57=\"\",\"\",Sort!E57&\" \"&Sort!F57&\"<br />\"&Sort!G57)","v":""},"</td>###<td class='GrayOut'>",{"$f":"IF(Sort!H57=\"\",\"\",IF(Sort!I57=0,Sort!H57&\"<br /><span class='ClnMatch'>&nbsp;&nbsp;0&nbsp;&nbsp;</span><br /><b>\"&Sort!J57&\"</b>\",Sort!H57&\"<br />\"&Sort!I57&\"<br /><b>\"&Sort!J57&\"</b>\"))","v":""},"</td>###<td class='GrayOut'>",{"$f":"IF(Sort!K57=\"\",\"\",IF(Sort!L57=0,Sort!K57&\"<br /><span class='ClnMatch'>&nbsp;&nbsp;0&nbsp;&nbsp;</span><br /><b>\"&Sort!M57&\"</b>\",Sort!K57&\"<br />\"&Sort!L57&\"<br /><b>\"&Sort!M57&\"</b>\"))","v":""},"</td>###<td class='GrayOut'>",{"$f":"IF(Sort!N57=\"\",\"\",IF(Sort!O57=0,Sort!N57&\"<br /><span class='ClnMatch'>&nbsp;&nbsp;0&nbsp;&nbsp;</span><br /><b>\"&Sort!P57&\"</b>\",Sort!N57&\"<br />\"&Sort!O57&\"<br /><b>\"&Sort!P57&\"</b>\"))","v":""},"</td>###<td class='GrayOut'>",{"$f":"IF(Sort!Q57=\"\",\"\",IF(Sort!R57=0,Sort!Q57&\"<br /><span class='ClnMatch'>&nbsp;&nbsp;0&nbsp;&nbsp;</span><br /><b>\"&Sort!S57&\"</b>\",Sort!Q57&\"<br />\"&Sort!R57&\"<br /><b>\"&Sort!S57&\"</b>\"))","v":""},"</td>###<td class='GrayOut'>",{"$f":"IF(Sort!T57=\"\",\"\",IF(Sort!U57=0,Sort!T57&\"<br /><span class='ClnMatch'>&nbsp;&nbsp;0&nbsp;&nbsp;</span><br /><b>\"&Sort!V57&\"</b>\",Sort!T57&\"<br />\"&Sort!U57&\"<br /><b>\"&Sort!V57&\"</b>\"))","v":""},"</td>###<td class='GrayOut'>",{"$f":"IF(Sort!W57=\"\",\"\",IF(Sort!X57=0,Sort!W57&\"<br /><span class='ClnMatch'>&nbsp;&nbsp;0&nbsp;&nbsp;</span><br /><b>\"&Sort!Y57&\"</b>\",Sort!W57&\"<br />\"&Sort!X57&\"<br /><b>\"&Sort!Y57&\"</b>\"))","v":""},"</td>###<td>",{"$f":"IF(Sort!Z57=\"\",\"\",IF(Sort!AA57=0,Sort!Z57&\"<br /><span class='ClnMatch'>&nbsp;&nbsp;0&nbsp;&nbsp;</span><br /><b>\"&Sort!AB57&\"</b>\",Sort!Z57&\"<br />\"&Sort!AA57&\"<br /><b>\"&Sort!AB57&\"</b>\"))","v":""},"</td>###<td class=\"BluBld\">",{"$f":"IF(Sort!B57=\"\",\"\",IF(Sort!AA57=0,Sort!AC57&\"<br /><span class='ClnMatch'>&nbsp;&nbsp;0&nbsp;&nbsp;</span><br /><b>\"&Sort!AE57&\"</b>\",Sort!AC57&\"<br />\"&Sort!AD57&\"<br /><b>\"&Sort!AE57&\"</b>\"))","v":""},"</td>###<td class=\"Bld\">",{"$f":"IF(Sort!AF57=\"\",\"\",Sort!AF57)","v":""},"</td>###<td class=\"Bld\">",{"$f":"IF(Sort!AG57=\"\",\"\",Sort!AG57)","v":""},"</td>###</tr>",null,{"$f":"IF(Sort!I57=\"\",\"\",Sort!I57)","v":""},{"$f":"IF(Sort!J57=\"\",\"\",Sort!J57)","v":0},{"$f":"IF(Sort!L57=\"\",\"\",Sort!L57)","v":""},{"$f":"IF(Sort!M57=\"\",\"\",Sort!M57)","v":0},{"$f":"IF(Sort!O57=\"\",\"\",Sort!O57)","v":""},{"$f":"IF(Sort!P57=\"\",\"\",Sort!P57)","v":0},{"$f":"IF(Sort!R57=\"\",\"\",Sort!R57)","v":""},{"$f":"IF(Sort!S57=\"\",\"\",Sort!S57)","v":0},{"$f":"IF(Sort!U57=\"\",\"\",Sort!U57)","v":""},{"$f":"IF(Sort!V57=\"\",\"\",Sort!V57)","v":0},{"$f":"IF(Sort!X57=\"\",\"\",Sort!X57)","v":""},{"$f":"IF(Sort!Y57=\"\",\"\",Sort!Y57)","v":0},{"$f":"IF(Sort!B57=\"\",\"\",Sort!AA57)","v":""}]
["<tr align='center'>###<td class='Bld'>",{"$f":"Sort!AH58","v":""},"</td>###<td class='Bld'>",{"$f":"IF(Sort!B58=\"\",\"\",IF(Sort!C58=\"\",Sort!B58,Sort!B58&\"<br />#\"&Sort!C58))","v":""},"</td>###<td>",{"$f":"IF(Sort!E58=\"\",\"\",Sort!E58&\" \"&Sort!F58&\"<br />\"&Sort!G58)","v":""},"</td>###<td class='GrayOut'>",{"$f":"IF(Sort!H58=\"\",\"\",IF(Sort!I58=0,Sort!H58&\"<br /><span class='ClnMatch'>&nbsp;&nbsp;0&nbsp;&nbsp;</span><br /><b>\"&Sort!J58&\"</b>\",Sort!H58&\"<br />\"&Sort!I58&\"<br /><b>\"&Sort!J58&\"</b>\"))","v":""},"</td>###<td class='GrayOut'>",{"$f":"IF(Sort!K58=\"\",\"\",IF(Sort!L58=0,Sort!K58&\"<br /><span class='ClnMatch'>&nbsp;&nbsp;0&nbsp;&nbsp;</span><br /><b>\"&Sort!M58&\"</b>\",Sort!K58&\"<br />\"&Sort!L58&\"<br /><b>\"&Sort!M58&\"</b>\"))","v":""},"</td>###<td class='GrayOut'>",{"$f":"IF(Sort!N58=\"\",\"\",IF(Sort!O58=0,Sort!N58&\"<br /><span class='ClnMatch'>&nbsp;&nbsp;0&nbsp;&nbsp;</span><br /><b>\"&Sort!P58&\"</b>\",Sort!N58&\"<br />\"&Sort!O58&\"<br /><b>\"&Sort!P58&\"</b>\"))","v":""},"</td>###<td class='GrayOut'>",{"$f":"IF(Sort!Q58=\"\",\"\",IF(Sort!R58=0,Sort!Q58&\"<br /><span class='ClnMatch'>&nbsp;&nbsp;0&nbsp;&nbsp;</span><br /><b>\"&Sort!S58&\"</b>\",Sort!Q58&\"<br />\"&Sort!R58&\"<br /><b>\"&Sort!S58&\"</b>\"))","v":""},"</td>###<td class='GrayOut'>",{"$f":"IF(Sort!T58=\"\",\"\",IF(Sort!U58=0,Sort!T58&\"<br /><span class='ClnMatch'>&nbsp;&nbsp;0&nbsp;&nbsp;</span><br /><b>\"&Sort!V58&\"</b>\",Sort!T58&\"<br />\"&Sort!U58&\"<br /><b>\"&Sort!V58&\"</b>\"))","v":""},"</td>###<td class='GrayOut'>",{"$f":"IF(Sort!W58=\"\",\"\",IF(Sort!X58=0,Sort!W58&\"<br /><span class='ClnMatch'>&nbsp;&nbsp;0&nbsp;&nbsp;</span><br /><b>\"&Sort!Y58&\"</b>\",Sort!W58&\"<br />\"&Sort!X58&\"<br /><b>\"&Sort!Y58&\"</b>\"))","v":""},"</td>###<td>",{"$f":"IF(Sort!Z58=\"\",\"\",IF(Sort!AA58=0,Sort!Z58&\"<br /><span class='ClnMatch'>&nbsp;&nbsp;0&nbsp;&nbsp;</span><br /><b>\"&Sort!AB58&\"</b>\",Sort!Z58&\"<br />\"&Sort!AA58&\"<br /><b>\"&Sort!AB58&\"</b>\"))","v":""},"</td>###<td class=\"BluBld\">",{"$f":"IF(Sort!B58=\"\",\"\",IF(Sort!AA58=0,Sort!AC58&\"<br /><span class='ClnMatch'>&nbsp;&nbsp;0&nbsp;&nbsp;</span><br /><b>\"&Sort!AE58&\"</b>\",Sort!AC58&\"<br />\"&Sort!AD58&\"<br /><b>\"&Sort!AE58&\"</b>\"))","v":""},"</td>###<td class=\"Bld\">",{"$f":"IF(Sort!AF58=\"\",\"\",Sort!AF58)","v":""},"</td>###<td class=\"Bld\">",{"$f":"IF(Sort!AG58=\"\",\"\",Sort!AG58)","v":""},"</td>###</tr>",null,{"$f":"IF(Sort!I58=\"\",\"\",Sort!I58)","v":""},{"$f":"IF(Sort!J58=\"\",\"\",Sort!J58)","v":0},{"$f":"IF(Sort!L58=\"\",\"\",Sort!L58)","v":""},{"$f":"IF(Sort!M58=\"\",\"\",Sort!M58)","v":0},{"$f":"IF(Sort!O58=\"\",\"\",Sort!O58)","v":""},{"$f":"IF(Sort!P58=\"\",\"\",Sort!P58)","v":0},{"$f":"IF(Sort!R58=\"\",\"\",Sort!R58)","v":""},{"$f":"IF(Sort!S58=\"\",\"\",Sort!S58)","v":0},{"$f":"IF(Sort!U58=\"\",\"\",Sort!U58)","v":""},{"$f":"IF(Sort!V58=\"\",\"\",Sort!V58)","v":0},{"$f":"IF(Sort!X58=\"\",\"\",Sort!X58)","v":""},{"$f":"IF(Sort!Y58=\"\",\"\",Sort!Y58)","v":0},{"$f":"IF(Sort!B58=\"\",\"\",Sort!AA58)","v":""}]
["<tr align='center'>###<td class='Bld'>",{"$f":"Sort!AH59","v":""},"</td>###<td class='Bld'>",{"$f":"IF(Sort!B59=\"\",\"\",IF(Sort!C59=\"\",Sort!B59,Sort!B59&\"<br />#\"&Sort!C59))","v":""},"</td>###<td>",{"$f":"IF(Sort!E59=\"\",\"\",Sort!E59&\" \"&Sort!F59&\"<br />\"&Sort!G59)","v":""},"</td>###<td class='GrayOut'>",{"$f":"IF(Sort!H59=\"\",\"\",IF(Sort!I59=0,Sort!H59&\"<br /><span class='ClnMatch'>&nbsp;&nbsp;0&nbsp;&nbsp;</span><br /><b>\"&Sort!J59&\"</b>\",Sort!H59&\"<br />\"&Sort!I59&\"<br /><b>\"&Sort!J59&\"</b>\"))","v":""},"</td>###<td class='GrayOut'>",{"$f":"IF(Sort!K59=\"\",\"\",IF(Sort!L59=0,Sort!K59&\"<br /><span class='ClnMatch'>&nbsp;&nbsp;0&nbsp;&nbsp;</span><br /><b>\"&Sort!M59&\"</b>\",Sort!K59&\"<br />\"&Sort!L59&\"<br /><b>\"&Sort!M59&\"</b>\"))","v":""},"</td>###<td class='GrayOut'>",{"$f":"IF(Sort!N59=\"\",\"\",IF(Sort!O59=0,Sort!N59&\"<br /><span class='ClnMatch'>&nbsp;&nbsp;0&nbsp;&nbsp;</span><br /><b>\"&Sort!P59&\"</b>\",Sort!N59&\"<br />\"&Sort!O59&\"<br /><b>\"&Sort!P59&\"</b>\"))","v":""},"</td>###<td class='GrayOut'>",{"$f":"IF(Sort!Q59=\"\",\"\",IF(Sort!R59=0,Sort!Q59&\"<br /><span class='ClnMatch'>&nbsp;&nbsp;0&nbsp;&nbsp;</span><br /><b>\"&Sort!S59&\"</b>\",Sort!Q59&\"<br />\"&Sort!R59&\"<br /><b>\"&Sort!S59&\"</b>\"))","v":""},"</td>###<td class='GrayOut'>",{"$f":"IF(Sort!T59=\"\",\"\",IF(Sort!U59=0,Sort!T59&\"<br /><span class='ClnMatch'>&nbsp;&nbsp;0&nbsp;&nbsp;</span><br /><b>\"&Sort!V59&\"</b>\",Sort!T59&\"<br />\"&Sort!U59&\"<br /><b>\"&Sort!V59&\"</b>\"))","v":""},"</td>###<td class='GrayOut'>",{"$f":"IF(Sort!W59=\"\",\"\",IF(Sort!X59=0,Sort!W59&\"<br /><span class='ClnMatch'>&nbsp;&nbsp;0&nbsp;&nbsp;</span><br /><b>\"&Sort!Y59&\"</b>\",Sort!W59&\"<br />\"&Sort!X59&\"<br /><b>\"&Sort!Y59&\"</b>\"))","v":""},"</td>###<td>",{"$f":"IF(Sort!Z59=\"\",\"\",IF(Sort!AA59=0,Sort!Z59&\"<br /><span class='ClnMatch'>&nbsp;&nbsp;0&nbsp;&nbsp;</span><br /><b>\"&Sort!AB59&\"</b>\",Sort!Z59&\"<br />\"&Sort!AA59&\"<br /><b>\"&Sort!AB59&\"</b>\"))","v":""},"</td>###<td class=\"BluBld\">",{"$f":"IF(Sort!B59=\"\",\"\",IF(Sort!AA59=0,Sort!AC59&\"<br /><span class='ClnMatch'>&nbsp;&nbsp;0&nbsp;&nbsp;</span><br /><b>\"&Sort!AE59&\"</b>\",Sort!AC59&\"<br />\"&Sort!AD59&\"<br /><b>\"&Sort!AE59&\"</b>\"))","v":""},"</td>###<td class=\"Bld\">",{"$f":"IF(Sort!AF59=\"\",\"\",Sort!AF59)","v":""},"</td>###<td class=\"Bld\">",{"$f":"IF(Sort!AG59=\"\",\"\",Sort!AG59)","v":""},"</td>###</tr>",null,{"$f":"IF(Sort!I59=\"\",\"\",Sort!I59)","v":""},{"$f":"IF(Sort!J59=\"\",\"\",Sort!J59)","v":0},{"$f":"IF(Sort!L59=\"\",\"\",Sort!L59)","v":""},{"$f":"IF(Sort!M59=\"\",\"\",Sort!M59)","v":0},{"$f":"IF(Sort!O59=\"\",\"\",Sort!O59)","v":""},{"$f":"IF(Sort!P59=\"\",\"\",Sort!P59)","v":0},{"$f":"IF(Sort!R59=\"\",\"\",Sort!R59)","v":""},{"$f":"IF(Sort!S59=\"\",\"\",Sort!S59)","v":0},{"$f":"IF(Sort!U59=\"\",\"\",Sort!U59)","v":""},{"$f":"IF(Sort!V59=\"\",\"\",Sort!V59)","v":0},{"$f":"IF(Sort!X59=\"\",\"\",Sort!X59)","v":""},{"$f":"IF(Sort!Y59=\"\",\"\",Sort!Y59)","v":0},{"$f":"IF(Sort!B59=\"\",\"\",Sort!AA59)","v":""}]
["<tr align='center'>###<td class='Bld'>",{"$f":"Sort!AH60","v":""},"</td>###<td class='Bld'>",{"$f":"IF(Sort!B60=\"\",\"\",IF(Sort!C60=\"\",Sort!B60,Sort!B60&\"<br />#\"&Sort!C60))","v":""},"</td>###<td>",{"$f":"IF(Sort!E60=\"\",\"\",Sort!E60&\" \"&Sort!F60&\"<br />\"&Sort!G60)","v":""},"</td>###<td class='GrayOut'>",{"$f":"IF(Sort!H60=\"\",\"\",IF(Sort!I60=0,Sort!H60&\"<br /><span class='ClnMatch'>&nbsp;&nbsp;0&nbsp;&nbsp;</span><br /><b>\"&Sort!J60&\"</b>\",Sort!H60&\"<br />\"&Sort!I60&\"<br /><b>\"&Sort!J60&\"</b>\"))","v":""},"</td>###<td class='GrayOut'>",{"$f":"IF(Sort!K60=\"\",\"\",IF(Sort!L60=0,Sort!K60&\"<br /><span class='ClnMatch'>&nbsp;&nbsp;0&nbsp;&nbsp;</span><br /><b>\"&Sort!M60&\"</b>\",Sort!K60&\"<br />\"&Sort!L60&\"<br /><b>\"&Sort!M60&\"</b>\"))","v":""},"</td>###<td class='GrayOut'>",{"$f":"IF(Sort!N60=\"\",\"\",IF(Sort!O60=0,Sort!N60&\"<br /><span class='ClnMatch'>&nbsp;&nbsp;0&nbsp;&nbsp;</span><br /><b>\"&Sort!P60&\"</b>\",Sort!N60&\"<br />\"&Sort!O60&\"<br /><b>\"&Sort!P60&\"</b>\"))","v":""},"</td>###<td class='GrayOut'>",{"$f":"IF(Sort!Q60=\"\",\"\",IF(Sort!R60=0,Sort!Q60&\"<br /><span class='ClnMatch'>&nbsp;&nbsp;0&nbsp;&nbsp;</span><br /><b>\"&Sort!S60&\"</b>\",Sort!Q60&\"<br />\"&Sort!R60&\"<br /><b>\"&Sort!S60&\"</b>\"))","v":""},"</td>###<td class='GrayOut'>",{"$f":"IF(Sort!T60=\"\",\"\",IF(Sort!U60=0,Sort!T60&\"<br /><span class='ClnMatch'>&nbsp;&nbsp;0&nbsp;&nbsp;</span><br /><b>\"&Sort!V60&\"</b>\",Sort!T60&\"<br />\"&Sort!U60&\"<br /><b>\"&Sort!V60&\"</b>\"))","v":""},"</td>###<td class='GrayOut'>",{"$f":"IF(Sort!W60=\"\",\"\",IF(Sort!X60=0,Sort!W60&\"<br /><span class='ClnMatch'>&nbsp;&nbsp;0&nbsp;&nbsp;</span><br /><b>\"&Sort!Y60&\"</b>\",Sort!W60&\"<br />\"&Sort!X60&\"<br /><b>\"&Sort!Y60&\"</b>\"))","v":""},"</td>###<td>",{"$f":"IF(Sort!Z60=\"\",\"\",IF(Sort!AA60=0,Sort!Z60&\"<br /><span class='ClnMatch'>&nbsp;&nbsp;0&nbsp;&nbsp;</span><br /><b>\"&Sort!AB60&\"</b>\",Sort!Z60&\"<br />\"&Sort!AA60&\"<br /><b>\"&Sort!AB60&\"</b>\"))","v":""},"</td>###<td class=\"BluBld\">",{"$f":"IF(Sort!B60=\"\",\"\",IF(Sort!AA60=0,Sort!AC60&\"<br /><span class='ClnMatch'>&nbsp;&nbsp;0&nbsp;&nbsp;</span><br /><b>\"&Sort!AE60&\"</b>\",Sort!AC60&\"<br />\"&Sort!AD60&\"<br /><b>\"&Sort!AE60&\"</b>\"))","v":""},"</td>###<td class=\"Bld\">",{"$f":"IF(Sort!AF60=\"\",\"\",Sort!AF60)","v":""},"</td>###<td class=\"Bld\">",{"$f":"IF(Sort!AG60=\"\",\"\",Sort!AG60)","v":""},"</td>###</tr>",null,{"$f":"IF(Sort!I60=\"\",\"\",Sort!I60)","v":""},{"$f":"IF(Sort!J60=\"\",\"\",Sort!J60)","v":0},{"$f":"IF(Sort!L60=\"\",\"\",Sort!L60)","v":""},{"$f":"IF(Sort!M60=\"\",\"\",Sort!M60)","v":0},{"$f":"IF(Sort!O60=\"\",\"\",Sort!O60)","v":""},{"$f":"IF(Sort!P60=\"\",\"\",Sort!P60)","v":0},{"$f":"IF(Sort!R60=\"\",\"\",Sort!R60)","v":""},{"$f":"IF(Sort!S60=\"\",\"\",Sort!S60)","v":0},{"$f":"IF(Sort!U60=\"\",\"\",Sort!U60)","v":""},{"$f":"IF(Sort!V60=\"\",\"\",Sort!V60)","v":0},{"$f":"IF(Sort!X60=\"\",\"\",Sort!X60)","v":""},{"$f":"IF(Sort!Y60=\"\",\"\",Sort!Y60)","v":0},{"$f":"IF(Sort!B60=\"\",\"\",Sort!AA60)","v":""}]
["<tr align='center'>###<td class='Bld'>",{"$f":"Sort!AH61","v":""},"</td>###<td class='Bld'>",{"$f":"IF(Sort!B61=\"\",\"\",IF(Sort!C61=\"\",Sort!B61,Sort!B61&\"<br />#\"&Sort!C61))","v":""},"</td>###<td>",{"$f":"IF(Sort!E61=\"\",\"\",Sort!E61&\" \"&Sort!F61&\"<br />\"&Sort!G61)","v":""},"</td>###<td class='GrayOut'>",{"$f":"IF(Sort!H61=\"\",\"\",IF(Sort!I61=0,Sort!H61&\"<br /><span class='ClnMatch'>&nbsp;&nbsp;0&nbsp;&nbsp;</span><br /><b>\"&Sort!J61&\"</b>\",Sort!H61&\"<br />\"&Sort!I61&\"<br /><b>\"&Sort!J61&\"</b>\"))","v":""},"</td>###<td class='GrayOut'>",{"$f":"IF(Sort!K61=\"\",\"\",IF(Sort!L61=0,Sort!K61&\"<br /><span class='ClnMatch'>&nbsp;&nbsp;0&nbsp;&nbsp;</span><br /><b>\"&Sort!M61&\"</b>\",Sort!K61&\"<br />\"&Sort!L61&\"<br /><b>\"&Sort!M61&\"</b>\"))","v":""},"</td>###<td class='GrayOut'>",{"$f":"IF(Sort!N61=\"\",\"\",IF(Sort!O61=0,Sort!N61&\"<br /><span class='ClnMatch'>&nbsp;&nbsp;0&nbsp;&nbsp;</span><br /><b>\"&Sort!P61&\"</b>\",Sort!N61&\"<br />\"&Sort!O61&\"<br /><b>\"&Sort!P61&\"</b>\"))","v":""},"</td>###<td class='GrayOut'>",{"$f":"IF(Sort!Q61=\"\",\"\",IF(Sort!R61=0,Sort!Q61&\"<br /><span class='ClnMatch'>&nbsp;&nbsp;0&nbsp;&nbsp;</span><br /><b>\"&Sort!S61&\"</b>\",Sort!Q61&\"<br />\"&Sort!R61&\"<br /><b>\"&Sort!S61&\"</b>\"))","v":""},"</td>###<td class='GrayOut'>",{"$f":"IF(Sort!T61=\"\",\"\",IF(Sort!U61=0,Sort!T61&\"<br /><span class='ClnMatch'>&nbsp;&nbsp;0&nbsp;&nbsp;</span><br /><b>\"&Sort!V61&\"</b>\",Sort!T61&\"<br />\"&Sort!U61&\"<br /><b>\"&Sort!V61&\"</b>\"))","v":""},"</td>###<td class='GrayOut'>",{"$f":"IF(Sort!W61=\"\",\"\",IF(Sort!X61=0,Sort!W61&\"<br /><span class='ClnMatch'>&nbsp;&nbsp;0&nbsp;&nbsp;</span><br /><b>\"&Sort!Y61&\"</b>\",Sort!W61&\"<br />\"&Sort!X61&\"<br /><b>\"&Sort!Y61&\"</b>\"))","v":""},"</td>###<td>",{"$f":"IF(Sort!Z61=\"\",\"\",IF(Sort!AA61=0,Sort!Z61&\"<br /><span class='ClnMatch'>&nbsp;&nbsp;0&nbsp;&nbsp;</span><br /><b>\"&Sort!AB61&\"</b>\",Sort!Z61&\"<br />\"&Sort!AA61&\"<br /><b>\"&Sort!AB61&\"</b>\"))","v":""},"</td>###<td class=\"BluBld\">",{"$f":"IF(Sort!B61=\"\",\"\",IF(Sort!AA61=0,Sort!AC61&\"<br /><span class='ClnMatch'>&nbsp;&nbsp;0&nbsp;&nbsp;</span><br /><b>\"&Sort!AE61&\"</b>\",Sort!AC61&\"<br />\"&Sort!AD61&\"<br /><b>\"&Sort!AE61&\"</b>\"))","v":""},"</td>###<td class=\"Bld\">",{"$f":"IF(Sort!AF61=\"\",\"\",Sort!AF61)","v":""},"</td>###<td class=\"Bld\">",{"$f":"IF(Sort!AG61=\"\",\"\",Sort!AG61)","v":""},"</td>###</tr>",null,{"$f":"IF(Sort!I61=\"\",\"\",Sort!I61)","v":""},{"$f":"IF(Sort!J61=\"\",\"\",Sort!J61)","v":0},{"$f":"IF(Sort!L61=\"\",\"\",Sort!L61)","v":""},{"$f":"IF(Sort!M61=\"\",\"\",Sort!M61)","v":0},{"$f":"IF(Sort!O61=\"\",\"\",Sort!O61)","v":""},{"$f":"IF(Sort!P61=\"\",\"\",Sort!P61)","v":0},{"$f":"IF(Sort!R61=\"\",\"\",Sort!R61)","v":""},{"$f":"IF(Sort!S61=\"\",\"\",Sort!S61)","v":0},{"$f":"IF(Sort!U61=\"\",\"\",Sort!U61)","v":""},{"$f":"IF(Sort!V61=\"\",\"\",Sort!V61)","v":0},{"$f":"IF(Sort!X61=\"\",\"\",Sort!X61)","v":""},{"$f":"IF(Sort!Y61=\"\",\"\",Sort!Y61)","v":0},{"$f":"IF(Sort!B61=\"\",\"\",Sort!AA61)","v":""}]
["<tr align='center'>###<td class='Bld'>",{"$f":"Sort!AH62","v":""},"</td>###<td class='Bld'>",{"$f":"IF(Sort!B62=\"\",\"\",IF(Sort!C62=\"\",Sort!B62,Sort!B62&\"<br />#\"&Sort!C62))","v":""},"</td>###<td>",{"$f":"IF(Sort!E62=\"\",\"\",Sort!E62&\" \"&Sort!F62&\"<br />\"&Sort!G62)","v":""},"</td>###<td class='GrayOut'>",{"$f":"IF(Sort!H62=\"\",\"\",IF(Sort!I62=0,Sort!H62&\"<br /><span class='ClnMatch'>&nbsp;&nbsp;0&nbsp;&nbsp;</span><br /><b>\"&Sort!J62&\"</b>\",Sort!H62&\"<br />\"&Sort!I62&\"<br /><b>\"&Sort!J62&\"</b>\"))","v":""},"</td>###<td class='GrayOut'>",{"$f":"IF(Sort!K62=\"\",\"\",IF(Sort!L62=0,Sort!K62&\"<br /><span class='ClnMatch'>&nbsp;&nbsp;0&nbsp;&nbsp;</span><br /><b>\"&Sort!M62&\"</b>\",Sort!K62&\"<br />\"&Sort!L62&\"<br /><b>\"&Sort!M62&\"</b>\"))","v":""},"</td>###<td class='GrayOut'>",{"$f":"IF(Sort!N62=\"\",\"\",IF(Sort!O62=0,Sort!N62&\"<br /><span class='ClnMatch'>&nbsp;&nbsp;0&nbsp;&nbsp;</span><br /><b>\"&Sort!P62&\"</b>\",Sort!N62&\"<br />\"&Sort!O62&\"<br /><b>\"&Sort!P62&\"</b>\"))","v":""},"</td>###<td class='GrayOut'>",{"$f":"IF(Sort!Q62=\"\",\"\",IF(Sort!R62=0,Sort!Q62&\"<br /><span class='ClnMatch'>&nbsp;&nbsp;0&nbsp;&nbsp;</span><br /><b>\"&Sort!S62&\"</b>\",Sort!Q62&\"<br />\"&Sort!R62&\"<br /><b>\"&Sort!S62&\"</b>\"))","v":""},"</td>###<td class='GrayOut'>",{"$f":"IF(Sort!T62=\"\",\"\",IF(Sort!U62=0,Sort!T62&\"<br /><span class='ClnMatch'>&nbsp;&nbsp;0&nbsp;&nbsp;</span><br /><b>\"&Sort!V62&\"</b>\",Sort!T62&\"<br />\"&Sort!U62&\"<br /><b>\"&Sort!V62&\"</b>\"))","v":""},"</td>###<td class='GrayOut'>",{"$f":"IF(Sort!W62=\"\",\"\",IF(Sort!X62=0,Sort!W62&\"<br /><span class='ClnMatch'>&nbsp;&nbsp;0&nbsp;&nbsp;</span><br /><b>\"&Sort!Y62&\"</b>\",Sort!W62&\"<br />\"&Sort!X62&\"<br /><b>\"&Sort!Y62&\"</b>\"))","v":""},"</td>###<td>",{"$f":"IF(Sort!Z62=\"\",\"\",IF(Sort!AA62=0,Sort!Z62&\"<br /><span class='ClnMatch'>&nbsp;&nbsp;0&nbsp;&nbsp;</span><br /><b>\"&Sort!AB62&\"</b>\",Sort!Z62&\"<br />\"&Sort!AA62&\"<br /><b>\"&Sort!AB62&\"</b>\"))","v":""},"</td>###<td class=\"BluBld\">",{"$f":"IF(Sort!B62=\"\",\"\",IF(Sort!AA62=0,Sort!AC62&\"<br /><span class='ClnMatch'>&nbsp;&nbsp;0&nbsp;&nbsp;</span><br /><b>\"&Sort!AE62&\"</b>\",Sort!AC62&\"<br />\"&Sort!AD62&\"<br /><b>\"&Sort!AE62&\"</b>\"))","v":""},"</td>###<td class=\"Bld\">",{"$f":"IF(Sort!AF62=\"\",\"\",Sort!AF62)","v":""},"</td>###<td class=\"Bld\">",{"$f":"IF(Sort!AG62=\"\",\"\",Sort!AG62)","v":""},"</td>###</tr>",null,{"$f":"IF(Sort!I62=\"\",\"\",Sort!I62)","v":""},{"$f":"IF(Sort!J62=\"\",\"\",Sort!J62)","v":0},{"$f":"IF(Sort!L62=\"\",\"\",Sort!L62)","v":""},{"$f":"IF(Sort!M62=\"\",\"\",Sort!M62)","v":0},{"$f":"IF(Sort!O62=\"\",\"\",Sort!O62)","v":""},{"$f":"IF(Sort!P62=\"\",\"\",Sort!P62)","v":0},{"$f":"IF(Sort!R62=\"\",\"\",Sort!R62)","v":""},{"$f":"IF(Sort!S62=\"\",\"\",Sort!S62)","v":0},{"$f":"IF(Sort!U62=\"\",\"\",Sort!U62)","v":""},{"$f":"IF(Sort!V62=\"\",\"\",Sort!V62)","v":0},{"$f":"IF(Sort!X62=\"\",\"\",Sort!X62)","v":""},{"$f":"IF(Sort!Y62=\"\",\"\",Sort!Y62)","v":0},{"$f":"IF(Sort!B62=\"\",\"\",Sort!AA62)","v":""}]
["<tr align='center'>###<td class='Bld'>",{"$f":"Sort!AH63","v":""},"</td>###<td class='Bld'>",{"$f":"IF(Sort!B63=\"\",\"\",IF(Sort!C63=\"\",Sort!B63,Sort!B63&\"<br />#\"&Sort!C63))","v":""},"</td>###<td>",{"$f":"IF(Sort!E63=\"\",\"\",Sort!E63&\" \"&Sort!F63&\"<br />\"&Sort!G63)","v":""},"</td>###<td class='GrayOut'>",{"$f":"IF(Sort!H63=\"\",\"\",IF(Sort!I63=0,Sort!H63&\"<br /><span class='ClnMatch'>&nbsp;&nbsp;0&nbsp;&nbsp;</span><br /><b>\"&Sort!J63&\"</b>\",Sort!H63&\"<br />\"&Sort!I63&\"<br /><b>\"&Sort!J63&\"</b>\"))","v":""},"</td>###<td class='GrayOut'>",{"$f":"IF(Sort!K63=\"\",\"\",IF(Sort!L63=0,Sort!K63&\"<br /><span class='ClnMatch'>&nbsp;&nbsp;0&nbsp;&nbsp;</span><br /><b>\"&Sort!M63&\"</b>\",Sort!K63&\"<br />\"&Sort!L63&\"<br /><b>\"&Sort!M63&\"</b>\"))","v":""},"</td>###<td class='GrayOut'>",{"$f":"IF(Sort!N63=\"\",\"\",IF(Sort!O63=0,Sort!N63&\"<br /><span class='ClnMatch'>&nbsp;&nbsp;0&nbsp;&nbsp;</span><br /><b>\"&Sort!P63&\"</b>\",Sort!N63&\"<br />\"&Sort!O63&\"<br /><b>\"&Sort!P63&\"</b>\"))","v":""},"</td>###<td class='GrayOut'>",{"$f":"IF(Sort!Q63=\"\",\"\",IF(Sort!R63=0,Sort!Q63&\"<br /><span class='ClnMatch'>&nbsp;&nbsp;0&nbsp;&nbsp;</span><br /><b>\"&Sort!S63&\"</b>\",Sort!Q63&\"<br />\"&Sort!R63&\"<br /><b>\"&Sort!S63&\"</b>\"))","v":""},"</td>###<td class='GrayOut'>",{"$f":"IF(Sort!T63=\"\",\"\",IF(Sort!U63=0,Sort!T63&\"<br /><span class='ClnMatch'>&nbsp;&nbsp;0&nbsp;&nbsp;</span><br /><b>\"&Sort!V63&\"</b>\",Sort!T63&\"<br />\"&Sort!U63&\"<br /><b>\"&Sort!V63&\"</b>\"))","v":""},"</td>###<td class='GrayOut'>",{"$f":"IF(Sort!W63=\"\",\"\",IF(Sort!X63=0,Sort!W63&\"<br /><span class='ClnMatch'>&nbsp;&nbsp;0&nbsp;&nbsp;</span><br /><b>\"&Sort!Y63&\"</b>\",Sort!W63&\"<br />\"&Sort!X63&\"<br /><b>\"&Sort!Y63&\"</b>\"))","v":""},"</td>###<td>",{"$f":"IF(Sort!Z63=\"\",\"\",IF(Sort!AA63=0,Sort!Z63&\"<br /><span class='ClnMatch'>&nbsp;&nbsp;0&nbsp;&nbsp;</span><br /><b>\"&Sort!AB63&\"</b>\",Sort!Z63&\"<br />\"&Sort!AA63&\"<br /><b>\"&Sort!AB63&\"</b>\"))","v":""},"</td>###<td class=\"BluBld\">",{"$f":"IF(Sort!B63=\"\",\"\",IF(Sort!AA63=0,Sort!AC63&\"<br /><span class='ClnMatch'>&nbsp;&nbsp;0&nbsp;&nbsp;</span><br /><b>\"&Sort!AE63&\"</b>\",Sort!AC63&\"<br />\"&Sort!AD63&\"<br /><b>\"&Sort!AE63&\"</b>\"))","v":""},"</td>###<td class=\"Bld\">",{"$f":"IF(Sort!AF63=\"\",\"\",Sort!AF63)","v":""},"</td>###<td class=\"Bld\">",{"$f":"IF(Sort!AG63=\"\",\"\",Sort!AG63)","v":""},"</td>###</tr>",null,{"$f":"IF(Sort!I63=\"\",\"\",Sort!I63)","v":""},{"$f":"IF(Sort!J63=\"\",\"\",Sort!J63)","v":0},{"$f":"IF(Sort!L63=\"\",\"\",Sort!L63)","v":""},{"$f":"IF(Sort!M63=\"\",\"\",Sort!M63)","v":0},{"$f":"IF(Sort!O63=\"\",\"\",Sort!O63)","v":""},{"$f":"IF(Sort!P63=\"\",\"\",Sort!P63)","v":0},{"$f":"IF(Sort!R63=\"\",\"\",Sort!R63)","v":""},{"$f":"IF(Sort!S63=\"\",\"\",Sort!S63)","v":0},{"$f":"IF(Sort!U63=\"\",\"\",Sort!U63)","v":""},{"$f":"IF(Sort!V63=\"\",\"\",Sort!V63)","v":0},{"$f":"IF(Sort!X63=\"\",\"\",Sort!X63)","v":""},{"$f":"IF(Sort!Y63=\"\",\"\",Sort!Y63)","v":0},{"$f":"IF(Sort!B63=\"\",\"\",Sort!AA63)","v":""}]
["<tr align='center'>###<td class='Bld'>",{"$f":"Sort!AH64","v":""},"</td>###<td class='Bld'>",{"$f":"IF(Sort!B64=\"\",\"\",IF(Sort!C64=\"\",Sort!B64,Sort!B64&\"<br />#\"&Sort!C64))","v":""},"</td>###<td>",{"$f":"IF(Sort!E64=\"\",\"\",Sort!E64&\" \"&Sort!F64&\"<br />\"&Sort!G64)","v":""},"</td>###<td class='GrayOut'>",{"$f":"IF(Sort!H64=\"\",\"\",IF(Sort!I64=0,Sort!H64&\"<br /><span class='ClnMatch'>&nbsp;&nbsp;0&nbsp;&nbsp;</span><br /><b>\"&Sort!J64&\"</b>\",Sort!H64&\"<br />\"&Sort!I64&\"<br /><b>\"&Sort!J64&\"</b>\"))","v":""},"</td>###<td class='GrayOut'>",{"$f":"IF(Sort!K64=\"\",\"\",IF(Sort!L64=0,Sort!K64&\"<br /><span class='ClnMatch'>&nbsp;&nbsp;0&nbsp;&nbsp;</span><br /><b>\"&Sort!M64&\"</b>\",Sort!K64&\"<br />\"&Sort!L64&\"<br /><b>\"&Sort!M64&\"</b>\"))","v":""},"</td>###<td class='GrayOut'>",{"$f":"IF(Sort!N64=\"\",\"\",IF(Sort!O64=0,Sort!N64&\"<br /><span class='ClnMatch'>&nbsp;&nbsp;0&nbsp;&nbsp;</span><br /><b>\"&Sort!P64&\"</b>\",Sort!N64&\"<br />\"&Sort!O64&\"<br /><b>\"&Sort!P64&\"</b>\"))","v":""},"</td>###<td class='GrayOut'>",{"$f":"IF(Sort!Q64=\"\",\"\",IF(Sort!R64=0,Sort!Q64&\"<br /><span class='ClnMatch'>&nbsp;&nbsp;0&nbsp;&nbsp;</span><br /><b>\"&Sort!S64&\"</b>\",Sort!Q64&\"<br />\"&Sort!R64&\"<br /><b>\"&Sort!S64&\"</b>\"))","v":""},"</td>###<td class='GrayOut'>",{"$f":"IF(Sort!T64=\"\",\"\",IF(Sort!U64=0,Sort!T64&\"<br /><span class='ClnMatch'>&nbsp;&nbsp;0&nbsp;&nbsp;</span><br /><b>\"&Sort!V64&\"</b>\",Sort!T64&\"<br />\"&Sort!U64&\"<br /><b>\"&Sort!V64&\"</b>\"))","v":""},"</td>###<td class='GrayOut'>",{"$f":"IF(Sort!W64=\"\",\"\",IF(Sort!X64=0,Sort!W64&\"<br /><span class='ClnMatch'>&nbsp;&nbsp;0&nbsp;&nbsp;</span><br /><b>\"&Sort!Y64&\"</b>\",Sort!W64&\"<br />\"&Sort!X64&\"<br /><b>\"&Sort!Y64&\"</b>\"))","v":""},"</td>###<td>",{"$f":"IF(Sort!Z64=\"\",\"\",IF(Sort!AA64=0,Sort!Z64&\"<br /><span class='ClnMatch'>&nbsp;&nbsp;0&nbsp;&nbsp;</span><br /><b>\"&Sort!AB64&\"</b>\",Sort!Z64&\"<br />\"&Sort!AA64&\"<br /><b>\"&Sort!AB64&\"</b>\"))","v":""},"</td>###<td class=\"BluBld\">",{"$f":"IF(Sort!B64=\"\",\"\",IF(Sort!AA64=0,Sort!AC64&\"<br /><span class='ClnMatch'>&nbsp;&nbsp;0&nbsp;&nbsp;</span><br /><b>\"&Sort!AE64&\"</b>\",Sort!AC64&\"<br />\"&Sort!AD64&\"<br /><b>\"&Sort!AE64&\"</b>\"))","v":""},"</td>###<td class=\"Bld\">",{"$f":"IF(Sort!AF64=\"\",\"\",Sort!AF64)","v":""},"</td>###<td class=\"Bld\">",{"$f":"IF(Sort!AG64=\"\",\"\",Sort!AG64)","v":""},"</td>###</tr>",null,{"$f":"IF(Sort!I64=\"\",\"\",Sort!I64)","v":""},{"$f":"IF(Sort!J64=\"\",\"\",Sort!J64)","v":0},{"$f":"IF(Sort!L64=\"\",\"\",Sort!L64)","v":""},{"$f":"IF(Sort!M64=\"\",\"\",Sort!M64)","v":0},{"$f":"IF(Sort!O64=\"\",\"\",Sort!O64)","v":""},{"$f":"IF(Sort!P64=\"\",\"\",Sort!P64)","v":0},{"$f":"IF(Sort!R64=\"\",\"\",Sort!R64)","v":""},{"$f":"IF(Sort!S64=\"\",\"\",Sort!S64)","v":0},{"$f":"IF(Sort!U64=\"\",\"\",Sort!U64)","v":""},{"$f":"IF(Sort!V64=\"\",\"\",Sort!V64)","v":0},{"$f":"IF(Sort!X64=\"\",\"\",Sort!X64)","v":""},{"$f":"IF(Sort!Y64=\"\",\"\",Sort!Y64)","v":0},{"$f":"IF(Sort!B64=\"\",\"\",Sort!AA64)","v":""}]
["<tr align='center'>###<td class='Bld'>",{"$f":"Sort!AH65","v":""},"</td>###<td class='Bld'>",{"$f":"IF(Sort!B65=\"\",\"\",IF(Sort!C65=\"\",Sort!B65,Sort!B65&\"<br />#\"&Sort!C65))","v":""},"</td>###<td>",{"$f":"IF(Sort!E65=\"\",\"\",Sort!E65&\" \"&Sort!F65&\"<br />\"&Sort!G65)","v":""},"</td>###<td class='GrayOut'>",{"$f":"IF(Sort!H65=\"\",\"\",IF(Sort!I65=0,Sort!H65&\"<br /><span class='ClnMatch'>&nbsp;&nbsp;0&nbsp;&nbsp;</span><br /><b>\"&Sort!J65&\"</b>\",Sort!H65&\"<br />\"&Sort!I65&\"<br /><b>\"&Sort!J65&\"</b>\"))","v":""},"</td>###<td class='GrayOut'>",{"$f":"IF(Sort!K65=\"\",\"\",IF(Sort!L65=0,Sort!K65&\"<br /><span class='ClnMatch'>&nbsp;&nbsp;0&nbsp;&nbsp;</span><br /><b>\"&Sort!M65&\"</b>\",Sort!K65&\"<br />\"&Sort!L65&\"<br /><b>\"&Sort!M65&\"</b>\"))","v":""},"</td>###<td class='GrayOut'>",{"$f":"IF(Sort!N65=\"\",\"\",IF(Sort!O65=0,Sort!N65&\"<br /><span class='ClnMatch'>&nbsp;&nbsp;0&nbsp;&nbsp;</span><br /><b>\"&Sort!P65&\"</b>\",Sort!N65&\"<br />\"&Sort!O65&\"<br /><b>\"&Sort!P65&\"</b>\"))","v":""},"</td>###<td class='GrayOut'>",{"$f":"IF(Sort!Q65=\"\",\"\",IF(Sort!R65=0,Sort!Q65&\"<br /><span class='ClnMatch'>&nbsp;&nbsp;0&nbsp;&nbsp;</span><br /><b>\"&Sort!S65&\"</b>\",Sort!Q65&\"<br />\"&Sort!R65&\"<br /><b>\"&Sort!S65&\"</b>\"))","v":""},"</td>###<td class='GrayOut'>",{"$f":"IF(Sort!T65=\"\",\"\",IF(Sort!U65=0,Sort!T65&\"<br /><span class='ClnMatch'>&nbsp;&nbsp;0&nbsp;&nbsp;</span><br /><b>\"&Sort!V65&\"</b>\",Sort!T65&\"<br />\"&Sort!U65&\"<br /><b>\"&Sort!V65&\"</b>\"))","v":""},"</td>###<td class='GrayOut'>",{"$f":"IF(Sort!W65=\"\",\"\",IF(Sort!X65=0,Sort!W65&\"<br /><span class='ClnMatch'>&nbsp;&nbsp;0&nbsp;&nbsp;</span><br /><b>\"&Sort!Y65&\"</b>\",Sort!W65&\"<br />\"&Sort!X65&\"<br /><b>\"&Sort!Y65&\"</b>\"))","v":""},"</td>###<td>",{"$f":"IF(Sort!Z65=\"\",\"\",IF(Sort!AA65=0,Sort!Z65&\"<br /><span class='ClnMatch'>&nbsp;&nbsp;0&nbsp;&nbsp;</span><br /><b>\"&Sort!AB65&\"</b>\",Sort!Z65&\"<br />\"&Sort!AA65&\"<br /><b>\"&Sort!AB65&\"</b>\"))","v":""},"</td>###<td class=\"BluBld\">",{"$f":"IF(Sort!B65=\"\",\"\",IF(Sort!AA65=0,Sort!AC65&\"<br /><span class='ClnMatch'>&nbsp;&nbsp;0&nbsp;&nbsp;</span><br /><b>\"&Sort!AE65&\"</b>\",Sort!AC65&\"<br />\"&Sort!AD65&\"<br /><b>\"&Sort!AE65&\"</b>\"))","v":""},"</td>###<td class=\"Bld\">",{"$f":"IF(Sort!AF65=\"\",\"\",Sort!AF65)","v":""},"</td>###<td class=\"Bld\">",{"$f":"IF(Sort!AG65=\"\",\"\",Sort!AG65)","v":""},"</td>###</tr>",null,{"$f":"IF(Sort!I65=\"\",\"\",Sort!I65)","v":""},{"$f":"IF(Sort!J65=\"\",\"\",Sort!J65)","v":0},{"$f":"IF(Sort!L65=\"\",\"\",Sort!L65)","v":""},{"$f":"IF(Sort!M65=\"\",\"\",Sort!M65)","v":0},{"$f":"IF(Sort!O65=\"\",\"\",Sort!O65)","v":""},{"$f":"IF(Sort!P65=\"\",\"\",Sort!P65)","v":0},{"$f":"IF(Sort!R65=\"\",\"\",Sort!R65)","v":""},{"$f":"IF(Sort!S65=\"\",\"\",Sort!S65)","v":0},{"$f":"IF(Sort!U65=\"\",\"\",Sort!U65)","v":""},{"$f":"IF(Sort!V65=\"\",\"\",Sort!V65)","v":0},{"$f":"IF(Sort!X65=\"\",\"\",Sort!X65)","v":""},{"$f":"IF(Sort!Y65=\"\",\"\",Sort!Y65)","v":0},{"$f":"IF(Sort!B65=\"\",\"\",Sort!AA65)","v":""}]
["<tr align='center'>###<td class='Bld'>",{"$f":"Sort!AH66","v":""},"</td>###<td class='Bld'>",{"$f":"IF(Sort!B66=\"\",\"\",IF(Sort!C66=\"\",Sort!B66,Sort!B66&\"<br />#\"&Sort!C66))","v":""},"</td>###<td>",{"$f":"IF(Sort!E66=\"\",\"\",Sort!E66&\" \"&Sort!F66&\"<br />\"&Sort!G66)","v":""},"</td>###<td class='GrayOut'>",{"$f":"IF(Sort!H66=\"\",\"\",IF(Sort!I66=0,Sort!H66&\"<br /><span class='ClnMatch'>&nbsp;&nbsp;0&nbsp;&nbsp;</span><br /><b>\"&Sort!J66&\"</b>\",Sort!H66&\"<br />\"&Sort!I66&\"<br /><b>\"&Sort!J66&\"</b>\"))","v":""},"</td>###<td class='GrayOut'>",{"$f":"IF(Sort!K66=\"\",\"\",IF(Sort!L66=0,Sort!K66&\"<br /><span class='ClnMatch'>&nbsp;&nbsp;0&nbsp;&nbsp;</span><br /><b>\"&Sort!M66&\"</b>\",Sort!K66&\"<br />\"&Sort!L66&\"<br /><b>\"&Sort!M66&\"</b>\"))","v":""},"</td>###<td class='GrayOut'>",{"$f":"IF(Sort!N66=\"\",\"\",IF(Sort!O66=0,Sort!N66&\"<br /><span class='ClnMatch'>&nbsp;&nbsp;0&nbsp;&nbsp;</span><br /><b>\"&Sort!P66&\"</b>\",Sort!N66&\"<br />\"&Sort!O66&\"<br /><b>\"&Sort!P66&\"</b>\"))","v":""},"</td>###<td class='GrayOut'>",{"$f":"IF(Sort!Q66=\"\",\"\",IF(Sort!R66=0,Sort!Q66&\"<br /><span class='ClnMatch'>&nbsp;&nbsp;0&nbsp;&nbsp;</span><br /><b>\"&Sort!S66&\"</b>\",Sort!Q66&\"<br />\"&Sort!R66&\"<br /><b>\"&Sort!S66&\"</b>\"))","v":""},"</td>###<td class='GrayOut'>",{"$f":"IF(Sort!T66=\"\",\"\",IF(Sort!U66=0,Sort!T66&\"<br /><span class='ClnMatch'>&nbsp;&nbsp;0&nbsp;&nbsp;</span><br /><b>\"&Sort!V66&\"</b>\",Sort!T66&\"<br />\"&Sort!U66&\"<br /><b>\"&Sort!V66&\"</b>\"))","v":""},"</td>###<td class='GrayOut'>",{"$f":"IF(Sort!W66=\"\",\"\",IF(Sort!X66=0,Sort!W66&\"<br /><span class='ClnMatch'>&nbsp;&nbsp;0&nbsp;&nbsp;</span><br /><b>\"&Sort!Y66&\"</b>\",Sort!W66&\"<br />\"&Sort!X66&\"<br /><b>\"&Sort!Y66&\"</b>\"))","v":""},"</td>###<td>",{"$f":"IF(Sort!Z66=\"\",\"\",IF(Sort!AA66=0,Sort!Z66&\"<br /><span class='ClnMatch'>&nbsp;&nbsp;0&nbsp;&nbsp;</span><br /><b>\"&Sort!AB66&\"</b>\",Sort!Z66&\"<br />\"&Sort!AA66&\"<br /><b>\"&Sort!AB66&\"</b>\"))","v":""},"</td>###<td class=\"BluBld\">",{"$f":"IF(Sort!B66=\"\",\"\",IF(Sort!AA66=0,Sort!AC66&\"<br /><span class='ClnMatch'>&nbsp;&nbsp;0&nbsp;&nbsp;</span><br /><b>\"&Sort!AE66&\"</b>\",Sort!AC66&\"<br />\"&Sort!AD66&\"<br /><b>\"&Sort!AE66&\"</b>\"))","v":""},"</td>###<td class=\"Bld\">",{"$f":"IF(Sort!AF66=\"\",\"\",Sort!AF66)","v":""},"</td>###<td class=\"Bld\">",{"$f":"IF(Sort!AG66=\"\",\"\",Sort!AG66)","v":""},"</td>###</tr>",null,{"$f":"IF(Sort!I66=\"\",\"\",Sort!I66)","v":""},{"$f":"IF(Sort!J66=\"\",\"\",Sort!J66)","v":0},{"$f":"IF(Sort!L66=\"\",\"\",Sort!L66)","v":""},{"$f":"IF(Sort!M66=\"\",\"\",Sort!M66)","v":0},{"$f":"IF(Sort!O66=\"\",\"\",Sort!O66)","v":""},{"$f":"IF(Sort!P66=\"\",\"\",Sort!P66)","v":0},{"$f":"IF(Sort!R66=\"\",\"\",Sort!R66)","v":""},{"$f":"IF(Sort!S66=\"\",\"\",Sort!S66)","v":0},{"$f":"IF(Sort!U66=\"\",\"\",Sort!U66)","v":""},{"$f":"IF(Sort!V66=\"\",\"\",Sort!V66)","v":0},{"$f":"IF(Sort!X66=\"\",\"\",Sort!X66)","v":""},{"$f":"IF(Sort!Y66=\"\",\"\",Sort!Y66)","v":0},{"$f":"IF(Sort!B66=\"\",\"\",Sort!AA66)","v":""}]
["<tr align='center'>###<td class='Bld'>",{"$f":"Sort!AH67","v":""},"</td>###<td class='Bld'>",{"$f":"IF(Sort!B67=\"\",\"\",IF(Sort!C67=\"\",Sort!B67,Sort!B67&\"<br />#\"&Sort!C67))","v":""},"</td>###<td>",{"$f":"IF(Sort!E67=\"\",\"\",Sort!E67&\" \"&Sort!F67&\"<br />\"&Sort!G67)","v":""},"</td>###<td class='GrayOut'>",{"$f":"IF(Sort!H67=\"\",\"\",IF(Sort!I67=0,Sort!H67&\"<br /><span class='ClnMatch'>&nbsp;&nbsp;0&nbsp;&nbsp;</span><br /><b>\"&Sort!J67&\"</b>\",Sort!H67&\"<br />\"&Sort!I67&\"<br /><b>\"&Sort!J67&\"</b>\"))","v":""},"</td>###<td class='GrayOut'>",{"$f":"IF(Sort!K67=\"\",\"\",IF(Sort!L67=0,Sort!K67&\"<br /><span class='ClnMatch'>&nbsp;&nbsp;0&nbsp;&nbsp;</span><br /><b>\"&Sort!M67&\"</b>\",Sort!K67&\"<br />\"&Sort!L67&\"<br /><b>\"&Sort!M67&\"</b>\"))","v":""},"</td>###<td class='GrayOut'>",{"$f":"IF(Sort!N67=\"\",\"\",IF(Sort!O67=0,Sort!N67&\"<br /><span class='ClnMatch'>&nbsp;&nbsp;0&nbsp;&nbsp;</span><br /><b>\"&Sort!P67&\"</b>\",Sort!N67&\"<br />\"&Sort!O67&\"<br /><b>\"&Sort!P67&\"</b>\"))","v":""},"</td>###<td class='GrayOut'>",{"$f":"IF(Sort!Q67=\"\",\"\",IF(Sort!R67=0,Sort!Q67&\"<br /><span class='ClnMatch'>&nbsp;&nbsp;0&nbsp;&nbsp;</span><br /><b>\"&Sort!S67&\"</b>\",Sort!Q67&\"<br />\"&Sort!R67&\"<br /><b>\"&Sort!S67&\"</b>\"))","v":""},"</td>###<td class='GrayOut'>",{"$f":"IF(Sort!T67=\"\",\"\",IF(Sort!U67=0,Sort!T67&\"<br /><span class='ClnMatch'>&nbsp;&nbsp;0&nbsp;&nbsp;</span><br /><b>\"&Sort!V67&\"</b>\",Sort!T67&\"<br />\"&Sort!U67&\"<br /><b>\"&Sort!V67&\"</b>\"))","v":""},"</td>###<td class='GrayOut'>",{"$f":"IF(Sort!W67=\"\",\"\",IF(Sort!X67=0,Sort!W67&\"<br /><span class='ClnMatch'>&nbsp;&nbsp;0&nbsp;&nbsp;</span><br /><b>\"&Sort!Y67&\"</b>\",Sort!W67&\"<br />\"&Sort!X67&\"<br /><b>\"&Sort!Y67&\"</b>\"))","v":""},"</td>###<td>",{"$f":"IF(Sort!Z67=\"\",\"\",IF(Sort!AA67=0,Sort!Z67&\"<br /><span class='ClnMatch'>&nbsp;&nbsp;0&nbsp;&nbsp;</span><br /><b>\"&Sort!AB67&\"</b>\",Sort!Z67&\"<br />\"&Sort!AA67&\"<br /><b>\"&Sort!AB67&\"</b>\"))","v":""},"</td>###<td class=\"BluBld\">",{"$f":"IF(Sort!B67=\"\",\"\",IF(Sort!AA67=0,Sort!AC67&\"<br /><span class='ClnMatch'>&nbsp;&nbsp;0&nbsp;&nbsp;</span><br /><b>\"&Sort!AE67&\"</b>\",Sort!AC67&\"<br />\"&Sort!AD67&\"<br /><b>\"&Sort!AE67&\"</b>\"))","v":""},"</td>###<td class=\"Bld\">",{"$f":"IF(Sort!AF67=\"\",\"\",Sort!AF67)","v":""},"</td>###<td class=\"Bld\">",{"$f":"IF(Sort!AG67=\"\",\"\",Sort!AG67)","v":""},"</td>###</tr>",null,{"$f":"IF(Sort!I67=\"\",\"\",Sort!I67)","v":""},{"$f":"IF(Sort!J67=\"\",\"\",Sort!J67)","v":0},{"$f":"IF(Sort!L67=\"\",\"\",Sort!L67)","v":""},{"$f":"IF(Sort!M67=\"\",\"\",Sort!M67)","v":0},{"$f":"IF(Sort!O67=\"\",\"\",Sort!O67)","v":""},{"$f":"IF(Sort!P67=\"\",\"\",Sort!P67)","v":0},{"$f":"IF(Sort!R67=\"\",\"\",Sort!R67)","v":""},{"$f":"IF(Sort!S67=\"\",\"\",Sort!S67)","v":0},{"$f":"IF(Sort!U67=\"\",\"\",Sort!U67)","v":""},{"$f":"IF(Sort!V67=\"\",\"\",Sort!V67)","v":0},{"$f":"IF(Sort!X67=\"\",\"\",Sort!X67)","v":""},{"$f":"IF(Sort!Y67=\"\",\"\",Sort!Y67)","v":0},{"$f":"IF(Sort!B67=\"\",\"\",Sort!AA67)","v":""}]
["<tr align='center'>###<td class='Bld'>",{"$f":"Sort!AH68","v":""},"</td>###<td class='Bld'>",{"$f":"IF(Sort!B68=\"\",\"\",IF(Sort!C68=\"\",Sort!B68,Sort!B68&\"<br />#\"&Sort!C68))","v":""},"</td>###<td>",{"$f":"IF(Sort!E68=\"\",\"\",Sort!E68&\" \"&Sort!F68&\"<br />\"&Sort!G68)","v":""},"</td>###<td class='GrayOut'>",{"$f":"IF(Sort!H68=\"\",\"\",IF(Sort!I68=0,Sort!H68&\"<br /><span class='ClnMatch'>&nbsp;&nbsp;0&nbsp;&nbsp;</span><br /><b>\"&Sort!J68&\"</b>\",Sort!H68&\"<br />\"&Sort!I68&\"<br /><b>\"&Sort!J68&\"</b>\"))","v":""},"</td>###<td class='GrayOut'>",{"$f":"IF(Sort!K68=\"\",\"\",IF(Sort!L68=0,Sort!K68&\"<br /><span class='ClnMatch'>&nbsp;&nbsp;0&nbsp;&nbsp;</span><br /><b>\"&Sort!M68&\"</b>\",Sort!K68&\"<br />\"&Sort!L68&\"<br /><b>\"&Sort!M68&\"</b>\"))","v":""},"</td>###<td class='GrayOut'>",{"$f":"IF(Sort!N68=\"\",\"\",IF(Sort!O68=0,Sort!N68&\"<br /><span class='ClnMatch'>&nbsp;&nbsp;0&nbsp;&nbsp;</span><br /><b>\"&Sort!P68&\"</b>\",Sort!N68&\"<br />\"&Sort!O68&\"<br /><b>\"&Sort!P68&\"</b>\"))","v":""},"</td>###<td class='GrayOut'>",{"$f":"IF(Sort!Q68=\"\",\"\",IF(Sort!R68=0,Sort!Q68&\"<br /><span class='ClnMatch'>&nbsp;&nbsp;0&nbsp;&nbsp;</span><br /><b>\"&Sort!S68&\"</b>\",Sort!Q68&\"<br />\"&Sort!R68&\"<br /><b>\"&Sort!S68&\"</b>\"))","v":""},"</td>###<td class='GrayOut'>",{"$f":"IF(Sort!T68=\"\",\"\",IF(Sort!U68=0,Sort!T68&\"<br /><span class='ClnMatch'>&nbsp;&nbsp;0&nbsp;&nbsp;</span><br /><b>\"&Sort!V68&\"</b>\",Sort!T68&\"<br />\"&Sort!U68&\"<br /><b>\"&Sort!V68&\"</b>\"))","v":""},"</td>###<td class='GrayOut'>",{"$f":"IF(Sort!W68=\"\",\"\",IF(Sort!X68=0,Sort!W68&\"<br /><span class='ClnMatch'>&nbsp;&nbsp;0&nbsp;&nbsp;</span><br /><b>\"&Sort!Y68&\"</b>\",Sort!W68&\"<br />\"&Sort!X68&\"<br /><b>\"&Sort!Y68&\"</b>\"))","v":""},"</td>###<td>",{"$f":"IF(Sort!Z68=\"\",\"\",IF(Sort!AA68=0,Sort!Z68&\"<br /><span class='ClnMatch'>&nbsp;&nbsp;0&nbsp;&nbsp;</span><br /><b>\"&Sort!AB68&\"</b>\",Sort!Z68&\"<br />\"&Sort!AA68&\"<br /><b>\"&Sort!AB68&\"</b>\"))","v":""},"</td>###<td class=\"BluBld\">",{"$f":"IF(Sort!B68=\"\",\"\",IF(Sort!AA68=0,Sort!AC68&\"<br /><span class='ClnMatch'>&nbsp;&nbsp;0&nbsp;&nbsp;</span><br /><b>\"&Sort!AE68&\"</b>\",Sort!AC68&\"<br />\"&Sort!AD68&\"<br /><b>\"&Sort!AE68&\"</b>\"))","v":""},"</td>###<td class=\"Bld\">",{"$f":"IF(Sort!AF68=\"\",\"\",Sort!AF68)","v":""},"</td>###<td class=\"Bld\">",{"$f":"IF(Sort!AG68=\"\",\"\",Sort!AG68)","v":""},"</td>###</tr>",null,{"$f":"IF(Sort!I68=\"\",\"\",Sort!I68)","v":""},{"$f":"IF(Sort!J68=\"\",\"\",Sort!J68)","v":0},{"$f":"IF(Sort!L68=\"\",\"\",Sort!L68)","v":""},{"$f":"IF(Sort!M68=\"\",\"\",Sort!M68)","v":0},{"$f":"IF(Sort!O68=\"\",\"\",Sort!O68)","v":""},{"$f":"IF(Sort!P68=\"\",\"\",Sort!P68)","v":0},{"$f":"IF(Sort!R68=\"\",\"\",Sort!R68)","v":""},{"$f":"IF(Sort!S68=\"\",\"\",Sort!S68)","v":0},{"$f":"IF(Sort!U68=\"\",\"\",Sort!U68)","v":""},{"$f":"IF(Sort!V68=\"\",\"\",Sort!V68)","v":0},{"$f":"IF(Sort!X68=\"\",\"\",Sort!X68)","v":""},{"$f":"IF(Sort!Y68=\"\",\"\",Sort!Y68)","v":0},{"$f":"IF(Sort!B68=\"\",\"\",Sort!AA68)","v":""}]
["<tr align='center'>###<td class='Bld'>",{"$f":"Sort!AH69","v":""},{"$f":"IF($AO68=0,\"</td>###<td class='ClnMatch'>\",\"</td>###<td class='Bld'>\")","v":"</td>###<td class='Bld'>"},{"$f":"IF(Sort!B69=\"\",\"\",IF(Sort!C69=\"\",Sort!B69,Sort!B69&\"<br />#\"&Sort!C69))","v":""},"</td>###<td>",{"$f":"IF(Sort!E69=\"\",\"\",Sort!E69&\" \"&Sort!F69&\"<br />\"&Sort!G69)","v":""},{"$f":"IF(AD68=MAX($AD68,$AF68,$AH68,$AJ68,$AL68,$AN68),\"</td>###<td class='GrayOut'>\",\"</td>###<td>\")","v":"</td>###<td class='GrayOut'>"},{"$f":"IF(Sort!H69=\"\",\"\",IF(Sort!I69=0,Sort!H69&\"<br /><span class='ClnMatch'>&nbsp;&nbsp;0&nbsp;&nbsp;</span><br /><b>\"&Sort!J69&\"</b>\",Sort!H69&\"<br />\"&Sort!I69&\"<br /><b>\"&Sort!J69&\"</b>\"))","v":""},{"$f":"IF(AF68=MAX($AD68,$AF68,$AH68,$AJ68,$AL68,$AN68),\"</td>###<td class='GrayOut'>\",\"</td>###<td>\")","v":"</td>###<td class='GrayOut'>"},{"$f":"IF(Sort!K69=\"\",\"\",IF(Sort!L69=0,Sort!K69&\"<br /><span class='ClnMatch'>&nbsp;&nbsp;0&nbsp;&nbsp;</span><br /><b>\"&Sort!M69&\"</b>\",Sort!K69&\"<br />\"&Sort!L69&\"<br /><b>\"&Sort!M69&\"</b>\"))","v":""},{"$f":"IF(AH68=MAX($AD68,$AF68,$AH68,$AJ68,$AL68,$AN68),\"</td>###<td class='GrayOut'>\",\"</td>###<td>\")","v":"</td>###<td class='GrayOut'>"},{"$f":"IF(Sort!N69=\"\",\"\",IF(Sort!O69=0,Sort!N69&\"<br /><span class='ClnMatch'>&nbsp;&nbsp;0&nbsp;&nbsp;</span><br /><b>\"&Sort!P69&\"</b>\",Sort!N69&\"<br />\"&Sort!O69&\"<br /><b>\"&Sort!P69&\"</b>\"))","v":""},{"$f":"IF(AJ68=MAX($AD68,$AF68,$AH68,$AJ68,$AL68,$AN68),\"</td>###<td class='GrayOut'>\",\"</td>###<td>\")","v":"</td>###<td class='GrayOut'>"},{"$f":"IF(Sort!Q69=\"\",\"\",IF(Sort!R69=0,Sort!Q69&\"<br /><span class='ClnMatch'>&nbsp;&nbsp;0&nbsp;&nbsp;</span><br /><b>\"&Sort!S69&\"</b>\",Sort!Q69&\"<br />\"&Sort!R69&\"<br /><b>\"&Sort!S69&\"</b>\"))","v":""},{"$f":"IF(AL68=MAX($AD68,$AF68,$AH68,$AJ68,$AL68,$AN68),\"</td>###<td class='GrayOut'>\",\"</td>###<td>\")","v":"</td>###<td class='GrayOut'>"},{"$f":"IF(Sort!T69=\"\",\"\",IF(Sort!U69=0,Sort!T69&\"<br /><span class='ClnMatch'>&nbsp;&nbsp;0&nbsp;&nbsp;</span><br /><b>\"&Sort!V69&\"</b>\",Sort!T69&\"<br />\"&Sort!U69&\"<br /><b>\"&Sort!V69&\"</b>\"))","v":""},{"$f":"IF(AN68=MAX($AD68,$AF68,$AH68,$AJ68,$AL68,$AN68),\"</td>###<td class='GrayOut'>\",\"</td>###<td>\")","v":"</td>###<td class='GrayOut'>"},{"$f":"IF(Sort!W69=\"\",\"\",IF(Sort!X69=0,Sort!W69&\"<br /><span class='ClnMatch'>&nbsp;&nbsp;0&nbsp;&nbsp;</span><br /><b>\"&Sort!Y69&\"</b>\",Sort!W69&\"<br />\"&Sort!X69&\"<br /><b>\"&Sort!Y69&\"</b>\"))","v":""},"</td>###<td>",{"$f":"IF(Sort!Z69=\"\",\"\",IF(Sort!AA69=0,Sort!Z69&\"<br /><span class='ClnMatch'>&nbsp;&nbsp;0&nbsp;&nbsp;</span><br /><b>\"&Sort!AB69&\"</b>\",Sort!Z69&\"<br />\"&Sort!AA69&\"<br /><b>\"&Sort!AB69&\"</b>\"))","v":""},"</td>###<td class=\"BluBld\">",{"$f":"IF(Sort!B69=\"\",\"\",IF(Sort!AA69=0,Sort!AC69&\"<br /><span class='ClnMatch'>&nbsp;&nbsp;0&nbsp;&nbsp;</span><br /><b>\"&Sort!AE69&\"</b>\",Sort!AC69&\"<br />\"&Sort!AD69&\"<br /><b>\"&Sort!AE69&\"</b>\"))","v":""},"</td>###<td class=\"Bld\">",{"$f":"IF(Sort!AF69=\"\",\"\",Sort!AF69)","v":""},"</td>###<td class=\"Bld\">",{"$f":"IF(Sort!AG69=\"\",\"\",Sort!AG69)","v":""},"</td>###</tr>",null,{"$f":"IF(Sort!I69=\"\",\"\",Sort!I69)","v":""},{"$f":"IF(Sort!J69=\"\",\"\",Sort!J69)","v":0},{"$f":"IF(Sort!L69=\"\",\"\",Sort!L69)","v":""},{"$f":"IF(Sort!M69=\"\",\"\",Sort!M69)","v":0},{"$f":"IF(Sort!O69=\"\",\"\",Sort!O69)","v":""},{"$f":"IF(Sort!P69=\"\",\"\",Sort!P69)","v":0},{"$f":"IF(Sort!R69=\"\",\"\",Sort!R69)","v":""},{"$f":"IF(Sort!S69=\"\",\"\",Sort!S69)","v":0},{"$f":"IF(Sort!U69=\"\",\"\",Sort!U69)","v":""},{"$f":"IF(Sort!V69=\"\",\"\",Sort!V69)","v":0},{"$f":"IF(Sort!X69=\"\",\"\",Sort!X69)","v":""},{"$f":"IF(Sort!Y69=\"\",\"\",Sort!Y69)","v":0},{"$f":"IF(Sort!B69=\"\",\"\",Sort!AA69)","v":""}]
["<tr align='center'>###<td class='Bld'>",{"$f":"Sort!AH70","v":""},"</td>###<td class='Bld'>",{"$f":"IF(Sort!B70=\"\",\"\",IF(Sort!C70=\"\",Sort!B70,Sort!B70&\"<br />#\"&Sort!C70))","v":""},"</td>###<td>",{"$f":"IF(Sort!E70=\"\",\"\",Sort!E70&\" \"&Sort!F70&\"<br />\"&Sort!G70)","v":""},"</td>###<td class='GrayOut'>",{"$f":"IF(Sort!H70=\"\",\"\",IF(Sort!I70=0,Sort!H70&\"<br /><span class='ClnMatch'>&nbsp;&nbsp;0&nbsp;&nbsp;</span><br /><b>\"&Sort!J70&\"</b>\",Sort!H70&\"<br />\"&Sort!I70&\"<br /><b>\"&Sort!J70&\"</b>\"))","v":""},"</td>###<td class='GrayOut'>",{"$f":"IF(Sort!K70=\"\",\"\",IF(Sort!L70=0,Sort!K70&\"<br /><span class='ClnMatch'>&nbsp;&nbsp;0&nbsp;&nbsp;</span><br /><b>\"&Sort!M70&\"</b>\",Sort!K70&\"<br />\"&Sort!L70&\"<br /><b>\"&Sort!M70&\"</b>\"))","v":""},"</td>###<td class='GrayOut'>",{"$f":"IF(Sort!N70=\"\",\"\",IF(Sort!O70=0,Sort!N70&\"<br /><span class='ClnMatch'>&nbsp;&nbsp;0&nbsp;&nbsp;</span><br /><b>\"&Sort!P70&\"</b>\",Sort!N70&\"<br />\"&Sort!O70&\"<br /><b>\"&Sort!P70&\"</b>\"))","v":""},"</td>###<td class='GrayOut'>",{"$f":"IF(Sort!Q70=\"\",\"\",IF(Sort!R70=0,Sort!Q70&\"<br /><span class='ClnMatch'>&nbsp;&nbsp;0&nbsp;&nbsp;</span><br /><b>\"&Sort!S70&\"</b>\",Sort!Q70&\"<br />\"&Sort!R70&\"<br /><b>\"&Sort!S70&\"</b>\"))","v":""},"</td>###<td class='GrayOut'>",{"$f":"IF(Sort!T70=\"\",\"\",IF(Sort!U70=0,Sort!T70&\"<br /><span class='ClnMatch'>&nbsp;&nbsp;0&nbsp;&nbsp;</span><br /><b>\"&Sort!V70&\"</b>\",Sort!T70&\"<br />\"&Sort!U70&\"<br /><b>\"&Sort!V70&\"</b>\"))","v":""},"</td>###<td class='GrayOut'>",{"$f":"IF(Sort!W70=\"\",\"\",IF(Sort!X70=0,Sort!W70&\"<br /><span class='ClnMatch'>&nbsp;&nbsp;0&nbsp;&nbsp;</span><br /><b>\"&Sort!Y70&\"</b>\",Sort!W70&\"<br />\"&Sort!X70&\"<br /><b>\"&Sort!Y70&\"</b>\"))","v":""},"</td>###<td>",{"$f":"IF(Sort!Z70=\"\",\"\",IF(Sort!AA70=0,Sort!Z70&\"<br /><span class='ClnMatch'>&nbsp;&nbsp;0&nbsp;&nbsp;</span><br /><b>\"&Sort!AB70&\"</b>\",Sort!Z70&\"<br />\"&Sort!AA70&\"<br /><b>\"&Sort!AB70&\"</b>\"))","v":""},"</td>###<td class=\"BluBld\">",{"$f":"IF(Sort!B70=\"\",\"\",IF(Sort!AA70=0,Sort!AC70&\"<br /><span class='ClnMatch'>&nbsp;&nbsp;0&nbsp;&nbsp;</span><br /><b>\"&Sort!AE70&\"</b>\",Sort!AC70&\"<br />\"&Sort!AD70&\"<br /><b>\"&Sort!AE70&\"</b>\"))","v":""},"</td>###<td class=\"Bld\">",{"$f":"IF(Sort!AF70=\"\",\"\",Sort!AF70)","v":""},"</td>###<td class=\"Bld\">",{"$f":"IF(Sort!AG70=\"\",\"\",Sort!AG70)","v":""},"</td>###</tr>",null,{"$f":"IF(Sort!I70=\"\",\"\",Sort!I70)","v":""},{"$f":"IF(Sort!J70=\"\",\"\",Sort!J70)","v":0},{"$f":"IF(Sort!L70=\"\",\"\",Sort!L70)","v":""},{"$f":"IF(Sort!M70=\"\",\"\",Sort!M70)","v":0},{"$f":"IF(Sort!O70=\"\",\"\",Sort!O70)","v":""},{"$f":"IF(Sort!P70=\"\",\"\",Sort!P70)","v":0},{"$f":"IF(Sort!R70=\"\",\"\",Sort!R70)","v":""},{"$f":"IF(Sort!S70=\"\",\"\",Sort!S70)","v":0},{"$f":"IF(Sort!U70=\"\",\"\",Sort!U70)","v":""},{"$f":"IF(Sort!V70=\"\",\"\",Sort!V70)","v":0},{"$f":"IF(Sort!X70=\"\",\"\",Sort!X70)","v":""},{"$f":"IF(Sort!Y70=\"\",\"\",Sort!Y70)","v":0},{"$f":"IF(Sort!B70=\"\",\"\",Sort!AA70)","v":""}]
["<tr align='center'>###<td class='Bld'>",{"$f":"Sort!AH71","v":""},"</td>###<td class='Bld'>",{"$f":"IF(Sort!B71=\"\",\"\",IF(Sort!C71=\"\",Sort!B71,Sort!B71&\"<br />#\"&Sort!C71))","v":""},"</td>###<td>",{"$f":"IF(Sort!E71=\"\",\"\",Sort!E71&\" \"&Sort!F71&\"<br />\"&Sort!G71)","v":""},"</td>###<td class='GrayOut'>",{"$f":"IF(Sort!H71=\"\",\"\",IF(Sort!I71=0,Sort!H71&\"<br /><span class='ClnMatch'>&nbsp;&nbsp;0&nbsp;&nbsp;</span><br /><b>\"&Sort!J71&\"</b>\",Sort!H71&\"<br />\"&Sort!I71&\"<br /><b>\"&Sort!J71&\"</b>\"))","v":""},"</td>###<td class='GrayOut'>",{"$f":"IF(Sort!K71=\"\",\"\",IF(Sort!L71=0,Sort!K71&\"<br /><span class='ClnMatch'>&nbsp;&nbsp;0&nbsp;&nbsp;</span><br /><b>\"&Sort!M71&\"</b>\",Sort!K71&\"<br />\"&Sort!L71&\"<br /><b>\"&Sort!M71&\"</b>\"))","v":""},"</td>###<td class='GrayOut'>",{"$f":"IF(Sort!N71=\"\",\"\",IF(Sort!O71=0,Sort!N71&\"<br /><span class='ClnMatch'>&nbsp;&nbsp;0&nbsp;&nbsp;</span><br /><b>\"&Sort!P71&\"</b>\",Sort!N71&\"<br />\"&Sort!O71&\"<br /><b>\"&Sort!P71&\"</b>\"))","v":""},"</td>###<td class='GrayOut'>",{"$f":"IF(Sort!Q71=\"\",\"\",IF(Sort!R71=0,Sort!Q71&\"<br /><span class='ClnMatch'>&nbsp;&nbsp;0&nbsp;&nbsp;</span><br /><b>\"&Sort!S71&\"</b>\",Sort!Q71&\"<br />\"&Sort!R71&\"<br /><b>\"&Sort!S71&\"</b>\"))","v":""},"</td>###<td class='GrayOut'>",{"$f":"IF(Sort!T71=\"\",\"\",IF(Sort!U71=0,Sort!T71&\"<br /><span class='ClnMatch'>&nbsp;&nbsp;0&nbsp;&nbsp;</span><br /><b>\"&Sort!V71&\"</b>\",Sort!T71&\"<br />\"&Sort!U71&\"<br /><b>\"&Sort!V71&\"</b>\"))","v":""},"</td>###<td class='GrayOut'>",{"$f":"IF(Sort!W71=\"\",\"\",IF(Sort!X71=0,Sort!W71&\"<br /><span class='ClnMatch'>&nbsp;&nbsp;0&nbsp;&nbsp;</span><br /><b>\"&Sort!Y71&\"</b>\",Sort!W71&\"<br />\"&Sort!X71&\"<br /><b>\"&Sort!Y71&\"</b>\"))","v":""},"</td>###<td>",{"$f":"IF(Sort!Z71=\"\",\"\",IF(Sort!AA71=0,Sort!Z71&\"<br /><span class='ClnMatch'>&nbsp;&nbsp;0&nbsp;&nbsp;</span><br /><b>\"&Sort!AB71&\"</b>\",Sort!Z71&\"<br />\"&Sort!AA71&\"<br /><b>\"&Sort!AB71&\"</b>\"))","v":""},"</td>###<td class=\"BluBld\">",{"$f":"IF(Sort!B71=\"\",\"\",IF(Sort!AA71=0,Sort!AC71&\"<br /><span class='ClnMatch'>&nbsp;&nbsp;0&nbsp;&nbsp;</span><br /><b>\"&Sort!AE71&\"</b>\",Sort!AC71&\"<br />\"&Sort!AD71&\"<br /><b>\"&Sort!AE71&\"</b>\"))","v":""},"</td>###<td class=\"Bld\">",{"$f":"IF(Sort!AF71=\"\",\"\",Sort!AF71)","v":""},"</td>###<td class=\"Bld\">",{"$f":"IF(Sort!AG71=\"\",\"\",Sort!AG71)","v":""},"</td>###</tr>",null,{"$f":"IF(Sort!I71=\"\",\"\",Sort!I71)","v":""},{"$f":"IF(Sort!J71=\"\",\"\",Sort!J71)","v":0},{"$f":"IF(Sort!L71=\"\",\"\",Sort!L71)","v":""},{"$f":"IF(Sort!M71=\"\",\"\",Sort!M71)","v":0},{"$f":"IF(Sort!O71=\"\",\"\",Sort!O71)","v":""},{"$f":"IF(Sort!P71=\"\",\"\",Sort!P71)","v":0},{"$f":"IF(Sort!R71=\"\",\"\",Sort!R71)","v":""},{"$f":"IF(Sort!S71=\"\",\"\",Sort!S71)","v":0},{"$f":"IF(Sort!U71=\"\",\"\",Sort!U71)","v":""},{"$f":"IF(Sort!V71=\"\",\"\",Sort!V71)","v":0},{"$f":"IF(Sort!X71=\"\",\"\",Sort!X71)","v":""},{"$f":"IF(Sort!Y71=\"\",\"\",Sort!Y71)","v":0},{"$f":"IF(Sort!B71=\"\",\"\",Sort!AA71)","v":""}]
["<tr align='center'>###<td class='Bld'>",{"$f":"Sort!AH72","v":""},"</td>###<td class='Bld'>",{"$f":"IF(Sort!B72=\"\",\"\",IF(Sort!C72=\"\",Sort!B72,Sort!B72&\"<br />#\"&Sort!C72))","v":""},"</td>###<td>",{"$f":"IF(Sort!E72=\"\",\"\",Sort!E72&\" \"&Sort!F72&\"<br />\"&Sort!G72)","v":""},"</td>###<td class='GrayOut'>",{"$f":"IF(Sort!H72=\"\",\"\",IF(Sort!I72=0,Sort!H72&\"<br /><span class='ClnMatch'>&nbsp;&nbsp;0&nbsp;&nbsp;</span><br /><b>\"&Sort!J72&\"</b>\",Sort!H72&\"<br />\"&Sort!I72&\"<br /><b>\"&Sort!J72&\"</b>\"))","v":""},"</td>###<td class='GrayOut'>",{"$f":"IF(Sort!K72=\"\",\"\",IF(Sort!L72=0,Sort!K72&\"<br /><span class='ClnMatch'>&nbsp;&nbsp;0&nbsp;&nbsp;</span><br /><b>\"&Sort!M72&\"</b>\",Sort!K72&\"<br />\"&Sort!L72&\"<br /><b>\"&Sort!M72&\"</b>\"))","v":""},"</td>###<td class='GrayOut'>",{"$f":"IF(Sort!N72=\"\",\"\",IF(Sort!O72=0,Sort!N72&\"<br /><span class='ClnMatch'>&nbsp;&nbsp;0&nbsp;&nbsp;</span><br /><b>\"&Sort!P72&\"</b>\",Sort!N72&\"<br />\"&Sort!O72&\"<br /><b>\"&Sort!P72&\"</b>\"))","v":""},"</td>###<td class='GrayOut'>",{"$f":"IF(Sort!Q72=\"\",\"\",IF(Sort!R72=0,Sort!Q72&\"<br /><span class='ClnMatch'>&nbsp;&nbsp;0&nbsp;&nbsp;</span><br /><b>\"&Sort!S72&\"</b>\",Sort!Q72&\"<br />\"&Sort!R72&\"<br /><b>\"&Sort!S72&\"</b>\"))","v":""},"</td>###<td class='GrayOut'>",{"$f":"IF(Sort!T72=\"\",\"\",IF(Sort!U72=0,Sort!T72&\"<br /><span class='ClnMatch'>&nbsp;&nbsp;0&nbsp;&nbsp;</span><br /><b>\"&Sort!V72&\"</b>\",Sort!T72&\"<br />\"&Sort!U72&\"<br /><b>\"&Sort!V72&\"</b>\"))","v":""},"</td>###<td class='GrayOut'>",{"$f":"IF(Sort!W72=\"\",\"\",IF(Sort!X72=0,Sort!W72&\"<br /><span class='ClnMatch'>&nbsp;&nbsp;0&nbsp;&nbsp;</span><br /><b>\"&Sort!Y72&\"</b>\",Sort!W72&\"<br />\"&Sort!X72&\"<br /><b>\"&Sort!Y72&\"</b>\"))","v":""},"</td>###<td>",{"$f":"IF(Sort!Z72=\"\",\"\",IF(Sort!AA72=0,Sort!Z72&\"<br /><span class='ClnMatch'>&nbsp;&nbsp;0&nbsp;&nbsp;</span><br /><b>\"&Sort!AB72&\"</b>\",Sort!Z72&\"<br />\"&Sort!AA72&\"<br /><b>\"&Sort!AB72&\"</b>\"))","v":""},"</td>###<td class=\"BluBld\">",{"$f":"IF(Sort!B72=\"\",\"\",IF(Sort!AA72=0,Sort!AC72&\"<br /><span class='ClnMatch'>&nbsp;&nbsp;0&nbsp;&nbsp;</span><br /><b>\"&Sort!AE72&\"</b>\",Sort!AC72&\"<br />\"&Sort!AD72&\"<br /><b>\"&Sort!AE72&\"</b>\"))","v":""},"</td>###<td class=\"Bld\">",{"$f":"IF(Sort!AF72=\"\",\"\",Sort!AF72)","v":""},"</td>###<td class=\"Bld\">",{"$f":"IF(Sort!AG72=\"\",\"\",Sort!AG72)","v":""},"</td>###</tr>",null,{"$f":"IF(Sort!I72=\"\",\"\",Sort!I72)","v":""},{"$f":"IF(Sort!J72=\"\",\"\",Sort!J72)","v":0},{"$f":"IF(Sort!L72=\"\",\"\",Sort!L72)","v":""},{"$f":"IF(Sort!M72=\"\",\"\",Sort!M72)","v":0},{"$f":"IF(Sort!O72=\"\",\"\",Sort!O72)","v":""},{"$f":"IF(Sort!P72=\"\",\"\",Sort!P72)","v":0},{"$f":"IF(Sort!R72=\"\",\"\",Sort!R72)","v":""},{"$f":"IF(Sort!S72=\"\",\"\",Sort!S72)","v":0},{"$f":"IF(Sort!U72=\"\",\"\",Sort!U72)","v":""},{"$f":"IF(Sort!V72=\"\",\"\",Sort!V72)","v":0},{"$f":"IF(Sort!X72=\"\",\"\",Sort!X72)","v":""},{"$f":"IF(Sort!Y72=\"\",\"\",Sort!Y72)","v":0},{"$f":"IF(Sort!B72=\"\",\"\",Sort!AA72)","v":""}]
["<tr align='center'>###<td class='Bld'>",{"$f":"Sort!AH73","v":""},"</td>###<td class='Bld'>",{"$f":"IF(Sort!B73=\"\",\"\",IF(Sort!C73=\"\",Sort!B73,Sort!B73&\"<br />#\"&Sort!C73))","v":""},"</td>###<td>",{"$f":"IF(Sort!E73=\"\",\"\",Sort!E73&\" \"&Sort!F73&\"<br />\"&Sort!G73)","v":""},"</td>###<td class='GrayOut'>",{"$f":"IF(Sort!H73=\"\",\"\",IF(Sort!I73=0,Sort!H73&\"<br /><span class='ClnMatch'>&nbsp;&nbsp;0&nbsp;&nbsp;</span><br /><b>\"&Sort!J73&\"</b>\",Sort!H73&\"<br />\"&Sort!I73&\"<br /><b>\"&Sort!J73&\"</b>\"))","v":""},"</td>###<td class='GrayOut'>",{"$f":"IF(Sort!K73=\"\",\"\",IF(Sort!L73=0,Sort!K73&\"<br /><span class='ClnMatch'>&nbsp;&nbsp;0&nbsp;&nbsp;</span><br /><b>\"&Sort!M73&\"</b>\",Sort!K73&\"<br />\"&Sort!L73&\"<br /><b>\"&Sort!M73&\"</b>\"))","v":""},"</td>###<td class='GrayOut'>",{"$f":"IF(Sort!N73=\"\",\"\",IF(Sort!O73=0,Sort!N73&\"<br /><span class='ClnMatch'>&nbsp;&nbsp;0&nbsp;&nbsp;</span><br /><b>\"&Sort!P73&\"</b>\",Sort!N73&\"<br />\"&Sort!O73&\"<br /><b>\"&Sort!P73&\"</b>\"))","v":""},"</td>###<td class='GrayOut'>",{"$f":"IF(Sort!Q73=\"\",\"\",IF(Sort!R73=0,Sort!Q73&\"<br /><span class='ClnMatch'>&nbsp;&nbsp;0&nbsp;&nbsp;</span><br /><b>\"&Sort!S73&\"</b>\",Sort!Q73&\"<br />\"&Sort!R73&\"<br /><b>\"&Sort!S73&\"</b>\"))","v":""},"</td>###<td class='GrayOut'>",{"$f":"IF(Sort!T73=\"\",\"\",IF(Sort!U73=0,Sort!T73&\"<br /><span class='ClnMatch'>&nbsp;&nbsp;0&nbsp;&nbsp;</span><br /><b>\"&Sort!V73&\"</b>\",Sort!T73&\"<br />\"&Sort!U73&\"<br /><b>\"&Sort!V73&\"</b>\"))","v":""},"</td>###<td class='GrayOut'>",{"$f":"IF(Sort!W73=\"\",\"\",IF(Sort!X73=0,Sort!W73&\"<br /><span class='ClnMatch'>&nbsp;&nbsp;0&nbsp;&nbsp;</span><br /><b>\"&Sort!Y73&\"</b>\",Sort!W73&\"<br />\"&Sort!X73&\"<br /><b>\"&Sort!Y73&\"</b>\"))","v":""},"</td>###<td>",{"$f":"IF(Sort!Z73=\"\",\"\",IF(Sort!AA73=0,Sort!Z73&\"<br /><span class='ClnMatch'>&nbsp;&nbsp;0&nbsp;&nbsp;</span><br /><b>\"&Sort!AB73&\"</b>\",Sort!Z73&\"<br />\"&Sort!AA73&\"<br /><b>\"&Sort!AB73&\"</b>\"))","v":""},"</td>###<td class=\"BluBld\">",{"$f":"IF(Sort!B73=\"\",\"\",IF(Sort!AA73=0,Sort!AC73&\"<br /><span class='ClnMatch'>&nbsp;&nbsp;0&nbsp;&nbsp;</span><br /><b>\"&Sort!AE73&\"</b>\",Sort!AC73&\"<br />\"&Sort!AD73&\"<br /><b>\"&Sort!AE73&\"</b>\"))","v":""},"</td>###<td class=\"Bld\">",{"$f":"IF(Sort!AF73=\"\",\"\",Sort!AF73)","v":""},"</td>###<td class=\"Bld\">",{"$f":"IF(Sort!AG73=\"\",\"\",Sort!AG73)","v":""},"</td>###</tr>",null,{"$f":"IF(Sort!I73=\"\",\"\",Sort!I73)","v":""},{"$f":"IF(Sort!J73=\"\",\"\",Sort!J73)","v":0},{"$f":"IF(Sort!L73=\"\",\"\",Sort!L73)","v":""},{"$f":"IF(Sort!M73=\"\",\"\",Sort!M73)","v":0},{"$f":"IF(Sort!O73=\"\",\"\",Sort!O73)","v":""},{"$f":"IF(Sort!P73=\"\",\"\",Sort!P73)","v":0},{"$f":"IF(Sort!R73=\"\",\"\",Sort!R73)","v":""},{"$f":"IF(Sort!S73=\"\",\"\",Sort!S73)","v":0},{"$f":"IF(Sort!U73=\"\",\"\",Sort!U73)","v":""},{"$f":"IF(Sort!V73=\"\",\"\",Sort!V73)","v":0},{"$f":"IF(Sort!X73=\"\",\"\",Sort!X73)","v":""},{"$f":"IF(Sort!Y73=\"\",\"\",Sort!Y73)","v":0},{"$f":"IF(Sort!B73=\"\",\"\",Sort!AA73)","v":""}]
["<tr align='center'>###<td class='Bld'>",{"$f":"Sort!AH74","v":""},"</td>###<td class='Bld'>",{"$f":"IF(Sort!B74=\"\",\"\",IF(Sort!C74=\"\",Sort!B74,Sort!B74&\"<br />#\"&Sort!C74))","v":""},"</td>###<td>",{"$f":"IF(Sort!E74=\"\",\"\",Sort!E74&\" \"&Sort!F74&\"<br />\"&Sort!G74)","v":""},"</td>###<td class='GrayOut'>",{"$f":"IF(Sort!H74=\"\",\"\",IF(Sort!I74=0,Sort!H74&\"<br /><span class='ClnMatch'>&nbsp;&nbsp;0&nbsp;&nbsp;</span><br /><b>\"&Sort!J74&\"</b>\",Sort!H74&\"<br />\"&Sort!I74&\"<br /><b>\"&Sort!J74&\"</b>\"))","v":""},"</td>###<td class='GrayOut'>",{"$f":"IF(Sort!K74=\"\",\"\",IF(Sort!L74=0,Sort!K74&\"<br /><span class='ClnMatch'>&nbsp;&nbsp;0&nbsp;&nbsp;</span><br /><b>\"&Sort!M74&\"</b>\",Sort!K74&\"<br />\"&Sort!L74&\"<br /><b>\"&Sort!M74&\"</b>\"))","v":""},"</td>###<td class='GrayOut'>",{"$f":"IF(Sort!N74=\"\",\"\",IF(Sort!O74=0,Sort!N74&\"<br /><span class='ClnMatch'>&nbsp;&nbsp;0&nbsp;&nbsp;</span><br /><b>\"&Sort!P74&\"</b>\",Sort!N74&\"<br />\"&Sort!O74&\"<br /><b>\"&Sort!P74&\"</b>\"))","v":""},"</td>###<td class='GrayOut'>",{"$f":"IF(Sort!Q74=\"\",\"\",IF(Sort!R74=0,Sort!Q74&\"<br /><span class='ClnMatch'>&nbsp;&nbsp;0&nbsp;&nbsp;</span><br /><b>\"&Sort!S74&\"</b>\",Sort!Q74&\"<br />\"&Sort!R74&\"<br /><b>\"&Sort!S74&\"</b>\"))","v":""},"</td>###<td class='GrayOut'>",{"$f":"IF(Sort!T74=\"\",\"\",IF(Sort!U74=0,Sort!T74&\"<br /><span class='ClnMatch'>&nbsp;&nbsp;0&nbsp;&nbsp;</span><br /><b>\"&Sort!V74&\"</b>\",Sort!T74&\"<br />\"&Sort!U74&\"<br /><b>\"&Sort!V74&\"</b>\"))","v":""},"</td>###<td class='GrayOut'>",{"$f":"IF(Sort!W74=\"\",\"\",IF(Sort!X74=0,Sort!W74&\"<br /><span class='ClnMatch'>&nbsp;&nbsp;0&nbsp;&nbsp;</span><br /><b>\"&Sort!Y74&\"</b>\",Sort!W74&\"<br />\"&Sort!X74&\"<br /><b>\"&Sort!Y74&\"</b>\"))","v":""},"</td>###<td>",{"$f":"IF(Sort!Z74=\"\",\"\",IF(Sort!AA74=0,Sort!Z74&\"<br /><span class='ClnMatch'>&nbsp;&nbsp;0&nbsp;&nbsp;</span><br /><b>\"&Sort!AB74&\"</b>\",Sort!Z74&\"<br />\"&Sort!AA74&\"<br /><b>\"&Sort!AB74&\"</b>\"))","v":""},"</td>###<td class=\"BluBld\">",{"$f":"IF(Sort!B74=\"\",\"\",IF(Sort!AA74=0,Sort!AC74&\"<br /><span class='ClnMatch'>&nbsp;&nbsp;0&nbsp;&nbsp;</span><br /><b>\"&Sort!AE74&\"</b>\",Sort!AC74&\"<br />\"&Sort!AD74&\"<br /><b>\"&Sort!AE74&\"</b>\"))","v":""},"</td>###<td class=\"Bld\">",{"$f":"IF(Sort!AF74=\"\",\"\",Sort!AF74)","v":""},"</td>###<td class=\"Bld\">",{"$f":"IF(Sort!AG74=\"\",\"\",Sort!AG74)","v":""},"</td>###</tr>",null,{"$f":"IF(Sort!I74=\"\",\"\",Sort!I74)","v":""},{"$f":"IF(Sort!J74=\"\",\"\",Sort!J74)","v":0},{"$f":"IF(Sort!L74=\"\",\"\",Sort!L74)","v":""},{"$f":"IF(Sort!M74=\"\",\"\",Sort!M74)","v":0},{"$f":"IF(Sort!O74=\"\",\"\",Sort!O74)","v":""},{"$f":"IF(Sort!P74=\"\",\"\",Sort!P74)","v":0},{"$f":"IF(Sort!R74=\"\",\"\",Sort!R74)","v":""},{"$f":"IF(Sort!S74=\"\",\"\",Sort!S74)","v":0},{"$f":"IF(Sort!U74=\"\",\"\",Sort!U74)","v":""},{"$f":"IF(Sort!V74=\"\",\"\",Sort!V74)","v":0},{"$f":"IF(Sort!X74=\"\",\"\",Sort!X74)","v":""},{"$f":"IF(Sort!Y74=\"\",\"\",Sort!Y74)","v":0},{"$f":"IF(Sort!B74=\"\",\"\",Sort!AA74)","v":""}]
["<tr align='center'>###<td class='Bld'>",{"$f":"Sort!AH75","v":""},"</td>###<td class='Bld'>",{"$f":"IF(Sort!B75=\"\",\"\",IF(Sort!C75=\"\",Sort!B75,Sort!B75&\"<br />#\"&Sort!C75))","v":""},"</td>###<td>",{"$f":"IF(Sort!E75=\"\",\"\",Sort!E75&\" \"&Sort!F75&\"<br />\"&Sort!G75)","v":""},"</td>###<td class='GrayOut'>",{"$f":"IF(Sort!H75=\"\",\"\",IF(Sort!I75=0,Sort!H75&\"<br /><span class='ClnMatch'>&nbsp;&nbsp;0&nbsp;&nbsp;</span><br /><b>\"&Sort!J75&\"</b>\",Sort!H75&\"<br />\"&Sort!I75&\"<br /><b>\"&Sort!J75&\"</b>\"))","v":""},"</td>###<td class='GrayOut'>",{"$f":"IF(Sort!K75=\"\",\"\",IF(Sort!L75=0,Sort!K75&\"<br /><span class='ClnMatch'>&nbsp;&nbsp;0&nbsp;&nbsp;</span><br /><b>\"&Sort!M75&\"</b>\",Sort!K75&\"<br />\"&Sort!L75&\"<br /><b>\"&Sort!M75&\"</b>\"))","v":""},"</td>###<td class='GrayOut'>",{"$f":"IF(Sort!N75=\"\",\"\",IF(Sort!O75=0,Sort!N75&\"<br /><span class='ClnMatch'>&nbsp;&nbsp;0&nbsp;&nbsp;</span><br /><b>\"&Sort!P75&\"</b>\",Sort!N75&\"<br />\"&Sort!O75&\"<br /><b>\"&Sort!P75&\"</b>\"))","v":""},"</td>###<td class='GrayOut'>",{"$f":"IF(Sort!Q75=\"\",\"\",IF(Sort!R75=0,Sort!Q75&\"<br /><span class='ClnMatch'>&nbsp;&nbsp;0&nbsp;&nbsp;</span><br /><b>\"&Sort!S75&\"</b>\",Sort!Q75&\"<br />\"&Sort!R75&\"<br /><b>\"&Sort!S75&\"</b>\"))","v":""},"</td>###<td class='GrayOut'>",{"$f":"IF(Sort!T75=\"\",\"\",IF(Sort!U75=0,Sort!T75&\"<br /><span class='ClnMatch'>&nbsp;&nbsp;0&nbsp;&nbsp;</span><br /><b>\"&Sort!V75&\"</b>\",Sort!T75&\"<br />\"&Sort!U75&\"<br /><b>\"&Sort!V75&\"</b>\"))","v":""},"</td>###<td class='GrayOut'>",{"$f":"IF(Sort!W75=\"\",\"\",IF(Sort!X75=0,Sort!W75&\"<br /><span class='ClnMatch'>&nbsp;&nbsp;0&nbsp;&nbsp;</span><br /><b>\"&Sort!Y75&\"</b>\",Sort!W75&\"<br />\"&Sort!X75&\"<br /><b>\"&Sort!Y75&\"</b>\"))","v":""},"</td>###<td>",{"$f":"IF(Sort!Z75=\"\",\"\",IF(Sort!AA75=0,Sort!Z75&\"<br /><span class='ClnMatch'>&nbsp;&nbsp;0&nbsp;&nbsp;</span><br /><b>\"&Sort!AB75&\"</b>\",Sort!Z75&\"<br />\"&Sort!AA75&\"<br /><b>\"&Sort!AB75&\"</b>\"))","v":""},"</td>###<td class=\"BluBld\">",{"$f":"IF(Sort!B75=\"\",\"\",IF(Sort!AA75=0,Sort!AC75&\"<br /><span class='ClnMatch'>&nbsp;&nbsp;0&nbsp;&nbsp;</span><br /><b>\"&Sort!AE75&\"</b>\",Sort!AC75&\"<br />\"&Sort!AD75&\"<br /><b>\"&Sort!AE75&\"</b>\"))","v":""},"</td>###<td class=\"Bld\">",{"$f":"IF(Sort!AF75=\"\",\"\",Sort!AF75)","v":""},"</td>###<td class=\"Bld\">",{"$f":"IF(Sort!AG75=\"\",\"\",Sort!AG75)","v":""},"</td>###</tr>",null,{"$f":"IF(Sort!I75=\"\",\"\",Sort!I75)","v":""},{"$f":"IF(Sort!J75=\"\",\"\",Sort!J75)","v":0},{"$f":"IF(Sort!L75=\"\",\"\",Sort!L75)","v":""},{"$f":"IF(Sort!M75=\"\",\"\",Sort!M75)","v":0},{"$f":"IF(Sort!O75=\"\",\"\",Sort!O75)","v":""},{"$f":"IF(Sort!P75=\"\",\"\",Sort!P75)","v":0},{"$f":"IF(Sort!R75=\"\",\"\",Sort!R75)","v":""},{"$f":"IF(Sort!S75=\"\",\"\",Sort!S75)","v":0},{"$f":"IF(Sort!U75=\"\",\"\",Sort!U75)","v":""},{"$f":"IF(Sort!V75=\"\",\"\",Sort!V75)","v":0},{"$f":"IF(Sort!X75=\"\",\"\",Sort!X75)","v":""},{"$f":"IF(Sort!Y75=\"\",\"\",Sort!Y75)","v":0},{"$f":"IF(Sort!B75=\"\",\"\",Sort!AA75)","v":""}]
["<tr align='center'>###<td class='Bld'>",{"$f":"Sort!AH76","v":""},"</td>###<td class='Bld'>",{"$f":"IF(Sort!B76=\"\",\"\",IF(Sort!C76=\"\",Sort!B76,Sort!B76&\"<br />#\"&Sort!C76))","v":""},"</td>###<td>",{"$f":"IF(Sort!E76=\"\",\"\",Sort!E76&\" \"&Sort!F76&\"<br />\"&Sort!G76)","v":""},"</td>###<td class='GrayOut'>",{"$f":"IF(Sort!H76=\"\",\"\",IF(Sort!I76=0,Sort!H76&\"<br /><span class='ClnMatch'>&nbsp;&nbsp;0&nbsp;&nbsp;</span><br /><b>\"&Sort!J76&\"</b>\",Sort!H76&\"<br />\"&Sort!I76&\"<br /><b>\"&Sort!J76&\"</b>\"))","v":""},"</td>###<td class='GrayOut'>",{"$f":"IF(Sort!K76=\"\",\"\",IF(Sort!L76=0,Sort!K76&\"<br /><span class='ClnMatch'>&nbsp;&nbsp;0&nbsp;&nbsp;</span><br /><b>\"&Sort!M76&\"</b>\",Sort!K76&\"<br />\"&Sort!L76&\"<br /><b>\"&Sort!M76&\"</b>\"))","v":""},"</td>###<td class='GrayOut'>",{"$f":"IF(Sort!N76=\"\",\"\",IF(Sort!O76=0,Sort!N76&\"<br /><span class='ClnMatch'>&nbsp;&nbsp;0&nbsp;&nbsp;</span><br /><b>\"&Sort!P76&\"</b>\",Sort!N76&\"<br />\"&Sort!O76&\"<br /><b>\"&Sort!P76&\"</b>\"))","v":""},"</td>###<td class='GrayOut'>",{"$f":"IF(Sort!Q76=\"\",\"\",IF(Sort!R76=0,Sort!Q76&\"<br /><span class='ClnMatch'>&nbsp;&nbsp;0&nbsp;&nbsp;</span><br /><b>\"&Sort!S76&\"</b>\",Sort!Q76&\"<br />\"&Sort!R76&\"<br /><b>\"&Sort!S76&\"</b>\"))","v":""},"</td>###<td class='GrayOut'>",{"$f":"IF(Sort!T76=\"\",\"\",IF(Sort!U76=0,Sort!T76&\"<br /><span class='ClnMatch'>&nbsp;&nbsp;0&nbsp;&nbsp;</span><br /><b>\"&Sort!V76&\"</b>\",Sort!T76&\"<br />\"&Sort!U76&\"<br /><b>\"&Sort!V76&\"</b>\"))","v":""},"</td>###<td class='GrayOut'>",{"$f":"IF(Sort!W76=\"\",\"\",IF(Sort!X76=0,Sort!W76&\"<br /><span class='ClnMatch'>&nbsp;&nbsp;0&nbsp;&nbsp;</span><br /><b>\"&Sort!Y76&\"</b>\",Sort!W76&\"<br />\"&Sort!X76&\"<br /><b>\"&Sort!Y76&\"</b>\"))","v":""},"</td>###<td>",{"$f":"IF(Sort!Z76=\"\",\"\",IF(Sort!AA76=0,Sort!Z76&\"<br /><span class='ClnMatch'>&nbsp;&nbsp;0&nbsp;&nbsp;</span><br /><b>\"&Sort!AB76&\"</b>\",Sort!Z76&\"<br />\"&Sort!AA76&\"<br /><b>\"&Sort!AB76&\"</b>\"))","v":""},"</td>###<td class=\"BluBld\">",{"$f":"IF(Sort!B76=\"\",\"\",IF(Sort!AA76=0,Sort!AC76&\"<br /><span class='ClnMatch'>&nbsp;&nbsp;0&nbsp;&nbsp;</span><br /><b>\"&Sort!AE76&\"</b>\",Sort!AC76&\"<br />\"&Sort!AD76&\"<br /><b>\"&Sort!AE76&\"</b>\"))","v":""},"</td>###<td class=\"Bld\">",{"$f":"IF(Sort!AF76=\"\",\"\",Sort!AF76)","v":""},"</td>###<td class=\"Bld\">",{"$f":"IF(Sort!AG76=\"\",\"\",Sort!AG76)","v":""},"</td>###</tr>",null,{"$f":"IF(Sort!I76=\"\",\"\",Sort!I76)","v":""},{"$f":"IF(Sort!J76=\"\",\"\",Sort!J76)","v":0},{"$f":"IF(Sort!L76=\"\",\"\",Sort!L76)","v":""},{"$f":"IF(Sort!M76=\"\",\"\",Sort!M76)","v":0},{"$f":"IF(Sort!O76=\"\",\"\",Sort!O76)","v":""},{"$f":"IF(Sort!P76=\"\",\"\",Sort!P76)","v":0},{"$f":"IF(Sort!R76=\"\",\"\",Sort!R76)","v":""},{"$f":"IF(Sort!S76=\"\",\"\",Sort!S76)","v":0},{"$f":"IF(Sort!U76=\"\",\"\",Sort!U76)","v":""},{"$f":"IF(Sort!V76=\"\",\"\",Sort!V76)","v":0},{"$f":"IF(Sort!X76=\"\",\"\",Sort!X76)","v":""},{"$f":"IF(Sort!Y76=\"\",\"\",Sort!Y76)","v":0},{"$f":"IF(Sort!B76=\"\",\"\",Sort!AA76)","v":""}]
["<tr align='center'>###<td class='Bld'>",{"$f":"Sort!AH77","v":""},"</td>###<td class='Bld'>",{"$f":"IF(Sort!B77=\"\",\"\",IF(Sort!C77=\"\",Sort!B77,Sort!B77&\"<br />#\"&Sort!C77))","v":""},"</td>###<td>",{"$f":"IF(Sort!E77=\"\",\"\",Sort!E77&\" \"&Sort!F77&\"<br />\"&Sort!G77)","v":""},"</td>###<td class='GrayOut'>",{"$f":"IF(Sort!H77=\"\",\"\",IF(Sort!I77=0,Sort!H77&\"<br /><span class='ClnMatch'>&nbsp;&nbsp;0&nbsp;&nbsp;</span><br /><b>\"&Sort!J77&\"</b>\",Sort!H77&\"<br />\"&Sort!I77&\"<br /><b>\"&Sort!J77&\"</b>\"))","v":""},"</td>###<td class='GrayOut'>",{"$f":"IF(Sort!K77=\"\",\"\",IF(Sort!L77=0,Sort!K77&\"<br /><span class='ClnMatch'>&nbsp;&nbsp;0&nbsp;&nbsp;</span><br /><b>\"&Sort!M77&\"</b>\",Sort!K77&\"<br />\"&Sort!L77&\"<br /><b>\"&Sort!M77&\"</b>\"))","v":""},"</td>###<td class='GrayOut'>",{"$f":"IF(Sort!N77=\"\",\"\",IF(Sort!O77=0,Sort!N77&\"<br /><span class='ClnMatch'>&nbsp;&nbsp;0&nbsp;&nbsp;</span><br /><b>\"&Sort!P77&\"</b>\",Sort!N77&\"<br />\"&Sort!O77&\"<br /><b>\"&Sort!P77&\"</b>\"))","v":""},"</td>###<td class='GrayOut'>",{"$f":"IF(Sort!Q77=\"\",\"\",IF(Sort!R77=0,Sort!Q77&\"<br /><span class='ClnMatch'>&nbsp;&nbsp;0&nbsp;&nbsp;</span><br /><b>\"&Sort!S77&\"</b>\",Sort!Q77&\"<br />\"&Sort!R77&\"<br /><b>\"&Sort!S77&\"</b>\"))","v":""},"</td>###<td class='GrayOut'>",{"$f":"IF(Sort!T77=\"\",\"\",IF(Sort!U77=0,Sort!T77&\"<br /><span class='ClnMatch'>&nbsp;&nbsp;0&nbsp;&nbsp;</span><br /><b>\"&Sort!V77&\"</b>\",Sort!T77&\"<br />\"&Sort!U77&\"<br /><b>\"&Sort!V77&\"</b>\"))","v":""},"</td>###<td class='GrayOut'>",{"$f":"IF(Sort!W77=\"\",\"\",IF(Sort!X77=0,Sort!W77&\"<br /><span class='ClnMatch'>&nbsp;&nbsp;0&nbsp;&nbsp;</span><br /><b>\"&Sort!Y77&\"</b>\",Sort!W77&\"<br />\"&Sort!X77&\"<br /><b>\"&Sort!Y77&\"</b>\"))","v":""},"</td>###<td>",{"$f":"IF(Sort!Z77=\"\",\"\",IF(Sort!AA77=0,Sort!Z77&\"<br /><span class='ClnMatch'>&nbsp;&nbsp;0&nbsp;&nbsp;</span><br /><b>\"&Sort!AB77&\"</b>\",Sort!Z77&\"<br />\"&Sort!AA77&\"<br /><b>\"&Sort!AB77&\"</b>\"))","v":""},"</td>###<td class=\"BluBld\">",{"$f":"IF(Sort!B77=\"\",\"\",IF(Sort!AA77=0,Sort!AC77&\"<br /><span class='ClnMatch'>&nbsp;&nbsp;0&nbsp;&nbsp;</span><br /><b>\"&Sort!AE77&\"</b>\",Sort!AC77&\"<br />\"&Sort!AD77&\"<br /><b>\"&Sort!AE77&\"</b>\"))","v":""},"</td>###<td class=\"Bld\">",{"$f":"IF(Sort!AF77=\"\",\"\",Sort!AF77)","v":""},"</td>###<td class=\"Bld\">",{"$f":"IF(Sort!AG77=\"\",\"\",Sort!AG77)","v":""},"</td>###</tr>",null,{"$f":"IF(Sort!I77=\"\",\"\",Sort!I77)","v":""},{"$f":"IF(Sort!J77=\"\",\"\",Sort!J77)","v":0},{"$f":"IF(Sort!L77=\"\",\"\",Sort!L77)","v":""},{"$f":"IF(Sort!M77=\"\",\"\",Sort!M77)","v":0},{"$f":"IF(Sort!O77=\"\",\"\",Sort!O77)","v":""},{"$f":"IF(Sort!P77=\"\",\"\",Sort!P77)","v":0},{"$f":"IF(Sort!R77=\"\",\"\",Sort!R77)","v":""},{"$f":"IF(Sort!S77=\"\",\"\",Sort!S77)","v":0},{"$f":"IF(Sort!U77=\"\",\"\",Sort!U77)","v":""},{"$f":"IF(Sort!V77=\"\",\"\",Sort!V77)","v":0},{"$f":"IF(Sort!X77=\"\",\"\",Sort!X77)","v":""},{"$f":"IF(Sort!Y77=\"\",\"\",Sort!Y77)","v":0},{"$f":"IF(Sort!B77=\"\",\"\",Sort!AA77)","v":""}]
["<tr align='center'>###<td class='Bld'>",{"$f":"Sort!AH78","v":""},"</td>###<td class='Bld'>",{"$f":"IF(Sort!B78=\"\",\"\",IF(Sort!C78=\"\",Sort!B78,Sort!B78&\"<br />#\"&Sort!C78))","v":""},"</td>###<td>",{"$f":"IF(Sort!E78=\"\",\"\",Sort!E78&\" \"&Sort!F78&\"<br />\"&Sort!G78)","v":""},"</td>###<td class='GrayOut'>",{"$f":"IF(Sort!H78=\"\",\"\",IF(Sort!I78=0,Sort!H78&\"<br /><span class='ClnMatch'>&nbsp;&nbsp;0&nbsp;&nbsp;</span><br /><b>\"&Sort!J78&\"</b>\",Sort!H78&\"<br />\"&Sort!I78&\"<br /><b>\"&Sort!J78&\"</b>\"))","v":""},"</td>###<td class='GrayOut'>",{"$f":"IF(Sort!K78=\"\",\"\",IF(Sort!L78=0,Sort!K78&\"<br /><span class='ClnMatch'>&nbsp;&nbsp;0&nbsp;&nbsp;</span><br /><b>\"&Sort!M78&\"</b>\",Sort!K78&\"<br />\"&Sort!L78&\"<br /><b>\"&Sort!M78&\"</b>\"))","v":""},"</td>###<td class='GrayOut'>",{"$f":"IF(Sort!N78=\"\",\"\",IF(Sort!O78=0,Sort!N78&\"<br /><span class='ClnMatch'>&nbsp;&nbsp;0&nbsp;&nbsp;</span><br /><b>\"&Sort!P78&\"</b>\",Sort!N78&\"<br />\"&Sort!O78&\"<br /><b>\"&Sort!P78&\"</b>\"))","v":""},"</td>###<td class='GrayOut'>",{"$f":"IF(Sort!Q78=\"\",\"\",IF(Sort!R78=0,Sort!Q78&\"<br /><span class='ClnMatch'>&nbsp;&nbsp;0&nbsp;&nbsp;</span><br /><b>\"&Sort!S78&\"</b>\",Sort!Q78&\"<br />\"&Sort!R78&\"<br /><b>\"&Sort!S78&\"</b>\"))","v":""},"</td>###<td class='GrayOut'>",{"$f":"IF(Sort!T78=\"\",\"\",IF(Sort!U78=0,Sort!T78&\"<br /><span class='ClnMatch'>&nbsp;&nbsp;0&nbsp;&nbsp;</span><br /><b>\"&Sort!V78&\"</b>\",Sort!T78&\"<br />\"&Sort!U78&\"<br /><b>\"&Sort!V78&\"</b>\"))","v":""},"</td>###<td class='GrayOut'>",{"$f":"IF(Sort!W78=\"\",\"\",IF(Sort!X78=0,Sort!W78&\"<br /><span class='ClnMatch'>&nbsp;&nbsp;0&nbsp;&nbsp;</span><br /><b>\"&Sort!Y78&\"</b>\",Sort!W78&\"<br />\"&Sort!X78&\"<br /><b>\"&Sort!Y78&\"</b>\"))","v":""},"</td>###<td>",{"$f":"IF(Sort!Z78=\"\",\"\",IF(Sort!AA78=0,Sort!Z78&\"<br /><span class='ClnMatch'>&nbsp;&nbsp;0&nbsp;&nbsp;</span><br /><b>\"&Sort!AB78&\"</b>\",Sort!Z78&\"<br />\"&Sort!AA78&\"<br /><b>\"&Sort!AB78&\"</b>\"))","v":""},"</td>###<td class=\"BluBld\">",{"$f":"IF(Sort!B78=\"\",\"\",IF(Sort!AA78=0,Sort!AC78&\"<br /><span class='ClnMatch'>&nbsp;&nbsp;0&nbsp;&nbsp;</span><br /><b>\"&Sort!AE78&\"</b>\",Sort!AC78&\"<br />\"&Sort!AD78&\"<br /><b>\"&Sort!AE78&\"</b>\"))","v":""},"</td>###<td class=\"Bld\">",{"$f":"IF(Sort!AF78=\"\",\"\",Sort!AF78)","v":""},"</td>###<td class=\"Bld\">",{"$f":"IF(Sort!AG78=\"\",\"\",Sort!AG78)","v":""},"</td>###</tr>",null,{"$f":"IF(Sort!I78=\"\",\"\",Sort!I78)","v":""},{"$f":"IF(Sort!J78=\"\",\"\",Sort!J78)","v":0},{"$f":"IF(Sort!L78=\"\",\"\",Sort!L78)","v":""},{"$f":"IF(Sort!M78=\"\",\"\",Sort!M78)","v":0},{"$f":"IF(Sort!O78=\"\",\"\",Sort!O78)","v":""},{"$f":"IF(Sort!P78=\"\",\"\",Sort!P78)","v":0},{"$f":"IF(Sort!R78=\"\",\"\",Sort!R78)","v":""},{"$f":"IF(Sort!S78=\"\",\"\",Sort!S78)","v":0},{"$f":"IF(Sort!U78=\"\",\"\",Sort!U78)","v":""},{"$f":"IF(Sort!V78=\"\",\"\",Sort!V78)","v":0},{"$f":"IF(Sort!X78=\"\",\"\",Sort!X78)","v":""},{"$f":"IF(Sort!Y78=\"\",\"\",Sort!Y78)","v":0},{"$f":"IF(Sort!B78=\"\",\"\",Sort!AA78)","v":""}]
["<tr align='center'>###<td class='Bld'>",{"$f":"Sort!AH79","v":""},"</td>###<td class='Bld'>",{"$f":"IF(Sort!B79=\"\",\"\",IF(Sort!C79=\"\",Sort!B79,Sort!B79&\"<br />#\"&Sort!C79))","v":""},"</td>###<td>",{"$f":"IF(Sort!E79=\"\",\"\",Sort!E79&\" \"&Sort!F79&\"<br />\"&Sort!G79)","v":""},"</td>###<td class='GrayOut'>",{"$f":"IF(Sort!H79=\"\",\"\",IF(Sort!I79=0,Sort!H79&\"<br /><span class='ClnMatch'>&nbsp;&nbsp;0&nbsp;&nbsp;</span><br /><b>\"&Sort!J79&\"</b>\",Sort!H79&\"<br />\"&Sort!I79&\"<br /><b>\"&Sort!J79&\"</b>\"))","v":""},"</td>###<td class='GrayOut'>",{"$f":"IF(Sort!K79=\"\",\"\",IF(Sort!L79=0,Sort!K79&\"<br /><span class='ClnMatch'>&nbsp;&nbsp;0&nbsp;&nbsp;</span><br /><b>\"&Sort!M79&\"</b>\",Sort!K79&\"<br />\"&Sort!L79&\"<br /><b>\"&Sort!M79&\"</b>\"))","v":""},"</td>###<td class='GrayOut'>",{"$f":"IF(Sort!N79=\"\",\"\",IF(Sort!O79=0,Sort!N79&\"<br /><span class='ClnMatch'>&nbsp;&nbsp;0&nbsp;&nbsp;</span><br /><b>\"&Sort!P79&\"</b>\",Sort!N79&\"<br />\"&Sort!O79&\"<br /><b>\"&Sort!P79&\"</b>\"))","v":""},"</td>###<td class='GrayOut'>",{"$f":"IF(Sort!Q79=\"\",\"\",IF(Sort!R79=0,Sort!Q79&\"<br /><span class='ClnMatch'>&nbsp;&nbsp;0&nbsp;&nbsp;</span><br /><b>\"&Sort!S79&\"</b>\",Sort!Q79&\"<br />\"&Sort!R79&\"<br /><b>\"&Sort!S79&\"</b>\"))","v":""},"</td>###<td class='GrayOut'>",{"$f":"IF(Sort!T79=\"\",\"\",IF(Sort!U79=0,Sort!T79&\"<br /><span class='ClnMatch'>&nbsp;&nbsp;0&nbsp;&nbsp;</span><br /><b>\"&Sort!V79&\"</b>\",Sort!T79&\"<br />\"&Sort!U79&\"<br /><b>\"&Sort!V79&\"</b>\"))","v":""},"</td>###<td class='GrayOut'>",{"$f":"IF(Sort!W79=\"\",\"\",IF(Sort!X79=0,Sort!W79&\"<br /><span class='ClnMatch'>&nbsp;&nbsp;0&nbsp;&nbsp;</span><br /><b>\"&Sort!Y79&\"</b>\",Sort!W79&\"<br />\"&Sort!X79&\"<br /><b>\"&Sort!Y79&\"</b>\"))","v":""},"</td>###<td>",{"$f":"IF(Sort!Z79=\"\",\"\",IF(Sort!AA79=0,Sort!Z79&\"<br /><span class='ClnMatch'>&nbsp;&nbsp;0&nbsp;&nbsp;</span><br /><b>\"&Sort!AB79&\"</b>\",Sort!Z79&\"<br />\"&Sort!AA79&\"<br /><b>\"&Sort!AB79&\"</b>\"))","v":""},"</td>###<td class=\"BluBld\">",{"$f":"IF(Sort!B79=\"\",\"\",IF(Sort!AA79=0,Sort!AC79&\"<br /><span class='ClnMatch'>&nbsp;&nbsp;0&nbsp;&nbsp;</span><br /><b>\"&Sort!AE79&\"</b>\",Sort!AC79&\"<br />\"&Sort!AD79&\"<br /><b>\"&Sort!AE79&\"</b>\"))","v":""},"</td>###<td class=\"Bld\">",{"$f":"IF(Sort!AF79=\"\",\"\",Sort!AF79)","v":""},"</td>###<td class=\"Bld\">",{"$f":"IF(Sort!AG79=\"\",\"\",Sort!AG79)","v":""},"</td>###</tr>",null,{"$f":"IF(Sort!I79=\"\",\"\",Sort!I79)","v":""},{"$f":"IF(Sort!J79=\"\",\"\",Sort!J79)","v":0},{"$f":"IF(Sort!L79=\"\",\"\",Sort!L79)","v":""},{"$f":"IF(Sort!M79=\"\",\"\",Sort!M79)","v":0},{"$f":"IF(Sort!O79=\"\",\"\",Sort!O79)","v":""},{"$f":"IF(Sort!P79=\"\",\"\",Sort!P79)","v":0},{"$f":"IF(Sort!R79=\"\",\"\",Sort!R79)","v":""},{"$f":"IF(Sort!S79=\"\",\"\",Sort!S79)","v":0},{"$f":"IF(Sort!U79=\"\",\"\",Sort!U79)","v":""},{"$f":"IF(Sort!V79=\"\",\"\",Sort!V79)","v":0},{"$f":"IF(Sort!X79=\"\",\"\",Sort!X79)","v":""},{"$f":"IF(Sort!Y79=\"\",\"\",Sort!Y79)","v":0},{"$f":"IF(Sort!B79=\"\",\"\",Sort!AA79)","v":""}]
["<tr align='center'>###<td class='Bld'>",{"$f":"Sort!AH80","v":""},"</td>###<td class='Bld'>",{"$f":"IF(Sort!B80=\"\",\"\",IF(Sort!C80=\"\",Sort!B80,Sort!B80&\"<br />#\"&Sort!C80))","v":""},"</td>###<td>",{"$f":"IF(Sort!E80=\"\",\"\",Sort!E80&\" \"&Sort!F80&\"<br />\"&Sort!G80)","v":""},"</td>###<td class='GrayOut'>",{"$f":"IF(Sort!H80=\"\",\"\",IF(Sort!I80=0,Sort!H80&\"<br /><span class='ClnMatch'>&nbsp;&nbsp;0&nbsp;&nbsp;</span><br /><b>\"&Sort!J80&\"</b>\",Sort!H80&\"<br />\"&Sort!I80&\"<br /><b>\"&Sort!J80&\"</b>\"))","v":""},"</td>###<td class='GrayOut'>",{"$f":"IF(Sort!K80=\"\",\"\",IF(Sort!L80=0,Sort!K80&\"<br /><span class='ClnMatch'>&nbsp;&nbsp;0&nbsp;&nbsp;</span><br /><b>\"&Sort!M80&\"</b>\",Sort!K80&\"<br />\"&Sort!L80&\"<br /><b>\"&Sort!M80&\"</b>\"))","v":""},"</td>###<td class='GrayOut'>",{"$f":"IF(Sort!N80=\"\",\"\",IF(Sort!O80=0,Sort!N80&\"<br /><span class='ClnMatch'>&nbsp;&nbsp;0&nbsp;&nbsp;</span><br /><b>\"&Sort!P80&\"</b>\",Sort!N80&\"<br />\"&Sort!O80&\"<br /><b>\"&Sort!P80&\"</b>\"))","v":""},"</td>###<td class='GrayOut'>",{"$f":"IF(Sort!Q80=\"\",\"\",IF(Sort!R80=0,Sort!Q80&\"<br /><span class='ClnMatch'>&nbsp;&nbsp;0&nbsp;&nbsp;</span><br /><b>\"&Sort!S80&\"</b>\",Sort!Q80&\"<br />\"&Sort!R80&\"<br /><b>\"&Sort!S80&\"</b>\"))","v":""},"</td>###<td class='GrayOut'>",{"$f":"IF(Sort!T80=\"\",\"\",IF(Sort!U80=0,Sort!T80&\"<br /><span class='ClnMatch'>&nbsp;&nbsp;0&nbsp;&nbsp;</span><br /><b>\"&Sort!V80&\"</b>\",Sort!T80&\"<br />\"&Sort!U80&\"<br /><b>\"&Sort!V80&\"</b>\"))","v":""},"</td>###<td class='GrayOut'>",{"$f":"IF(Sort!W80=\"\",\"\",IF(Sort!X80=0,Sort!W80&\"<br /><span class='ClnMatch'>&nbsp;&nbsp;0&nbsp;&nbsp;</span><br /><b>\"&Sort!Y80&\"</b>\",Sort!W80&\"<br />\"&Sort!X80&\"<br /><b>\"&Sort!Y80&\"</b>\"))","v":""},"</td>###<td>",{"$f":"IF(Sort!Z80=\"\",\"\",IF(Sort!AA80=0,Sort!Z80&\"<br /><span class='ClnMatch'>&nbsp;&nbsp;0&nbsp;&nbsp;</span><br /><b>\"&Sort!AB80&\"</b>\",Sort!Z80&\"<br />\"&Sort!AA80&\"<br /><b>\"&Sort!AB80&\"</b>\"))","v":""},"</td>###<td class=\"BluBld\">",{"$f":"IF(Sort!B80=\"\",\"\",IF(Sort!AA80=0,Sort!AC80&\"<br /><span class='ClnMatch'>&nbsp;&nbsp;0&nbsp;&nbsp;</span><br /><b>\"&Sort!AE80&\"</b>\",Sort!AC80&\"<br />\"&Sort!AD80&\"<br /><b>\"&Sort!AE80&\"</b>\"))","v":""},"</td>###<td class=\"Bld\">",{"$f":"IF(Sort!AF80=\"\",\"\",Sort!AF80)","v":""},"</td>###<td class=\"Bld\">",{"$f":"IF(Sort!AG80=\"\",\"\",Sort!AG80)","v":""},"</td>###</tr>",null,{"$f":"IF(Sort!I80=\"\",\"\",Sort!I80)","v":""},{"$f":"IF(Sort!J80=\"\",\"\",Sort!J80)","v":0},{"$f":"IF(Sort!L80=\"\",\"\",Sort!L80)","v":""},{"$f":"IF(Sort!M80=\"\",\"\",Sort!M80)","v":0},{"$f":"IF(Sort!O80=\"\",\"\",Sort!O80)","v":""},{"$f":"IF(Sort!P80=\"\",\"\",Sort!P80)","v":0},{"$f":"IF(Sort!R80=\"\",\"\",Sort!R80)","v":""},{"$f":"IF(Sort!S80=\"\",\"\",Sort!S80)","v":0},{"$f":"IF(Sort!U80=\"\",\"\",Sort!U80)","v":""},{"$f":"IF(Sort!V80=\"\",\"\",Sort!V80)","v":0},{"$f":"IF(Sort!X80=\"\",\"\",Sort!X80)","v":""},{"$f":"IF(Sort!Y80=\"\",\"\",Sort!Y80)","v":0},{"$f":"IF(Sort!B80=\"\",\"\",Sort!AA80)","v":""}]
["<tr align='center'>###<td class='Bld'>",{"$f":"Sort!AH81","v":""},"</td>###<td class='Bld'>",{"$f":"IF(Sort!B81=\"\",\"\",IF(Sort!C81=\"\",Sort!B81,Sort!B81&\"<br />#\"&Sort!C81))","v":""},"</td>###<td>",{"$f":"IF(Sort!E81=\"\",\"\",Sort!E81&\" \"&Sort!F81&\"<br />\"&Sort!G81)","v":""},"</td>###<td class='GrayOut'>",{"$f":"IF(Sort!H81=\"\",\"\",IF(Sort!I81=0,Sort!H81&\"<br /><span class='ClnMatch'>&nbsp;&nbsp;0&nbsp;&nbsp;</span><br /><b>\"&Sort!J81&\"</b>\",Sort!H81&\"<br />\"&Sort!I81&\"<br /><b>\"&Sort!J81&\"</b>\"))","v":""},"</td>###<td class='GrayOut'>",{"$f":"IF(Sort!K81=\"\",\"\",IF(Sort!L81=0,Sort!K81&\"<br /><span class='ClnMatch'>&nbsp;&nbsp;0&nbsp;&nbsp;</span><br /><b>\"&Sort!M81&\"</b>\",Sort!K81&\"<br />\"&Sort!L81&\"<br /><b>\"&Sort!M81&\"</b>\"))","v":""},"</td>###<td class='GrayOut'>",{"$f":"IF(Sort!N81=\"\",\"\",IF(Sort!O81=0,Sort!N81&\"<br /><span class='ClnMatch'>&nbsp;&nbsp;0&nbsp;&nbsp;</span><br /><b>\"&Sort!P81&\"</b>\",Sort!N81&\"<br />\"&Sort!O81&\"<br /><b>\"&Sort!P81&\"</b>\"))","v":""},"</td>###<td class='GrayOut'>",{"$f":"IF(Sort!Q81=\"\",\"\",IF(Sort!R81=0,Sort!Q81&\"<br /><span class='ClnMatch'>&nbsp;&nbsp;0&nbsp;&nbsp;</span><br /><b>\"&Sort!S81&\"</b>\",Sort!Q81&\"<br />\"&Sort!R81&\"<br /><b>\"&Sort!S81&\"</b>\"))","v":""},"</td>###<td class='GrayOut'>",{"$f":"IF(Sort!T81=\"\",\"\",IF(Sort!U81=0,Sort!T81&\"<br /><span class='ClnMatch'>&nbsp;&nbsp;0&nbsp;&nbsp;</span><br /><b>\"&Sort!V81&\"</b>\",Sort!T81&\"<br />\"&Sort!U81&\"<br /><b>\"&Sort!V81&\"</b>\"))","v":""},"</td>###<td class='GrayOut'>",{"$f":"IF(Sort!W81=\"\",\"\",IF(Sort!X81=0,Sort!W81&\"<br /><span class='ClnMatch'>&nbsp;&nbsp;0&nbsp;&nbsp;</span><br /><b>\"&Sort!Y81&\"</b>\",Sort!W81&\"<br />\"&Sort!X81&\"<br /><b>\"&Sort!Y81&\"</b>\"))","v":""},"</td>###<td>",{"$f":"IF(Sort!Z81=\"\",\"\",IF(Sort!AA81=0,Sort!Z81&\"<br /><span class='ClnMatch'>&nbsp;&nbsp;0&nbsp;&nbsp;</span><br /><b>\"&Sort!AB81&\"</b>\",Sort!Z81&\"<br />\"&Sort!AA81&\"<br /><b>\"&Sort!AB81&\"</b>\"))","v":""},"</td>###<td class=\"BluBld\">",{"$f":"IF(Sort!B81=\"\",\"\",IF(Sort!AA81=0,Sort!AC81&\"<br /><span class='ClnMatch'>&nbsp;&nbsp;0&nbsp;&nbsp;</span><br /><b>\"&Sort!AE81&\"</b>\",Sort!AC81&\"<br />\"&Sort!AD81&\"<br /><b>\"&Sort!AE81&\"</b>\"))","v":""},"</td>###<td class=\"Bld\">",{"$f":"IF(Sort!AF81=\"\",\"\",Sort!AF81)","v":""},"</td>###<td class=\"Bld\">",{"$f":"IF(Sort!AG81=\"\",\"\",Sort!AG81)","v":""},"</td>###</tr>",null,{"$f":"IF(Sort!I81=\"\",\"\",Sort!I81)","v":""},{"$f":"IF(Sort!J81=\"\",\"\",Sort!J81)","v":0},{"$f":"IF(Sort!L81=\"\",\"\",Sort!L81)","v":""},{"$f":"IF(Sort!M81=\"\",\"\",Sort!M81)","v":0},{"$f":"IF(Sort!O81=\"\",\"\",Sort!O81)","v":""},{"$f":"IF(Sort!P81=\"\",\"\",Sort!P81)","v":0},{"$f":"IF(Sort!R81=\"\",\"\",Sort!R81)","v":""},{"$f":"IF(Sort!S81=\"\",\"\",Sort!S81)","v":0},{"$f":"IF(Sort!U81=\"\",\"\",Sort!U81)","v":""},{"$f":"IF(Sort!V81=\"\",\"\",Sort!V81)","v":0},{"$f":"IF(Sort!X81=\"\",\"\",Sort!X81)","v":""},{"$f":"IF(Sort!Y81=\"\",\"\",Sort!Y81)","v":0},{"$f":"IF(Sort!B81=\"\",\"\",Sort!AA81)","v":""}]
["<tr align='center'>###<td class='Bld'>",{"$f":"Sort!AH82","v":""},"</td>###<td class='Bld'>",{"$f":"IF(Sort!B82=\"\",\"\",IF(Sort!C82=\"\",Sort!B82,Sort!B82&\"<br />#\"&Sort!C82))","v":""},"</td>###<td>",{"$f":"IF(Sort!E82=\"\",\"\",Sort!E82&\" \"&Sort!F82&\"<br />\"&Sort!G82)","v":""},"</td>###<td class='GrayOut'>",{"$f":"IF(Sort!H82=\"\",\"\",IF(Sort!I82=0,Sort!H82&\"<br /><span class='ClnMatch'>&nbsp;&nbsp;0&nbsp;&nbsp;</span><br /><b>\"&Sort!J82&\"</b>\",Sort!H82&\"<br />\"&Sort!I82&\"<br /><b>\"&Sort!J82&\"</b>\"))","v":""},"</td>###<td class='GrayOut'>",{"$f":"IF(Sort!K82=\"\",\"\",IF(Sort!L82=0,Sort!K82&\"<br /><span class='ClnMatch'>&nbsp;&nbsp;0&nbsp;&nbsp;</span><br /><b>\"&Sort!M82&\"</b>\",Sort!K82&\"<br />\"&Sort!L82&\"<br /><b>\"&Sort!M82&\"</b>\"))","v":""},"</td>###<td class='GrayOut'>",{"$f":"IF(Sort!N82=\"\",\"\",IF(Sort!O82=0,Sort!N82&\"<br /><span class='ClnMatch'>&nbsp;&nbsp;0&nbsp;&nbsp;</span><br /><b>\"&Sort!P82&\"</b>\",Sort!N82&\"<br />\"&Sort!O82&\"<br /><b>\"&Sort!P82&\"</b>\"))","v":""},"</td>###<td class='GrayOut'>",{"$f":"IF(Sort!Q82=\"\",\"\",IF(Sort!R82=0,Sort!Q82&\"<br /><span class='ClnMatch'>&nbsp;&nbsp;0&nbsp;&nbsp;</span><br /><b>\"&Sort!S82&\"</b>\",Sort!Q82&\"<br />\"&Sort!R82&\"<br /><b>\"&Sort!S82&\"</b>\"))","v":""},"</td>###<td class='GrayOut'>",{"$f":"IF(Sort!T82=\"\",\"\",IF(Sort!U82=0,Sort!T82&\"<br /><span class='ClnMatch'>&nbsp;&nbsp;0&nbsp;&nbsp;</span><br /><b>\"&Sort!V82&\"</b>\",Sort!T82&\"<br />\"&Sort!U82&\"<br /><b>\"&Sort!V82&\"</b>\"))","v":""},"</td>###<td class='GrayOut'>",{"$f":"IF(Sort!W82=\"\",\"\",IF(Sort!X82=0,Sort!W82&\"<br /><span class='ClnMatch'>&nbsp;&nbsp;0&nbsp;&nbsp;</span><br /><b>\"&Sort!Y82&\"</b>\",Sort!W82&\"<br />\"&Sort!X82&\"<br /><b>\"&Sort!Y82&\"</b>\"))","v":""},"</td>###<td>",{"$f":"IF(Sort!Z82=\"\",\"\",IF(Sort!AA82=0,Sort!Z82&\"<br /><span class='ClnMatch'>&nbsp;&nbsp;0&nbsp;&nbsp;</span><br /><b>\"&Sort!AB82&\"</b>\",Sort!Z82&\"<br />\"&Sort!AA82&\"<br /><b>\"&Sort!AB82&\"</b>\"))","v":""},"</td>###<td class=\"BluBld\">",{"$f":"IF(Sort!B82=\"\",\"\",IF(Sort!AA82=0,Sort!AC82&\"<br /><span class='ClnMatch'>&nbsp;&nbsp;0&nbsp;&nbsp;</span><br /><b>\"&Sort!AE82&\"</b>\",Sort!AC82&\"<br />\"&Sort!AD82&\"<br /><b>\"&Sort!AE82&\"</b>\"))","v":""},"</td>###<td class=\"Bld\">",{"$f":"IF(Sort!AF82=\"\",\"\",Sort!AF82)","v":""},"</td>###<td class=\"Bld\">",{"$f":"IF(Sort!AG82=\"\",\"\",Sort!AG82)","v":""},"</td>###</tr>",null,{"$f":"IF(Sort!I82=\"\",\"\",Sort!I82)","v":""},{"$f":"IF(Sort!J82=\"\",\"\",Sort!J82)","v":0},{"$f":"IF(Sort!L82=\"\",\"\",Sort!L82)","v":""},{"$f":"IF(Sort!M82=\"\",\"\",Sort!M82)","v":0},{"$f":"IF(Sort!O82=\"\",\"\",Sort!O82)","v":""},{"$f":"IF(Sort!P82=\"\",\"\",Sort!P82)","v":0},{"$f":"IF(Sort!R82=\"\",\"\",Sort!R82)","v":""},{"$f":"IF(Sort!S82=\"\",\"\",Sort!S82)","v":0},{"$f":"IF(Sort!U82=\"\",\"\",Sort!U82)","v":""},{"$f":"IF(Sort!V82=\"\",\"\",Sort!V82)","v":0},{"$f":"IF(Sort!X82=\"\",\"\",Sort!X82)","v":""},{"$f":"IF(Sort!Y82=\"\",\"\",Sort!Y82)","v":0},{"$f":"IF(Sort!B82=\"\",\"\",Sort!AA82)","v":""}]
["<tr align='center'>###<td class='Bld'>",{"$f":"Sort!AH83","v":""},"</td>###<td class='Bld'>",{"$f":"IF(Sort!B83=\"\",\"\",IF(Sort!C83=\"\",Sort!B83,Sort!B83&\"<br />#\"&Sort!C83))","v":""},"</td>###<td>",{"$f":"IF(Sort!E83=\"\",\"\",Sort!E83&\" \"&Sort!F83&\"<br />\"&Sort!G83)","v":""},"</td>###<td class='GrayOut'>",{"$f":"IF(Sort!H83=\"\",\"\",IF(Sort!I83=0,Sort!H83&\"<br /><span class='ClnMatch'>&nbsp;&nbsp;0&nbsp;&nbsp;</span><br /><b>\"&Sort!J83&\"</b>\",Sort!H83&\"<br />\"&Sort!I83&\"<br /><b>\"&Sort!J83&\"</b>\"))","v":""},"</td>###<td class='GrayOut'>",{"$f":"IF(Sort!K83=\"\",\"\",IF(Sort!L83=0,Sort!K83&\"<br /><span class='ClnMatch'>&nbsp;&nbsp;0&nbsp;&nbsp;</span><br /><b>\"&Sort!M83&\"</b>\",Sort!K83&\"<br />\"&Sort!L83&\"<br /><b>\"&Sort!M83&\"</b>\"))","v":""},"</td>###<td class='GrayOut'>",{"$f":"IF(Sort!N83=\"\",\"\",IF(Sort!O83=0,Sort!N83&\"<br /><span class='ClnMatch'>&nbsp;&nbsp;0&nbsp;&nbsp;</span><br /><b>\"&Sort!P83&\"</b>\",Sort!N83&\"<br />\"&Sort!O83&\"<br /><b>\"&Sort!P83&\"</b>\"))","v":""},"</td>###<td class='GrayOut'>",{"$f":"IF(Sort!Q83=\"\",\"\",IF(Sort!R83=0,Sort!Q83&\"<br /><span class='ClnMatch'>&nbsp;&nbsp;0&nbsp;&nbsp;</span><br /><b>\"&Sort!S83&\"</b>\",Sort!Q83&\"<br />\"&Sort!R83&\"<br /><b>\"&Sort!S83&\"</b>\"))","v":""},"</td>###<td class='GrayOut'>",{"$f":"IF(Sort!T83=\"\",\"\",IF(Sort!U83=0,Sort!T83&\"<br /><span class='ClnMatch'>&nbsp;&nbsp;0&nbsp;&nbsp;</span><br /><b>\"&Sort!V83&\"</b>\",Sort!T83&\"<br />\"&Sort!U83&\"<br /><b>\"&Sort!V83&\"</b>\"))","v":""},"</td>###<td class='GrayOut'>",{"$f":"IF(Sort!W83=\"\",\"\",IF(Sort!X83=0,Sort!W83&\"<br /><span class='ClnMatch'>&nbsp;&nbsp;0&nbsp;&nbsp;</span><br /><b>\"&Sort!Y83&\"</b>\",Sort!W83&\"<br />\"&Sort!X83&\"<br /><b>\"&Sort!Y83&\"</b>\"))","v":""},"</td>###<td>",{"$f":"IF(Sort!Z83=\"\",\"\",IF(Sort!AA83=0,Sort!Z83&\"<br /><span class='ClnMatch'>&nbsp;&nbsp;0&nbsp;&nbsp;</span><br /><b>\"&Sort!AB83&\"</b>\",Sort!Z83&\"<br />\"&Sort!AA83&\"<br /><b>\"&Sort!AB83&\"</b>\"))","v":""},"</td>###<td class=\"BluBld\">",{"$f":"IF(Sort!B83=\"\",\"\",IF(Sort!AA83=0,Sort!AC83&\"<br /><span class='ClnMatch'>&nbsp;&nbsp;0&nbsp;&nbsp;</span><br /><b>\"&Sort!AE83&\"</b>\",Sort!AC83&\"<br />\"&Sort!AD83&\"<br /><b>\"&Sort!AE83&\"</b>\"))","v":""},"</td>###<td class=\"Bld\">",{"$f":"IF(Sort!AF83=\"\",\"\",Sort!AF83)","v":""},"</td>###<td class=\"Bld\">",{"$f":"IF(Sort!AG83=\"\",\"\",Sort!AG83)","v":""},"</td>###</tr>",null,{"$f":"IF(Sort!I83=\"\",\"\",Sort!I83)","v":""},{"$f":"IF(Sort!J83=\"\",\"\",Sort!J83)","v":0},{"$f":"IF(Sort!L83=\"\",\"\",Sort!L83)","v":""},{"$f":"IF(Sort!M83=\"\",\"\",Sort!M83)","v":0},{"$f":"IF(Sort!O83=\"\",\"\",Sort!O83)","v":""},{"$f":"IF(Sort!P83=\"\",\"\",Sort!P83)","v":0},{"$f":"IF(Sort!R83=\"\",\"\",Sort!R83)","v":""},{"$f":"IF(Sort!S83=\"\",\"\",Sort!S83)","v":0},{"$f":"IF(Sort!U83=\"\",\"\",Sort!U83)","v":""},{"$f":"IF(Sort!V83=\"\",\"\",Sort!V83)","v":0},{"$f":"IF(Sort!X83=\"\",\"\",Sort!X83)","v":""},{"$f":"IF(Sort!Y83=\"\",\"\",Sort!Y83)","v":0},{"$f":"IF(Sort!B83=\"\",\"\",Sort!AA83)","v":""}]
["<tr align='center'>###<td class='Bld'>",{"$f":"Sort!AH84","v":""},"</td>###<td class='Bld'>",{"$f":"IF(Sort!B84=\"\",\"\",IF(Sort!C84=\"\",Sort!B84,Sort!B84&\"<br />#\"&Sort!C84))","v":""},"</td>###<td>",{"$f":"IF(Sort!E84=\"\",\"\",Sort!E84&\" \"&Sort!F84&\"<br />\"&Sort!G84)","v":""},"</td>###<td class='GrayOut'>",{"$f":"IF(Sort!H84=\"\",\"\",IF(Sort!I84=0,Sort!H84&\"<br /><span class='ClnMatch'>&nbsp;&nbsp;0&nbsp;&nbsp;</span><br /><b>\"&Sort!J84&\"</b>\",Sort!H84&\"<br />\"&Sort!I84&\"<br /><b>\"&Sort!J84&\"</b>\"))","v":""},"</td>###<td class='GrayOut'>",{"$f":"IF(Sort!K84=\"\",\"\",IF(Sort!L84=0,Sort!K84&\"<br /><span class='ClnMatch'>&nbsp;&nbsp;0&nbsp;&nbsp;</span><br /><b>\"&Sort!M84&\"</b>\",Sort!K84&\"<br />\"&Sort!L84&\"<br /><b>\"&Sort!M84&\"</b>\"))","v":""},"</td>###<td class='GrayOut'>",{"$f":"IF(Sort!N84=\"\",\"\",IF(Sort!O84=0,Sort!N84&\"<br /><span class='ClnMatch'>&nbsp;&nbsp;0&nbsp;&nbsp;</span><br /><b>\"&Sort!P84&\"</b>\",Sort!N84&\"<br />\"&Sort!O84&\"<br /><b>\"&Sort!P84&\"</b>\"))","v":""},"</td>###<td class='GrayOut'>",{"$f":"IF(Sort!Q84=\"\",\"\",IF(Sort!R84=0,Sort!Q84&\"<br /><span class='ClnMatch'>&nbsp;&nbsp;0&nbsp;&nbsp;</span><br /><b>\"&Sort!S84&\"</b>\",Sort!Q84&\"<br />\"&Sort!R84&\"<br /><b>\"&Sort!S84&\"</b>\"))","v":""},"</td>###<td class='GrayOut'>",{"$f":"IF(Sort!T84=\"\",\"\",IF(Sort!U84=0,Sort!T84&\"<br /><span class='ClnMatch'>&nbsp;&nbsp;0&nbsp;&nbsp;</span><br /><b>\"&Sort!V84&\"</b>\",Sort!T84&\"<br />\"&Sort!U84&\"<br /><b>\"&Sort!V84&\"</b>\"))","v":""},"</td>###<td class='GrayOut'>",{"$f":"IF(Sort!W84=\"\",\"\",IF(Sort!X84=0,Sort!W84&\"<br /><span class='ClnMatch'>&nbsp;&nbsp;0&nbsp;&nbsp;</span><br /><b>\"&Sort!Y84&\"</b>\",Sort!W84&\"<br />\"&Sort!X84&\"<br /><b>\"&Sort!Y84&\"</b>\"))","v":""},"</td>###<td>",{"$f":"IF(Sort!Z84=\"\",\"\",IF(Sort!AA84=0,Sort!Z84&\"<br /><span class='ClnMatch'>&nbsp;&nbsp;0&nbsp;&nbsp;</span><br /><b>\"&Sort!AB84&\"</b>\",Sort!Z84&\"<br />\"&Sort!AA84&\"<br /><b>\"&Sort!AB84&\"</b>\"))","v":""},"</td>###<td class=\"BluBld\">",{"$f":"IF(Sort!B84=\"\",\"\",IF(Sort!AA84=0,Sort!AC84&\"<br /><span class='ClnMatch'>&nbsp;&nbsp;0&nbsp;&nbsp;</span><br /><b>\"&Sort!AE84&\"</b>\",Sort!AC84&\"<br />\"&Sort!AD84&\"<br /><b>\"&Sort!AE84&\"</b>\"))","v":""},"</td>###<td class=\"Bld\">",{"$f":"IF(Sort!AF84=\"\",\"\",Sort!AF84)","v":""},"</td>###<td class=\"Bld\">",{"$f":"IF(Sort!AG84=\"\",\"\",Sort!AG84)","v":""},"</td>###</tr>",null,{"$f":"IF(Sort!I84=\"\",\"\",Sort!I84)","v":""},{"$f":"IF(Sort!J84=\"\",\"\",Sort!J84)","v":0},{"$f":"IF(Sort!L84=\"\",\"\",Sort!L84)","v":""},{"$f":"IF(Sort!M84=\"\",\"\",Sort!M84)","v":0},{"$f":"IF(Sort!O84=\"\",\"\",Sort!O84)","v":""},{"$f":"IF(Sort!P84=\"\",\"\",Sort!P84)","v":0},{"$f":"IF(Sort!R84=\"\",\"\",Sort!R84)","v":""},{"$f":"IF(Sort!S84=\"\",\"\",Sort!S84)","v":0},{"$f":"IF(Sort!U84=\"\",\"\",Sort!U84)","v":""},{"$f":"IF(Sort!V84=\"\",\"\",Sort!V84)","v":0},{"$f":"IF(Sort!X84=\"\",\"\",Sort!X84)","v":""},{"$f":"IF(Sort!Y84=\"\",\"\",Sort!Y84)","v":0},{"$f":"IF(Sort!B84=\"\",\"\",Sort!AA84)","v":""}]
["<tr align='center'>###<td class='Bld'>",{"$f":"Sort!AH85","v":""},"</td>###<td class='Bld'>",{"$f":"IF(Sort!B85=\"\",\"\",IF(Sort!C85=\"\",Sort!B85,Sort!B85&\"<br />#\"&Sort!C85))","v":""},"</td>###<td>",{"$f":"IF(Sort!E85=\"\",\"\",Sort!E85&\" \"&Sort!F85&\"<br />\"&Sort!G85)","v":""},"</td>###<td class='GrayOut'>",{"$f":"IF(Sort!H85=\"\",\"\",IF(Sort!I85=0,Sort!H85&\"<br /><span class='ClnMatch'>&nbsp;&nbsp;0&nbsp;&nbsp;</span><br /><b>\"&Sort!J85&\"</b>\",Sort!H85&\"<br />\"&Sort!I85&\"<br /><b>\"&Sort!J85&\"</b>\"))","v":""},"</td>###<td class='GrayOut'>",{"$f":"IF(Sort!K85=\"\",\"\",IF(Sort!L85=0,Sort!K85&\"<br /><span class='ClnMatch'>&nbsp;&nbsp;0&nbsp;&nbsp;</span><br /><b>\"&Sort!M85&\"</b>\",Sort!K85&\"<br />\"&Sort!L85&\"<br /><b>\"&Sort!M85&\"</b>\"))","v":""},"</td>###<td class='GrayOut'>",{"$f":"IF(Sort!N85=\"\",\"\",IF(Sort!O85=0,Sort!N85&\"<br /><span class='ClnMatch'>&nbsp;&nbsp;0&nbsp;&nbsp;</span><br /><b>\"&Sort!P85&\"</b>\",Sort!N85&\"<br />\"&Sort!O85&\"<br /><b>\"&Sort!P85&\"</b>\"))","v":""},"</td>###<td class='GrayOut'>",{"$f":"IF(Sort!Q85=\"\",\"\",IF(Sort!R85=0,Sort!Q85&\"<br /><span class='ClnMatch'>&nbsp;&nbsp;0&nbsp;&nbsp;</span><br /><b>\"&Sort!S85&\"</b>\",Sort!Q85&\"<br />\"&Sort!R85&\"<br /><b>\"&Sort!S85&\"</b>\"))","v":""},"</td>###<td class='GrayOut'>",{"$f":"IF(Sort!T85=\"\",\"\",IF(Sort!U85=0,Sort!T85&\"<br /><span class='ClnMatch'>&nbsp;&nbsp;0&nbsp;&nbsp;</span><br /><b>\"&Sort!V85&\"</b>\",Sort!T85&\"<br />\"&Sort!U85&\"<br /><b>\"&Sort!V85&\"</b>\"))","v":""},"</td>###<td class='GrayOut'>",{"$f":"IF(Sort!W85=\"\",\"\",IF(Sort!X85=0,Sort!W85&\"<br /><span class='ClnMatch'>&nbsp;&nbsp;0&nbsp;&nbsp;</span><br /><b>\"&Sort!Y85&\"</b>\",Sort!W85&\"<br />\"&Sort!X85&\"<br /><b>\"&Sort!Y85&\"</b>\"))","v":""},"</td>###<td>",{"$f":"IF(Sort!Z85=\"\",\"\",IF(Sort!AA85=0,Sort!Z85&\"<br /><span class='ClnMatch'>&nbsp;&nbsp;0&nbsp;&nbsp;</span><br /><b>\"&Sort!AB85&\"</b>\",Sort!Z85&\"<br />\"&Sort!AA85&\"<br /><b>\"&Sort!AB85&\"</b>\"))","v":""},"</td>###<td class=\"BluBld\">",{"$f":"IF(Sort!B85=\"\",\"\",IF(Sort!AA85=0,Sort!AC85&\"<br /><span class='ClnMatch'>&nbsp;&nbsp;0&nbsp;&nbsp;</span><br /><b>\"&Sort!AE85&\"</b>\",Sort!AC85&\"<br />\"&Sort!AD85&\"<br /><b>\"&Sort!AE85&\"</b>\"))","v":""},"</td>###<td class=\"Bld\">",{"$f":"IF(Sort!AF85=\"\",\"\",Sort!AF85)","v":""},"</td>###<td class=\"Bld\">",{"$f":"IF(Sort!AG85=\"\",\"\",Sort!AG85)","v":""},"</td>###</tr>",null,{"$f":"IF(Sort!I85=\"\",\"\",Sort!I85)","v":""},{"$f":"IF(Sort!J85=\"\",\"\",Sort!J85)","v":0},{"$f":"IF(Sort!L85=\"\",\"\",Sort!L85)","v":""},{"$f":"IF(Sort!M85=\"\",\"\",Sort!M85)","v":0},{"$f":"IF(Sort!O85=\"\",\"\",Sort!O85)","v":""},{"$f":"IF(Sort!P85=\"\",\"\",Sort!P85)","v":0},{"$f":"IF(Sort!R85=\"\",\"\",Sort!R85)","v":""},{"$f":"IF(Sort!S85=\"\",\"\",Sort!S85)","v":0},{"$f":"IF(Sort!U85=\"\",\"\",Sort!U85)","v":""},{"$f":"IF(Sort!V85=\"\",\"\",Sort!V85)","v":0},{"$f":"IF(Sort!X85=\"\",\"\",Sort!X85)","v":""},{"$f":"IF(Sort!Y85=\"\",\"\",Sort!Y85)","v":0},{"$f":"IF(Sort!B85=\"\",\"\",Sort!AA85)","v":""}]
["<tr align='center'>###<td class='Bld'>",{"$f":"Sort!AH86","v":""},"</td>###<td class='Bld'>",{"$f":"IF(Sort!B86=\"\",\"\",IF(Sort!C86=\"\",Sort!B86,Sort!B86&\"<br />#\"&Sort!C86))","v":""},"</td>###<td>",{"$f":"IF(Sort!E86=\"\",\"\",Sort!E86&\" \"&Sort!F86&\"<br />\"&Sort!G86)","v":""},"</td>###<td class='GrayOut'>",{"$f":"IF(Sort!H86=\"\",\"\",IF(Sort!I86=0,Sort!H86&\"<br /><span class='ClnMatch'>&nbsp;&nbsp;0&nbsp;&nbsp;</span><br /><b>\"&Sort!J86&\"</b>\",Sort!H86&\"<br />\"&Sort!I86&\"<br /><b>\"&Sort!J86&\"</b>\"))","v":""},"</td>###<td class='GrayOut'>",{"$f":"IF(Sort!K86=\"\",\"\",IF(Sort!L86=0,Sort!K86&\"<br /><span class='ClnMatch'>&nbsp;&nbsp;0&nbsp;&nbsp;</span><br /><b>\"&Sort!M86&\"</b>\",Sort!K86&\"<br />\"&Sort!L86&\"<br /><b>\"&Sort!M86&\"</b>\"))","v":""},"</td>###<td class='GrayOut'>",{"$f":"IF(Sort!N86=\"\",\"\",IF(Sort!O86=0,Sort!N86&\"<br /><span class='ClnMatch'>&nbsp;&nbsp;0&nbsp;&nbsp;</span><br /><b>\"&Sort!P86&\"</b>\",Sort!N86&\"<br />\"&Sort!O86&\"<br /><b>\"&Sort!P86&\"</b>\"))","v":""},"</td>###<td class='GrayOut'>",{"$f":"IF(Sort!Q86=\"\",\"\",IF(Sort!R86=0,Sort!Q86&\"<br /><span class='ClnMatch'>&nbsp;&nbsp;0&nbsp;&nbsp;</span><br /><b>\"&Sort!S86&\"</b>\",Sort!Q86&\"<br />\"&Sort!R86&\"<br /><b>\"&Sort!S86&\"</b>\"))","v":""},"</td>###<td class='GrayOut'>",{"$f":"IF(Sort!T86=\"\",\"\",IF(Sort!U86=0,Sort!T86&\"<br /><span class='ClnMatch'>&nbsp;&nbsp;0&nbsp;&nbsp;</span><br /><b>\"&Sort!V86&\"</b>\",Sort!T86&\"<br />\"&Sort!U86&\"<br /><b>\"&Sort!V86&\"</b>\"))","v":""},"</td>###<td class='GrayOut'>",{"$f":"IF(Sort!W86=\"\",\"\",IF(Sort!X86=0,Sort!W86&\"<br /><span class='ClnMatch'>&nbsp;&nbsp;0&nbsp;&nbsp;</span><br /><b>\"&Sort!Y86&\"</b>\",Sort!W86&\"<br />\"&Sort!X86&\"<br /><b>\"&Sort!Y86&\"</b>\"))","v":""},"</td>###<td>",{"$f":"IF(Sort!Z86=\"\",\"\",IF(Sort!AA86=0,Sort!Z86&\"<br /><span class='ClnMatch'>&nbsp;&nbsp;0&nbsp;&nbsp;</span><br /><b>\"&Sort!AB86&\"</b>\",Sort!Z86&\"<br />\"&Sort!AA86&\"<br /><b>\"&Sort!AB86&\"</b>\"))","v":""},"</td>###<td class=\"BluBld\">",{"$f":"IF(Sort!B86=\"\",\"\",IF(Sort!AA86=0,Sort!AC86&\"<br /><span class='ClnMatch'>&nbsp;&nbsp;0&nbsp;&nbsp;</span><br /><b>\"&Sort!AE86&\"</b>\",Sort!AC86&\"<br />\"&Sort!AD86&\"<br /><b>\"&Sort!AE86&\"</b>\"))","v":""},"</td>###<td class=\"Bld\">",{"$f":"IF(Sort!AF86=\"\",\"\",Sort!AF86)","v":""},"</td>###<td class=\"Bld\">",{"$f":"IF(Sort!AG86=\"\",\"\",Sort!AG86)","v":""},"</td>###</tr>",null,{"$f":"IF(Sort!I86=\"\",\"\",Sort!I86)","v":""},{"$f":"IF(Sort!J86=\"\",\"\",Sort!J86)","v":0},{"$f":"IF(Sort!L86=\"\",\"\",Sort!L86)","v":""},{"$f":"IF(Sort!M86=\"\",\"\",Sort!M86)","v":0},{"$f":"IF(Sort!O86=\"\",\"\",Sort!O86)","v":""},{"$f":"IF(Sort!P86=\"\",\"\",Sort!P86)","v":0},{"$f":"IF(Sort!R86=\"\",\"\",Sort!R86)","v":""},{"$f":"IF(Sort!S86=\"\",\"\",Sort!S86)","v":0},{"$f":"IF(Sort!U86=\"\",\"\",Sort!U86)","v":""},{"$f":"IF(Sort!V86=\"\",\"\",Sort!V86)","v":0},{"$f":"IF(Sort!X86=\"\",\"\",Sort!X86)","v":""},{"$f":"IF(Sort!Y86=\"\",\"\",Sort!Y86)","v":0},{"$f":"IF(Sort!B86=\"\",\"\",Sort!AA86)","v":""}]
["<tr align='center'>###<td class='Bld'>",{"$f":"Sort!AH87","v":""},"</td>###<td class='Bld'>",{"$f":"IF(Sort!B87=\"\",\"\",IF(Sort!C87=\"\",Sort!B87,Sort!B87&\"<br />#\"&Sort!C87))","v":""},"</td>###<td>",{"$f":"IF(Sort!E87=\"\",\"\",Sort!E87&\" \"&Sort!F87&\"<br />\"&Sort!G87)","v":""},"</td>###<td class='GrayOut'>",{"$f":"IF(Sort!H87=\"\",\"\",IF(Sort!I87=0,Sort!H87&\"<br /><span class='ClnMatch'>&nbsp;&nbsp;0&nbsp;&nbsp;</span><br /><b>\"&Sort!J87&\"</b>\",Sort!H87&\"<br />\"&Sort!I87&\"<br /><b>\"&Sort!J87&\"</b>\"))","v":""},"</td>###<td class='GrayOut'>",{"$f":"IF(Sort!K87=\"\",\"\",IF(Sort!L87=0,Sort!K87&\"<br /><span class='ClnMatch'>&nbsp;&nbsp;0&nbsp;&nbsp;</span><br /><b>\"&Sort!M87&\"</b>\",Sort!K87&\"<br />\"&Sort!L87&\"<br /><b>\"&Sort!M87&\"</b>\"))","v":""},"</td>###<td class='GrayOut'>",{"$f":"IF(Sort!N87=\"\",\"\",IF(Sort!O87=0,Sort!N87&\"<br /><span class='ClnMatch'>&nbsp;&nbsp;0&nbsp;&nbsp;</span><br /><b>\"&Sort!P87&\"</b>\",Sort!N87&\"<br />\"&Sort!O87&\"<br /><b>\"&Sort!P87&\"</b>\"))","v":""},"</td>###<td class='GrayOut'>",{"$f":"IF(Sort!Q87=\"\",\"\",IF(Sort!R87=0,Sort!Q87&\"<br /><span class='ClnMatch'>&nbsp;&nbsp;0&nbsp;&nbsp;</span><br /><b>\"&Sort!S87&\"</b>\",Sort!Q87&\"<br />\"&Sort!R87&\"<br /><b>\"&Sort!S87&\"</b>\"))","v":""},"</td>###<td class='GrayOut'>",{"$f":"IF(Sort!T87=\"\",\"\",IF(Sort!U87=0,Sort!T87&\"<br /><span class='ClnMatch'>&nbsp;&nbsp;0&nbsp;&nbsp;</span><br /><b>\"&Sort!V87&\"</b>\",Sort!T87&\"<br />\"&Sort!U87&\"<br /><b>\"&Sort!V87&\"</b>\"))","v":""},"</td>###<td class='GrayOut'>",{"$f":"IF(Sort!W87=\"\",\"\",IF(Sort!X87=0,Sort!W87&\"<br /><span class='ClnMatch'>&nbsp;&nbsp;0&nbsp;&nbsp;</span><br /><b>\"&Sort!Y87&\"</b>\",Sort!W87&\"<br />\"&Sort!X87&\"<br /><b>\"&Sort!Y87&\"</b>\"))","v":""},"</td>###<td>",{"$f":"IF(Sort!Z87=\"\",\"\",IF(Sort!AA87=0,Sort!Z87&\"<br /><span class='ClnMatch'>&nbsp;&nbsp;0&nbsp;&nbsp;</span><br /><b>\"&Sort!AB87&\"</b>\",Sort!Z87&\"<br />\"&Sort!AA87&\"<br /><b>\"&Sort!AB87&\"</b>\"))","v":""},"</td>###<td class=\"BluBld\">",{"$f":"IF(Sort!B87=\"\",\"\",IF(Sort!AA87=0,Sort!AC87&\"<br /><span class='ClnMatch'>&nbsp;&nbsp;0&nbsp;&nbsp;</span><br /><b>\"&Sort!AE87&\"</b>\",Sort!AC87&\"<br />\"&Sort!AD87&\"<br /><b>\"&Sort!AE87&\"</b>\"))","v":""},"</td>###<td class=\"Bld\">",{"$f":"IF(Sort!AF87=\"\",\"\",Sort!AF87)","v":""},"</td>###<td class=\"Bld\">",{"$f":"IF(Sort!AG87=\"\",\"\",Sort!AG87)","v":""},"</td>###</tr>",null,{"$f":"IF(Sort!I87=\"\",\"\",Sort!I87)","v":""},{"$f":"IF(Sort!J87=\"\",\"\",Sort!J87)","v":0},{"$f":"IF(Sort!L87=\"\",\"\",Sort!L87)","v":""},{"$f":"IF(Sort!M87=\"\",\"\",Sort!M87)","v":0},{"$f":"IF(Sort!O87=\"\",\"\",Sort!O87)","v":""},{"$f":"IF(Sort!P87=\"\",\"\",Sort!P87)","v":0},{"$f":"IF(Sort!R87=\"\",\"\",Sort!R87)","v":""},{"$f":"IF(Sort!S87=\"\",\"\",Sort!S87)","v":0},{"$f":"IF(Sort!U87=\"\",\"\",Sort!U87)","v":""},{"$f":"IF(Sort!V87=\"\",\"\",Sort!V87)","v":0},{"$f":"IF(Sort!X87=\"\",\"\",Sort!X87)","v":""},{"$f":"IF(Sort!Y87=\"\",\"\",Sort!Y87)","v":0},{"$f":"IF(Sort!B87=\"\",\"\",Sort!AA87)","v":""}]
["<tr align='center'>###<td class='Bld'>",{"$f":"Sort!AH88","v":""},"</td>###<td class='Bld'>",{"$f":"IF(Sort!B88=\"\",\"\",IF(Sort!C88=\"\",Sort!B88,Sort!B88&\"<br />#\"&Sort!C88))","v":""},"</td>###<td>",{"$f":"IF(Sort!E88=\"\",\"\",Sort!E88&\" \"&Sort!F88&\"<br />\"&Sort!G88)","v":""},"</td>###<td class='GrayOut'>",{"$f":"IF(Sort!H88=\"\",\"\",IF(Sort!I88=0,Sort!H88&\"<br /><span class='ClnMatch'>&nbsp;&nbsp;0&nbsp;&nbsp;</span><br /><b>\"&Sort!J88&\"</b>\",Sort!H88&\"<br />\"&Sort!I88&\"<br /><b>\"&Sort!J88&\"</b>\"))","v":""},"</td>###<td class='GrayOut'>",{"$f":"IF(Sort!K88=\"\",\"\",IF(Sort!L88=0,Sort!K88&\"<br /><span class='ClnMatch'>&nbsp;&nbsp;0&nbsp;&nbsp;</span><br /><b>\"&Sort!M88&\"</b>\",Sort!K88&\"<br />\"&Sort!L88&\"<br /><b>\"&Sort!M88&\"</b>\"))","v":""},"</td>###<td class='GrayOut'>",{"$f":"IF(Sort!N88=\"\",\"\",IF(Sort!O88=0,Sort!N88&\"<br /><span class='ClnMatch'>&nbsp;&nbsp;0&nbsp;&nbsp;</span><br /><b>\"&Sort!P88&\"</b>\",Sort!N88&\"<br />\"&Sort!O88&\"<br /><b>\"&Sort!P88&\"</b>\"))","v":""},"</td>###<td class='GrayOut'>",{"$f":"IF(Sort!Q88=\"\",\"\",IF(Sort!R88=0,Sort!Q88&\"<br /><span class='ClnMatch'>&nbsp;&nbsp;0&nbsp;&nbsp;</span><br /><b>\"&Sort!S88&\"</b>\",Sort!Q88&\"<br />\"&Sort!R88&\"<br /><b>\"&Sort!S88&\"</b>\"))","v":""},"</td>###<td class='GrayOut'>",{"$f":"IF(Sort!T88=\"\",\"\",IF(Sort!U88=0,Sort!T88&\"<br /><span class='ClnMatch'>&nbsp;&nbsp;0&nbsp;&nbsp;</span><br /><b>\"&Sort!V88&\"</b>\",Sort!T88&\"<br />\"&Sort!U88&\"<br /><b>\"&Sort!V88&\"</b>\"))","v":""},"</td>###<td class='GrayOut'>",{"$f":"IF(Sort!W88=\"\",\"\",IF(Sort!X88=0,Sort!W88&\"<br /><span class='ClnMatch'>&nbsp;&nbsp;0&nbsp;&nbsp;</span><br /><b>\"&Sort!Y88&\"</b>\",Sort!W88&\"<br />\"&Sort!X88&\"<br /><b>\"&Sort!Y88&\"</b>\"))","v":""},"</td>###<td>",{"$f":"IF(Sort!Z88=\"\",\"\",IF(Sort!AA88=0,Sort!Z88&\"<br /><span class='ClnMatch'>&nbsp;&nbsp;0&nbsp;&nbsp;</span><br /><b>\"&Sort!AB88&\"</b>\",Sort!Z88&\"<br />\"&Sort!AA88&\"<br /><b>\"&Sort!AB88&\"</b>\"))","v":""},"</td>###<td class=\"BluBld\">",{"$f":"IF(Sort!B88=\"\",\"\",IF(Sort!AA88=0,Sort!AC88&\"<br /><span class='ClnMatch'>&nbsp;&nbsp;0&nbsp;&nbsp;</span><br /><b>\"&Sort!AE88&\"</b>\",Sort!AC88&\"<br />\"&Sort!AD88&\"<br /><b>\"&Sort!AE88&\"</b>\"))","v":""},"</td>###<td class=\"Bld\">",{"$f":"IF(Sort!AF88=\"\",\"\",Sort!AF88)","v":""},"</td>###<td class=\"Bld\">",{"$f":"IF(Sort!AG88=\"\",\"\",Sort!AG88)","v":""},"</td>###</tr>",null,{"$f":"IF(Sort!I88=\"\",\"\",Sort!I88)","v":""},{"$f":"IF(Sort!J88=\"\",\"\",Sort!J88)","v":0},{"$f":"IF(Sort!L88=\"\",\"\",Sort!L88)","v":""},{"$f":"IF(Sort!M88=\"\",\"\",Sort!M88)","v":0},{"$f":"IF(Sort!O88=\"\",\"\",Sort!O88)","v":""},{"$f":"IF(Sort!P88=\"\",\"\",Sort!P88)","v":0},{"$f":"IF(Sort!R88=\"\",\"\",Sort!R88)","v":""},{"$f":"IF(Sort!S88=\"\",\"\",Sort!S88)","v":0},{"$f":"IF(Sort!U88=\"\",\"\",Sort!U88)","v":""},{"$f":"IF(Sort!V88=\"\",\"\",Sort!V88)","v":0},{"$f":"IF(Sort!X88=\"\",\"\",Sort!X88)","v":""},{"$f":"IF(Sort!Y88=\"\",\"\",Sort!Y88)","v":0},{"$f":"IF(Sort!B88=\"\",\"\",Sort!AA88)","v":""}]
["<tr align='center'>###<td class='Bld'>",{"$f":"Sort!AH89","v":""},"</td>###<td class='Bld'>",{"$f":"IF(Sort!B89=\"\",\"\",IF(Sort!C89=\"\",Sort!B89,Sort!B89&\"<br />#\"&Sort!C89))","v":""},"</td>###<td>",{"$f":"IF(Sort!E89=\"\",\"\",Sort!E89&\" \"&Sort!F89&\"<br />\"&Sort!G89)","v":""},"</td>###<td class='GrayOut'>",{"$f":"IF(Sort!H89=\"\",\"\",IF(Sort!I89=0,Sort!H89&\"<br /><span class='ClnMatch'>&nbsp;&nbsp;0&nbsp;&nbsp;</span><br /><b>\"&Sort!J89&\"</b>\",Sort!H89&\"<br />\"&Sort!I89&\"<br /><b>\"&Sort!J89&\"</b>\"))","v":""},"</td>###<td class='GrayOut'>",{"$f":"IF(Sort!K89=\"\",\"\",IF(Sort!L89=0,Sort!K89&\"<br /><span class='ClnMatch'>&nbsp;&nbsp;0&nbsp;&nbsp;</span><br /><b>\"&Sort!M89&\"</b>\",Sort!K89&\"<br />\"&Sort!L89&\"<br /><b>\"&Sort!M89&\"</b>\"))","v":""},"</td>###<td class='GrayOut'>",{"$f":"IF(Sort!N89=\"\",\"\",IF(Sort!O89=0,Sort!N89&\"<br /><span class='ClnMatch'>&nbsp;&nbsp;0&nbsp;&nbsp;</span><br /><b>\"&Sort!P89&\"</b>\",Sort!N89&\"<br />\"&Sort!O89&\"<br /><b>\"&Sort!P89&\"</b>\"))","v":""},"</td>###<td class='GrayOut'>",{"$f":"IF(Sort!Q89=\"\",\"\",IF(Sort!R89=0,Sort!Q89&\"<br /><span class='ClnMatch'>&nbsp;&nbsp;0&nbsp;&nbsp;</span><br /><b>\"&Sort!S89&\"</b>\",Sort!Q89&\"<br />\"&Sort!R89&\"<br /><b>\"&Sort!S89&\"</b>\"))","v":""},"</td>###<td class='GrayOut'>",{"$f":"IF(Sort!T89=\"\",\"\",IF(Sort!U89=0,Sort!T89&\"<br /><span class='ClnMatch'>&nbsp;&nbsp;0&nbsp;&nbsp;</span><br /><b>\"&Sort!V89&\"</b>\",Sort!T89&\"<br />\"&Sort!U89&\"<br /><b>\"&Sort!V89&\"</b>\"))","v":""},"</td>###<td class='GrayOut'>",{"$f":"IF(Sort!W89=\"\",\"\",IF(Sort!X89=0,Sort!W89&\"<br /><span class='ClnMatch'>&nbsp;&nbsp;0&nbsp;&nbsp;</span><br /><b>\"&Sort!Y89&\"</b>\",Sort!W89&\"<br />\"&Sort!X89&\"<br /><b>\"&Sort!Y89&\"</b>\"))","v":""},"</td>###<td>",{"$f":"IF(Sort!Z89=\"\",\"\",IF(Sort!AA89=0,Sort!Z89&\"<br /><span class='ClnMatch'>&nbsp;&nbsp;0&nbsp;&nbsp;</span><br /><b>\"&Sort!AB89&\"</b>\",Sort!Z89&\"<br />\"&Sort!AA89&\"<br /><b>\"&Sort!AB89&\"</b>\"))","v":""},"</td>###<td class=\"BluBld\">",{"$f":"IF(Sort!B89=\"\",\"\",IF(Sort!AA89=0,Sort!AC89&\"<br /><span class='ClnMatch'>&nbsp;&nbsp;0&nbsp;&nbsp;</span><br /><b>\"&Sort!AE89&\"</b>\",Sort!AC89&\"<br />\"&Sort!AD89&\"<br /><b>\"&Sort!AE89&\"</b>\"))","v":""},"</td>###<td class=\"Bld\">",{"$f":"IF(Sort!AF89=\"\",\"\",Sort!AF89)","v":""},"</td>###<td class=\"Bld\">",{"$f":"IF(Sort!AG89=\"\",\"\",Sort!AG89)","v":""},"</td>###</tr>",null,{"$f":"IF(Sort!I89=\"\",\"\",Sort!I89)","v":""},{"$f":"IF(Sort!J89=\"\",\"\",Sort!J89)","v":0},{"$f":"IF(Sort!L89=\"\",\"\",Sort!L89)","v":""},{"$f":"IF(Sort!M89=\"\",\"\",Sort!M89)","v":0},{"$f":"IF(Sort!O89=\"\",\"\",Sort!O89)","v":""},{"$f":"IF(Sort!P89=\"\",\"\",Sort!P89)","v":0},{"$f":"IF(Sort!R89=\"\",\"\",Sort!R89)","v":""},{"$f":"IF(Sort!S89=\"\",\"\",Sort!S89)","v":0},{"$f":"IF(Sort!U89=\"\",\"\",Sort!U89)","v":""},{"$f":"IF(Sort!V89=\"\",\"\",Sort!V89)","v":0},{"$f":"IF(Sort!X89=\"\",\"\",Sort!X89)","v":""},{"$f":"IF(Sort!Y89=\"\",\"\",Sort!Y89)","v":0},{"$f":"IF(Sort!B89=\"\",\"\",Sort!AA89)","v":""}]
["<tr align='center'>###<td class='Bld'>",{"$f":"Sort!AH90","v":""},"</td>###<td class='Bld'>",{"$f":"IF(Sort!B90=\"\",\"\",IF(Sort!C90=\"\",Sort!B90,Sort!B90&\"<br />#\"&Sort!C90))","v":""},"</td>###<td>",{"$f":"IF(Sort!E90=\"\",\"\",Sort!E90&\" \"&Sort!F90&\"<br />\"&Sort!G90)","v":""},"</td>###<td class='GrayOut'>",{"$f":"IF(Sort!H90=\"\",\"\",IF(Sort!I90=0,Sort!H90&\"<br /><span class='ClnMatch'>&nbsp;&nbsp;0&nbsp;&nbsp;</span><br /><b>\"&Sort!J90&\"</b>\",Sort!H90&\"<br />\"&Sort!I90&\"<br /><b>\"&Sort!J90&\"</b>\"))","v":""},"</td>###<td class='GrayOut'>",{"$f":"IF(Sort!K90=\"\",\"\",IF(Sort!L90=0,Sort!K90&\"<br /><span class='ClnMatch'>&nbsp;&nbsp;0&nbsp;&nbsp;</span><br /><b>\"&Sort!M90&\"</b>\",Sort!K90&\"<br />\"&Sort!L90&\"<br /><b>\"&Sort!M90&\"</b>\"))","v":""},"</td>###<td class='GrayOut'>",{"$f":"IF(Sort!N90=\"\",\"\",IF(Sort!O90=0,Sort!N90&\"<br /><span class='ClnMatch'>&nbsp;&nbsp;0&nbsp;&nbsp;</span><br /><b>\"&Sort!P90&\"</b>\",Sort!N90&\"<br />\"&Sort!O90&\"<br /><b>\"&Sort!P90&\"</b>\"))","v":""},"</td>###<td class='GrayOut'>",{"$f":"IF(Sort!Q90=\"\",\"\",IF(Sort!R90=0,Sort!Q90&\"<br /><span class='ClnMatch'>&nbsp;&nbsp;0&nbsp;&nbsp;</span><br /><b>\"&Sort!S90&\"</b>\",Sort!Q90&\"<br />\"&Sort!R90&\"<br /><b>\"&Sort!S90&\"</b>\"))","v":""},"</td>###<td class='GrayOut'>",{"$f":"IF(Sort!T90=\"\",\"\",IF(Sort!U90=0,Sort!T90&\"<br /><span class='ClnMatch'>&nbsp;&nbsp;0&nbsp;&nbsp;</span><br /><b>\"&Sort!V90&\"</b>\",Sort!T90&\"<br />\"&Sort!U90&\"<br /><b>\"&Sort!V90&\"</b>\"))","v":""},"</td>###<td class='GrayOut'>",{"$f":"IF(Sort!W90=\"\",\"\",IF(Sort!X90=0,Sort!W90&\"<br /><span class='ClnMatch'>&nbsp;&nbsp;0&nbsp;&nbsp;</span><br /><b>\"&Sort!Y90&\"</b>\",Sort!W90&\"<br />\"&Sort!X90&\"<br /><b>\"&Sort!Y90&\"</b>\"))","v":""},"</td>###<td>",{"$f":"IF(Sort!Z90=\"\",\"\",IF(Sort!AA90=0,Sort!Z90&\"<br /><span class='ClnMatch'>&nbsp;&nbsp;0&nbsp;&nbsp;</span><br /><b>\"&Sort!AB90&\"</b>\",Sort!Z90&\"<br />\"&Sort!AA90&\"<br /><b>\"&Sort!AB90&\"</b>\"))","v":""},"</td>###<td class=\"BluBld\">",{"$f":"IF(Sort!B90=\"\",\"\",IF(Sort!AA90=0,Sort!AC90&\"<br /><span class='ClnMatch'>&nbsp;&nbsp;0&nbsp;&nbsp;</span><br /><b>\"&Sort!AE90&\"</b>\",Sort!AC90&\"<br />\"&Sort!AD90&\"<br /><b>\"&Sort!AE90&\"</b>\"))","v":""},"</td>###<td class=\"Bld\">",{"$f":"IF(Sort!AF90=\"\",\"\",Sort!AF90)","v":""},"</td>###<td class=\"Bld\">",{"$f":"IF(Sort!AG90=\"\",\"\",Sort!AG90)","v":""},"</td>###</tr>",null,{"$f":"IF(Sort!I90=\"\",\"\",Sort!I90)","v":""},{"$f":"IF(Sort!J90=\"\",\"\",Sort!J90)","v":0},{"$f":"IF(Sort!L90=\"\",\"\",Sort!L90)","v":""},{"$f":"IF(Sort!M90=\"\",\"\",Sort!M90)","v":0},{"$f":"IF(Sort!O90=\"\",\"\",Sort!O90)","v":""},{"$f":"IF(Sort!P90=\"\",\"\",Sort!P90)","v":0},{"$f":"IF(Sort!R90=\"\",\"\",Sort!R90)","v":""},{"$f":"IF(Sort!S90=\"\",\"\",Sort!S90)","v":0},{"$f":"IF(Sort!U90=\"\",\"\",Sort!U90)","v":""},{"$f":"IF(Sort!V90=\"\",\"\",Sort!V90)","v":0},{"$f":"IF(Sort!X90=\"\",\"\",Sort!X90)","v":""},{"$f":"IF(Sort!Y90=\"\",\"\",Sort!Y90)","v":0},{"$f":"IF(Sort!B90=\"\",\"\",Sort!AA90)","v":""}]
["<tr align='center'>###<td class='Bld'>",{"$f":"Sort!AH91","v":""},"</td>###<td class='Bld'>",{"$f":"IF(Sort!B91=\"\",\"\",IF(Sort!C91=\"\",Sort!B91,Sort!B91&\"<br />#\"&Sort!C91))","v":""},"</td>###<td>",{"$f":"IF(Sort!E91=\"\",\"\",Sort!E91&\" \"&Sort!F91&\"<br />\"&Sort!G91)","v":""},"</td>###<td class='GrayOut'>",{"$f":"IF(Sort!H91=\"\",\"\",IF(Sort!I91=0,Sort!H91&\"<br /><span class='ClnMatch'>&nbsp;&nbsp;0&nbsp;&nbsp;</span><br /><b>\"&Sort!J91&\"</b>\",Sort!H91&\"<br />\"&Sort!I91&\"<br /><b>\"&Sort!J91&\"</b>\"))","v":""},"</td>###<td class='GrayOut'>",{"$f":"IF(Sort!K91=\"\",\"\",IF(Sort!L91=0,Sort!K91&\"<br /><span class='ClnMatch'>&nbsp;&nbsp;0&nbsp;&nbsp;</span><br /><b>\"&Sort!M91&\"</b>\",Sort!K91&\"<br />\"&Sort!L91&\"<br /><b>\"&Sort!M91&\"</b>\"))","v":""},"</td>###<td class='GrayOut'>",{"$f":"IF(Sort!N91=\"\",\"\",IF(Sort!O91=0,Sort!N91&\"<br /><span class='ClnMatch'>&nbsp;&nbsp;0&nbsp;&nbsp;</span><br /><b>\"&Sort!P91&\"</b>\",Sort!N91&\"<br />\"&Sort!O91&\"<br /><b>\"&Sort!P91&\"</b>\"))","v":""},"</td>###<td class='GrayOut'>",{"$f":"IF(Sort!Q91=\"\",\"\",IF(Sort!R91=0,Sort!Q91&\"<br /><span class='ClnMatch'>&nbsp;&nbsp;0&nbsp;&nbsp;</span><br /><b>\"&Sort!S91&\"</b>\",Sort!Q91&\"<br />\"&Sort!R91&\"<br /><b>\"&Sort!S91&\"</b>\"))","v":""},"</td>###<td class='GrayOut'>",{"$f":"IF(Sort!T91=\"\",\"\",IF(Sort!U91=0,Sort!T91&\"<br /><span class='ClnMatch'>&nbsp;&nbsp;0&nbsp;&nbsp;</span><br /><b>\"&Sort!V91&\"</b>\",Sort!T91&\"<br />\"&Sort!U91&\"<br /><b>\"&Sort!V91&\"</b>\"))","v":""},"</td>###<td class='GrayOut'>",{"$f":"IF(Sort!W91=\"\",\"\",IF(Sort!X91=0,Sort!W91&\"<br /><span class='ClnMatch'>&nbsp;&nbsp;0&nbsp;&nbsp;</span><br /><b>\"&Sort!Y91&\"</b>\",Sort!W91&\"<br />\"&Sort!X91&\"<br /><b>\"&Sort!Y91&\"</b>\"))","v":""},"</td>###<td>",{"$f":"IF(Sort!Z91=\"\",\"\",IF(Sort!AA91=0,Sort!Z91&\"<br /><span class='ClnMatch'>&nbsp;&nbsp;0&nbsp;&nbsp;</span><br /><b>\"&Sort!AB91&\"</b>\",Sort!Z91&\"<br />\"&Sort!AA91&\"<br /><b>\"&Sort!AB91&\"</b>\"))","v":""},"</td>###<td class=\"BluBld\">",{"$f":"IF(Sort!B91=\"\",\"\",IF(Sort!AA91=0,Sort!AC91&\"<br /><span class='ClnMatch'>&nbsp;&nbsp;0&nbsp;&nbsp;</span><br /><b>\"&Sort!AE91&\"</b>\",Sort!AC91&\"<br />\"&Sort!AD91&\"<br /><b>\"&Sort!AE91&\"</b>\"))","v":""},"</td>###<td class=\"Bld\">",{"$f":"IF(Sort!AF91=\"\",\"\",Sort!AF91)","v":""},"</td>###<td class=\"Bld\">",{"$f":"IF(Sort!AG91=\"\",\"\",Sort!AG91)","v":""},"</td>###</tr>",null,{"$f":"IF(Sort!I91=\"\",\"\",Sort!I91)","v":""},{"$f":"IF(Sort!J91=\"\",\"\",Sort!J91)","v":0},{"$f":"IF(Sort!L91=\"\",\"\",Sort!L91)","v":""},{"$f":"IF(Sort!M91=\"\",\"\",Sort!M91)","v":0},{"$f":"IF(Sort!O91=\"\",\"\",Sort!O91)","v":""},{"$f":"IF(Sort!P91=\"\",\"\",Sort!P91)","v":0},{"$f":"IF(Sort!R91=\"\",\"\",Sort!R91)","v":""},{"$f":"IF(Sort!S91=\"\",\"\",Sort!S91)","v":0},{"$f":"IF(Sort!U91=\"\",\"\",Sort!U91)","v":""},{"$f":"IF(Sort!V91=\"\",\"\",Sort!V91)","v":0},{"$f":"IF(Sort!X91=\"\",\"\",Sort!X91)","v":""},{"$f":"IF(Sort!Y91=\"\",\"\",Sort!Y91)","v":0},{"$f":"IF(Sort!B91=\"\",\"\",Sort!AA91)","v":""}]
["<tr align='center'>###<td class='Bld'>",{"$f":"Sort!AH92","v":""},"</td>###<td class='Bld'>",{"$f":"IF(Sort!B92=\"\",\"\",IF(Sort!C92=\"\",Sort!B92,Sort!B92&\"<br />#\"&Sort!C92))","v":""},"</td>###<td>",{"$f":"IF(Sort!E92=\"\",\"\",Sort!E92&\" \"&Sort!F92&\"<br />\"&Sort!G92)","v":""},"</td>###<td class='GrayOut'>",{"$f":"IF(Sort!H92=\"\",\"\",IF(Sort!I92=0,Sort!H92&\"<br /><span class='ClnMatch'>&nbsp;&nbsp;0&nbsp;&nbsp;</span><br /><b>\"&Sort!J92&\"</b>\",Sort!H92&\"<br />\"&Sort!I92&\"<br /><b>\"&Sort!J92&\"</b>\"))","v":""},"</td>###<td class='GrayOut'>",{"$f":"IF(Sort!K92=\"\",\"\",IF(Sort!L92=0,Sort!K92&\"<br /><span class='ClnMatch'>&nbsp;&nbsp;0&nbsp;&nbsp;</span><br /><b>\"&Sort!M92&\"</b>\",Sort!K92&\"<br />\"&Sort!L92&\"<br /><b>\"&Sort!M92&\"</b>\"))","v":""},"</td>###<td class='GrayOut'>",{"$f":"IF(Sort!N92=\"\",\"\",IF(Sort!O92=0,Sort!N92&\"<br /><span class='ClnMatch'>&nbsp;&nbsp;0&nbsp;&nbsp;</span><br /><b>\"&Sort!P92&\"</b>\",Sort!N92&\"<br />\"&Sort!O92&\"<br /><b>\"&Sort!P92&\"</b>\"))","v":""},"</td>###<td class='GrayOut'>",{"$f":"IF(Sort!Q92=\"\",\"\",IF(Sort!R92=0,Sort!Q92&\"<br /><span class='ClnMatch'>&nbsp;&nbsp;0&nbsp;&nbsp;</span><br /><b>\"&Sort!S92&\"</b>\",Sort!Q92&\"<br />\"&Sort!R92&\"<br /><b>\"&Sort!S92&\"</b>\"))","v":""},"</td>###<td class='GrayOut'>",{"$f":"IF(Sort!T92=\"\",\"\",IF(Sort!U92=0,Sort!T92&\"<br /><span class='ClnMatch'>&nbsp;&nbsp;0&nbsp;&nbsp;</span><br /><b>\"&Sort!V92&\"</b>\",Sort!T92&\"<br />\"&Sort!U92&\"<br /><b>\"&Sort!V92&\"</b>\"))","v":""},"</td>###<td class='GrayOut'>",{"$f":"IF(Sort!W92=\"\",\"\",IF(Sort!X92=0,Sort!W92&\"<br /><span class='ClnMatch'>&nbsp;&nbsp;0&nbsp;&nbsp;</span><br /><b>\"&Sort!Y92&\"</b>\",Sort!W92&\"<br />\"&Sort!X92&\"<br /><b>\"&Sort!Y92&\"</b>\"))","v":""},"</td>###<td>",{"$f":"IF(Sort!Z92=\"\",\"\",IF(Sort!AA92=0,Sort!Z92&\"<br /><span class='ClnMatch'>&nbsp;&nbsp;0&nbsp;&nbsp;</span><br /><b>\"&Sort!AB92&\"</b>\",Sort!Z92&\"<br />\"&Sort!AA92&\"<br /><b>\"&Sort!AB92&\"</b>\"))","v":""},"</td>###<td class=\"BluBld\">",{"$f":"IF(Sort!B92=\"\",\"\",IF(Sort!AA92=0,Sort!AC92&\"<br /><span class='ClnMatch'>&nbsp;&nbsp;0&nbsp;&nbsp;</span><br /><b>\"&Sort!AE92&\"</b>\",Sort!AC92&\"<br />\"&Sort!AD92&\"<br /><b>\"&Sort!AE92&\"</b>\"))","v":""},"</td>###<td class=\"Bld\">",{"$f":"IF(Sort!AF92=\"\",\"\",Sort!AF92)","v":""},"</td>###<td class=\"Bld\">",{"$f":"IF(Sort!AG92=\"\",\"\",Sort!AG92)","v":""},"</td>###</tr>",null,{"$f":"IF(Sort!I92=\"\",\"\",Sort!I92)","v":""},{"$f":"IF(Sort!J92=\"\",\"\",Sort!J92)","v":0},{"$f":"IF(Sort!L92=\"\",\"\",Sort!L92)","v":""},{"$f":"IF(Sort!M92=\"\",\"\",Sort!M92)","v":0},{"$f":"IF(Sort!O92=\"\",\"\",Sort!O92)","v":""},{"$f":"IF(Sort!P92=\"\",\"\",Sort!P92)","v":0},{"$f":"IF(Sort!R92=\"\",\"\",Sort!R92)","v":""},{"$f":"IF(Sort!S92=\"\",\"\",Sort!S92)","v":0},{"$f":"IF(Sort!U92=\"\",\"\",Sort!U92)","v":""},{"$f":"IF(Sort!V92=\"\",\"\",Sort!V92)","v":0},{"$f":"IF(Sort!X92=\"\",\"\",Sort!X92)","v":""},{"$f":"IF(Sort!Y92=\"\",\"\",Sort!Y92)","v":0},{"$f":"IF(Sort!B92=\"\",\"\",Sort!AA92)","v":""}]
["<tr align='center'>###<td class='Bld'>",{"$f":"Sort!AH93","v":""},"</td>###<td class='Bld'>",{"$f":"IF(Sort!B93=\"\",\"\",IF(Sort!C93=\"\",Sort!B93,Sort!B93&\"<br />#\"&Sort!C93))","v":""},"</td>###<td>",{"$f":"IF(Sort!E93=\"\",\"\",Sort!E93&\" \"&Sort!F93&\"<br />\"&Sort!G93)","v":""},"</td>###<td class='GrayOut'>",{"$f":"IF(Sort!H93=\"\",\"\",IF(Sort!I93=0,Sort!H93&\"<br /><span class='ClnMatch'>&nbsp;&nbsp;0&nbsp;&nbsp;</span><br /><b>\"&Sort!J93&\"</b>\",Sort!H93&\"<br />\"&Sort!I93&\"<br /><b>\"&Sort!J93&\"</b>\"))","v":""},"</td>###<td class='GrayOut'>",{"$f":"IF(Sort!K93=\"\",\"\",IF(Sort!L93=0,Sort!K93&\"<br /><span class='ClnMatch'>&nbsp;&nbsp;0&nbsp;&nbsp;</span><br /><b>\"&Sort!M93&\"</b>\",Sort!K93&\"<br />\"&Sort!L93&\"<br /><b>\"&Sort!M93&\"</b>\"))","v":""},"</td>###<td class='GrayOut'>",{"$f":"IF(Sort!N93=\"\",\"\",IF(Sort!O93=0,Sort!N93&\"<br /><span class='ClnMatch'>&nbsp;&nbsp;0&nbsp;&nbsp;</span><br /><b>\"&Sort!P93&\"</b>\",Sort!N93&\"<br />\"&Sort!O93&\"<br /><b>\"&Sort!P93&\"</b>\"))","v":""},"</td>###<td class='GrayOut'>",{"$f":"IF(Sort!Q93=\"\",\"\",IF(Sort!R93=0,Sort!Q93&\"<br /><span class='ClnMatch'>&nbsp;&nbsp;0&nbsp;&nbsp;</span><br /><b>\"&Sort!S93&\"</b>\",Sort!Q93&\"<br />\"&Sort!R93&\"<br /><b>\"&Sort!S93&\"</b>\"))","v":""},"</td>###<td class='GrayOut'>",{"$f":"IF(Sort!T93=\"\",\"\",IF(Sort!U93=0,Sort!T93&\"<br /><span class='ClnMatch'>&nbsp;&nbsp;0&nbsp;&nbsp;</span><br /><b>\"&Sort!V93&\"</b>\",Sort!T93&\"<br />\"&Sort!U93&\"<br /><b>\"&Sort!V93&\"</b>\"))","v":""},"</td>###<td class='GrayOut'>",{"$f":"IF(Sort!W93=\"\",\"\",IF(Sort!X93=0,Sort!W93&\"<br /><span class='ClnMatch'>&nbsp;&nbsp;0&nbsp;&nbsp;</span><br /><b>\"&Sort!Y93&\"</b>\",Sort!W93&\"<br />\"&Sort!X93&\"<br /><b>\"&Sort!Y93&\"</b>\"))","v":""},"</td>###<td>",{"$f":"IF(Sort!Z93=\"\",\"\",IF(Sort!AA93=0,Sort!Z93&\"<br /><span class='ClnMatch'>&nbsp;&nbsp;0&nbsp;&nbsp;</span><br /><b>\"&Sort!AB93&\"</b>\",Sort!Z93&\"<br />\"&Sort!AA93&\"<br /><b>\"&Sort!AB93&\"</b>\"))","v":""},"</td>###<td class=\"BluBld\">",{"$f":"IF(Sort!B93=\"\",\"\",IF(Sort!AA93=0,Sort!AC93&\"<br /><span class='ClnMatch'>&nbsp;&nbsp;0&nbsp;&nbsp;</span><br /><b>\"&Sort!AE93&\"</b>\",Sort!AC93&\"<br />\"&Sort!AD93&\"<br /><b>\"&Sort!AE93&\"</b>\"))","v":""},"</td>###<td class=\"Bld\">",{"$f":"IF(Sort!AF93=\"\",\"\",Sort!AF93)","v":""},"</td>###<td class=\"Bld\">",{"$f":"IF(Sort!AG93=\"\",\"\",Sort!AG93)","v":""},"</td>###</tr>",null,{"$f":"IF(Sort!I93=\"\",\"\",Sort!I93)","v":""},{"$f":"IF(Sort!J93=\"\",\"\",Sort!J93)","v":0},{"$f":"IF(Sort!L93=\"\",\"\",Sort!L93)","v":""},{"$f":"IF(Sort!M93=\"\",\"\",Sort!M93)","v":0},{"$f":"IF(Sort!O93=\"\",\"\",Sort!O93)","v":""},{"$f":"IF(Sort!P93=\"\",\"\",Sort!P93)","v":0},{"$f":"IF(Sort!R93=\"\",\"\",Sort!R93)","v":""},{"$f":"IF(Sort!S93=\"\",\"\",Sort!S93)","v":0},{"$f":"IF(Sort!U93=\"\",\"\",Sort!U93)","v":""},{"$f":"IF(Sort!V93=\"\",\"\",Sort!V93)","v":0},{"$f":"IF(Sort!X93=\"\",\"\",Sort!X93)","v":""},{"$f":"IF(Sort!Y93=\"\",\"\",Sort!Y93)","v":0},{"$f":"IF(Sort!B93=\"\",\"\",Sort!AA93)","v":""}]
["<tr align='center'>###<td class='Bld'>",{"$f":"Sort!AH94","v":""},"</td>###<td class='Bld'>",{"$f":"IF(Sort!B94=\"\",\"\",IF(Sort!C94=\"\",Sort!B94,Sort!B94&\"<br />#\"&Sort!C94))","v":""},"</td>###<td>",{"$f":"IF(Sort!E94=\"\",\"\",Sort!E94&\" \"&Sort!F94&\"<br />\"&Sort!G94)","v":""},"</td>###<td class='GrayOut'>",{"$f":"IF(Sort!H94=\"\",\"\",IF(Sort!I94=0,Sort!H94&\"<br /><span class='ClnMatch'>&nbsp;&nbsp;0&nbsp;&nbsp;</span><br /><b>\"&Sort!J94&\"</b>\",Sort!H94&\"<br />\"&Sort!I94&\"<br /><b>\"&Sort!J94&\"</b>\"))","v":""},"</td>###<td class='GrayOut'>",{"$f":"IF(Sort!K94=\"\",\"\",IF(Sort!L94=0,Sort!K94&\"<br /><span class='ClnMatch'>&nbsp;&nbsp;0&nbsp;&nbsp;</span><br /><b>\"&Sort!M94&\"</b>\",Sort!K94&\"<br />\"&Sort!L94&\"<br /><b>\"&Sort!M94&\"</b>\"))","v":""},"</td>###<td class='GrayOut'>",{"$f":"IF(Sort!N94=\"\",\"\",IF(Sort!O94=0,Sort!N94&\"<br /><span class='ClnMatch'>&nbsp;&nbsp;0&nbsp;&nbsp;</span><br /><b>\"&Sort!P94&\"</b>\",Sort!N94&\"<br />\"&Sort!O94&\"<br /><b>\"&Sort!P94&\"</b>\"))","v":""},"</td>###<td class='GrayOut'>",{"$f":"IF(Sort!Q94=\"\",\"\",IF(Sort!R94=0,Sort!Q94&\"<br /><span class='ClnMatch'>&nbsp;&nbsp;0&nbsp;&nbsp;</span><br /><b>\"&Sort!S94&\"</b>\",Sort!Q94&\"<br />\"&Sort!R94&\"<br /><b>\"&Sort!S94&\"</b>\"))","v":""},"</td>###<td class='GrayOut'>",{"$f":"IF(Sort!T94=\"\",\"\",IF(Sort!U94=0,Sort!T94&\"<br /><span class='ClnMatch'>&nbsp;&nbsp;0&nbsp;&nbsp;</span><br /><b>\"&Sort!V94&\"</b>\",Sort!T94&\"<br />\"&Sort!U94&\"<br /><b>\"&Sort!V94&\"</b>\"))","v":""},"</td>###<td class='GrayOut'>",{"$f":"IF(Sort!W94=\"\",\"\",IF(Sort!X94=0,Sort!W94&\"<br /><span class='ClnMatch'>&nbsp;&nbsp;0&nbsp;&nbsp;</span><br /><b>\"&Sort!Y94&\"</b>\",Sort!W94&\"<br />\"&Sort!X94&\"<br /><b>\"&Sort!Y94&\"</b>\"))","v":""},"</td>###<td>",{"$f":"IF(Sort!Z94=\"\",\"\",IF(Sort!AA94=0,Sort!Z94&\"<br /><span class='ClnMatch'>&nbsp;&nbsp;0&nbsp;&nbsp;</span><br /><b>\"&Sort!AB94&\"</b>\",Sort!Z94&\"<br />\"&Sort!AA94&\"<br /><b>\"&Sort!AB94&\"</b>\"))","v":""},"</td>###<td class=\"BluBld\">",{"$f":"IF(Sort!B94=\"\",\"\",IF(Sort!AA94=0,Sort!AC94&\"<br /><span class='ClnMatch'>&nbsp;&nbsp;0&nbsp;&nbsp;</span><br /><b>\"&Sort!AE94&\"</b>\",Sort!AC94&\"<br />\"&Sort!AD94&\"<br /><b>\"&Sort!AE94&\"</b>\"))","v":""},"</td>###<td class=\"Bld\">",{"$f":"IF(Sort!AF94=\"\",\"\",Sort!AF94)","v":""},"</td>###<td class=\"Bld\">",{"$f":"IF(Sort!AG94=\"\",\"\",Sort!AG94)","v":""},"</td>###</tr>",null,{"$f":"IF(Sort!I94=\"\",\"\",Sort!I94)","v":""},{"$f":"IF(Sort!J94=\"\",\"\",Sort!J94)","v":0},{"$f":"IF(Sort!L94=\"\",\"\",Sort!L94)","v":""},{"$f":"IF(Sort!M94=\"\",\"\",Sort!M94)","v":0},{"$f":"IF(Sort!O94=\"\",\"\",Sort!O94)","v":""},{"$f":"IF(Sort!P94=\"\",\"\",Sort!P94)","v":0},{"$f":"IF(Sort!R94=\"\",\"\",Sort!R94)","v":""},{"$f":"IF(Sort!S94=\"\",\"\",Sort!S94)","v":0},{"$f":"IF(Sort!U94=\"\",\"\",Sort!U94)","v":""},{"$f":"IF(Sort!V94=\"\",\"\",Sort!V94)","v":0},{"$f":"IF(Sort!X94=\"\",\"\",Sort!X94)","v":""},{"$f":"IF(Sort!Y94=\"\",\"\",Sort!Y94)","v":0},{"$f":"IF(Sort!B94=\"\",\"\",Sort!AA94)","v":""}]
["<tr align='center'>###<td class='Bld'>",{"$f":"Sort!AH95","v":""},"</td>###<td class='Bld'>",{"$f":"IF(Sort!B95=\"\",\"\",IF(Sort!C95=\"\",Sort!B95,Sort!B95&\"<br />#\"&Sort!C95))","v":""},"</td>###<td>",{"$f":"IF(Sort!E95=\"\",\"\",Sort!E95&\" \"&Sort!F95&\"<br />\"&Sort!G95)","v":""},"</td>###<td class='GrayOut'>",{"$f":"IF(Sort!H95=\"\",\"\",IF(Sort!I95=0,Sort!H95&\"<br /><span class='ClnMatch'>&nbsp;&nbsp;0&nbsp;&nbsp;</span><br /><b>\"&Sort!J95&\"</b>\",Sort!H95&\"<br />\"&Sort!I95&\"<br /><b>\"&Sort!J95&\"</b>\"))","v":""},"</td>###<td class='GrayOut'>",{"$f":"IF(Sort!K95=\"\",\"\",IF(Sort!L95=0,Sort!K95&\"<br /><span class='ClnMatch'>&nbsp;&nbsp;0&nbsp;&nbsp;</span><br /><b>\"&Sort!M95&\"</b>\",Sort!K95&\"<br />\"&Sort!L95&\"<br /><b>\"&Sort!M95&\"</b>\"))","v":""},"</td>###<td class='GrayOut'>",{"$f":"IF(Sort!N95=\"\",\"\",IF(Sort!O95=0,Sort!N95&\"<br /><span class='ClnMatch'>&nbsp;&nbsp;0&nbsp;&nbsp;</span><br /><b>\"&Sort!P95&\"</b>\",Sort!N95&\"<br />\"&Sort!O95&\"<br /><b>\"&Sort!P95&\"</b>\"))","v":""},"</td>###<td class='GrayOut'>",{"$f":"IF(Sort!Q95=\"\",\"\",IF(Sort!R95=0,Sort!Q95&\"<br /><span class='ClnMatch'>&nbsp;&nbsp;0&nbsp;&nbsp;</span><br /><b>\"&Sort!S95&\"</b>\",Sort!Q95&\"<br />\"&Sort!R95&\"<br /><b>\"&Sort!S95&\"</b>\"))","v":""},"</td>###<td class='GrayOut'>",{"$f":"IF(Sort!T95=\"\",\"\",IF(Sort!U95=0,Sort!T95&\"<br /><span class='ClnMatch'>&nbsp;&nbsp;0&nbsp;&nbsp;</span><br /><b>\"&Sort!V95&\"</b>\",Sort!T95&\"<br />\"&Sort!U95&\"<br /><b>\"&Sort!V95&\"</b>\"))","v":""},"</td>###<td class='GrayOut'>",{"$f":"IF(Sort!W95=\"\",\"\",IF(Sort!X95=0,Sort!W95&\"<br /><span class='ClnMatch'>&nbsp;&nbsp;0&nbsp;&nbsp;</span><br /><b>\"&Sort!Y95&\"</b>\",Sort!W95&\"<br />\"&Sort!X95&\"<br /><b>\"&Sort!Y95&\"</b>\"))","v":""},"</td>###<td>",{"$f":"IF(Sort!Z95=\"\",\"\",IF(Sort!AA95=0,Sort!Z95&\"<br /><span class='ClnMatch'>&nbsp;&nbsp;0&nbsp;&nbsp;</span><br /><b>\"&Sort!AB95&\"</b>\",Sort!Z95&\"<br />\"&Sort!AA95&\"<br /><b>\"&Sort!AB95&\"</b>\"))","v":""},"</td>###<td class=\"BluBld\">",{"$f":"IF(Sort!B95=\"\",\"\",IF(Sort!AA95=0,Sort!AC95&\"<br /><span class='ClnMatch'>&nbsp;&nbsp;0&nbsp;&nbsp;</span><br /><b>\"&Sort!AE95&\"</b>\",Sort!AC95&\"<br />\"&Sort!AD95&\"<br /><b>\"&Sort!AE95&\"</b>\"))","v":""},"</td>###<td class=\"Bld\">",{"$f":"IF(Sort!AF95=\"\",\"\",Sort!AF95)","v":""},"</td>###<td class=\"Bld\">",{"$f":"IF(Sort!AG95=\"\",\"\",Sort!AG95)","v":""},"</td>###</tr>",null,{"$f":"IF(Sort!I95=\"\",\"\",Sort!I95)","v":""},{"$f":"IF(Sort!J95=\"\",\"\",Sort!J95)","v":0},{"$f":"IF(Sort!L95=\"\",\"\",Sort!L95)","v":""},{"$f":"IF(Sort!M95=\"\",\"\",Sort!M95)","v":0},{"$f":"IF(Sort!O95=\"\",\"\",Sort!O95)","v":""},{"$f":"IF(Sort!P95=\"\",\"\",Sort!P95)","v":0},{"$f":"IF(Sort!R95=\"\",\"\",Sort!R95)","v":""},{"$f":"IF(Sort!S95=\"\",\"\",Sort!S95)","v":0},{"$f":"IF(Sort!U95=\"\",\"\",Sort!U95)","v":""},{"$f":"IF(Sort!V95=\"\",\"\",Sort!V95)","v":0},{"$f":"IF(Sort!X95=\"\",\"\",Sort!X95)","v":""},{"$f":"IF(Sort!Y95=\"\",\"\",Sort!Y95)","v":0},{"$f":"IF(Sort!B95=\"\",\"\",Sort!AA95)","v":""}]
["<tr align='center'>###<td class='Bld'>",{"$f":"Sort!AH96","v":""},"</td>###<td class='Bld'>",{"$f":"IF(Sort!B96=\"\",\"\",IF(Sort!C96=\"\",Sort!B96,Sort!B96&\"<br />#\"&Sort!C96))","v":""},"</td>###<td>",{"$f":"IF(Sort!E96=\"\",\"\",Sort!E96&\" \"&Sort!F96&\"<br />\"&Sort!G96)","v":""},"</td>###<td class='GrayOut'>",{"$f":"IF(Sort!H96=\"\",\"\",IF(Sort!I96=0,Sort!H96&\"<br /><span class='ClnMatch'>&nbsp;&nbsp;0&nbsp;&nbsp;</span><br /><b>\"&Sort!J96&\"</b>\",Sort!H96&\"<br />\"&Sort!I96&\"<br /><b>\"&Sort!J96&\"</b>\"))","v":""},"</td>###<td class='GrayOut'>",{"$f":"IF(Sort!K96=\"\",\"\",IF(Sort!L96=0,Sort!K96&\"<br /><span class='ClnMatch'>&nbsp;&nbsp;0&nbsp;&nbsp;</span><br /><b>\"&Sort!M96&\"</b>\",Sort!K96&\"<br />\"&Sort!L96&\"<br /><b>\"&Sort!M96&\"</b>\"))","v":""},"</td>###<td class='GrayOut'>",{"$f":"IF(Sort!N96=\"\",\"\",IF(Sort!O96=0,Sort!N96&\"<br /><span class='ClnMatch'>&nbsp;&nbsp;0&nbsp;&nbsp;</span><br /><b>\"&Sort!P96&\"</b>\",Sort!N96&\"<br />\"&Sort!O96&\"<br /><b>\"&Sort!P96&\"</b>\"))","v":""},"</td>###<td class='GrayOut'>",{"$f":"IF(Sort!Q96=\"\",\"\",IF(Sort!R96=0,Sort!Q96&\"<br /><span class='ClnMatch'>&nbsp;&nbsp;0&nbsp;&nbsp;</span><br /><b>\"&Sort!S96&\"</b>\",Sort!Q96&\"<br />\"&Sort!R96&\"<br /><b>\"&Sort!S96&\"</b>\"))","v":""},"</td>###<td class='GrayOut'>",{"$f":"IF(Sort!T96=\"\",\"\",IF(Sort!U96=0,Sort!T96&\"<br /><span class='ClnMatch'>&nbsp;&nbsp;0&nbsp;&nbsp;</span><br /><b>\"&Sort!V96&\"</b>\",Sort!T96&\"<br />\"&Sort!U96&\"<br /><b>\"&Sort!V96&\"</b>\"))","v":""},"</td>###<td class='GrayOut'>",{"$f":"IF(Sort!W96=\"\",\"\",IF(Sort!X96=0,Sort!W96&\"<br /><span class='ClnMatch'>&nbsp;&nbsp;0&nbsp;&nbsp;</span><br /><b>\"&Sort!Y96&\"</b>\",Sort!W96&\"<br />\"&Sort!X96&\"<br /><b>\"&Sort!Y96&\"</b>\"))","v":""},"</td>###<td>",{"$f":"IF(Sort!Z96=\"\",\"\",IF(Sort!AA96=0,Sort!Z96&\"<br /><span class='ClnMatch'>&nbsp;&nbsp;0&nbsp;&nbsp;</span><br /><b>\"&Sort!AB96&\"</b>\",Sort!Z96&\"<br />\"&Sort!AA96&\"<br /><b>\"&Sort!AB96&\"</b>\"))","v":""},"</td>###<td class=\"BluBld\">",{"$f":"IF(Sort!B96=\"\",\"\",IF(Sort!AA96=0,Sort!AC96&\"<br /><span class='ClnMatch'>&nbsp;&nbsp;0&nbsp;&nbsp;</span><br /><b>\"&Sort!AE96&\"</b>\",Sort!AC96&\"<br />\"&Sort!AD96&\"<br /><b>\"&Sort!AE96&\"</b>\"))","v":""},"</td>###<td class=\"Bld\">",{"$f":"IF(Sort!AF96=\"\",\"\",Sort!AF96)","v":""},"</td>###<td class=\"Bld\">",{"$f":"IF(Sort!AG96=\"\",\"\",Sort!AG96)","v":""},"</td>###</tr>",null,{"$f":"IF(Sort!I96=\"\",\"\",Sort!I96)","v":""},{"$f":"IF(Sort!J96=\"\",\"\",Sort!J96)","v":0},{"$f":"IF(Sort!L96=\"\",\"\",Sort!L96)","v":""},{"$f":"IF(Sort!M96=\"\",\"\",Sort!M96)","v":0},{"$f":"IF(Sort!O96=\"\",\"\",Sort!O96)","v":""},{"$f":"IF(Sort!P96=\"\",\"\",Sort!P96)","v":0},{"$f":"IF(Sort!R96=\"\",\"\",Sort!R96)","v":""},{"$f":"IF(Sort!S96=\"\",\"\",Sort!S96)","v":0},{"$f":"IF(Sort!U96=\"\",\"\",Sort!U96)","v":""},{"$f":"IF(Sort!V96=\"\",\"\",Sort!V96)","v":0},{"$f":"IF(Sort!X96=\"\",\"\",Sort!X96)","v":""},{"$f":"IF(Sort!Y96=\"\",\"\",Sort!Y96)","v":0},{"$f":"IF(Sort!B96=\"\",\"\",Sort!AA96)","v":""}]
["<tr align='center'>###<td class='Bld'>",{"$f":"Sort!AH97","v":""},"</td>###<td class='Bld'>",{"$f":"IF(Sort!B97=\"\",\"\",IF(Sort!C97=\"\",Sort!B97,Sort!B97&\"<br />#\"&Sort!C97))","v":""},"</td>###<td>",{"$f":"IF(Sort!E97=\"\",\"\",Sort!E97&\" \"&Sort!F97&\"<br />\"&Sort!G97)","v":""},"</td>###<td class='GrayOut'>",{"$f":"IF(Sort!H97=\"\",\"\",IF(Sort!I97=0,Sort!H97&\"<br /><span class='ClnMatch'>&nbsp;&nbsp;0&nbsp;&nbsp;</span><br /><b>\"&Sort!J97&\"</b>\",Sort!H97&\"<br />\"&Sort!I97&\"<br /><b>\"&Sort!J97&\"</b>\"))","v":""},"</td>###<td class='GrayOut'>",{"$f":"IF(Sort!K97=\"\",\"\",IF(Sort!L97=0,Sort!K97&\"<br /><span class='ClnMatch'>&nbsp;&nbsp;0&nbsp;&nbsp;</span><br /><b>\"&Sort!M97&\"</b>\",Sort!K97&\"<br />\"&Sort!L97&\"<br /><b>\"&Sort!M97&\"</b>\"))","v":""},"</td>###<td class='GrayOut'>",{"$f":"IF(Sort!N97=\"\",\"\",IF(Sort!O97=0,Sort!N97&\"<br /><span class='ClnMatch'>&nbsp;&nbsp;0&nbsp;&nbsp;</span><br /><b>\"&Sort!P97&\"</b>\",Sort!N97&\"<br />\"&Sort!O97&\"<br /><b>\"&Sort!P97&\"</b>\"))","v":""},"</td>###<td class='GrayOut'>",{"$f":"IF(Sort!Q97=\"\",\"\",IF(Sort!R97=0,Sort!Q97&\"<br /><span class='ClnMatch'>&nbsp;&nbsp;0&nbsp;&nbsp;</span><br /><b>\"&Sort!S97&\"</b>\",Sort!Q97&\"<br />\"&Sort!R97&\"<br /><b>\"&Sort!S97&\"</b>\"))","v":""},"</td>###<td class='GrayOut'>",{"$f":"IF(Sort!T97=\"\",\"\",IF(Sort!U97=0,Sort!T97&\"<br /><span class='ClnMatch'>&nbsp;&nbsp;0&nbsp;&nbsp;</span><br /><b>\"&Sort!V97&\"</b>\",Sort!T97&\"<br />\"&Sort!U97&\"<br /><b>\"&Sort!V97&\"</b>\"))","v":""},"</td>###<td class='GrayOut'>",{"$f":"IF(Sort!W97=\"\",\"\",IF(Sort!X97=0,Sort!W97&\"<br /><span class='ClnMatch'>&nbsp;&nbsp;0&nbsp;&nbsp;</span><br /><b>\"&Sort!Y97&\"</b>\",Sort!W97&\"<br />\"&Sort!X97&\"<br /><b>\"&Sort!Y97&\"</b>\"))","v":""},"</td>###<td>",{"$f":"IF(Sort!Z97=\"\",\"\",IF(Sort!AA97=0,Sort!Z97&\"<br /><span class='ClnMatch'>&nbsp;&nbsp;0&nbsp;&nbsp;</span><br /><b>\"&Sort!AB97&\"</b>\",Sort!Z97&\"<br />\"&Sort!AA97&\"<br /><b>\"&Sort!AB97&\"</b>\"))","v":""},"</td>###<td class=\"BluBld\">",{"$f":"IF(Sort!B97=\"\",\"\",IF(Sort!AA97=0,Sort!AC97&\"<br /><span class='ClnMatch'>&nbsp;&nbsp;0&nbsp;&nbsp;</span><br /><b>\"&Sort!AE97&\"</b>\",Sort!AC97&\"<br />\"&Sort!AD97&\"<br /><b>\"&Sort!AE97&\"</b>\"))","v":""},"</td>###<td class=\"Bld\">",{"$f":"IF(Sort!AF97=\"\",\"\",Sort!AF97)","v":""},"</td>###<td class=\"Bld\">",{"$f":"IF(Sort!AG97=\"\",\"\",Sort!AG97)","v":""},"</td>###</tr>",null,{"$f":"IF(Sort!I97=\"\",\"\",Sort!I97)","v":""},{"$f":"IF(Sort!J97=\"\",\"\",Sort!J97)","v":0},{"$f":"IF(Sort!L97=\"\",\"\",Sort!L97)","v":""},{"$f":"IF(Sort!M97=\"\",\"\",Sort!M97)","v":0},{"$f":"IF(Sort!O97=\"\",\"\",Sort!O97)","v":""},{"$f":"IF(Sort!P97=\"\",\"\",Sort!P97)","v":0},{"$f":"IF(Sort!R97=\"\",\"\",Sort!R97)","v":""},{"$f":"IF(Sort!S97=\"\",\"\",Sort!S97)","v":0},{"$f":"IF(Sort!U97=\"\",\"\",Sort!U97)","v":""},{"$f":"IF(Sort!V97=\"\",\"\",Sort!V97)","v":0},{"$f":"IF(Sort!X97=\"\",\"\",Sort!X97)","v":""},{"$f":"IF(Sort!Y97=\"\",\"\",Sort!Y97)","v":0},{"$f":"IF(Sort!B97=\"\",\"\",Sort!AA97)","v":""}]
["<tr align='center'>###<td class='Bld'>",{"$f":"Sort!AH98","v":""},"</td>###<td class='Bld'>",{"$f":"IF(Sort!B98=\"\",\"\",IF(Sort!C98=\"\",Sort!B98,Sort!B98&\"<br />#\"&Sort!C98))","v":""},"</td>###<td>",{"$f":"IF(Sort!E98=\"\",\"\",Sort!E98&\" \"&Sort!F98&\"<br />\"&Sort!G98)","v":""},"</td>###<td class='GrayOut'>",{"$f":"IF(Sort!H98=\"\",\"\",IF(Sort!I98=0,Sort!H98&\"<br /><span class='ClnMatch'>&nbsp;&nbsp;0&nbsp;&nbsp;</span><br /><b>\"&Sort!J98&\"</b>\",Sort!H98&\"<br />\"&Sort!I98&\"<br /><b>\"&Sort!J98&\"</b>\"))","v":""},"</td>###<td class='GrayOut'>",{"$f":"IF(Sort!K98=\"\",\"\",IF(Sort!L98=0,Sort!K98&\"<br /><span class='ClnMatch'>&nbsp;&nbsp;0&nbsp;&nbsp;</span><br /><b>\"&Sort!M98&\"</b>\",Sort!K98&\"<br />\"&Sort!L98&\"<br /><b>\"&Sort!M98&\"</b>\"))","v":""},"</td>###<td class='GrayOut'>",{"$f":"IF(Sort!N98=\"\",\"\",IF(Sort!O98=0,Sort!N98&\"<br /><span class='ClnMatch'>&nbsp;&nbsp;0&nbsp;&nbsp;</span><br /><b>\"&Sort!P98&\"</b>\",Sort!N98&\"<br />\"&Sort!O98&\"<br /><b>\"&Sort!P98&\"</b>\"))","v":""},"</td>###<td class='GrayOut'>",{"$f":"IF(Sort!Q98=\"\",\"\",IF(Sort!R98=0,Sort!Q98&\"<br /><span class='ClnMatch'>&nbsp;&nbsp;0&nbsp;&nbsp;</span><br /><b>\"&Sort!S98&\"</b>\",Sort!Q98&\"<br />\"&Sort!R98&\"<br /><b>\"&Sort!S98&\"</b>\"))","v":""},"</td>###<td class='GrayOut'>",{"$f":"IF(Sort!T98=\"\",\"\",IF(Sort!U98=0,Sort!T98&\"<br /><span class='ClnMatch'>&nbsp;&nbsp;0&nbsp;&nbsp;</span><br /><b>\"&Sort!V98&\"</b>\",Sort!T98&\"<br />\"&Sort!U98&\"<br /><b>\"&Sort!V98&\"</b>\"))","v":""},"</td>###<td class='GrayOut'>",{"$f":"IF(Sort!W98=\"\",\"\",IF(Sort!X98=0,Sort!W98&\"<br /><span class='ClnMatch'>&nbsp;&nbsp;0&nbsp;&nbsp;</span><br /><b>\"&Sort!Y98&\"</b>\",Sort!W98&\"<br />\"&Sort!X98&\"<br /><b>\"&Sort!Y98&\"</b>\"))","v":""},"</td>###<td>",{"$f":"IF(Sort!Z98=\"\",\"\",IF(Sort!AA98=0,Sort!Z98&\"<br /><span class='ClnMatch'>&nbsp;&nbsp;0&nbsp;&nbsp;</span><br /><b>\"&Sort!AB98&\"</b>\",Sort!Z98&\"<br />\"&Sort!AA98&\"<br /><b>\"&Sort!AB98&\"</b>\"))","v":""},"</td>###<td class=\"BluBld\">",{"$f":"IF(Sort!B98=\"\",\"\",IF(Sort!AA98=0,Sort!AC98&\"<br /><span class='ClnMatch'>&nbsp;&nbsp;0&nbsp;&nbsp;</span><br /><b>\"&Sort!AE98&\"</b>\",Sort!AC98&\"<br />\"&Sort!AD98&\"<br /><b>\"&Sort!AE98&\"</b>\"))","v":""},"</td>###<td class=\"Bld\">",{"$f":"IF(Sort!AF98=\"\",\"\",Sort!AF98)","v":""},"</td>###<td class=\"Bld\">",{"$f":"IF(Sort!AG98=\"\",\"\",Sort!AG98)","v":""},"</td>###</tr>",null,{"$f":"IF(Sort!I98=\"\",\"\",Sort!I98)","v":""},{"$f":"IF(Sort!J98=\"\",\"\",Sort!J98)","v":0},{"$f":"IF(Sort!L98=\"\",\"\",Sort!L98)","v":""},{"$f":"IF(Sort!M98=\"\",\"\",Sort!M98)","v":0},{"$f":"IF(Sort!O98=\"\",\"\",Sort!O98)","v":""},{"$f":"IF(Sort!P98=\"\",\"\",Sort!P98)","v":0},{"$f":"IF(Sort!R98=\"\",\"\",Sort!R98)","v":""},{"$f":"IF(Sort!S98=\"\",\"\",Sort!S98)","v":0},{"$f":"IF(Sort!U98=\"\",\"\",Sort!U98)","v":""},{"$f":"IF(Sort!V98=\"\",\"\",Sort!V98)","v":0},{"$f":"IF(Sort!X98=\"\",\"\",Sort!X98)","v":""},{"$f":"IF(Sort!Y98=\"\",\"\",Sort!Y98)","v":0},{"$f":"IF(Sort!B98=\"\",\"\",Sort!AA98)","v":""}]
["<tr align='center'>###<td class='Bld'>",{"$f":"Sort!AH99","v":""},"</td>###<td class='Bld'>",{"$f":"IF(Sort!B99=\"\",\"\",IF(Sort!C99=\"\",Sort!B99,Sort!B99&\"<br />#\"&Sort!C99))","v":""},"</td>###<td>",{"$f":"IF(Sort!E99=\"\",\"\",Sort!E99&\" \"&Sort!F99&\"<br />\"&Sort!G99)","v":""},"</td>###<td class='GrayOut'>",{"$f":"IF(Sort!H99=\"\",\"\",IF(Sort!I99=0,Sort!H99&\"<br /><span class='ClnMatch'>&nbsp;&nbsp;0&nbsp;&nbsp;</span><br /><b>\"&Sort!J99&\"</b>\",Sort!H99&\"<br />\"&Sort!I99&\"<br /><b>\"&Sort!J99&\"</b>\"))","v":""},"</td>###<td class='GrayOut'>",{"$f":"IF(Sort!K99=\"\",\"\",IF(Sort!L99=0,Sort!K99&\"<br /><span class='ClnMatch'>&nbsp;&nbsp;0&nbsp;&nbsp;</span><br /><b>\"&Sort!M99&\"</b>\",Sort!K99&\"<br />\"&Sort!L99&\"<br /><b>\"&Sort!M99&\"</b>\"))","v":""},"</td>###<td class='GrayOut'>",{"$f":"IF(Sort!N99=\"\",\"\",IF(Sort!O99=0,Sort!N99&\"<br /><span class='ClnMatch'>&nbsp;&nbsp;0&nbsp;&nbsp;</span><br /><b>\"&Sort!P99&\"</b>\",Sort!N99&\"<br />\"&Sort!O99&\"<br /><b>\"&Sort!P99&\"</b>\"))","v":""},"</td>###<td class='GrayOut'>",{"$f":"IF(Sort!Q99=\"\",\"\",IF(Sort!R99=0,Sort!Q99&\"<br /><span class='ClnMatch'>&nbsp;&nbsp;0&nbsp;&nbsp;</span><br /><b>\"&Sort!S99&\"</b>\",Sort!Q99&\"<br />\"&Sort!R99&\"<br /><b>\"&Sort!S99&\"</b>\"))","v":""},"</td>###<td class='GrayOut'>",{"$f":"IF(Sort!T99=\"\",\"\",IF(Sort!U99=0,Sort!T99&\"<br /><span class='ClnMatch'>&nbsp;&nbsp;0&nbsp;&nbsp;</span><br /><b>\"&Sort!V99&\"</b>\",Sort!T99&\"<br />\"&Sort!U99&\"<br /><b>\"&Sort!V99&\"</b>\"))","v":""},"</td>###<td class='GrayOut'>",{"$f":"IF(Sort!W99=\"\",\"\",IF(Sort!X99=0,Sort!W99&\"<br /><span class='ClnMatch'>&nbsp;&nbsp;0&nbsp;&nbsp;</span><br /><b>\"&Sort!Y99&\"</b>\",Sort!W99&\"<br />\"&Sort!X99&\"<br /><b>\"&Sort!Y99&\"</b>\"))","v":""},"</td>###<td>",{"$f":"IF(Sort!Z99=\"\",\"\",IF(Sort!AA99=0,Sort!Z99&\"<br /><span class='ClnMatch'>&nbsp;&nbsp;0&nbsp;&nbsp;</span><br /><b>\"&Sort!AB99&\"</b>\",Sort!Z99&\"<br />\"&Sort!AA99&\"<br /><b>\"&Sort!AB99&\"</b>\"))","v":""},"</td>###<td class=\"BluBld\">",{"$f":"IF(Sort!B99=\"\",\"\",IF(Sort!AA99=0,Sort!AC99&\"<br /><span class='ClnMatch'>&nbsp;&nbsp;0&nbsp;&nbsp;</span><br /><b>\"&Sort!AE99&\"</b>\",Sort!AC99&\"<br />\"&Sort!AD99&\"<br /><b>\"&Sort!AE99&\"</b>\"))","v":""},"</td>###<td class=\"Bld\">",{"$f":"IF(Sort!AF99=\"\",\"\",Sort!AF99)","v":""},"</td>###<td class=\"Bld\">",{"$f":"IF(Sort!AG99=\"\",\"\",Sort!AG99)","v":""},"</td>###</tr>",null,{"$f":"IF(Sort!I99=\"\",\"\",Sort!I99)","v":""},{"$f":"IF(Sort!J99=\"\",\"\",Sort!J99)","v":0},{"$f":"IF(Sort!L99=\"\",\"\",Sort!L99)","v":""},{"$f":"IF(Sort!M99=\"\",\"\",Sort!M99)","v":0},{"$f":"IF(Sort!O99=\"\",\"\",Sort!O99)","v":""},{"$f":"IF(Sort!P99=\"\",\"\",Sort!P99)","v":0},{"$f":"IF(Sort!R99=\"\",\"\",Sort!R99)","v":""},{"$f":"IF(Sort!S99=\"\",\"\",Sort!S99)","v":0},{"$f":"IF(Sort!U99=\"\",\"\",Sort!U99)","v":""},{"$f":"IF(Sort!V99=\"\",\"\",Sort!V99)","v":0},{"$f":"IF(Sort!X99=\"\",\"\",Sort!X99)","v":""},{"$f":"IF(Sort!Y99=\"\",\"\",Sort!Y99)","v":0},{"$f":"IF(Sort!B99=\"\",\"\",Sort!AA99)","v":""}]
["<tr align='center'>###<td class='Bld'>",{"$f":"Sort!AH100","v":""},"</td>###<td class='Bld'>",{"$f":"IF(Sort!B100=\"\",\"\",IF(Sort!C100=\"\",Sort!B100,Sort!B100&\"<br />#\"&Sort!C100))","v":""},"</td>###<td>",{"$f":"IF(Sort!E100=\"\",\"\",Sort!E100&\" \"&Sort!F100&\"<br />\"&Sort!G100)","v":""},"</td>###<td class='GrayOut'>",{"$f":"IF(Sort!H100=\"\",\"\",IF(Sort!I100=0,Sort!H100&\"<br /><span class='ClnMatch'>&nbsp;&nbsp;0&nbsp;&nbsp;</span><br /><b>\"&Sort!J100&\"</b>\",Sort!H100&\"<br />\"&Sort!I100&\"<br /><b>\"&Sort!J100&\"</b>\"))","v":""},"</td>###<td class='GrayOut'>",{"$f":"IF(Sort!K100=\"\",\"\",IF(Sort!L100=0,Sort!K100&\"<br /><span class='ClnMatch'>&nbsp;&nbsp;0&nbsp;&nbsp;</span><br /><b>\"&Sort!M100&\"</b>\",Sort!K100&\"<br />\"&Sort!L100&\"<br /><b>\"&Sort!M100&\"</b>\"))","v":""},"</td>###<td class='GrayOut'>",{"$f":"IF(Sort!N100=\"\",\"\",IF(Sort!O100=0,Sort!N100&\"<br /><span class='ClnMatch'>&nbsp;&nbsp;0&nbsp;&nbsp;</span><br /><b>\"&Sort!P100&\"</b>\",Sort!N100&\"<br />\"&Sort!O100&\"<br /><b>\"&Sort!P100&\"</b>\"))","v":""},"</td>###<td class='GrayOut'>",{"$f":"IF(Sort!Q100=\"\",\"\",IF(Sort!R100=0,Sort!Q100&\"<br /><span class='ClnMatch'>&nbsp;&nbsp;0&nbsp;&nbsp;</span><br /><b>\"&Sort!S100&\"</b>\",Sort!Q100&\"<br />\"&Sort!R100&\"<br /><b>\"&Sort!S100&\"</b>\"))","v":""},"</td>###<td class='GrayOut'>",{"$f":"IF(Sort!T100=\"\",\"\",IF(Sort!U100=0,Sort!T100&\"<br /><span class='ClnMatch'>&nbsp;&nbsp;0&nbsp;&nbsp;</span><br /><b>\"&Sort!V100&\"</b>\",Sort!T100&\"<br />\"&Sort!U100&\"<br /><b>\"&Sort!V100&\"</b>\"))","v":""},"</td>###<td class='GrayOut'>",{"$f":"IF(Sort!W100=\"\",\"\",IF(Sort!X100=0,Sort!W100&\"<br /><span class='ClnMatch'>&nbsp;&nbsp;0&nbsp;&nbsp;</span><br /><b>\"&Sort!Y100&\"</b>\",Sort!W100&\"<br />\"&Sort!X100&\"<br /><b>\"&Sort!Y100&\"</b>\"))","v":""},"</td>###<td>",{"$f":"IF(Sort!Z100=\"\",\"\",IF(Sort!AA100=0,Sort!Z100&\"<br /><span class='ClnMatch'>&nbsp;&nbsp;0&nbsp;&nbsp;</span><br /><b>\"&Sort!AB100&\"</b>\",Sort!Z100&\"<br />\"&Sort!AA100&\"<br /><b>\"&Sort!AB100&\"</b>\"))","v":""},"</td>###<td class=\"BluBld\">",{"$f":"IF(Sort!B100=\"\",\"\",IF(Sort!AA100=0,Sort!AC100&\"<br /><span class='ClnMatch'>&nbsp;&nbsp;0&nbsp;&nbsp;</span><br /><b>\"&Sort!AE100&\"</b>\",Sort!AC100&\"<br />\"&Sort!AD100&\"<br /><b>\"&Sort!AE100&\"</b>\"))","v":""},"</td>###<td class=\"Bld\">",{"$f":"IF(Sort!AF100=\"\",\"\",Sort!AF100)","v":""},"</td>###<td class=\"Bld\">",{"$f":"IF(Sort!AG100=\"\",\"\",Sort!AG100)","v":""},"</td>###</tr>",null,{"$f":"IF(Sort!I100=\"\",\"\",Sort!I100)","v":""},{"$f":"IF(Sort!J100=\"\",\"\",Sort!J100)","v":0},{"$f":"IF(Sort!L100=\"\",\"\",Sort!L100)","v":""},{"$f":"IF(Sort!M100=\"\",\"\",Sort!M100)","v":0},{"$f":"IF(Sort!O100=\"\",\"\",Sort!O100)","v":""},{"$f":"IF(Sort!P100=\"\",\"\",Sort!P100)","v":0},{"$f":"IF(Sort!R100=\"\",\"\",Sort!R100)","v":""},{"$f":"IF(Sort!S100=\"\",\"\",Sort!S100)","v":0},{"$f":"IF(Sort!U100=\"\",\"\",Sort!U100)","v":""},{"$f":"IF(Sort!V100=\"\",\"\",Sort!V100)","v":0},{"$f":"IF(Sort!X100=\"\",\"\",Sort!X100)","v":""},{"$f":"IF(Sort!Y100=\"\",\"\",Sort!Y100)","v":0},{"$f":"IF(Sort!B100=\"\",\"\",Sort!AA100)","v":""}]
["<tr align='center'>###<td class='Bld'>",{"$f":"Sort!AH101","v":""},"</td>###<td class='Bld'>",{"$f":"IF(Sort!B101=\"\",\"\",IF(Sort!C101=\"\",Sort!B101,Sort!B101&\"<br />#\"&Sort!C101))","v":""},"</td>###<td>",{"$f":"IF(Sort!E101=\"\",\"\",Sort!E101&\" \"&Sort!F101&\"<br />\"&Sort!G101)","v":""},"</td>###<td class='GrayOut'>",{"$f":"IF(Sort!H101=\"\",\"\",IF(Sort!I101=0,Sort!H101&\"<br /><span class='ClnMatch'>&nbsp;&nbsp;0&nbsp;&nbsp;</span><br /><b>\"&Sort!J101&\"</b>\",Sort!H101&\"<br />\"&Sort!I101&\"<br /><b>\"&Sort!J101&\"</b>\"))","v":""},"</td>###<td class='GrayOut'>",{"$f":"IF(Sort!K101=\"\",\"\",IF(Sort!L101=0,Sort!K101&\"<br /><span class='ClnMatch'>&nbsp;&nbsp;0&nbsp;&nbsp;</span><br /><b>\"&Sort!M101&\"</b>\",Sort!K101&\"<br />\"&Sort!L101&\"<br /><b>\"&Sort!M101&\"</b>\"))","v":""},"</td>###<td class='GrayOut'>",{"$f":"IF(Sort!N101=\"\",\"\",IF(Sort!O101=0,Sort!N101&\"<br /><span class='ClnMatch'>&nbsp;&nbsp;0&nbsp;&nbsp;</span><br /><b>\"&Sort!P101&\"</b>\",Sort!N101&\"<br />\"&Sort!O101&\"<br /><b>\"&Sort!P101&\"</b>\"))","v":""},"</td>###<td class='GrayOut'>",{"$f":"IF(Sort!Q101=\"\",\"\",IF(Sort!R101=0,Sort!Q101&\"<br /><span class='ClnMatch'>&nbsp;&nbsp;0&nbsp;&nbsp;</span><br /><b>\"&Sort!S101&\"</b>\",Sort!Q101&\"<br />\"&Sort!R101&\"<br /><b>\"&Sort!S101&\"</b>\"))","v":""},"</td>###<td class='GrayOut'>",{"$f":"IF(Sort!T101=\"\",\"\",IF(Sort!U101=0,Sort!T101&\"<br /><span class='ClnMatch'>&nbsp;&nbsp;0&nbsp;&nbsp;</span><br /><b>\"&Sort!V101&\"</b>\",Sort!T101&\"<br />\"&Sort!U101&\"<br /><b>\"&Sort!V101&\"</b>\"))","v":""},"</td>###<td class='GrayOut'>",{"$f":"IF(Sort!W101=\"\",\"\",IF(Sort!X101=0,Sort!W101&\"<br /><span class='ClnMatch'>&nbsp;&nbsp;0&nbsp;&nbsp;</span><br /><b>\"&Sort!Y101&\"</b>\",Sort!W101&\"<br />\"&Sort!X101&\"<br /><b>\"&Sort!Y101&\"</b>\"))","v":""},"</td>###<td>",{"$f":"IF(Sort!Z101=\"\",\"\",IF(Sort!AA101=0,Sort!Z101&\"<br /><span class='ClnMatch'>&nbsp;&nbsp;0&nbsp;&nbsp;</span><br /><b>\"&Sort!AB101&\"</b>\",Sort!Z101&\"<br />\"&Sort!AA101&\"<br /><b>\"&Sort!AB101&\"</b>\"))","v":""},"</td>###<td class=\"BluBld\">",{"$f":"IF(Sort!B101=\"\",\"\",IF(Sort!AA101=0,Sort!AC101&\"<br /><span class='ClnMatch'>&nbsp;&nbsp;0&nbsp;&nbsp;</span><br /><b>\"&Sort!AE101&\"</b>\",Sort!AC101&\"<br />\"&Sort!AD101&\"<br /><b>\"&Sort!AE101&\"</b>\"))","v":""},"</td>###<td class=\"Bld\">",{"$f":"IF(Sort!AF101=\"\",\"\",Sort!AF101)","v":""},"</td>###<td class=\"Bld\">",{"$f":"IF(Sort!AG101=\"\",\"\",Sort!AG101)","v":""},"</td>###</tr>",null,{"$f":"IF(Sort!I101=\"\",\"\",Sort!I101)","v":""},{"$f":"IF(Sort!J101=\"\",\"\",Sort!J101)","v":0},{"$f":"IF(Sort!L101=\"\",\"\",Sort!L101)","v":""},{"$f":"IF(Sort!M101=\"\",\"\",Sort!M101)","v":0},{"$f":"IF(Sort!O101=\"\",\"\",Sort!O101)","v":""},{"$f":"IF(Sort!P101=\"\",\"\",Sort!P101)","v":0},{"$f":"IF(Sort!R101=\"\",\"\",Sort!R101)","v":""},{"$f":"IF(Sort!S101=\"\",\"\",Sort!S101)","v":0},{"$f":"IF(Sort!U101=\"\",\"\",Sort!U101)","v":""},{"$f":"IF(Sort!V101=\"\",\"\",Sort!V101)","v":0},{"$f":"IF(Sort!X101=\"\",\"\",Sort!X101)","v":""},{"$f":"IF(Sort!Y101=\"\",\"\",Sort!Y101)","v":0},{"$f":"IF(Sort!B101=\"\",\"\",Sort!AA101)","v":""}]
["<tr align='center'>###<td class='Bld'>",{"$f":"Sort!AH102","v":""},"</td>###<td class='Bld'>",{"$f":"IF(Sort!B102=\"\",\"\",IF(Sort!C102=\"\",Sort!B102,Sort!B102&\"<br />#\"&Sort!C102))","v":""},"</td>###<td>",{"$f":"IF(Sort!E102=\"\",\"\",Sort!E102&\" \"&Sort!F102&\"<br />\"&Sort!G102)","v":""},"</td>###<td class='GrayOut'>",{"$f":"IF(Sort!H102=\"\",\"\",IF(Sort!I102=0,Sort!H102&\"<br /><span class='ClnMatch'>&nbsp;&nbsp;0&nbsp;&nbsp;</span><br /><b>\"&Sort!J102&\"</b>\",Sort!H102&\"<br />\"&Sort!I102&\"<br /><b>\"&Sort!J102&\"</b>\"))","v":""},"</td>###<td class='GrayOut'>",{"$f":"IF(Sort!K102=\"\",\"\",IF(Sort!L102=0,Sort!K102&\"<br /><span class='ClnMatch'>&nbsp;&nbsp;0&nbsp;&nbsp;</span><br /><b>\"&Sort!M102&\"</b>\",Sort!K102&\"<br />\"&Sort!L102&\"<br /><b>\"&Sort!M102&\"</b>\"))","v":""},"</td>###<td class='GrayOut'>",{"$f":"IF(Sort!N102=\"\",\"\",IF(Sort!O102=0,Sort!N102&\"<br /><span class='ClnMatch'>&nbsp;&nbsp;0&nbsp;&nbsp;</span><br /><b>\"&Sort!P102&\"</b>\",Sort!N102&\"<br />\"&Sort!O102&\"<br /><b>\"&Sort!P102&\"</b>\"))","v":""},"</td>###<td class='GrayOut'>",{"$f":"IF(Sort!Q102=\"\",\"\",IF(Sort!R102=0,Sort!Q102&\"<br /><span class='ClnMatch'>&nbsp;&nbsp;0&nbsp;&nbsp;</span><br /><b>\"&Sort!S102&\"</b>\",Sort!Q102&\"<br />\"&Sort!R102&\"<br /><b>\"&Sort!S102&\"</b>\"))","v":""},"</td>###<td class='GrayOut'>",{"$f":"IF(Sort!T102=\"\",\"\",IF(Sort!U102=0,Sort!T102&\"<br /><span class='ClnMatch'>&nbsp;&nbsp;0&nbsp;&nbsp;</span><br /><b>\"&Sort!V102&\"</b>\",Sort!T102&\"<br />\"&Sort!U102&\"<br /><b>\"&Sort!V102&\"</b>\"))","v":""},"</td>###<td class='GrayOut'>",{"$f":"IF(Sort!W102=\"\",\"\",IF(Sort!X102=0,Sort!W102&\"<br /><span class='ClnMatch'>&nbsp;&nbsp;0&nbsp;&nbsp;</span><br /><b>\"&Sort!Y102&\"</b>\",Sort!W102&\"<br />\"&Sort!X102&\"<br /><b>\"&Sort!Y102&\"</b>\"))","v":""},"</td>###<td>",{"$f":"IF(Sort!Z102=\"\",\"\",IF(Sort!AA102=0,Sort!Z102&\"<br /><span class='ClnMatch'>&nbsp;&nbsp;0&nbsp;&nbsp;</span><br /><b>\"&Sort!AB102&\"</b>\",Sort!Z102&\"<br />\"&Sort!AA102&\"<br /><b>\"&Sort!AB102&\"</b>\"))","v":""},"</td>###<td class=\"BluBld\">",{"$f":"IF(Sort!B102=\"\",\"\",IF(Sort!AA102=0,Sort!AC102&\"<br /><span class='ClnMatch'>&nbsp;&nbsp;0&nbsp;&nbsp;</span><br /><b>\"&Sort!AE102&\"</b>\",Sort!AC102&\"<br />\"&Sort!AD102&\"<br /><b>\"&Sort!AE102&\"</b>\"))","v":""},"</td>###<td class=\"Bld\">",{"$f":"IF(Sort!AF102=\"\",\"\",Sort!AF102)","v":""},"</td>###<td class=\"Bld\">",{"$f":"IF(Sort!AG102=\"\",\"\",Sort!AG102)","v":""},"</td>###</tr>",null,{"$f":"IF(Sort!I102=\"\",\"\",Sort!I102)","v":""},{"$f":"IF(Sort!J102=\"\",\"\",Sort!J102)","v":0},{"$f":"IF(Sort!L102=\"\",\"\",Sort!L102)","v":""},{"$f":"IF(Sort!M102=\"\",\"\",Sort!M102)","v":0},{"$f":"IF(Sort!O102=\"\",\"\",Sort!O102)","v":""},{"$f":"IF(Sort!P102=\"\",\"\",Sort!P102)","v":0},{"$f":"IF(Sort!R102=\"\",\"\",Sort!R102)","v":""},{"$f":"IF(Sort!S102=\"\",\"\",Sort!S102)","v":0},{"$f":"IF(Sort!U102=\"\",\"\",Sort!U102)","v":""},{"$f":"IF(Sort!V102=\"\",\"\",Sort!V102)","v":0},{"$f":"IF(Sort!X102=\"\",\"\",Sort!X102)","v":""},{"$f":"IF(Sort!Y102=\"\",\"\",Sort!Y102)","v":0},{"$f":"IF(Sort!B102=\"\",\"\",Sort!AA102)","v":""}]
["<tr align='center'>###<td class='Bld'>",{"$f":"Sort!AH103","v":""},"</td>###<td class='Bld'>",{"$f":"IF(Sort!B103=\"\",\"\",IF(Sort!C103=\"\",Sort!B103,Sort!B103&\"<br />#\"&Sort!C103))","v":""},"</td>###<td>",{"$f":"IF(Sort!E103=\"\",\"\",Sort!E103&\" \"&Sort!F103&\"<br />\"&Sort!G103)","v":""},"</td>###<td class='GrayOut'>",{"$f":"IF(Sort!H103=\"\",\"\",IF(Sort!I103=0,Sort!H103&\"<br /><span class='ClnMatch'>&nbsp;&nbsp;0&nbsp;&nbsp;</span><br /><b>\"&Sort!J103&\"</b>\",Sort!H103&\"<br />\"&Sort!I103&\"<br /><b>\"&Sort!J103&\"</b>\"))","v":""},"</td>###<td class='GrayOut'>",{"$f":"IF(Sort!K103=\"\",\"\",IF(Sort!L103=0,Sort!K103&\"<br /><span class='ClnMatch'>&nbsp;&nbsp;0&nbsp;&nbsp;</span><br /><b>\"&Sort!M103&\"</b>\",Sort!K103&\"<br />\"&Sort!L103&\"<br /><b>\"&Sort!M103&\"</b>\"))","v":""},"</td>###<td class='GrayOut'>",{"$f":"IF(Sort!N103=\"\",\"\",IF(Sort!O103=0,Sort!N103&\"<br /><span class='ClnMatch'>&nbsp;&nbsp;0&nbsp;&nbsp;</span><br /><b>\"&Sort!P103&\"</b>\",Sort!N103&\"<br />\"&Sort!O103&\"<br /><b>\"&Sort!P103&\"</b>\"))","v":""},"</td>###<td class='GrayOut'>",{"$f":"IF(Sort!Q103=\"\",\"\",IF(Sort!R103=0,Sort!Q103&\"<br /><span class='ClnMatch'>&nbsp;&nbsp;0&nbsp;&nbsp;</span><br /><b>\"&Sort!S103&\"</b>\",Sort!Q103&\"<br />\"&Sort!R103&\"<br /><b>\"&Sort!S103&\"</b>\"))","v":""},"</td>###<td class='GrayOut'>",{"$f":"IF(Sort!T103=\"\",\"\",IF(Sort!U103=0,Sort!T103&\"<br /><span class='ClnMatch'>&nbsp;&nbsp;0&nbsp;&nbsp;</span><br /><b>\"&Sort!V103&\"</b>\",Sort!T103&\"<br />\"&Sort!U103&\"<br /><b>\"&Sort!V103&\"</b>\"))","v":""},"</td>###<td class='GrayOut'>",{"$f":"IF(Sort!W103=\"\",\"\",IF(Sort!X103=0,Sort!W103&\"<br /><span class='ClnMatch'>&nbsp;&nbsp;0&nbsp;&nbsp;</span><br /><b>\"&Sort!Y103&\"</b>\",Sort!W103&\"<br />\"&Sort!X103&\"<br /><b>\"&Sort!Y103&\"</b>\"))","v":""},"</td>###<td>",{"$f":"IF(Sort!Z103=\"\",\"\",IF(Sort!AA103=0,Sort!Z103&\"<br /><span class='ClnMatch'>&nbsp;&nbsp;0&nbsp;&nbsp;</span><br /><b>\"&Sort!AB103&\"</b>\",Sort!Z103&\"<br />\"&Sort!AA103&\"<br /><b>\"&Sort!AB103&\"</b>\"))","v":""},"</td>###<td class=\"BluBld\">",{"$f":"IF(Sort!B103=\"\",\"\",IF(Sort!AA103=0,Sort!AC103&\"<br /><span class='ClnMatch'>&nbsp;&nbsp;0&nbsp;&nbsp;</span><br /><b>\"&Sort!AE103&\"</b>\",Sort!AC103&\"<br />\"&Sort!AD103&\"<br /><b>\"&Sort!AE103&\"</b>\"))","v":""},"</td>###<td class=\"Bld\">",{"$f":"IF(Sort!AF103=\"\",\"\",Sort!AF103)","v":""},"</td>###<td class=\"Bld\">",{"$f":"IF(Sort!AG103=\"\",\"\",Sort!AG103)","v":""},"</td>###</tr>",null,{"$f":"IF(Sort!I103=\"\",\"\",Sort!I103)","v":""},{"$f":"IF(Sort!J103=\"\",\"\",Sort!J103)","v":0},{"$f":"IF(Sort!L103=\"\",\"\",Sort!L103)","v":""},{"$f":"IF(Sort!M103=\"\",\"\",Sort!M103)","v":0},{"$f":"IF(Sort!O103=\"\",\"\",Sort!O103)","v":""},{"$f":"IF(Sort!P103=\"\",\"\",Sort!P103)","v":0},{"$f":"IF(Sort!R103=\"\",\"\",Sort!R103)","v":""},{"$f":"IF(Sort!S103=\"\",\"\",Sort!S103)","v":0},{"$f":"IF(Sort!U103=\"\",\"\",Sort!U103)","v":""},{"$f":"IF(Sort!V103=\"\",\"\",Sort!V103)","v":0},{"$f":"IF(Sort!X103=\"\",\"\",Sort!X103)","v":""},{"$f":"IF(Sort!Y103=\"\",\"\",Sort!Y103)","v":0},{"$f":"IF(Sort!B103=\"\",\"\",Sort!AA103)","v":""}]
["<tr align='center'>###<td class='Bld'>",{"$f":"Sort!AH104","v":""},"</td>###<td class='Bld'>",{"$f":"IF(Sort!B104=\"\",\"\",IF(Sort!C104=\"\",Sort!B104,Sort!B104&\"<br />#\"&Sort!C104))","v":""},"</td>###<td>",{"$f":"IF(Sort!E104=\"\",\"\",Sort!E104&\" \"&Sort!F104&\"<br />\"&Sort!G104)","v":""},"</td>###<td class='GrayOut'>",{"$f":"IF(Sort!H104=\"\",\"\",IF(Sort!I104=0,Sort!H104&\"<br /><span class='ClnMatch'>&nbsp;&nbsp;0&nbsp;&nbsp;</span><br /><b>\"&Sort!J104&\"</b>\",Sort!H104&\"<br />\"&Sort!I104&\"<br /><b>\"&Sort!J104&\"</b>\"))","v":""},"</td>###<td class='GrayOut'>",{"$f":"IF(Sort!K104=\"\",\"\",IF(Sort!L104=0,Sort!K104&\"<br /><span class='ClnMatch'>&nbsp;&nbsp;0&nbsp;&nbsp;</span><br /><b>\"&Sort!M104&\"</b>\",Sort!K104&\"<br />\"&Sort!L104&\"<br /><b>\"&Sort!M104&\"</b>\"))","v":""},"</td>###<td class='GrayOut'>",{"$f":"IF(Sort!N104=\"\",\"\",IF(Sort!O104=0,Sort!N104&\"<br /><span class='ClnMatch'>&nbsp;&nbsp;0&nbsp;&nbsp;</span><br /><b>\"&Sort!P104&\"</b>\",Sort!N104&\"<br />\"&Sort!O104&\"<br /><b>\"&Sort!P104&\"</b>\"))","v":""},"</td>###<td class='GrayOut'>",{"$f":"IF(Sort!Q104=\"\",\"\",IF(Sort!R104=0,Sort!Q104&\"<br /><span class='ClnMatch'>&nbsp;&nbsp;0&nbsp;&nbsp;</span><br /><b>\"&Sort!S104&\"</b>\",Sort!Q104&\"<br />\"&Sort!R104&\"<br /><b>\"&Sort!S104&\"</b>\"))","v":""},"</td>###<td class='GrayOut'>",{"$f":"IF(Sort!T104=\"\",\"\",IF(Sort!U104=0,Sort!T104&\"<br /><span class='ClnMatch'>&nbsp;&nbsp;0&nbsp;&nbsp;</span><br /><b>\"&Sort!V104&\"</b>\",Sort!T104&\"<br />\"&Sort!U104&\"<br /><b>\"&Sort!V104&\"</b>\"))","v":""},"</td>###<td class='GrayOut'>",{"$f":"IF(Sort!W104=\"\",\"\",IF(Sort!X104=0,Sort!W104&\"<br /><span class='ClnMatch'>&nbsp;&nbsp;0&nbsp;&nbsp;</span><br /><b>\"&Sort!Y104&\"</b>\",Sort!W104&\"<br />\"&Sort!X104&\"<br /><b>\"&Sort!Y104&\"</b>\"))","v":""},"</td>###<td>",{"$f":"IF(Sort!Z104=\"\",\"\",IF(Sort!AA104=0,Sort!Z104&\"<br /><span class='ClnMatch'>&nbsp;&nbsp;0&nbsp;&nbsp;</span><br /><b>\"&Sort!AB104&\"</b>\",Sort!Z104&\"<br />\"&Sort!AA104&\"<br /><b>\"&Sort!AB104&\"</b>\"))","v":""},"</td>###<td class=\"BluBld\">",{"$f":"IF(Sort!B104=\"\",\"\",IF(Sort!AA104=0,Sort!AC104&\"<br /><span class='ClnMatch'>&nbsp;&nbsp;0&nbsp;&nbsp;</span><br /><b>\"&Sort!AE104&\"</b>\",Sort!AC104&\"<br />\"&Sort!AD104&\"<br /><b>\"&Sort!AE104&\"</b>\"))","v":""},"</td>###<td class=\"Bld\">",{"$f":"IF(Sort!AF104=\"\",\"\",Sort!AF104)","v":""},"</td>###<td class=\"Bld\">",{"$f":"IF(Sort!AG104=\"\",\"\",Sort!AG104)","v":""},"</td>###</tr>",null,{"$f":"IF(Sort!I104=\"\",\"\",Sort!I104)","v":""},{"$f":"IF(Sort!J104=\"\",\"\",Sort!J104)","v":0},{"$f":"IF(Sort!L104=\"\",\"\",Sort!L104)","v":""},{"$f":"IF(Sort!M104=\"\",\"\",Sort!M104)","v":0},{"$f":"IF(Sort!O104=\"\",\"\",Sort!O104)","v":""},{"$f":"IF(Sort!P104=\"\",\"\",Sort!P104)","v":0},{"$f":"IF(Sort!R104=\"\",\"\",Sort!R104)","v":""},{"$f":"IF(Sort!S104=\"\",\"\",Sort!S104)","v":0},{"$f":"IF(Sort!U104=\"\",\"\",Sort!U104)","v":""},{"$f":"IF(Sort!V104=\"\",\"\",Sort!V104)","v":0},{"$f":"IF(Sort!X104=\"\",\"\",Sort!X104)","v":""},{"$f":"IF(Sort!Y104=\"\",\"\",Sort!Y104)","v":0},{"$f":"IF(Sort!B104=\"\",\"\",Sort!AA104)","v":""}]
["<tr align='center'>###<td class='Bld'>",{"$f":"Sort!AH105","v":""},"</td>###<td class='Bld'>",{"$f":"IF(Sort!B105=\"\",\"\",IF(Sort!C105=\"\",Sort!B105,Sort!B105&\"<br />#\"&Sort!C105))","v":""},"</td>###<td>",{"$f":"IF(Sort!E105=\"\",\"\",Sort!E105&\" \"&Sort!F105&\"<br />\"&Sort!G105)","v":""},"</td>###<td class='GrayOut'>",{"$f":"IF(Sort!H105=\"\",\"\",IF(Sort!I105=0,Sort!H105&\"<br /><span class='ClnMatch'>&nbsp;&nbsp;0&nbsp;&nbsp;</span><br /><b>\"&Sort!J105&\"</b>\",Sort!H105&\"<br />\"&Sort!I105&\"<br /><b>\"&Sort!J105&\"</b>\"))","v":""},"</td>###<td class='GrayOut'>",{"$f":"IF(Sort!K105=\"\",\"\",IF(Sort!L105=0,Sort!K105&\"<br /><span class='ClnMatch'>&nbsp;&nbsp;0&nbsp;&nbsp;</span><br /><b>\"&Sort!M105&\"</b>\",Sort!K105&\"<br />\"&Sort!L105&\"<br /><b>\"&Sort!M105&\"</b>\"))","v":""},"</td>###<td class='GrayOut'>",{"$f":"IF(Sort!N105=\"\",\"\",IF(Sort!O105=0,Sort!N105&\"<br /><span class='ClnMatch'>&nbsp;&nbsp;0&nbsp;&nbsp;</span><br /><b>\"&Sort!P105&\"</b>\",Sort!N105&\"<br />\"&Sort!O105&\"<br /><b>\"&Sort!P105&\"</b>\"))","v":""},"</td>###<td class='GrayOut'>",{"$f":"IF(Sort!Q105=\"\",\"\",IF(Sort!R105=0,Sort!Q105&\"<br /><span class='ClnMatch'>&nbsp;&nbsp;0&nbsp;&nbsp;</span><br /><b>\"&Sort!S105&\"</b>\",Sort!Q105&\"<br />\"&Sort!R105&\"<br /><b>\"&Sort!S105&\"</b>\"))","v":""},"</td>###<td class='GrayOut'>",{"$f":"IF(Sort!T105=\"\",\"\",IF(Sort!U105=0,Sort!T105&\"<br /><span class='ClnMatch'>&nbsp;&nbsp;0&nbsp;&nbsp;</span><br /><b>\"&Sort!V105&\"</b>\",Sort!T105&\"<br />\"&Sort!U105&\"<br /><b>\"&Sort!V105&\"</b>\"))","v":""},"</td>###<td class='GrayOut'>",{"$f":"IF(Sort!W105=\"\",\"\",IF(Sort!X105=0,Sort!W105&\"<br /><span class='ClnMatch'>&nbsp;&nbsp;0&nbsp;&nbsp;</span><br /><b>\"&Sort!Y105&\"</b>\",Sort!W105&\"<br />\"&Sort!X105&\"<br /><b>\"&Sort!Y105&\"</b>\"))","v":""},"</td>###<td>",{"$f":"IF(Sort!Z105=\"\",\"\",IF(Sort!AA105=0,Sort!Z105&\"<br /><span class='ClnMatch'>&nbsp;&nbsp;0&nbsp;&nbsp;</span><br /><b>\"&Sort!AB105&\"</b>\",Sort!Z105&\"<br />\"&Sort!AA105&\"<br /><b>\"&Sort!AB105&\"</b>\"))","v":""},"</td>###<td class=\"BluBld\">",{"$f":"IF(Sort!B105=\"\",\"\",IF(Sort!AA105=0,Sort!AC105&\"<br /><span class='ClnMatch'>&nbsp;&nbsp;0&nbsp;&nbsp;</span><br /><b>\"&Sort!AE105&\"</b>\",Sort!AC105&\"<br />\"&Sort!AD105&\"<br /><b>\"&Sort!AE105&\"</b>\"))","v":""},"</td>###<td class=\"Bld\">",{"$f":"IF(Sort!AF105=\"\",\"\",Sort!AF105)","v":""},"</td>###<td class=\"Bld\">",{"$f":"IF(Sort!AG105=\"\",\"\",Sort!AG105)","v":""},"</td>###</tr>",null,{"$f":"IF(Sort!I105=\"\",\"\",Sort!I105)","v":""},{"$f":"IF(Sort!J105=\"\",\"\",Sort!J105)","v":0},{"$f":"IF(Sort!L105=\"\",\"\",Sort!L105)","v":""},{"$f":"IF(Sort!M105=\"\",\"\",Sort!M105)","v":0},{"$f":"IF(Sort!O105=\"\",\"\",Sort!O105)","v":""},{"$f":"IF(Sort!P105=\"\",\"\",Sort!P105)","v":0},{"$f":"IF(Sort!R105=\"\",\"\",Sort!R105)","v":""},{"$f":"IF(Sort!S105=\"\",\"\",Sort!S105)","v":0},{"$f":"IF(Sort!U105=\"\",\"\",Sort!U105)","v":""},{"$f":"IF(Sort!V105=\"\",\"\",Sort!V105)","v":0},{"$f":"IF(Sort!X105=\"\",\"\",Sort!X105)","v":""},{"$f":"IF(Sort!Y105=\"\",\"\",Sort!Y105)","v":0},{"$f":"IF(Sort!B105=\"\",\"\",Sort!AA105)","v":""}]
["<tr align='center'>###<td class='Bld'>",{"$f":"Sort!AH106","v":""},"</td>###<td class='Bld'>",{"$f":"IF(Sort!B106=\"\",\"\",IF(Sort!C106=\"\",Sort!B106,Sort!B106&\"<br />#\"&Sort!C106))","v":""},"</td>###<td>",{"$f":"IF(Sort!E106=\"\",\"\",Sort!E106&\" \"&Sort!F106&\"<br />\"&Sort!G106)","v":""},"</td>###<td class='GrayOut'>",{"$f":"IF(Sort!H106=\"\",\"\",IF(Sort!I106=0,Sort!H106&\"<br /><span class='ClnMatch'>&nbsp;&nbsp;0&nbsp;&nbsp;</span><br /><b>\"&Sort!J106&\"</b>\",Sort!H106&\"<br />\"&Sort!I106&\"<br /><b>\"&Sort!J106&\"</b>\"))","v":""},"</td>###<td class='GrayOut'>",{"$f":"IF(Sort!K106=\"\",\"\",IF(Sort!L106=0,Sort!K106&\"<br /><span class='ClnMatch'>&nbsp;&nbsp;0&nbsp;&nbsp;</span><br /><b>\"&Sort!M106&\"</b>\",Sort!K106&\"<br />\"&Sort!L106&\"<br /><b>\"&Sort!M106&\"</b>\"))","v":""},"</td>###<td class='GrayOut'>",{"$f":"IF(Sort!N106=\"\",\"\",IF(Sort!O106=0,Sort!N106&\"<br /><span class='ClnMatch'>&nbsp;&nbsp;0&nbsp;&nbsp;</span><br /><b>\"&Sort!P106&\"</b>\",Sort!N106&\"<br />\"&Sort!O106&\"<br /><b>\"&Sort!P106&\"</b>\"))","v":""},"</td>###<td class='GrayOut'>",{"$f":"IF(Sort!Q106=\"\",\"\",IF(Sort!R106=0,Sort!Q106&\"<br /><span class='ClnMatch'>&nbsp;&nbsp;0&nbsp;&nbsp;</span><br /><b>\"&Sort!S106&\"</b>\",Sort!Q106&\"<br />\"&Sort!R106&\"<br /><b>\"&Sort!S106&\"</b>\"))","v":""},"</td>###<td class='GrayOut'>",{"$f":"IF(Sort!T106=\"\",\"\",IF(Sort!U106=0,Sort!T106&\"<br /><span class='ClnMatch'>&nbsp;&nbsp;0&nbsp;&nbsp;</span><br /><b>\"&Sort!V106&\"</b>\",Sort!T106&\"<br />\"&Sort!U106&\"<br /><b>\"&Sort!V106&\"</b>\"))","v":""},"</td>###<td class='GrayOut'>",{"$f":"IF(Sort!W106=\"\",\"\",IF(Sort!X106=0,Sort!W106&\"<br /><span class='ClnMatch'>&nbsp;&nbsp;0&nbsp;&nbsp;</span><br /><b>\"&Sort!Y106&\"</b>\",Sort!W106&\"<br />\"&Sort!X106&\"<br /><b>\"&Sort!Y106&\"</b>\"))","v":""},"</td>###<td>",{"$f":"IF(Sort!Z106=\"\",\"\",IF(Sort!AA106=0,Sort!Z106&\"<br /><span class='ClnMatch'>&nbsp;&nbsp;0&nbsp;&nbsp;</span><br /><b>\"&Sort!AB106&\"</b>\",Sort!Z106&\"<br />\"&Sort!AA106&\"<br /><b>\"&Sort!AB106&\"</b>\"))","v":""},"</td>###<td class=\"BluBld\">",{"$f":"IF(Sort!B106=\"\",\"\",IF(Sort!AA106=0,Sort!AC106&\"<br /><span class='ClnMatch'>&nbsp;&nbsp;0&nbsp;&nbsp;</span><br /><b>\"&Sort!AE106&\"</b>\",Sort!AC106&\"<br />\"&Sort!AD106&\"<br /><b>\"&Sort!AE106&\"</b>\"))","v":""},"</td>###<td class=\"Bld\">",{"$f":"IF(Sort!AF106=\"\",\"\",Sort!AF106)","v":""},"</td>###<td class=\"Bld\">",{"$f":"IF(Sort!AG106=\"\",\"\",Sort!AG106)","v":""},"</td>###</tr>",null,{"$f":"IF(Sort!I106=\"\",\"\",Sort!I106)","v":""},{"$f":"IF(Sort!J106=\"\",\"\",Sort!J106)","v":0},{"$f":"IF(Sort!L106=\"\",\"\",Sort!L106)","v":""},{"$f":"IF(Sort!M106=\"\",\"\",Sort!M106)","v":0},{"$f":"IF(Sort!O106=\"\",\"\",Sort!O106)","v":""},{"$f":"IF(Sort!P106=\"\",\"\",Sort!P106)","v":0},{"$f":"IF(Sort!R106=\"\",\"\",Sort!R106)","v":""},{"$f":"IF(Sort!S106=\"\",\"\",Sort!S106)","v":0},{"$f":"IF(Sort!U106=\"\",\"\",Sort!U106)","v":""},{"$f":"IF(Sort!V106=\"\",\"\",Sort!V106)","v":0},{"$f":"IF(Sort!X106=\"\",\"\",Sort!X106)","v":""},{"$f":"IF(Sort!Y106=\"\",\"\",Sort!Y106)","v":0},{"$f":"IF(Sort!B106=\"\",\"\",Sort!AA106)","v":""}]
["<tr align='center'>###<td class='Bld'>",{"$f":"Sort!AH107","v":""},"</td>###<td class='Bld'>",{"$f":"IF(Sort!B107=\"\",\"\",IF(Sort!C107=\"\",Sort!B107,Sort!B107&\"<br />#\"&Sort!C107))","v":""},"</td>###<td>",{"$f":"IF(Sort!E107=\"\",\"\",Sort!E107&\" \"&Sort!F107&\"<br />\"&Sort!G107)","v":""},"</td>###<td class='GrayOut'>",{"$f":"IF(Sort!H107=\"\",\"\",IF(Sort!I107=0,Sort!H107&\"<br /><span class='ClnMatch'>&nbsp;&nbsp;0&nbsp;&nbsp;</span><br /><b>\"&Sort!J107&\"</b>\",Sort!H107&\"<br />\"&Sort!I107&\"<br /><b>\"&Sort!J107&\"</b>\"))","v":""},"</td>###<td class='GrayOut'>",{"$f":"IF(Sort!K107=\"\",\"\",IF(Sort!L107=0,Sort!K107&\"<br /><span class='ClnMatch'>&nbsp;&nbsp;0&nbsp;&nbsp;</span><br /><b>\"&Sort!M107&\"</b>\",Sort!K107&\"<br />\"&Sort!L107&\"<br /><b>\"&Sort!M107&\"</b>\"))","v":""},"</td>###<td class='GrayOut'>",{"$f":"IF(Sort!N107=\"\",\"\",IF(Sort!O107=0,Sort!N107&\"<br /><span class='ClnMatch'>&nbsp;&nbsp;0&nbsp;&nbsp;</span><br /><b>\"&Sort!P107&\"</b>\",Sort!N107&\"<br />\"&Sort!O107&\"<br /><b>\"&Sort!P107&\"</b>\"))","v":""},"</td>###<td class='GrayOut'>",{"$f":"IF(Sort!Q107=\"\",\"\",IF(Sort!R107=0,Sort!Q107&\"<br /><span class='ClnMatch'>&nbsp;&nbsp;0&nbsp;&nbsp;</span><br /><b>\"&Sort!S107&\"</b>\",Sort!Q107&\"<br />\"&Sort!R107&\"<br /><b>\"&Sort!S107&\"</b>\"))","v":""},"</td>###<td class='GrayOut'>",{"$f":"IF(Sort!T107=\"\",\"\",IF(Sort!U107=0,Sort!T107&\"<br /><span class='ClnMatch'>&nbsp;&nbsp;0&nbsp;&nbsp;</span><br /><b>\"&Sort!V107&\"</b>\",Sort!T107&\"<br />\"&Sort!U107&\"<br /><b>\"&Sort!V107&\"</b>\"))","v":""},"</td>###<td class='GrayOut'>",{"$f":"IF(Sort!W107=\"\",\"\",IF(Sort!X107=0,Sort!W107&\"<br /><span class='ClnMatch'>&nbsp;&nbsp;0&nbsp;&nbsp;</span><br /><b>\"&Sort!Y107&\"</b>\",Sort!W107&\"<br />\"&Sort!X107&\"<br /><b>\"&Sort!Y107&\"</b>\"))","v":""},"</td>###<td>",{"$f":"IF(Sort!Z107=\"\",\"\",IF(Sort!AA107=0,Sort!Z107&\"<br /><span class='ClnMatch'>&nbsp;&nbsp;0&nbsp;&nbsp;</span><br /><b>\"&Sort!AB107&\"</b>\",Sort!Z107&\"<br />\"&Sort!AA107&\"<br /><b>\"&Sort!AB107&\"</b>\"))","v":""},"</td>###<td class=\"BluBld\">",{"$f":"IF(Sort!B107=\"\",\"\",IF(Sort!AA107=0,Sort!AC107&\"<br /><span class='ClnMatch'>&nbsp;&nbsp;0&nbsp;&nbsp;</span><br /><b>\"&Sort!AE107&\"</b>\",Sort!AC107&\"<br />\"&Sort!AD107&\"<br /><b>\"&Sort!AE107&\"</b>\"))","v":""},"</td>###<td class=\"Bld\">",{"$f":"IF(Sort!AF107=\"\",\"\",Sort!AF107)","v":""},"</td>###<td class=\"Bld\">",{"$f":"IF(Sort!AG107=\"\",\"\",Sort!AG107)","v":""},"</td>###</tr>",null,{"$f":"IF(Sort!I107=\"\",\"\",Sort!I107)","v":""},{"$f":"IF(Sort!J107=\"\",\"\",Sort!J107)","v":0},{"$f":"IF(Sort!L107=\"\",\"\",Sort!L107)","v":""},{"$f":"IF(Sort!M107=\"\",\"\",Sort!M107)","v":0},{"$f":"IF(Sort!O107=\"\",\"\",Sort!O107)","v":""},{"$f":"IF(Sort!P107=\"\",\"\",Sort!P107)","v":0},{"$f":"IF(Sort!R107=\"\",\"\",Sort!R107)","v":""},{"$f":"IF(Sort!S107=\"\",\"\",Sort!S107)","v":0},{"$f":"IF(Sort!U107=\"\",\"\",Sort!U107)","v":""},{"$f":"IF(Sort!V107=\"\",\"\",Sort!V107)","v":0},{"$f":"IF(Sort!X107=\"\",\"\",Sort!X107)","v":""},{"$f":"IF(Sort!Y107=\"\",\"\",Sort!Y107)","v":0},{"$f":"IF(Sort!B107=\"\",\"\",Sort!AA107)","v":""}]
["<tr align='center'>###<td class='Bld'>",{"$f":"Sort!AH108","v":""},"</td>###<td class='Bld'>",{"$f":"IF(Sort!B108=\"\",\"\",IF(Sort!C108=\"\",Sort!B108,Sort!B108&\"<br />#\"&Sort!C108))","v":""},"</td>###<td>",{"$f":"IF(Sort!E108=\"\",\"\",Sort!E108&\" \"&Sort!F108&\"<br />\"&Sort!G108)","v":""},"</td>###<td class='GrayOut'>",{"$f":"IF(Sort!H108=\"\",\"\",IF(Sort!I108=0,Sort!H108&\"<br /><span class='ClnMatch'>&nbsp;&nbsp;0&nbsp;&nbsp;</span><br /><b>\"&Sort!J108&\"</b>\",Sort!H108&\"<br />\"&Sort!I108&\"<br /><b>\"&Sort!J108&\"</b>\"))","v":""},"</td>###<td class='GrayOut'>",{"$f":"IF(Sort!K108=\"\",\"\",IF(Sort!L108=0,Sort!K108&\"<br /><span class='ClnMatch'>&nbsp;&nbsp;0&nbsp;&nbsp;</span><br /><b>\"&Sort!M108&\"</b>\",Sort!K108&\"<br />\"&Sort!L108&\"<br /><b>\"&Sort!M108&\"</b>\"))","v":""},"</td>###<td class='GrayOut'>",{"$f":"IF(Sort!N108=\"\",\"\",IF(Sort!O108=0,Sort!N108&\"<br /><span class='ClnMatch'>&nbsp;&nbsp;0&nbsp;&nbsp;</span><br /><b>\"&Sort!P108&\"</b>\",Sort!N108&\"<br />\"&Sort!O108&\"<br /><b>\"&Sort!P108&\"</b>\"))","v":""},"</td>###<td class='GrayOut'>",{"$f":"IF(Sort!Q108=\"\",\"\",IF(Sort!R108=0,Sort!Q108&\"<br /><span class='ClnMatch'>&nbsp;&nbsp;0&nbsp;&nbsp;</span><br /><b>\"&Sort!S108&\"</b>\",Sort!Q108&\"<br />\"&Sort!R108&\"<br /><b>\"&Sort!S108&\"</b>\"))","v":""},"</td>###<td class='GrayOut'>",{"$f":"IF(Sort!T108=\"\",\"\",IF(Sort!U108=0,Sort!T108&\"<br /><span class='ClnMatch'>&nbsp;&nbsp;0&nbsp;&nbsp;</span><br /><b>\"&Sort!V108&\"</b>\",Sort!T108&\"<br />\"&Sort!U108&\"<br /><b>\"&Sort!V108&\"</b>\"))","v":""},"</td>###<td class='GrayOut'>",{"$f":"IF(Sort!W108=\"\",\"\",IF(Sort!X108=0,Sort!W108&\"<br /><span class='ClnMatch'>&nbsp;&nbsp;0&nbsp;&nbsp;</span><br /><b>\"&Sort!Y108&\"</b>\",Sort!W108&\"<br />\"&Sort!X108&\"<br /><b>\"&Sort!Y108&\"</b>\"))","v":""},"</td>###<td>",{"$f":"IF(Sort!Z108=\"\",\"\",IF(Sort!AA108=0,Sort!Z108&\"<br /><span class='ClnMatch'>&nbsp;&nbsp;0&nbsp;&nbsp;</span><br /><b>\"&Sort!AB108&\"</b>\",Sort!Z108&\"<br />\"&Sort!AA108&\"<br /><b>\"&Sort!AB108&\"</b>\"))","v":""},"</td>###<td class=\"BluBld\">",{"$f":"IF(Sort!B108=\"\",\"\",IF(Sort!AA108=0,Sort!AC108&\"<br /><span class='ClnMatch'>&nbsp;&nbsp;0&nbsp;&nbsp;</span><br /><b>\"&Sort!AE108&\"</b>\",Sort!AC108&\"<br />\"&Sort!AD108&\"<br /><b>\"&Sort!AE108&\"</b>\"))","v":""},"</td>###<td class=\"Bld\">",{"$f":"IF(Sort!AF108=\"\",\"\",Sort!AF108)","v":""},"</td>###<td class=\"Bld\">",{"$f":"IF(Sort!AG108=\"\",\"\",Sort!AG108)","v":""},"</td>###</tr>",null,{"$f":"IF(Sort!I108=\"\",\"\",Sort!I108)","v":""},{"$f":"IF(Sort!J108=\"\",\"\",Sort!J108)","v":0},{"$f":"IF(Sort!L108=\"\",\"\",Sort!L108)","v":""},{"$f":"IF(Sort!M108=\"\",\"\",Sort!M108)","v":0},{"$f":"IF(Sort!O108=\"\",\"\",Sort!O108)","v":""},{"$f":"IF(Sort!P108=\"\",\"\",Sort!P108)","v":0},{"$f":"IF(Sort!R108=\"\",\"\",Sort!R108)","v":""},{"$f":"IF(Sort!S108=\"\",\"\",Sort!S108)","v":0},{"$f":"IF(Sort!U108=\"\",\"\",Sort!U108)","v":""},{"$f":"IF(Sort!V108=\"\",\"\",Sort!V108)","v":0},{"$f":"IF(Sort!X108=\"\",\"\",Sort!X108)","v":""},{"$f":"IF(Sort!Y108=\"\",\"\",Sort!Y108)","v":0},{"$f":"IF(Sort!B108=\"\",\"\",Sort!AA108)","v":""}]
["<tr align='center'>###<td class='Bld'>",{"$f":"Sort!AH109","v":""},"</td>###<td class='Bld'>",{"$f":"IF(Sort!B109=\"\",\"\",IF(Sort!C109=\"\",Sort!B109,Sort!B109&\"<br />#\"&Sort!C109))","v":""},"</td>###<td>",{"$f":"IF(Sort!E109=\"\",\"\",Sort!E109&\" \"&Sort!F109&\"<br />\"&Sort!G109)","v":""},"</td>###<td class='GrayOut'>",{"$f":"IF(Sort!H109=\"\",\"\",IF(Sort!I109=0,Sort!H109&\"<br /><span class='ClnMatch'>&nbsp;&nbsp;0&nbsp;&nbsp;</span><br /><b>\"&Sort!J109&\"</b>\",Sort!H109&\"<br />\"&Sort!I109&\"<br /><b>\"&Sort!J109&\"</b>\"))","v":""},"</td>###<td class='GrayOut'>",{"$f":"IF(Sort!K109=\"\",\"\",IF(Sort!L109=0,Sort!K109&\"<br /><span class='ClnMatch'>&nbsp;&nbsp;0&nbsp;&nbsp;</span><br /><b>\"&Sort!M109&\"</b>\",Sort!K109&\"<br />\"&Sort!L109&\"<br /><b>\"&Sort!M109&\"</b>\"))","v":""},"</td>###<td class='GrayOut'>",{"$f":"IF(Sort!N109=\"\",\"\",IF(Sort!O109=0,Sort!N109&\"<br /><span class='ClnMatch'>&nbsp;&nbsp;0&nbsp;&nbsp;</span><br /><b>\"&Sort!P109&\"</b>\",Sort!N109&\"<br />\"&Sort!O109&\"<br /><b>\"&Sort!P109&\"</b>\"))","v":""},"</td>###<td class='GrayOut'>",{"$f":"IF(Sort!Q109=\"\",\"\",IF(Sort!R109=0,Sort!Q109&\"<br /><span class='ClnMatch'>&nbsp;&nbsp;0&nbsp;&nbsp;</span><br /><b>\"&Sort!S109&\"</b>\",Sort!Q109&\"<br />\"&Sort!R109&\"<br /><b>\"&Sort!S109&\"</b>\"))","v":""},"</td>###<td class='GrayOut'>",{"$f":"IF(Sort!T109=\"\",\"\",IF(Sort!U109=0,Sort!T109&\"<br /><span class='ClnMatch'>&nbsp;&nbsp;0&nbsp;&nbsp;</span><br /><b>\"&Sort!V109&\"</b>\",Sort!T109&\"<br />\"&Sort!U109&\"<br /><b>\"&Sort!V109&\"</b>\"))","v":""},"</td>###<td class='GrayOut'>",{"$f":"IF(Sort!W109=\"\",\"\",IF(Sort!X109=0,Sort!W109&\"<br /><span class='ClnMatch'>&nbsp;&nbsp;0&nbsp;&nbsp;</span><br /><b>\"&Sort!Y109&\"</b>\",Sort!W109&\"<br />\"&Sort!X109&\"<br /><b>\"&Sort!Y109&\"</b>\"))","v":""},"</td>###<td>",{"$f":"IF(Sort!Z109=\"\",\"\",IF(Sort!AA109=0,Sort!Z109&\"<br /><span class='ClnMatch'>&nbsp;&nbsp;0&nbsp;&nbsp;</span><br /><b>\"&Sort!AB109&\"</b>\",Sort!Z109&\"<br />\"&Sort!AA109&\"<br /><b>\"&Sort!AB109&\"</b>\"))","v":""},"</td>###<td class=\"BluBld\">",{"$f":"IF(Sort!B109=\"\",\"\",IF(Sort!AA109=0,Sort!AC109&\"<br /><span class='ClnMatch'>&nbsp;&nbsp;0&nbsp;&nbsp;</span><br /><b>\"&Sort!AE109&\"</b>\",Sort!AC109&\"<br />\"&Sort!AD109&\"<br /><b>\"&Sort!AE109&\"</b>\"))","v":""},"</td>###<td class=\"Bld\">",{"$f":"IF(Sort!AF109=\"\",\"\",Sort!AF109)","v":""},"</td>###<td class=\"Bld\">",{"$f":"IF(Sort!AG109=\"\",\"\",Sort!AG109)","v":""},"</td>###</tr>",null,{"$f":"IF(Sort!I109=\"\",\"\",Sort!I109)","v":""},{"$f":"IF(Sort!J109=\"\",\"\",Sort!J109)","v":0},{"$f":"IF(Sort!L109=\"\",\"\",Sort!L109)","v":""},{"$f":"IF(Sort!M109=\"\",\"\",Sort!M109)","v":0},{"$f":"IF(Sort!O109=\"\",\"\",Sort!O109)","v":""},{"$f":"IF(Sort!P109=\"\",\"\",Sort!P109)","v":0},{"$f":"IF(Sort!R109=\"\",\"\",Sort!R109)","v":""},{"$f":"IF(Sort!S109=\"\",\"\",Sort!S109)","v":0},{"$f":"IF(Sort!U109=\"\",\"\",Sort!U109)","v":""},{"$f":"IF(Sort!V109=\"\",\"\",Sort!V109)","v":0},{"$f":"IF(Sort!X109=\"\",\"\",Sort!X109)","v":""},{"$f":"IF(Sort!Y109=\"\",\"\",Sort!Y109)","v":0},{"$f":"IF(Sort!B109=\"\",\"\",Sort!AA109)","v":""}]
["<tr align='center'>###<td class='Bld'>",{"$f":"Sort!AH110","v":""},"</td>###<td class='Bld'>",{"$f":"IF(Sort!B110=\"\",\"\",IF(Sort!C110=\"\",Sort!B110,Sort!B110&\"<br />#\"&Sort!C110))","v":""},"</td>###<td>",{"$f":"IF(Sort!E110=\"\",\"\",Sort!E110&\" \"&Sort!F110&\"<br />\"&Sort!G110)","v":""},"</td>###<td class='GrayOut'>",{"$f":"IF(Sort!H110=\"\",\"\",IF(Sort!I110=0,Sort!H110&\"<br /><span class='ClnMatch'>&nbsp;&nbsp;0&nbsp;&nbsp;</span><br /><b>\"&Sort!J110&\"</b>\",Sort!H110&\"<br />\"&Sort!I110&\"<br /><b>\"&Sort!J110&\"</b>\"))","v":""},"</td>###<td class='GrayOut'>",{"$f":"IF(Sort!K110=\"\",\"\",IF(Sort!L110=0,Sort!K110&\"<br /><span class='ClnMatch'>&nbsp;&nbsp;0&nbsp;&nbsp;</span><br /><b>\"&Sort!M110&\"</b>\",Sort!K110&\"<br />\"&Sort!L110&\"<br /><b>\"&Sort!M110&\"</b>\"))","v":""},"</td>###<td class='GrayOut'>",{"$f":"IF(Sort!N110=\"\",\"\",IF(Sort!O110=0,Sort!N110&\"<br /><span class='ClnMatch'>&nbsp;&nbsp;0&nbsp;&nbsp;</span><br /><b>\"&Sort!P110&\"</b>\",Sort!N110&\"<br />\"&Sort!O110&\"<br /><b>\"&Sort!P110&\"</b>\"))","v":""},"</td>###<td class='GrayOut'>",{"$f":"IF(Sort!Q110=\"\",\"\",IF(Sort!R110=0,Sort!Q110&\"<br /><span class='ClnMatch'>&nbsp;&nbsp;0&nbsp;&nbsp;</span><br /><b>\"&Sort!S110&\"</b>\",Sort!Q110&\"<br />\"&Sort!R110&\"<br /><b>\"&Sort!S110&\"</b>\"))","v":""},"</td>###<td class='GrayOut'>",{"$f":"IF(Sort!T110=\"\",\"\",IF(Sort!U110=0,Sort!T110&\"<br /><span class='ClnMatch'>&nbsp;&nbsp;0&nbsp;&nbsp;</span><br /><b>\"&Sort!V110&\"</b>\",Sort!T110&\"<br />\"&Sort!U110&\"<br /><b>\"&Sort!V110&\"</b>\"))","v":""},"</td>###<td class='GrayOut'>",{"$f":"IF(Sort!W110=\"\",\"\",IF(Sort!X110=0,Sort!W110&\"<br /><span class='ClnMatch'>&nbsp;&nbsp;0&nbsp;&nbsp;</span><br /><b>\"&Sort!Y110&\"</b>\",Sort!W110&\"<br />\"&Sort!X110&\"<br /><b>\"&Sort!Y110&\"</b>\"))","v":""},"</td>###<td>",{"$f":"IF(Sort!Z110=\"\",\"\",IF(Sort!AA110=0,Sort!Z110&\"<br /><span class='ClnMatch'>&nbsp;&nbsp;0&nbsp;&nbsp;</span><br /><b>\"&Sort!AB110&\"</b>\",Sort!Z110&\"<br />\"&Sort!AA110&\"<br /><b>\"&Sort!AB110&\"</b>\"))","v":""},"</td>###<td class=\"BluBld\">",{"$f":"IF(Sort!B110=\"\",\"\",IF(Sort!AA110=0,Sort!AC110&\"<br /><span class='ClnMatch'>&nbsp;&nbsp;0&nbsp;&nbsp;</span><br /><b>\"&Sort!AE110&\"</b>\",Sort!AC110&\"<br />\"&Sort!AD110&\"<br /><b>\"&Sort!AE110&\"</b>\"))","v":""},"</td>###<td class=\"Bld\">",{"$f":"IF(Sort!AF110=\"\",\"\",Sort!AF110)","v":""},"</td>###<td class=\"Bld\">",{"$f":"IF(Sort!AG110=\"\",\"\",Sort!AG110)","v":""},"</td>###</tr>",null,{"$f":"IF(Sort!I110=\"\",\"\",Sort!I110)","v":""},{"$f":"IF(Sort!J110=\"\",\"\",Sort!J110)","v":0},{"$f":"IF(Sort!L110=\"\",\"\",Sort!L110)","v":""},{"$f":"IF(Sort!M110=\"\",\"\",Sort!M110)","v":0},{"$f":"IF(Sort!O110=\"\",\"\",Sort!O110)","v":""},{"$f":"IF(Sort!P110=\"\",\"\",Sort!P110)","v":0},{"$f":"IF(Sort!R110=\"\",\"\",Sort!R110)","v":""},{"$f":"IF(Sort!S110=\"\",\"\",Sort!S110)","v":0},{"$f":"IF(Sort!U110=\"\",\"\",Sort!U110)","v":""},{"$f":"IF(Sort!V110=\"\",\"\",Sort!V110)","v":0},{"$f":"IF(Sort!X110=\"\",\"\",Sort!X110)","v":""},{"$f":"IF(Sort!Y110=\"\",\"\",Sort!Y110)","v":0},{"$f":"IF(Sort!B110=\"\",\"\",Sort!AA110)","v":""}]
["<tr align='center'>###<td class='Bld'>",{"$f":"Sort!AH111","v":""},"</td>###<td class='Bld'>",{"$f":"IF(Sort!B111=\"\",\"\",IF(Sort!C111=\"\",Sort!B111,Sort!B111&\"<br />#\"&Sort!C111))","v":""},"</td>###<td>",{"$f":"IF(Sort!E111=\"\",\"\",Sort!E111&\" \"&Sort!F111&\"<br />\"&Sort!G111)","v":""},"</td>###<td class='GrayOut'>",{"$f":"IF(Sort!H111=\"\",\"\",IF(Sort!I111=0,Sort!H111&\"<br /><span class='ClnMatch'>&nbsp;&nbsp;0&nbsp;&nbsp;</span><br /><b>\"&Sort!J111&\"</b>\",Sort!H111&\"<br />\"&Sort!I111&\"<br /><b>\"&Sort!J111&\"</b>\"))","v":""},"</td>###<td class='GrayOut'>",{"$f":"IF(Sort!K111=\"\",\"\",IF(Sort!L111=0,Sort!K111&\"<br /><span class='ClnMatch'>&nbsp;&nbsp;0&nbsp;&nbsp;</span><br /><b>\"&Sort!M111&\"</b>\",Sort!K111&\"<br />\"&Sort!L111&\"<br /><b>\"&Sort!M111&\"</b>\"))","v":""},"</td>###<td class='GrayOut'>",{"$f":"IF(Sort!N111=\"\",\"\",IF(Sort!O111=0,Sort!N111&\"<br /><span class='ClnMatch'>&nbsp;&nbsp;0&nbsp;&nbsp;</span><br /><b>\"&Sort!P111&\"</b>\",Sort!N111&\"<br />\"&Sort!O111&\"<br /><b>\"&Sort!P111&\"</b>\"))","v":""},"</td>###<td class='GrayOut'>",{"$f":"IF(Sort!Q111=\"\",\"\",IF(Sort!R111=0,Sort!Q111&\"<br /><span class='ClnMatch'>&nbsp;&nbsp;0&nbsp;&nbsp;</span><br /><b>\"&Sort!S111&\"</b>\",Sort!Q111&\"<br />\"&Sort!R111&\"<br /><b>\"&Sort!S111&\"</b>\"))","v":""},"</td>###<td class='GrayOut'>",{"$f":"IF(Sort!T111=\"\",\"\",IF(Sort!U111=0,Sort!T111&\"<br /><span class='ClnMatch'>&nbsp;&nbsp;0&nbsp;&nbsp;</span><br /><b>\"&Sort!V111&\"</b>\",Sort!T111&\"<br />\"&Sort!U111&\"<br /><b>\"&Sort!V111&\"</b>\"))","v":""},"</td>###<td class='GrayOut'>",{"$f":"IF(Sort!W111=\"\",\"\",IF(Sort!X111=0,Sort!W111&\"<br /><span class='ClnMatch'>&nbsp;&nbsp;0&nbsp;&nbsp;</span><br /><b>\"&Sort!Y111&\"</b>\",Sort!W111&\"<br />\"&Sort!X111&\"<br /><b>\"&Sort!Y111&\"</b>\"))","v":""},"</td>###<td>",{"$f":"IF(Sort!Z111=\"\",\"\",IF(Sort!AA111=0,Sort!Z111&\"<br /><span class='ClnMatch'>&nbsp;&nbsp;0&nbsp;&nbsp;</span><br /><b>\"&Sort!AB111&\"</b>\",Sort!Z111&\"<br />\"&Sort!AA111&\"<br /><b>\"&Sort!AB111&\"</b>\"))","v":""},"</td>###<td class=\"BluBld\">",{"$f":"IF(Sort!B111=\"\",\"\",IF(Sort!AA111=0,Sort!AC111&\"<br /><span class='ClnMatch'>&nbsp;&nbsp;0&nbsp;&nbsp;</span><br /><b>\"&Sort!AE111&\"</b>\",Sort!AC111&\"<br />\"&Sort!AD111&\"<br /><b>\"&Sort!AE111&\"</b>\"))","v":""},"</td>###<td class=\"Bld\">",{"$f":"IF(Sort!AF111=\"\",\"\",Sort!AF111)","v":""},"</td>###<td class=\"Bld\">",{"$f":"IF(Sort!AG111=\"\",\"\",Sort!AG111)","v":""},"</td>###</tr>",null,{"$f":"IF(Sort!I111=\"\",\"\",Sort!I111)","v":""},{"$f":"IF(Sort!J111=\"\",\"\",Sort!J111)","v":0},{"$f":"IF(Sort!L111=\"\",\"\",Sort!L111)","v":""},{"$f":"IF(Sort!M111=\"\",\"\",Sort!M111)","v":0},{"$f":"IF(Sort!O111=\"\",\"\",Sort!O111)","v":""},{"$f":"IF(Sort!P111=\"\",\"\",Sort!P111)","v":0},{"$f":"IF(Sort!R111=\"\",\"\",Sort!R111)","v":""},{"$f":"IF(Sort!S111=\"\",\"\",Sort!S111)","v":0},{"$f":"IF(Sort!U111=\"\",\"\",Sort!U111)","v":""},{"$f":"IF(Sort!V111=\"\",\"\",Sort!V111)","v":0},{"$f":"IF(Sort!X111=\"\",\"\",Sort!X111)","v":""},{"$f":"IF(Sort!Y111=\"\",\"\",Sort!Y111)","v":0},{"$f":"IF(Sort!B111=\"\",\"\",Sort!AA111)","v":""}]
["<tr align='center'>###<td class='Bld'>",{"$f":"Sort!AH112","v":""},"</td>###<td class='Bld'>",{"$f":"IF(Sort!B112=\"\",\"\",IF(Sort!C112=\"\",Sort!B112,Sort!B112&\"<br />#\"&Sort!C112))","v":""},"</td>###<td>",{"$f":"IF(Sort!E112=\"\",\"\",Sort!E112&\" \"&Sort!F112&\"<br />\"&Sort!G112)","v":""},"</td>###<td class='GrayOut'>",{"$f":"IF(Sort!H112=\"\",\"\",IF(Sort!I112=0,Sort!H112&\"<br /><span class='ClnMatch'>&nbsp;&nbsp;0&nbsp;&nbsp;</span><br /><b>\"&Sort!J112&\"</b>\",Sort!H112&\"<br />\"&Sort!I112&\"<br /><b>\"&Sort!J112&\"</b>\"))","v":""},"</td>###<td class='GrayOut'>",{"$f":"IF(Sort!K112=\"\",\"\",IF(Sort!L112=0,Sort!K112&\"<br /><span class='ClnMatch'>&nbsp;&nbsp;0&nbsp;&nbsp;</span><br /><b>\"&Sort!M112&\"</b>\",Sort!K112&\"<br />\"&Sort!L112&\"<br /><b>\"&Sort!M112&\"</b>\"))","v":""},"</td>###<td class='GrayOut'>",{"$f":"IF(Sort!N112=\"\",\"\",IF(Sort!O112=0,Sort!N112&\"<br /><span class='ClnMatch'>&nbsp;&nbsp;0&nbsp;&nbsp;</span><br /><b>\"&Sort!P112&\"</b>\",Sort!N112&\"<br />\"&Sort!O112&\"<br /><b>\"&Sort!P112&\"</b>\"))","v":""},"</td>###<td class='GrayOut'>",{"$f":"IF(Sort!Q112=\"\",\"\",IF(Sort!R112=0,Sort!Q112&\"<br /><span class='ClnMatch'>&nbsp;&nbsp;0&nbsp;&nbsp;</span><br /><b>\"&Sort!S112&\"</b>\",Sort!Q112&\"<br />\"&Sort!R112&\"<br /><b>\"&Sort!S112&\"</b>\"))","v":""},"</td>###<td class='GrayOut'>",{"$f":"IF(Sort!T112=\"\",\"\",IF(Sort!U112=0,Sort!T112&\"<br /><span class='ClnMatch'>&nbsp;&nbsp;0&nbsp;&nbsp;</span><br /><b>\"&Sort!V112&\"</b>\",Sort!T112&\"<br />\"&Sort!U112&\"<br /><b>\"&Sort!V112&\"</b>\"))","v":""},"</td>###<td class='GrayOut'>",{"$f":"IF(Sort!W112=\"\",\"\",IF(Sort!X112=0,Sort!W112&\"<br /><span class='ClnMatch'>&nbsp;&nbsp;0&nbsp;&nbsp;</span><br /><b>\"&Sort!Y112&\"</b>\",Sort!W112&\"<br />\"&Sort!X112&\"<br /><b>\"&Sort!Y112&\"</b>\"))","v":""},"</td>###<td>",{"$f":"IF(Sort!Z112=\"\",\"\",IF(Sort!AA112=0,Sort!Z112&\"<br /><span class='ClnMatch'>&nbsp;&nbsp;0&nbsp;&nbsp;</span><br /><b>\"&Sort!AB112&\"</b>\",Sort!Z112&\"<br />\"&Sort!AA112&\"<br /><b>\"&Sort!AB112&\"</b>\"))","v":""},"</td>###<td class=\"BluBld\">",{"$f":"IF(Sort!B112=\"\",\"\",IF(Sort!AA112=0,Sort!AC112&\"<br /><span class='ClnMatch'>&nbsp;&nbsp;0&nbsp;&nbsp;</span><br /><b>\"&Sort!AE112&\"</b>\",Sort!AC112&\"<br />\"&Sort!AD112&\"<br /><b>\"&Sort!AE112&\"</b>\"))","v":""},"</td>###<td class=\"Bld\">",{"$f":"IF(Sort!AF112=\"\",\"\",Sort!AF112)","v":""},"</td>###<td class=\"Bld\">",{"$f":"IF(Sort!AG112=\"\",\"\",Sort!AG112)","v":""},"</td>###</tr>",null,{"$f":"IF(Sort!I112=\"\",\"\",Sort!I112)","v":""},{"$f":"IF(Sort!J112=\"\",\"\",Sort!J112)","v":0},{"$f":"IF(Sort!L112=\"\",\"\",Sort!L112)","v":""},{"$f":"IF(Sort!M112=\"\",\"\",Sort!M112)","v":0},{"$f":"IF(Sort!O112=\"\",\"\",Sort!O112)","v":""},{"$f":"IF(Sort!P112=\"\",\"\",Sort!P112)","v":0},{"$f":"IF(Sort!R112=\"\",\"\",Sort!R112)","v":""},{"$f":"IF(Sort!S112=\"\",\"\",Sort!S112)","v":0},{"$f":"IF(Sort!U112=\"\",\"\",Sort!U112)","v":""},{"$f":"IF(Sort!V112=\"\",\"\",Sort!V112)","v":0},{"$f":"IF(Sort!X112=\"\",\"\",Sort!X112)","v":""},{"$f":"IF(Sort!Y112=\"\",\"\",Sort!Y112)","v":0},{"$f":"IF(Sort!B112=\"\",\"\",Sort!AA112)","v":""}]
["<tr align='center'>###<td class='Bld'>",{"$f":"Sort!AH113","v":""},"</td>###<td class='Bld'>",{"$f":"IF(Sort!B113=\"\",\"\",IF(Sort!C113=\"\",Sort!B113,Sort!B113&\"<br />#\"&Sort!C113))","v":""},"</td>###<td>",{"$f":"IF(Sort!E113=\"\",\"\",Sort!E113&\" \"&Sort!F113&\"<br />\"&Sort!G113)","v":""},"</td>###<td class='GrayOut'>",{"$f":"IF(Sort!H113=\"\",\"\",IF(Sort!I113=0,Sort!H113&\"<br /><span class='ClnMatch'>&nbsp;&nbsp;0&nbsp;&nbsp;</span><br /><b>\"&Sort!J113&\"</b>\",Sort!H113&\"<br />\"&Sort!I113&\"<br /><b>\"&Sort!J113&\"</b>\"))","v":""},"</td>###<td class='GrayOut'>",{"$f":"IF(Sort!K113=\"\",\"\",IF(Sort!L113=0,Sort!K113&\"<br /><span class='ClnMatch'>&nbsp;&nbsp;0&nbsp;&nbsp;</span><br /><b>\"&Sort!M113&\"</b>\",Sort!K113&\"<br />\"&Sort!L113&\"<br /><b>\"&Sort!M113&\"</b>\"))","v":""},"</td>###<td class='GrayOut'>",{"$f":"IF(Sort!N113=\"\",\"\",IF(Sort!O113=0,Sort!N113&\"<br /><span class='ClnMatch'>&nbsp;&nbsp;0&nbsp;&nbsp;</span><br /><b>\"&Sort!P113&\"</b>\",Sort!N113&\"<br />\"&Sort!O113&\"<br /><b>\"&Sort!P113&\"</b>\"))","v":""},"</td>###<td class='GrayOut'>",{"$f":"IF(Sort!Q113=\"\",\"\",IF(Sort!R113=0,Sort!Q113&\"<br /><span class='ClnMatch'>&nbsp;&nbsp;0&nbsp;&nbsp;</span><br /><b>\"&Sort!S113&\"</b>\",Sort!Q113&\"<br />\"&Sort!R113&\"<br /><b>\"&Sort!S113&\"</b>\"))","v":""},"</td>###<td class='GrayOut'>",{"$f":"IF(Sort!T113=\"\",\"\",IF(Sort!U113=0,Sort!T113&\"<br /><span class='ClnMatch'>&nbsp;&nbsp;0&nbsp;&nbsp;</span><br /><b>\"&Sort!V113&\"</b>\",Sort!T113&\"<br />\"&Sort!U113&\"<br /><b>\"&Sort!V113&\"</b>\"))","v":""},"</td>###<td class='GrayOut'>",{"$f":"IF(Sort!W113=\"\",\"\",IF(Sort!X113=0,Sort!W113&\"<br /><span class='ClnMatch'>&nbsp;&nbsp;0&nbsp;&nbsp;</span><br /><b>\"&Sort!Y113&\"</b>\",Sort!W113&\"<br />\"&Sort!X113&\"<br /><b>\"&Sort!Y113&\"</b>\"))","v":""},"</td>###<td>",{"$f":"IF(Sort!Z113=\"\",\"\",IF(Sort!AA113=0,Sort!Z113&\"<br /><span class='ClnMatch'>&nbsp;&nbsp;0&nbsp;&nbsp;</span><br /><b>\"&Sort!AB113&\"</b>\",Sort!Z113&\"<br />\"&Sort!AA113&\"<br /><b>\"&Sort!AB113&\"</b>\"))","v":""},"</td>###<td class=\"BluBld\">",{"$f":"IF(Sort!B113=\"\",\"\",IF(Sort!AA113=0,Sort!AC113&\"<br /><span class='ClnMatch'>&nbsp;&nbsp;0&nbsp;&nbsp;</span><br /><b>\"&Sort!AE113&\"</b>\",Sort!AC113&\"<br />\"&Sort!AD113&\"<br /><b>\"&Sort!AE113&\"</b>\"))","v":""},"</td>###<td class=\"Bld\">",{"$f":"IF(Sort!AF113=\"\",\"\",Sort!AF113)","v":""},"</td>###<td class=\"Bld\">",{"$f":"IF(Sort!AG113=\"\",\"\",Sort!AG113)","v":""},"</td>###</tr>",null,{"$f":"IF(Sort!I113=\"\",\"\",Sort!I113)","v":""},{"$f":"IF(Sort!J113=\"\",\"\",Sort!J113)","v":0},{"$f":"IF(Sort!L113=\"\",\"\",Sort!L113)","v":""},{"$f":"IF(Sort!M113=\"\",\"\",Sort!M113)","v":0},{"$f":"IF(Sort!O113=\"\",\"\",Sort!O113)","v":""},{"$f":"IF(Sort!P113=\"\",\"\",Sort!P113)","v":0},{"$f":"IF(Sort!R113=\"\",\"\",Sort!R113)","v":""},{"$f":"IF(Sort!S113=\"\",\"\",Sort!S113)","v":0},{"$f":"IF(Sort!U113=\"\",\"\",Sort!U113)","v":""},{"$f":"IF(Sort!V113=\"\",\"\",Sort!V113)","v":0},{"$f":"IF(Sort!X113=\"\",\"\",Sort!X113)","v":""},{"$f":"IF(Sort!Y113=\"\",\"\",Sort!Y113)","v":0},{"$f":"IF(Sort!B113=\"\",\"\",Sort!AA113)","v":""}]
["<tr align='center'>###<td class='Bld'>",{"$f":"Sort!AH114","v":""},"</td>###<td class='Bld'>",{"$f":"IF(Sort!B114=\"\",\"\",IF(Sort!C114=\"\",Sort!B114,Sort!B114&\"<br />#\"&Sort!C114))","v":""},"</td>###<td>",{"$f":"IF(Sort!E114=\"\",\"\",Sort!E114&\" \"&Sort!F114&\"<br />\"&Sort!G114)","v":""},"</td>###<td class='GrayOut'>",{"$f":"IF(Sort!H114=\"\",\"\",IF(Sort!I114=0,Sort!H114&\"<br /><span class='ClnMatch'>&nbsp;&nbsp;0&nbsp;&nbsp;</span><br /><b>\"&Sort!J114&\"</b>\",Sort!H114&\"<br />\"&Sort!I114&\"<br /><b>\"&Sort!J114&\"</b>\"))","v":""},"</td>###<td class='GrayOut'>",{"$f":"IF(Sort!K114=\"\",\"\",IF(Sort!L114=0,Sort!K114&\"<br /><span class='ClnMatch'>&nbsp;&nbsp;0&nbsp;&nbsp;</span><br /><b>\"&Sort!M114&\"</b>\",Sort!K114&\"<br />\"&Sort!L114&\"<br /><b>\"&Sort!M114&\"</b>\"))","v":""},"</td>###<td class='GrayOut'>",{"$f":"IF(Sort!N114=\"\",\"\",IF(Sort!O114=0,Sort!N114&\"<br /><span class='ClnMatch'>&nbsp;&nbsp;0&nbsp;&nbsp;</span><br /><b>\"&Sort!P114&\"</b>\",Sort!N114&\"<br />\"&Sort!O114&\"<br /><b>\"&Sort!P114&\"</b>\"))","v":""},"</td>###<td class='GrayOut'>",{"$f":"IF(Sort!Q114=\"\",\"\",IF(Sort!R114=0,Sort!Q114&\"<br /><span class='ClnMatch'>&nbsp;&nbsp;0&nbsp;&nbsp;</span><br /><b>\"&Sort!S114&\"</b>\",Sort!Q114&\"<br />\"&Sort!R114&\"<br /><b>\"&Sort!S114&\"</b>\"))","v":""},"</td>###<td class='GrayOut'>",{"$f":"IF(Sort!T114=\"\",\"\",IF(Sort!U114=0,Sort!T114&\"<br /><span class='ClnMatch'>&nbsp;&nbsp;0&nbsp;&nbsp;</span><br /><b>\"&Sort!V114&\"</b>\",Sort!T114&\"<br />\"&Sort!U114&\"<br /><b>\"&Sort!V114&\"</b>\"))","v":""},"</td>###<td class='GrayOut'>",{"$f":"IF(Sort!W114=\"\",\"\",IF(Sort!X114=0,Sort!W114&\"<br /><span class='ClnMatch'>&nbsp;&nbsp;0&nbsp;&nbsp;</span><br /><b>\"&Sort!Y114&\"</b>\",Sort!W114&\"<br />\"&Sort!X114&\"<br /><b>\"&Sort!Y114&\"</b>\"))","v":""},"</td>###<td>",{"$f":"IF(Sort!Z114=\"\",\"\",IF(Sort!AA114=0,Sort!Z114&\"<br /><span class='ClnMatch'>&nbsp;&nbsp;0&nbsp;&nbsp;</span><br /><b>\"&Sort!AB114&\"</b>\",Sort!Z114&\"<br />\"&Sort!AA114&\"<br /><b>\"&Sort!AB114&\"</b>\"))","v":""},"</td>###<td class=\"BluBld\">",{"$f":"IF(Sort!B114=\"\",\"\",IF(Sort!AA114=0,Sort!AC114&\"<br /><span class='ClnMatch'>&nbsp;&nbsp;0&nbsp;&nbsp;</span><br /><b>\"&Sort!AE114&\"</b>\",Sort!AC114&\"<br />\"&Sort!AD114&\"<br /><b>\"&Sort!AE114&\"</b>\"))","v":""},"</td>###<td class=\"Bld\">",{"$f":"IF(Sort!AF114=\"\",\"\",Sort!AF114)","v":""},"</td>###<td class=\"Bld\">",{"$f":"IF(Sort!AG114=\"\",\"\",Sort!AG114)","v":""},"</td>###</tr>",null,{"$f":"IF(Sort!I114=\"\",\"\",Sort!I114)","v":""},{"$f":"IF(Sort!J114=\"\",\"\",Sort!J114)","v":0},{"$f":"IF(Sort!L114=\"\",\"\",Sort!L114)","v":""},{"$f":"IF(Sort!M114=\"\",\"\",Sort!M114)","v":0},{"$f":"IF(Sort!O114=\"\",\"\",Sort!O114)","v":""},{"$f":"IF(Sort!P114=\"\",\"\",Sort!P114)","v":0},{"$f":"IF(Sort!R114=\"\",\"\",Sort!R114)","v":""},{"$f":"IF(Sort!S114=\"\",\"\",Sort!S114)","v":0},{"$f":"IF(Sort!U114=\"\",\"\",Sort!U114)","v":""},{"$f":"IF(Sort!V114=\"\",\"\",Sort!V114)","v":0},{"$f":"IF(Sort!X114=\"\",\"\",Sort!X114)","v":""},{"$f":"IF(Sort!Y114=\"\",\"\",Sort!Y114)","v":0},{"$f":"IF(Sort!B114=\"\",\"\",Sort!AA114)","v":""}]
["<tr align='center'>###<td class='Bld'>",{"$f":"Sort!AH115","v":""},"</td>###<td class='Bld'>",{"$f":"IF(Sort!B115=\"\",\"\",IF(Sort!C115=\"\",Sort!B115,Sort!B115&\"<br />#\"&Sort!C115))","v":""},"</td>###<td>",{"$f":"IF(Sort!E115=\"\",\"\",Sort!E115&\" \"&Sort!F115&\"<br />\"&Sort!G115)","v":""},"</td>###<td class='GrayOut'>",{"$f":"IF(Sort!H115=\"\",\"\",IF(Sort!I115=0,Sort!H115&\"<br /><span class='ClnMatch'>&nbsp;&nbsp;0&nbsp;&nbsp;</span><br /><b>\"&Sort!J115&\"</b>\",Sort!H115&\"<br />\"&Sort!I115&\"<br /><b>\"&Sort!J115&\"</b>\"))","v":""},"</td>###<td class='GrayOut'>",{"$f":"IF(Sort!K115=\"\",\"\",IF(Sort!L115=0,Sort!K115&\"<br /><span class='ClnMatch'>&nbsp;&nbsp;0&nbsp;&nbsp;</span><br /><b>\"&Sort!M115&\"</b>\",Sort!K115&\"<br />\"&Sort!L115&\"<br /><b>\"&Sort!M115&\"</b>\"))","v":""},"</td>###<td class='GrayOut'>",{"$f":"IF(Sort!N115=\"\",\"\",IF(Sort!O115=0,Sort!N115&\"<br /><span class='ClnMatch'>&nbsp;&nbsp;0&nbsp;&nbsp;</span><br /><b>\"&Sort!P115&\"</b>\",Sort!N115&\"<br />\"&Sort!O115&\"<br /><b>\"&Sort!P115&\"</b>\"))","v":""},"</td>###<td class='GrayOut'>",{"$f":"IF(Sort!Q115=\"\",\"\",IF(Sort!R115=0,Sort!Q115&\"<br /><span class='ClnMatch'>&nbsp;&nbsp;0&nbsp;&nbsp;</span><br /><b>\"&Sort!S115&\"</b>\",Sort!Q115&\"<br />\"&Sort!R115&\"<br /><b>\"&Sort!S115&\"</b>\"))","v":""},"</td>###<td class='GrayOut'>",{"$f":"IF(Sort!T115=\"\",\"\",IF(Sort!U115=0,Sort!T115&\"<br /><span class='ClnMatch'>&nbsp;&nbsp;0&nbsp;&nbsp;</span><br /><b>\"&Sort!V115&\"</b>\",Sort!T115&\"<br />\"&Sort!U115&\"<br /><b>\"&Sort!V115&\"</b>\"))","v":""},"</td>###<td class='GrayOut'>",{"$f":"IF(Sort!W115=\"\",\"\",IF(Sort!X115=0,Sort!W115&\"<br /><span class='ClnMatch'>&nbsp;&nbsp;0&nbsp;&nbsp;</span><br /><b>\"&Sort!Y115&\"</b>\",Sort!W115&\"<br />\"&Sort!X115&\"<br /><b>\"&Sort!Y115&\"</b>\"))","v":""},"</td>###<td>",{"$f":"IF(Sort!Z115=\"\",\"\",IF(Sort!AA115=0,Sort!Z115&\"<br /><span class='ClnMatch'>&nbsp;&nbsp;0&nbsp;&nbsp;</span><br /><b>\"&Sort!AB115&\"</b>\",Sort!Z115&\"<br />\"&Sort!AA115&\"<br /><b>\"&Sort!AB115&\"</b>\"))","v":""},"</td>###<td class=\"BluBld\">",{"$f":"IF(Sort!B115=\"\",\"\",IF(Sort!AA115=0,Sort!AC115&\"<br /><span class='ClnMatch'>&nbsp;&nbsp;0&nbsp;&nbsp;</span><br /><b>\"&Sort!AE115&\"</b>\",Sort!AC115&\"<br />\"&Sort!AD115&\"<br /><b>\"&Sort!AE115&\"</b>\"))","v":""},"</td>###<td class=\"Bld\">",{"$f":"IF(Sort!AF115=\"\",\"\",Sort!AF115)","v":""},"</td>###<td class=\"Bld\">",{"$f":"IF(Sort!AG115=\"\",\"\",Sort!AG115)","v":""},"</td>###</tr>",null,{"$f":"IF(Sort!I115=\"\",\"\",Sort!I115)","v":""},{"$f":"IF(Sort!J115=\"\",\"\",Sort!J115)","v":0},{"$f":"IF(Sort!L115=\"\",\"\",Sort!L115)","v":""},{"$f":"IF(Sort!M115=\"\",\"\",Sort!M115)","v":0},{"$f":"IF(Sort!O115=\"\",\"\",Sort!O115)","v":""},{"$f":"IF(Sort!P115=\"\",\"\",Sort!P115)","v":0},{"$f":"IF(Sort!R115=\"\",\"\",Sort!R115)","v":""},{"$f":"IF(Sort!S115=\"\",\"\",Sort!S115)","v":0},{"$f":"IF(Sort!U115=\"\",\"\",Sort!U115)","v":""},{"$f":"IF(Sort!V115=\"\",\"\",Sort!V115)","v":0},{"$f":"IF(Sort!X115=\"\",\"\",Sort!X115)","v":""},{"$f":"IF(Sort!Y115=\"\",\"\",Sort!Y115)","v":0},{"$f":"IF(Sort!B115=\"\",\"\",Sort!AA115)","v":""}]
["<tr align='center'>###<td class='Bld'>",{"$f":"Sort!AH116","v":""},"</td>###<td class='Bld'>",{"$f":"IF(Sort!B116=\"\",\"\",IF(Sort!C116=\"\",Sort!B116,Sort!B116&\"<br />#\"&Sort!C116))","v":""},"</td>###<td>",{"$f":"IF(Sort!E116=\"\",\"\",Sort!E116&\" \"&Sort!F116&\"<br />\"&Sort!G116)","v":""},"</td>###<td class='GrayOut'>",{"$f":"IF(Sort!H116=\"\",\"\",IF(Sort!I116=0,Sort!H116&\"<br /><span class='ClnMatch'>&nbsp;&nbsp;0&nbsp;&nbsp;</span><br /><b>\"&Sort!J116&\"</b>\",Sort!H116&\"<br />\"&Sort!I116&\"<br /><b>\"&Sort!J116&\"</b>\"))","v":""},"</td>###<td class='GrayOut'>",{"$f":"IF(Sort!K116=\"\",\"\",IF(Sort!L116=0,Sort!K116&\"<br /><span class='ClnMatch'>&nbsp;&nbsp;0&nbsp;&nbsp;</span><br /><b>\"&Sort!M116&\"</b>\",Sort!K116&\"<br />\"&Sort!L116&\"<br /><b>\"&Sort!M116&\"</b>\"))","v":""},"</td>###<td class='GrayOut'>",{"$f":"IF(Sort!N116=\"\",\"\",IF(Sort!O116=0,Sort!N116&\"<br /><span class='ClnMatch'>&nbsp;&nbsp;0&nbsp;&nbsp;</span><br /><b>\"&Sort!P116&\"</b>\",Sort!N116&\"<br />\"&Sort!O116&\"<br /><b>\"&Sort!P116&\"</b>\"))","v":""},"</td>###<td class='GrayOut'>",{"$f":"IF(Sort!Q116=\"\",\"\",IF(Sort!R116=0,Sort!Q116&\"<br /><span class='ClnMatch'>&nbsp;&nbsp;0&nbsp;&nbsp;</span><br /><b>\"&Sort!S116&\"</b>\",Sort!Q116&\"<br />\"&Sort!R116&\"<br /><b>\"&Sort!S116&\"</b>\"))","v":""},"</td>###<td class='GrayOut'>",{"$f":"IF(Sort!T116=\"\",\"\",IF(Sort!U116=0,Sort!T116&\"<br /><span class='ClnMatch'>&nbsp;&nbsp;0&nbsp;&nbsp;</span><br /><b>\"&Sort!V116&\"</b>\",Sort!T116&\"<br />\"&Sort!U116&\"<br /><b>\"&Sort!V116&\"</b>\"))","v":""},"</td>###<td class='GrayOut'>",{"$f":"IF(Sort!W116=\"\",\"\",IF(Sort!X116=0,Sort!W116&\"<br /><span class='ClnMatch'>&nbsp;&nbsp;0&nbsp;&nbsp;</span><br /><b>\"&Sort!Y116&\"</b>\",Sort!W116&\"<br />\"&Sort!X116&\"<br /><b>\"&Sort!Y116&\"</b>\"))","v":""},"</td>###<td>",{"$f":"IF(Sort!Z116=\"\",\"\",IF(Sort!AA116=0,Sort!Z116&\"<br /><span class='ClnMatch'>&nbsp;&nbsp;0&nbsp;&nbsp;</span><br /><b>\"&Sort!AB116&\"</b>\",Sort!Z116&\"<br />\"&Sort!AA116&\"<br /><b>\"&Sort!AB116&\"</b>\"))","v":""},"</td>###<td class=\"BluBld\">",{"$f":"IF(Sort!B116=\"\",\"\",IF(Sort!AA116=0,Sort!AC116&\"<br /><span class='ClnMatch'>&nbsp;&nbsp;0&nbsp;&nbsp;</span><br /><b>\"&Sort!AE116&\"</b>\",Sort!AC116&\"<br />\"&Sort!AD116&\"<br /><b>\"&Sort!AE116&\"</b>\"))","v":""},"</td>###<td class=\"Bld\">",{"$f":"IF(Sort!AF116=\"\",\"\",Sort!AF116)","v":""},"</td>###<td class=\"Bld\">",{"$f":"IF(Sort!AG116=\"\",\"\",Sort!AG116)","v":""},"</td>###</tr>",null,{"$f":"IF(Sort!I116=\"\",\"\",Sort!I116)","v":""},{"$f":"IF(Sort!J116=\"\",\"\",Sort!J116)","v":0},{"$f":"IF(Sort!L116=\"\",\"\",Sort!L116)","v":""},{"$f":"IF(Sort!M116=\"\",\"\",Sort!M116)","v":0},{"$f":"IF(Sort!O116=\"\",\"\",Sort!O116)","v":""},{"$f":"IF(Sort!P116=\"\",\"\",Sort!P116)","v":0},{"$f":"IF(Sort!R116=\"\",\"\",Sort!R116)","v":""},{"$f":"IF(Sort!S116=\"\",\"\",Sort!S116)","v":0},{"$f":"IF(Sort!U116=\"\",\"\",Sort!U116)","v":""},{"$f":"IF(Sort!V116=\"\",\"\",Sort!V116)","v":0},{"$f":"IF(Sort!X116=\"\",\"\",Sort!X116)","v":""},{"$f":"IF(Sort!Y116=\"\",\"\",Sort!Y116)","v":0},{"$f":"IF(Sort!B116=\"\",\"\",Sort!AA116)","v":""}]
["<tr align='center'>###<td class='Bld'>",{"$f":"Sort!AH117","v":""},"</td>###<td class='Bld'>",{"$f":"IF(Sort!B117=\"\",\"\",IF(Sort!C117=\"\",Sort!B117,Sort!B117&\"<br />#\"&Sort!C117))","v":""},"</td>###<td>",{"$f":"IF(Sort!E117=\"\",\"\",Sort!E117&\" \"&Sort!F117&\"<br />\"&Sort!G117)","v":""},"</td>###<td class='GrayOut'>",{"$f":"IF(Sort!H117=\"\",\"\",IF(Sort!I117=0,Sort!H117&\"<br /><span class='ClnMatch'>&nbsp;&nbsp;0&nbsp;&nbsp;</span><br /><b>\"&Sort!J117&\"</b>\",Sort!H117&\"<br />\"&Sort!I117&\"<br /><b>\"&Sort!J117&\"</b>\"))","v":""},"</td>###<td class='GrayOut'>",{"$f":"IF(Sort!K117=\"\",\"\",IF(Sort!L117=0,Sort!K117&\"<br /><span class='ClnMatch'>&nbsp;&nbsp;0&nbsp;&nbsp;</span><br /><b>\"&Sort!M117&\"</b>\",Sort!K117&\"<br />\"&Sort!L117&\"<br /><b>\"&Sort!M117&\"</b>\"))","v":""},"</td>###<td class='GrayOut'>",{"$f":"IF(Sort!N117=\"\",\"\",IF(Sort!O117=0,Sort!N117&\"<br /><span class='ClnMatch'>&nbsp;&nbsp;0&nbsp;&nbsp;</span><br /><b>\"&Sort!P117&\"</b>\",Sort!N117&\"<br />\"&Sort!O117&\"<br /><b>\"&Sort!P117&\"</b>\"))","v":""},"</td>###<td class='GrayOut'>",{"$f":"IF(Sort!Q117=\"\",\"\",IF(Sort!R117=0,Sort!Q117&\"<br /><span class='ClnMatch'>&nbsp;&nbsp;0&nbsp;&nbsp;</span><br /><b>\"&Sort!S117&\"</b>\",Sort!Q117&\"<br />\"&Sort!R117&\"<br /><b>\"&Sort!S117&\"</b>\"))","v":""},"</td>###<td class='GrayOut'>",{"$f":"IF(Sort!T117=\"\",\"\",IF(Sort!U117=0,Sort!T117&\"<br /><span class='ClnMatch'>&nbsp;&nbsp;0&nbsp;&nbsp;</span><br /><b>\"&Sort!V117&\"</b>\",Sort!T117&\"<br />\"&Sort!U117&\"<br /><b>\"&Sort!V117&\"</b>\"))","v":""},"</td>###<td class='GrayOut'>",{"$f":"IF(Sort!W117=\"\",\"\",IF(Sort!X117=0,Sort!W117&\"<br /><span class='ClnMatch'>&nbsp;&nbsp;0&nbsp;&nbsp;</span><br /><b>\"&Sort!Y117&\"</b>\",Sort!W117&\"<br />\"&Sort!X117&\"<br /><b>\"&Sort!Y117&\"</b>\"))","v":""},"</td>###<td>",{"$f":"IF(Sort!Z117=\"\",\"\",IF(Sort!AA117=0,Sort!Z117&\"<br /><span class='ClnMatch'>&nbsp;&nbsp;0&nbsp;&nbsp;</span><br /><b>\"&Sort!AB117&\"</b>\",Sort!Z117&\"<br />\"&Sort!AA117&\"<br /><b>\"&Sort!AB117&\"</b>\"))","v":""},"</td>###<td class=\"BluBld\">",{"$f":"IF(Sort!B117=\"\",\"\",IF(Sort!AA117=0,Sort!AC117&\"<br /><span class='ClnMatch'>&nbsp;&nbsp;0&nbsp;&nbsp;</span><br /><b>\"&Sort!AE117&\"</b>\",Sort!AC117&\"<br />\"&Sort!AD117&\"<br /><b>\"&Sort!AE117&\"</b>\"))","v":""},"</td>###<td class=\"Bld\">",{"$f":"IF(Sort!AF117=\"\",\"\",Sort!AF117)","v":""},"</td>###<td class=\"Bld\">",{"$f":"IF(Sort!AG117=\"\",\"\",Sort!AG117)","v":""},"</td>###</tr>",null,{"$f":"IF(Sort!I117=\"\",\"\",Sort!I117)","v":""},{"$f":"IF(Sort!J117=\"\",\"\",Sort!J117)","v":0},{"$f":"IF(Sort!L117=\"\",\"\",Sort!L117)","v":""},{"$f":"IF(Sort!M117=\"\",\"\",Sort!M117)","v":0},{"$f":"IF(Sort!O117=\"\",\"\",Sort!O117)","v":""},{"$f":"IF(Sort!P117=\"\",\"\",Sort!P117)","v":0},{"$f":"IF(Sort!R117=\"\",\"\",Sort!R117)","v":""},{"$f":"IF(Sort!S117=\"\",\"\",Sort!S117)","v":0},{"$f":"IF(Sort!U117=\"\",\"\",Sort!U117)","v":""},{"$f":"IF(Sort!V117=\"\",\"\",Sort!V117)","v":0},{"$f":"IF(Sort!X117=\"\",\"\",Sort!X117)","v":""},{"$f":"IF(Sort!Y117=\"\",\"\",Sort!Y117)","v":0},{"$f":"IF(Sort!B117=\"\",\"\",Sort!AA117)","v":""}]
["<tr align='center'>###<td class='Bld'>",{"$f":"Sort!AH118","v":""},"</td>###<td class='Bld'>",{"$f":"IF(Sort!B118=\"\",\"\",IF(Sort!C118=\"\",Sort!B118,Sort!B118&\"<br />#\"&Sort!C118))","v":""},"</td>###<td>",{"$f":"IF(Sort!E118=\"\",\"\",Sort!E118&\" \"&Sort!F118&\"<br />\"&Sort!G118)","v":""},"</td>###<td class='GrayOut'>",{"$f":"IF(Sort!H118=\"\",\"\",IF(Sort!I118=0,Sort!H118&\"<br /><span class='ClnMatch'>&nbsp;&nbsp;0&nbsp;&nbsp;</span><br /><b>\"&Sort!J118&\"</b>\",Sort!H118&\"<br />\"&Sort!I118&\"<br /><b>\"&Sort!J118&\"</b>\"))","v":""},"</td>###<td class='GrayOut'>",{"$f":"IF(Sort!K118=\"\",\"\",IF(Sort!L118=0,Sort!K118&\"<br /><span class='ClnMatch'>&nbsp;&nbsp;0&nbsp;&nbsp;</span><br /><b>\"&Sort!M118&\"</b>\",Sort!K118&\"<br />\"&Sort!L118&\"<br /><b>\"&Sort!M118&\"</b>\"))","v":""},"</td>###<td class='GrayOut'>",{"$f":"IF(Sort!N118=\"\",\"\",IF(Sort!O118=0,Sort!N118&\"<br /><span class='ClnMatch'>&nbsp;&nbsp;0&nbsp;&nbsp;</span><br /><b>\"&Sort!P118&\"</b>\",Sort!N118&\"<br />\"&Sort!O118&\"<br /><b>\"&Sort!P118&\"</b>\"))","v":""},"</td>###<td class='GrayOut'>",{"$f":"IF(Sort!Q118=\"\",\"\",IF(Sort!R118=0,Sort!Q118&\"<br /><span class='ClnMatch'>&nbsp;&nbsp;0&nbsp;&nbsp;</span><br /><b>\"&Sort!S118&\"</b>\",Sort!Q118&\"<br />\"&Sort!R118&\"<br /><b>\"&Sort!S118&\"</b>\"))","v":""},"</td>###<td class='GrayOut'>",{"$f":"IF(Sort!T118=\"\",\"\",IF(Sort!U118=0,Sort!T118&\"<br /><span class='ClnMatch'>&nbsp;&nbsp;0&nbsp;&nbsp;</span><br /><b>\"&Sort!V118&\"</b>\",Sort!T118&\"<br />\"&Sort!U118&\"<br /><b>\"&Sort!V118&\"</b>\"))","v":""},"</td>###<td class='GrayOut'>",{"$f":"IF(Sort!W118=\"\",\"\",IF(Sort!X118=0,Sort!W118&\"<br /><span class='ClnMatch'>&nbsp;&nbsp;0&nbsp;&nbsp;</span><br /><b>\"&Sort!Y118&\"</b>\",Sort!W118&\"<br />\"&Sort!X118&\"<br /><b>\"&Sort!Y118&\"</b>\"))","v":""},"</td>###<td>",{"$f":"IF(Sort!Z118=\"\",\"\",IF(Sort!AA118=0,Sort!Z118&\"<br /><span class='ClnMatch'>&nbsp;&nbsp;0&nbsp;&nbsp;</span><br /><b>\"&Sort!AB118&\"</b>\",Sort!Z118&\"<br />\"&Sort!AA118&\"<br /><b>\"&Sort!AB118&\"</b>\"))","v":""},"</td>###<td class=\"BluBld\">",{"$f":"IF(Sort!B118=\"\",\"\",IF(Sort!AA118=0,Sort!AC118&\"<br /><span class='ClnMatch'>&nbsp;&nbsp;0&nbsp;&nbsp;</span><br /><b>\"&Sort!AE118&\"</b>\",Sort!AC118&\"<br />\"&Sort!AD118&\"<br /><b>\"&Sort!AE118&\"</b>\"))","v":""},"</td>###<td class=\"Bld\">",{"$f":"IF(Sort!AF118=\"\",\"\",Sort!AF118)","v":""},"</td>###<td class=\"Bld\">",{"$f":"IF(Sort!AG118=\"\",\"\",Sort!AG118)","v":""},"</td>###</tr>",null,{"$f":"IF(Sort!I118=\"\",\"\",Sort!I118)","v":""},{"$f":"IF(Sort!J118=\"\",\"\",Sort!J118)","v":0},{"$f":"IF(Sort!L118=\"\",\"\",Sort!L118)","v":""},{"$f":"IF(Sort!M118=\"\",\"\",Sort!M118)","v":0},{"$f":"IF(Sort!O118=\"\",\"\",Sort!O118)","v":""},{"$f":"IF(Sort!P118=\"\",\"\",Sort!P118)","v":0},{"$f":"IF(Sort!R118=\"\",\"\",Sort!R118)","v":""},{"$f":"IF(Sort!S118=\"\",\"\",Sort!S118)","v":0},{"$f":"IF(Sort!U118=\"\",\"\",Sort!U118)","v":""},{"$f":"IF(Sort!V118=\"\",\"\",Sort!V118)","v":0},{"$f":"IF(Sort!X118=\"\",\"\",Sort!X118)","v":""},{"$f":"IF(Sort!Y118=\"\",\"\",Sort!Y118)","v":0},{"$f":"IF(Sort!B118=\"\",\"\",Sort!AA118)","v":""}]
["<tr align='center'>###<td class='Bld'>",{"$f":"Sort!AH119","v":""},"</td>###<td class='Bld'>",{"$f":"IF(Sort!B119=\"\",\"\",IF(Sort!C119=\"\",Sort!B119,Sort!B119&\"<br />#\"&Sort!C119))","v":""},"</td>###<td>",{"$f":"IF(Sort!E119=\"\",\"\",Sort!E119&\" \"&Sort!F119&\"<br />\"&Sort!G119)","v":""},"</td>###<td class='GrayOut'>",{"$f":"IF(Sort!H119=\"\",\"\",IF(Sort!I119=0,Sort!H119&\"<br /><span class='ClnMatch'>&nbsp;&nbsp;0&nbsp;&nbsp;</span><br /><b>\"&Sort!J119&\"</b>\",Sort!H119&\"<br />\"&Sort!I119&\"<br /><b>\"&Sort!J119&\"</b>\"))","v":""},"</td>###<td class='GrayOut'>",{"$f":"IF(Sort!K119=\"\",\"\",IF(Sort!L119=0,Sort!K119&\"<br /><span class='ClnMatch'>&nbsp;&nbsp;0&nbsp;&nbsp;</span><br /><b>\"&Sort!M119&\"</b>\",Sort!K119&\"<br />\"&Sort!L119&\"<br /><b>\"&Sort!M119&\"</b>\"))","v":""},"</td>###<td class='GrayOut'>",{"$f":"IF(Sort!N119=\"\",\"\",IF(Sort!O119=0,Sort!N119&\"<br /><span class='ClnMatch'>&nbsp;&nbsp;0&nbsp;&nbsp;</span><br /><b>\"&Sort!P119&\"</b>\",Sort!N119&\"<br />\"&Sort!O119&\"<br /><b>\"&Sort!P119&\"</b>\"))","v":""},"</td>###<td class='GrayOut'>",{"$f":"IF(Sort!Q119=\"\",\"\",IF(Sort!R119=0,Sort!Q119&\"<br /><span class='ClnMatch'>&nbsp;&nbsp;0&nbsp;&nbsp;</span><br /><b>\"&Sort!S119&\"</b>\",Sort!Q119&\"<br />\"&Sort!R119&\"<br /><b>\"&Sort!S119&\"</b>\"))","v":""},"</td>###<td class='GrayOut'>",{"$f":"IF(Sort!T119=\"\",\"\",IF(Sort!U119=0,Sort!T119&\"<br /><span class='ClnMatch'>&nbsp;&nbsp;0&nbsp;&nbsp;</span><br /><b>\"&Sort!V119&\"</b>\",Sort!T119&\"<br />\"&Sort!U119&\"<br /><b>\"&Sort!V119&\"</b>\"))","v":""},"</td>###<td class='GrayOut'>",{"$f":"IF(Sort!W119=\"\",\"\",IF(Sort!X119=0,Sort!W119&\"<br /><span class='ClnMatch'>&nbsp;&nbsp;0&nbsp;&nbsp;</span><br /><b>\"&Sort!Y119&\"</b>\",Sort!W119&\"<br />\"&Sort!X119&\"<br /><b>\"&Sort!Y119&\"</b>\"))","v":""},"</td>###<td>",{"$f":"IF(Sort!Z119=\"\",\"\",IF(Sort!AA119=0,Sort!Z119&\"<br /><span class='ClnMatch'>&nbsp;&nbsp;0&nbsp;&nbsp;</span><br /><b>\"&Sort!AB119&\"</b>\",Sort!Z119&\"<br />\"&Sort!AA119&\"<br /><b>\"&Sort!AB119&\"</b>\"))","v":""},"</td>###<td class=\"BluBld\">",{"$f":"IF(Sort!B119=\"\",\"\",IF(Sort!AA119=0,Sort!AC119&\"<br /><span class='ClnMatch'>&nbsp;&nbsp;0&nbsp;&nbsp;</span><br /><b>\"&Sort!AE119&\"</b>\",Sort!AC119&\"<br />\"&Sort!AD119&\"<br /><b>\"&Sort!AE119&\"</b>\"))","v":""},"</td>###<td class=\"Bld\">",{"$f":"IF(Sort!AF119=\"\",\"\",Sort!AF119)","v":""},"</td>###<td class=\"Bld\">",{"$f":"IF(Sort!AG119=\"\",\"\",Sort!AG119)","v":""},"</td>###</tr>",null,{"$f":"IF(Sort!I119=\"\",\"\",Sort!I119)","v":""},{"$f":"IF(Sort!J119=\"\",\"\",Sort!J119)","v":0},{"$f":"IF(Sort!L119=\"\",\"\",Sort!L119)","v":""},{"$f":"IF(Sort!M119=\"\",\"\",Sort!M119)","v":0},{"$f":"IF(Sort!O119=\"\",\"\",Sort!O119)","v":""},{"$f":"IF(Sort!P119=\"\",\"\",Sort!P119)","v":0},{"$f":"IF(Sort!R119=\"\",\"\",Sort!R119)","v":""},{"$f":"IF(Sort!S119=\"\",\"\",Sort!S119)","v":0},{"$f":"IF(Sort!U119=\"\",\"\",Sort!U119)","v":""},{"$f":"IF(Sort!V119=\"\",\"\",Sort!V119)","v":0},{"$f":"IF(Sort!X119=\"\",\"\",Sort!X119)","v":""},{"$f":"IF(Sort!Y119=\"\",\"\",Sort!Y119)","v":0},{"$f":"IF(Sort!B119=\"\",\"\",Sort!AA119)","v":""}]
["<tr align='center'>###<td class='Bld'>",{"$f":"Sort!AH120","v":""},"</td>###<td class='Bld'>",{"$f":"IF(Sort!B120=\"\",\"\",IF(Sort!C120=\"\",Sort!B120,Sort!B120&\"<br />#\"&Sort!C120))","v":""},"</td>###<td>",{"$f":"IF(Sort!E120=\"\",\"\",Sort!E120&\" \"&Sort!F120&\"<br />\"&Sort!G120)","v":""},"</td>###<td class='GrayOut'>",{"$f":"IF(Sort!H120=\"\",\"\",IF(Sort!I120=0,Sort!H120&\"<br /><span class='ClnMatch'>&nbsp;&nbsp;0&nbsp;&nbsp;</span><br /><b>\"&Sort!J120&\"</b>\",Sort!H120&\"<br />\"&Sort!I120&\"<br /><b>\"&Sort!J120&\"</b>\"))","v":""},"</td>###<td class='GrayOut'>",{"$f":"IF(Sort!K120=\"\",\"\",IF(Sort!L120=0,Sort!K120&\"<br /><span class='ClnMatch'>&nbsp;&nbsp;0&nbsp;&nbsp;</span><br /><b>\"&Sort!M120&\"</b>\",Sort!K120&\"<br />\"&Sort!L120&\"<br /><b>\"&Sort!M120&\"</b>\"))","v":""},"</td>###<td class='GrayOut'>",{"$f":"IF(Sort!N120=\"\",\"\",IF(Sort!O120=0,Sort!N120&\"<br /><span class='ClnMatch'>&nbsp;&nbsp;0&nbsp;&nbsp;</span><br /><b>\"&Sort!P120&\"</b>\",Sort!N120&\"<br />\"&Sort!O120&\"<br /><b>\"&Sort!P120&\"</b>\"))","v":""},"</td>###<td class='GrayOut'>",{"$f":"IF(Sort!Q120=\"\",\"\",IF(Sort!R120=0,Sort!Q120&\"<br /><span class='ClnMatch'>&nbsp;&nbsp;0&nbsp;&nbsp;</span><br /><b>\"&Sort!S120&\"</b>\",Sort!Q120&\"<br />\"&Sort!R120&\"<br /><b>\"&Sort!S120&\"</b>\"))","v":""},"</td>###<td class='GrayOut'>",{"$f":"IF(Sort!T120=\"\",\"\",IF(Sort!U120=0,Sort!T120&\"<br /><span class='ClnMatch'>&nbsp;&nbsp;0&nbsp;&nbsp;</span><br /><b>\"&Sort!V120&\"</b>\",Sort!T120&\"<br />\"&Sort!U120&\"<br /><b>\"&Sort!V120&\"</b>\"))","v":""},"</td>###<td class='GrayOut'>",{"$f":"IF(Sort!W120=\"\",\"\",IF(Sort!X120=0,Sort!W120&\"<br /><span class='ClnMatch'>&nbsp;&nbsp;0&nbsp;&nbsp;</span><br /><b>\"&Sort!Y120&\"</b>\",Sort!W120&\"<br />\"&Sort!X120&\"<br /><b>\"&Sort!Y120&\"</b>\"))","v":""},"</td>###<td>",{"$f":"IF(Sort!Z120=\"\",\"\",IF(Sort!AA120=0,Sort!Z120&\"<br /><span class='ClnMatch'>&nbsp;&nbsp;0&nbsp;&nbsp;</span><br /><b>\"&Sort!AB120&\"</b>\",Sort!Z120&\"<br />\"&Sort!AA120&\"<br /><b>\"&Sort!AB120&\"</b>\"))","v":""},"</td>###<td class=\"BluBld\">",{"$f":"IF(Sort!B120=\"\",\"\",IF(Sort!AA120=0,Sort!AC120&\"<br /><span class='ClnMatch'>&nbsp;&nbsp;0&nbsp;&nbsp;</span><br /><b>\"&Sort!AE120&\"</b>\",Sort!AC120&\"<br />\"&Sort!AD120&\"<br /><b>\"&Sort!AE120&\"</b>\"))","v":""},"</td>###<td class=\"Bld\">",{"$f":"IF(Sort!AF120=\"\",\"\",Sort!AF120)","v":""},"</td>###<td class=\"Bld\">",{"$f":"IF(Sort!AG120=\"\",\"\",Sort!AG120)","v":""},"</td>###</tr>",null,{"$f":"IF(Sort!I120=\"\",\"\",Sort!I120)","v":""},{"$f":"IF(Sort!J120=\"\",\"\",Sort!J120)","v":0},{"$f":"IF(Sort!L120=\"\",\"\",Sort!L120)","v":""},{"$f":"IF(Sort!M120=\"\",\"\",Sort!M120)","v":0},{"$f":"IF(Sort!O120=\"\",\"\",Sort!O120)","v":""},{"$f":"IF(Sort!P120=\"\",\"\",Sort!P120)","v":0},{"$f":"IF(Sort!R120=\"\",\"\",Sort!R120)","v":""},{"$f":"IF(Sort!S120=\"\",\"\",Sort!S120)","v":0},{"$f":"IF(Sort!U120=\"\",\"\",Sort!U120)","v":""},{"$f":"IF(Sort!V120=\"\",\"\",Sort!V120)","v":0},{"$f":"IF(Sort!X120=\"\",\"\",Sort!X120)","v":""},{"$f":"IF(Sort!Y120=\"\",\"\",Sort!Y120)","v":0},{"$f":"IF(Sort!B120=\"\",\"\",Sort!AA120)","v":""}]
["<tr align='center'>###<td class='Bld'>",{"$f":"Sort!AH121","v":""},"</td>###<td class='Bld'>",{"$f":"IF(Sort!B121=\"\",\"\",IF(Sort!C121=\"\",Sort!B121,Sort!B121&\"<br />#\"&Sort!C121))","v":""},"</td>###<td>",{"$f":"IF(Sort!E121=\"\",\"\",Sort!E121&\" \"&Sort!F121&\"<br />\"&Sort!G121)","v":""},"</td>###<td class='GrayOut'>",{"$f":"IF(Sort!H121=\"\",\"\",IF(Sort!I121=0,Sort!H121&\"<br /><span class='ClnMatch'>&nbsp;&nbsp;0&nbsp;&nbsp;</span><br /><b>\"&Sort!J121&\"</b>\",Sort!H121&\"<br />\"&Sort!I121&\"<br /><b>\"&Sort!J121&\"</b>\"))","v":""},"</td>###<td class='GrayOut'>",{"$f":"IF(Sort!K121=\"\",\"\",IF(Sort!L121=0,Sort!K121&\"<br /><span class='ClnMatch'>&nbsp;&nbsp;0&nbsp;&nbsp;</span><br /><b>\"&Sort!M121&\"</b>\",Sort!K121&\"<br />\"&Sort!L121&\"<br /><b>\"&Sort!M121&\"</b>\"))","v":""},"</td>###<td class='GrayOut'>",{"$f":"IF(Sort!N121=\"\",\"\",IF(Sort!O121=0,Sort!N121&\"<br /><span class='ClnMatch'>&nbsp;&nbsp;0&nbsp;&nbsp;</span><br /><b>\"&Sort!P121&\"</b>\",Sort!N121&\"<br />\"&Sort!O121&\"<br /><b>\"&Sort!P121&\"</b>\"))","v":""},"</td>###<td class='GrayOut'>",{"$f":"IF(Sort!Q121=\"\",\"\",IF(Sort!R121=0,Sort!Q121&\"<br /><span class='ClnMatch'>&nbsp;&nbsp;0&nbsp;&nbsp;</span><br /><b>\"&Sort!S121&\"</b>\",Sort!Q121&\"<br />\"&Sort!R121&\"<br /><b>\"&Sort!S121&\"</b>\"))","v":""},"</td>###<td class='GrayOut'>",{"$f":"IF(Sort!T121=\"\",\"\",IF(Sort!U121=0,Sort!T121&\"<br /><span class='ClnMatch'>&nbsp;&nbsp;0&nbsp;&nbsp;</span><br /><b>\"&Sort!V121&\"</b>\",Sort!T121&\"<br />\"&Sort!U121&\"<br /><b>\"&Sort!V121&\"</b>\"))","v":""},"</td>###<td class='GrayOut'>",{"$f":"IF(Sort!W121=\"\",\"\",IF(Sort!X121=0,Sort!W121&\"<br /><span class='ClnMatch'>&nbsp;&nbsp;0&nbsp;&nbsp;</span><br /><b>\"&Sort!Y121&\"</b>\",Sort!W121&\"<br />\"&Sort!X121&\"<br /><b>\"&Sort!Y121&\"</b>\"))","v":""},"</td>###<td>",{"$f":"IF(Sort!Z121=\"\",\"\",IF(Sort!AA121=0,Sort!Z121&\"<br /><span class='ClnMatch'>&nbsp;&nbsp;0&nbsp;&nbsp;</span><br /><b>\"&Sort!AB121&\"</b>\",Sort!Z121&\"<br />\"&Sort!AA121&\"<br /><b>\"&Sort!AB121&\"</b>\"))","v":""},"</td>###<td class=\"BluBld\">",{"$f":"IF(Sort!B121=\"\",\"\",IF(Sort!AA121=0,Sort!AC121&\"<br /><span class='ClnMatch'>&nbsp;&nbsp;0&nbsp;&nbsp;</span><br /><b>\"&Sort!AE121&\"</b>\",Sort!AC121&\"<br />\"&Sort!AD121&\"<br /><b>\"&Sort!AE121&\"</b>\"))","v":""},"</td>###<td class=\"Bld\">",{"$f":"IF(Sort!AF121=\"\",\"\",Sort!AF121)","v":""},"</td>###<td class=\"Bld\">",{"$f":"IF(Sort!AG121=\"\",\"\",Sort!AG121)","v":""},"</td>###</tr>",null,{"$f":"IF(Sort!I121=\"\",\"\",Sort!I121)","v":""},{"$f":"IF(Sort!J121=\"\",\"\",Sort!J121)","v":0},{"$f":"IF(Sort!L121=\"\",\"\",Sort!L121)","v":""},{"$f":"IF(Sort!M121=\"\",\"\",Sort!M121)","v":0},{"$f":"IF(Sort!O121=\"\",\"\",Sort!O121)","v":""},{"$f":"IF(Sort!P121=\"\",\"\",Sort!P121)","v":0},{"$f":"IF(Sort!R121=\"\",\"\",Sort!R121)","v":""},{"$f":"IF(Sort!S121=\"\",\"\",Sort!S121)","v":0},{"$f":"IF(Sort!U121=\"\",\"\",Sort!U121)","v":""},{"$f":"IF(Sort!V121=\"\",\"\",Sort!V121)","v":0},{"$f":"IF(Sort!X121=\"\",\"\",Sort!X121)","v":""},{"$f":"IF(Sort!Y121=\"\",\"\",Sort!Y121)","v":0},{"$f":"IF(Sort!B121=\"\",\"\",Sort!AA121)","v":""}]
["<tr align='center'>###<td class='Bld'>",{"$f":"Sort!AH122","v":""},"</td>###<td class='Bld'>",{"$f":"IF(Sort!B122=\"\",\"\",IF(Sort!C122=\"\",Sort!B122,Sort!B122&\"<br />#\"&Sort!C122))","v":""},"</td>###<td>",{"$f":"IF(Sort!E122=\"\",\"\",Sort!E122&\" \"&Sort!F122&\"<br />\"&Sort!G122)","v":""},"</td>###<td class='GrayOut'>",{"$f":"IF(Sort!H122=\"\",\"\",IF(Sort!I122=0,Sort!H122&\"<br /><span class='ClnMatch'>&nbsp;&nbsp;0&nbsp;&nbsp;</span><br /><b>\"&Sort!J122&\"</b>\",Sort!H122&\"<br />\"&Sort!I122&\"<br /><b>\"&Sort!J122&\"</b>\"))","v":""},"</td>###<td class='GrayOut'>",{"$f":"IF(Sort!K122=\"\",\"\",IF(Sort!L122=0,Sort!K122&\"<br /><span class='ClnMatch'>&nbsp;&nbsp;0&nbsp;&nbsp;</span><br /><b>\"&Sort!M122&\"</b>\",Sort!K122&\"<br />\"&Sort!L122&\"<br /><b>\"&Sort!M122&\"</b>\"))","v":""},"</td>###<td class='GrayOut'>",{"$f":"IF(Sort!N122=\"\",\"\",IF(Sort!O122=0,Sort!N122&\"<br /><span class='ClnMatch'>&nbsp;&nbsp;0&nbsp;&nbsp;</span><br /><b>\"&Sort!P122&\"</b>\",Sort!N122&\"<br />\"&Sort!O122&\"<br /><b>\"&Sort!P122&\"</b>\"))","v":""},"</td>###<td class='GrayOut'>",{"$f":"IF(Sort!Q122=\"\",\"\",IF(Sort!R122=0,Sort!Q122&\"<br /><span class='ClnMatch'>&nbsp;&nbsp;0&nbsp;&nbsp;</span><br /><b>\"&Sort!S122&\"</b>\",Sort!Q122&\"<br />\"&Sort!R122&\"<br /><b>\"&Sort!S122&\"</b>\"))","v":""},"</td>###<td class='GrayOut'>",{"$f":"IF(Sort!T122=\"\",\"\",IF(Sort!U122=0,Sort!T122&\"<br /><span class='ClnMatch'>&nbsp;&nbsp;0&nbsp;&nbsp;</span><br /><b>\"&Sort!V122&\"</b>\",Sort!T122&\"<br />\"&Sort!U122&\"<br /><b>\"&Sort!V122&\"</b>\"))","v":""},"</td>###<td class='GrayOut'>",{"$f":"IF(Sort!W122=\"\",\"\",IF(Sort!X122=0,Sort!W122&\"<br /><span class='ClnMatch'>&nbsp;&nbsp;0&nbsp;&nbsp;</span><br /><b>\"&Sort!Y122&\"</b>\",Sort!W122&\"<br />\"&Sort!X122&\"<br /><b>\"&Sort!Y122&\"</b>\"))","v":""},"</td>###<td>",{"$f":"IF(Sort!Z122=\"\",\"\",IF(Sort!AA122=0,Sort!Z122&\"<br /><span class='ClnMatch'>&nbsp;&nbsp;0&nbsp;&nbsp;</span><br /><b>\"&Sort!AB122&\"</b>\",Sort!Z122&\"<br />\"&Sort!AA122&\"<br /><b>\"&Sort!AB122&\"</b>\"))","v":""},"</td>###<td class=\"BluBld\">",{"$f":"IF(Sort!B122=\"\",\"\",IF(Sort!AA122=0,Sort!AC122&\"<br /><span class='ClnMatch'>&nbsp;&nbsp;0&nbsp;&nbsp;</span><br /><b>\"&Sort!AE122&\"</b>\",Sort!AC122&\"<br />\"&Sort!AD122&\"<br /><b>\"&Sort!AE122&\"</b>\"))","v":""},"</td>###<td class=\"Bld\">",{"$f":"IF(Sort!AF122=\"\",\"\",Sort!AF122)","v":""},"</td>###<td class=\"Bld\">",{"$f":"IF(Sort!AG122=\"\",\"\",Sort!AG122)","v":""},"</td>###</tr>",null,{"$f":"IF(Sort!I122=\"\",\"\",Sort!I122)","v":""},{"$f":"IF(Sort!J122=\"\",\"\",Sort!J122)","v":0},{"$f":"IF(Sort!L122=\"\",\"\",Sort!L122)","v":""},{"$f":"IF(Sort!M122=\"\",\"\",Sort!M122)","v":0},{"$f":"IF(Sort!O122=\"\",\"\",Sort!O122)","v":""},{"$f":"IF(Sort!P122=\"\",\"\",Sort!P122)","v":0},{"$f":"IF(Sort!R122=\"\",\"\",Sort!R122)","v":""},{"$f":"IF(Sort!S122=\"\",\"\",Sort!S122)","v":0},{"$f":"IF(Sort!U122=\"\",\"\",Sort!U122)","v":""},{"$f":"IF(Sort!V122=\"\",\"\",Sort!V122)","v":0},{"$f":"IF(Sort!X122=\"\",\"\",Sort!X122)","v":""},{"$f":"IF(Sort!Y122=\"\",\"\",Sort!Y122)","v":0},{"$f":"IF(Sort!B122=\"\",\"\",Sort!AA122)","v":""}]
["<tr align='center'>###<td class='Bld'>",{"$f":"Sort!AH123","v":""},"</td>###<td class='Bld'>",{"$f":"IF(Sort!B123=\"\",\"\",IF(Sort!C123=\"\",Sort!B123,Sort!B123&\"<br />#\"&Sort!C123))","v":""},"</td>###<td>",{"$f":"IF(Sort!E123=\"\",\"\",Sort!E123&\" \"&Sort!F123&\"<br />\"&Sort!G123)","v":""},"</td>###<td class='GrayOut'>",{"$f":"IF(Sort!H123=\"\",\"\",IF(Sort!I123=0,Sort!H123&\"<br /><span class='ClnMatch'>&nbsp;&nbsp;0&nbsp;&nbsp;</span><br /><b>\"&Sort!J123&\"</b>\",Sort!H123&\"<br />\"&Sort!I123&\"<br /><b>\"&Sort!J123&\"</b>\"))","v":""},"</td>###<td class='GrayOut'>",{"$f":"IF(Sort!K123=\"\",\"\",IF(Sort!L123=0,Sort!K123&\"<br /><span class='ClnMatch'>&nbsp;&nbsp;0&nbsp;&nbsp;</span><br /><b>\"&Sort!M123&\"</b>\",Sort!K123&\"<br />\"&Sort!L123&\"<br /><b>\"&Sort!M123&\"</b>\"))","v":""},"</td>###<td class='GrayOut'>",{"$f":"IF(Sort!N123=\"\",\"\",IF(Sort!O123=0,Sort!N123&\"<br /><span class='ClnMatch'>&nbsp;&nbsp;0&nbsp;&nbsp;</span><br /><b>\"&Sort!P123&\"</b>\",Sort!N123&\"<br />\"&Sort!O123&\"<br /><b>\"&Sort!P123&\"</b>\"))","v":""},"</td>###<td class='GrayOut'>",{"$f":"IF(Sort!Q123=\"\",\"\",IF(Sort!R123=0,Sort!Q123&\"<br /><span class='ClnMatch'>&nbsp;&nbsp;0&nbsp;&nbsp;</span><br /><b>\"&Sort!S123&\"</b>\",Sort!Q123&\"<br />\"&Sort!R123&\"<br /><b>\"&Sort!S123&\"</b>\"))","v":""},"</td>###<td class='GrayOut'>",{"$f":"IF(Sort!T123=\"\",\"\",IF(Sort!U123=0,Sort!T123&\"<br /><span class='ClnMatch'>&nbsp;&nbsp;0&nbsp;&nbsp;</span><br /><b>\"&Sort!V123&\"</b>\",Sort!T123&\"<br />\"&Sort!U123&\"<br /><b>\"&Sort!V123&\"</b>\"))","v":""},"</td>###<td class='GrayOut'>",{"$f":"IF(Sort!W123=\"\",\"\",IF(Sort!X123=0,Sort!W123&\"<br /><span class='ClnMatch'>&nbsp;&nbsp;0&nbsp;&nbsp;</span><br /><b>\"&Sort!Y123&\"</b>\",Sort!W123&\"<br />\"&Sort!X123&\"<br /><b>\"&Sort!Y123&\"</b>\"))","v":""},"</td>###<td>",{"$f":"IF(Sort!Z123=\"\",\"\",IF(Sort!AA123=0,Sort!Z123&\"<br /><span class='ClnMatch'>&nbsp;&nbsp;0&nbsp;&nbsp;</span><br /><b>\"&Sort!AB123&\"</b>\",Sort!Z123&\"<br />\"&Sort!AA123&\"<br /><b>\"&Sort!AB123&\"</b>\"))","v":""},"</td>###<td class=\"BluBld\">",{"$f":"IF(Sort!B123=\"\",\"\",IF(Sort!AA123=0,Sort!AC123&\"<br /><span class='ClnMatch'>&nbsp;&nbsp;0&nbsp;&nbsp;</span><br /><b>\"&Sort!AE123&\"</b>\",Sort!AC123&\"<br />\"&Sort!AD123&\"<br /><b>\"&Sort!AE123&\"</b>\"))","v":""},"</td>###<td class=\"Bld\">",{"$f":"IF(Sort!AF123=\"\",\"\",Sort!AF123)","v":""},"</td>###<td class=\"Bld\">",{"$f":"IF(Sort!AG123=\"\",\"\",Sort!AG123)","v":""},"</td>###</tr>",null,{"$f":"IF(Sort!I123=\"\",\"\",Sort!I123)","v":""},{"$f":"IF(Sort!J123=\"\",\"\",Sort!J123)","v":0},{"$f":"IF(Sort!L123=\"\",\"\",Sort!L123)","v":""},{"$f":"IF(Sort!M123=\"\",\"\",Sort!M123)","v":0},{"$f":"IF(Sort!O123=\"\",\"\",Sort!O123)","v":""},{"$f":"IF(Sort!P123=\"\",\"\",Sort!P123)","v":0},{"$f":"IF(Sort!R123=\"\",\"\",Sort!R123)","v":""},{"$f":"IF(Sort!S123=\"\",\"\",Sort!S123)","v":0},{"$f":"IF(Sort!U123=\"\",\"\",Sort!U123)","v":""},{"$f":"IF(Sort!V123=\"\",\"\",Sort!V123)","v":0},{"$f":"IF(Sort!X123=\"\",\"\",Sort!X123)","v":""},{"$f":"IF(Sort!Y123=\"\",\"\",Sort!Y123)","v":0},{"$f":"IF(Sort!B123=\"\",\"\",Sort!AA123)","v":""}]
["<tr align='center'>###<td class='Bld'>",{"$f":"Sort!AH124","v":0},"</td>###<td class='Bld'>",{"$f":"IF(Sort!B124=\"\",\"\",IF(Sort!C124=\"\",Sort!B124,Sort!B124&\"<br />#\"&Sort!C124))","v":""},"</td>###<td>",{"$f":"IF(Sort!E124=\"\",\"\",Sort!E124&\" \"&Sort!F124&\"<br />\"&Sort!G124)","v":""},"</td>###<td>",{"$f":"IF(Sort!H124=\"\",\"\",IF(Sort!I124=0,Sort!H124&\"<br /><span class='ClnMatch'>&nbsp;&nbsp;0&nbsp;&nbsp;</span><br /><b>\"&Sort!J124&\"</b>\",Sort!H124&\"<br />\"&Sort!I124&\"<br /><b>\"&Sort!J124&\"</b>\"))","v":""},"</td>###<td>",{"$f":"IF(Sort!K124=\"\",\"\",IF(Sort!L124=0,Sort!K124&\"<br /><span class='ClnMatch'>&nbsp;&nbsp;0&nbsp;&nbsp;</span><br /><b>\"&Sort!M124&\"</b>\",Sort!K124&\"<br />\"&Sort!L124&\"<br /><b>\"&Sort!M124&\"</b>\"))","v":""},"</td>###<td>",{"$f":"IF(Sort!N124=\"\",\"\",IF(Sort!O124=0,Sort!N124&\"<br /><span class='ClnMatch'>&nbsp;&nbsp;0&nbsp;&nbsp;</span><br /><b>\"&Sort!P124&\"</b>\",Sort!N124&\"<br />\"&Sort!O124&\"<br /><b>\"&Sort!P124&\"</b>\"))","v":""},"</td>###<td>",{"$f":"IF(Sort!Q124=\"\",\"\",IF(Sort!R124=0,Sort!Q124&\"<br /><span class='ClnMatch'>&nbsp;&nbsp;0&nbsp;&nbsp;</span><br /><b>\"&Sort!S124&\"</b>\",Sort!Q124&\"<br />\"&Sort!R124&\"<br /><b>\"&Sort!S124&\"</b>\"))","v":""},"</td>###<td>",{"$f":"IF(Sort!T124=\"\",\"\",IF(Sort!U124=0,Sort!T124&\"<br /><span class='ClnMatch'>&nbsp;&nbsp;0&nbsp;&nbsp;</span><br /><b>\"&Sort!V124&\"</b>\",Sort!T124&\"<br />\"&Sort!U124&\"<br /><b>\"&Sort!V124&\"</b>\"))","v":""},"</td>###<td>",{"$f":"IF(Sort!W124=\"\",\"\",IF(Sort!X124=0,Sort!W124&\"<br /><span class='ClnMatch'>&nbsp;&nbsp;0&nbsp;&nbsp;</span><br /><b>\"&Sort!Y124&\"</b>\",Sort!W124&\"<br />\"&Sort!X124&\"<br /><b>\"&Sort!Y124&\"</b>\"))","v":""},"</td>###<td>",{"$f":"IF(Sort!Z124=\"\",\"\",IF(Sort!AA124=0,Sort!Z124&\"<br /><span class='ClnMatch'>&nbsp;&nbsp;0&nbsp;&nbsp;</span><br /><b>\"&Sort!AB124&\"</b>\",Sort!Z124&\"<br />\"&Sort!AA124&\"<br /><b>\"&Sort!AB124&\"</b>\"))","v":""},"</td>###<td class=\"BluBld\">",{"$f":"IF(Sort!B124=\"\",\"\",IF(Sort!AA124=0,Sort!AC124&\"<br /><span class='ClnMatch'>&nbsp;&nbsp;0&nbsp;&nbsp;</span><br /><b>\"&Sort!AE124&\"</b>\",Sort!AC124&\"<br />\"&Sort!AD124&\"<br /><b>\"&Sort!AE124&\"</b>\"))","v":""},"</td>###<td class=\"Bld\">",{"$f":"IF(Sort!AF124=\"\",\"\",Sort!AF124)","v":""},"</td>###<td class=\"Bld\">",{"$f":"IF(Sort!AG124=\"\",\"\",Sort!AG124)","v":""},"</td>###</tr>",null,{"$f":"IF(Sort!I124=\"\",\"\",Sort!I124)","v":""},{"$f":"IF(Sort!J124=\"\",\"\",Sort!J124)","v":""},{"$f":"IF(Sort!L124=\"\",\"\",Sort!L124)","v":""},{"$f":"IF(Sort!M124=\"\",\"\",Sort!M124)","v":""},{"$f":"IF(Sort!O124=\"\",\"\",Sort!O124)","v":""},{"$f":"IF(Sort!P124=\"\",\"\",Sort!P124)","v":""},{"$f":"IF(Sort!R124=\"\",\"\",Sort!R124)","v":""},{"$f":"IF(Sort!S124=\"\",\"\",Sort!S124)","v":""},{"$f":"IF(Sort!U124=\"\",\"\",Sort!U124)","v":""},{"$f":"IF(Sort!V124=\"\",\"\",Sort!V124)","v":""},{"$f":"IF(Sort!X124=\"\",\"\",Sort!X124)","v":""},{"$f":"IF(Sort!Y124=\"\",\"\",Sort!Y124)","v":""},{"$f":"IF(Sort!B124=\"\",\"\",Sort!AA124)","v":""}]

{"sheet":"Lists","index":3,"n_rows":123,"n_cols":14,"rows_kept":123,"cut":false,"hidden":true,"merged":[[0,2,0,4],[0,6,0,7]]}
[null,null,"Centerfire Plate Shoot",null,null,null,{"$f":"Scores!I1","v":"DATE"}]
[]
[null,null,"Row Labels",null,"CPFGC#",null,"DIVISION","GUNS"]
[1,null,"(blank)",null,{"$f":"IFERROR(IF(VLOOKUP(C4,Table3[[SHOOTER]:[CPF&G '#]],2,FALSE)=\"\",\"\",VLOOKUP(C4,Table3[[SHOOTER]:[CPF&G '#]],2,FALSE)),\"\")","v":""},null,"IR",{"$f":"COUNTIF(Sort!$D$4:$D$123,$G4)","v":0},null,"SHOOTERS",null,{"$f":"COUNTA($C$4:$C$123)-COUNTIF($C$4:$C$123,\"(blank)\")","v":0}]
[2,null,null,null,{"$f":"IFERROR(IF(VLOOKUP(C5,Table3[[SHOOTER]:[CPF&G '#]],2,FALSE)=\"\",\"\",VLOOKUP(C5,Table3[[SHOOTER]:[CPF&G '#]],2,FALSE)),\"\")","v":""},null,"IS",{"$f":"COUNTIF(Sort!$D$4:$D$123,$G5)","v":0},null,"MEMBERS",null,{"$f":"COUNT($E$4:$E$123)","v":0}]
[3,null,null,null,{"$f":"IFERROR(IF(VLOOKUP(C6,Table3[[SHOOTER]:[CPF&G '#]],2,FALSE)=\"\",\"\",VLOOKUP(C6,Table3[[SHOOTER]:[CPF&G '#]],2,FALSE)),\"\")","v":""},null,"OR",{"$f":"COUNTIF(Sort!$D$4:$D$123,$G6)","v":0},null,"NONMEMBERS",null,{"$f":"L4-L5","v":0}]
[4,null,null,null,{"$f":"IFERROR(IF(VLOOKUP(C7,Table3[[SHOOTER]:[CPF&G '#]],2,FALSE)=\"\",\"\",VLOOKUP(C7,Table3[[SHOOTER]:[CPF&G '#]],2,FALSE)),\"\")","v":""},null,"OS",{"$f":"COUNTIF(Sort!$D$4:$D$123,$G7)","v":0}]
[5,null,null,null,{"$f":"IFERROR(IF(VLOOKUP(C8,Table3[[SHOOTER]:[CPF&G '#]],2,FALSE)=\"\",\"\",VLOOKUP(C8,Table3[[SHOOTER]:[CPF&G '#]],2,FALSE)),\"\")","v":""},null,"IR-J",{"$f":"COUNTIF(Sort!$D$4:$D$123,$G8)","v":0},null,"GUNS",null,{"$f":"SUM($H$4:$H$13)","v":0}]
[6,null,null,null,{"$f":"IFERROR(IF(VLOOKUP(C9,Table3[[SHOOTER]:[CPF&G '#]],2,FALSE)=\"\",\"\",VLOOKUP(C9,Table3[[SHOOTER]:[CPF&G '#]],2,FALSE)),\"\")","v":""},null,"IS-J",{"$f":"COUNTIF(Sort!$D$4:$D$123,$G9)","v":0}]
[7,null,null,null,{"$f":"IFERROR(IF(VLOOKUP(C10,Table3[[SHOOTER]:[CPF&G '#]],2,FALSE)=\"\",\"\",VLOOKUP(C10,Table3[[SHOOTER]:[CPF&G '#]],2,FALSE)),\"\")","v":""},null,"OR-J",{"$f":"COUNTIF(Sort!$D$4:$D$123,$G10)","v":0},null,"CLEAN MATCH",null,{"$f":"COUNTIF(Table2[MISS-T],0)","v":0}]
[8,null,null,null,{"$f":"IFERROR(IF(VLOOKUP(C11,Table3[[SHOOTER]:[CPF&G '#]],2,FALSE)=\"\",\"\",VLOOKUP(C11,Table3[[SHOOTER]:[CPF&G '#]],2,FALSE)),\"\")","v":""},null,"OS-J",{"$f":"COUNTIF(Sort!$D$4:$D$123,$G11)","v":0}]
[9,null,null,null,{"$f":"IFERROR(IF(VLOOKUP(C12,Table3[[SHOOTER]:[CPF&G '#]],2,FALSE)=\"\",\"\",VLOOKUP(C12,Table3[[SHOOTER]:[CPF&G '#]],2,FALSE)),\"\")","v":""},null,"5R",{"$f":"COUNTIF(Sort!$D$4:$D$123,$G12)","v":0}]
[10,null,null,null,{"$f":"IFERROR(IF(VLOOKUP(C13,Table3[[SHOOTER]:[CPF&G '#]],2,FALSE)=\"\",\"\",VLOOKUP(C13,Table3[[SHOOTER]:[CPF&G '#]],2,FALSE)),\"\")","v":""},null,"5R-J",{"$f":"COUNTIF(Sort!$D$4:$D$123,$G13)","v":0},null,"COSTS"]
[11,null,null,null,{"$f":"IFERROR(IF(VLOOKUP(C14,Table3[[SHOOTER]:[CPF&G '#]],2,FALSE)=\"\",\"\",VLOOKUP(C14,Table3[[SHOOTER]:[CPF&G '#]],2,FALSE)),\"\")","v":""},null,null,null,null,"Members @",null,6,"=",{"$f":"SUMIF(Scores!E5:E124,\"<8\")","v":0}]
[12,null,null,null,{"$f":"IFERROR(IF(VLOOKUP(C15,Table3[[SHOOTER]:[CPF&G '#]],2,FALSE)=\"\",\"\",VLOOKUP(C15,Table3[[SHOOTER]:[CPF&G '#]],2,FALSE)),\"\")","v":""},null,null,null,null,"Nonmembers @",null,8,"=",{"$f":"SUMIF(Scores!E5:E124,L15)","v":0}]
[13,null,null,null,{"$f":"IFERROR(IF(VLOOKUP(C16,Table3[[SHOOTER]:[CPF&G '#]],2,FALSE)=\"\",\"\",VLOOKUP(C16,Table3[[SHOOTER]:[CPF&G '#]],2,FALSE)),\"\")","v":""},null,null,null,null,null,null,"Total Income","=",{"$f":"SUM(N14:N15)","v":0}]
[14,null,null,null,{"$f":"IFERROR(IF(VLOOKUP(C17,Table3[[SHOOTER]:[CPF&G '#]],2,FALSE)=\"\",\"\",VLOOKUP(C17,Table3[[SHOOTER]:[CPF&G '#]],2,FALSE)),\"\")","v":""}]
[15,null,null,null,{"$f":"IFERROR(IF(VLOOKUP(C18,Table3[[SHOOTER]:[CPF&G '#]],2,FALSE)=\"\",\"\",VLOOKUP(C18,Table3[[SHOOTER]:[CPF&G '#]],2,FALSE)),\"\")","v":""}]
[16,null,null,null,{"$f":"IFERROR(IF(VLOOKUP(C19,Table3[[SHOOTER]:[CPF&G '#]],2,FALSE)=\"\",\"\",VLOOKUP(C19,Table3[[SHOOTER]:[CPF&G '#]],2,FALSE)),\"\")","v":""}]
[17,null,null,null,{"$f":"IFERROR(IF(VLOOKUP(C20,Table3[[SHOOTER]:[CPF&G '#]],2,FALSE)=\"\",\"\",VLOOKUP(C20,Table3[[SHOOTER]:[CPF&G '#]],2,FALSE)),\"\")","v":""}]
[18,null,null,null,{"$f":"IFERROR(IF(VLOOKUP(C21,Table3[[SHOOTER]:[CPF&G '#]],2,FALSE)=\"\",\"\",VLOOKUP(C21,Table3[[SHOOTER]:[CPF&G '#]],2,FALSE)),\"\")","v":""}]
[19,null,null,null,{"$f":"IFERROR(IF(VLOOKUP(C22,Table3[[SHOOTER]:[CPF&G '#]],2,FALSE)=\"\",\"\",VLOOKUP(C22,Table3[[SHOOTER]:[CPF&G '#]],2,FALSE)),\"\")","v":""}]
[20,null,null,null,{"$f":"IFERROR(IF(VLOOKUP(C23,Table3[[SHOOTER]:[CPF&G '#]],2,FALSE)=\"\",\"\",VLOOKUP(C23,Table3[[SHOOTER]:[CPF&G '#]],2,FALSE)),\"\")","v":""}]
[21,null,null,null,{"$f":"IFERROR(IF(VLOOKUP(C24,Table3[[SHOOTER]:[CPF&G '#]],2,FALSE)=\"\",\"\",VLOOKUP(C24,Table3[[SHOOTER]:[CPF&G '#]],2,FALSE)),\"\")","v":""}]
[22,null,null,null,{"$f":"IFERROR(IF(VLOOKUP(C25,Table3[[SHOOTER]:[CPF&G '#]],2,FALSE)=\"\",\"\",VLOOKUP(C25,Table3[[SHOOTER]:[CPF&G '#]],2,FALSE)),\"\")","v":""}]
[23,null,null,null,{"$f":"IFERROR(IF(VLOOKUP(C26,Table3[[SHOOTER]:[CPF&G '#]],2,FALSE)=\"\",\"\",VLOOKUP(C26,Table3[[SHOOTER]:[CPF&G '#]],2,FALSE)),\"\")","v":""}]
[24,null,null,null,{"$f":"IFERROR(IF(VLOOKUP(C27,Table3[[SHOOTER]:[CPF&G '#]],2,FALSE)=\"\",\"\",VLOOKUP(C27,Table3[[SHOOTER]:[CPF&G '#]],2,FALSE)),\"\")","v":""}]
[25,null,null,null,{"$f":"IFERROR(IF(VLOOKUP(C28,Table3[[SHOOTER]:[CPF&G '#]],2,FALSE)=\"\",\"\",VLOOKUP(C28,Table3[[SHOOTER]:[CPF&G '#]],2,FALSE)),\"\")","v":""}]
[26,null,null,null,{"$f":"IFERROR(IF(VLOOKUP(C29,Table3[[SHOOTER]:[CPF&G '#]],2,FALSE)=\"\",\"\",VLOOKUP(C29,Table3[[SHOOTER]:[CPF&G '#]],2,FALSE)),\"\")","v":""}]
[27,null,null,null,{"$f":"IFERROR(IF(VLOOKUP(C30,Table3[[SHOOTER]:[CPF&G '#]],2,FALSE)=\"\",\"\",VLOOKUP(C30,Table3[[SHOOTER]:[CPF&G '#]],2,FALSE)),\"\")","v":""}]
[28,null,null,null,{"$f":"IFERROR(IF(VLOOKUP(C31,Table3[[SHOOTER]:[CPF&G '#]],2,FALSE)=\"\",\"\",VLOOKUP(C31,Table3[[SHOOTER]:[CPF&G '#]],2,FALSE)),\"\")","v":""}]
[29,null,null,null,{"$f":"IFERROR(IF(VLOOKUP(C32,Table3[[SHOOTER]:[CPF&G '#]],2,FALSE)=\"\",\"\",VLOOKUP(C32,Table3[[SHOOTER]:[CPF&G '#]],2,FALSE)),\"\")","v":""}]
[30,null,null,null,{"$f":"IFERROR(IF(VLOOKUP(C33,Table3[[SHOOTER]:[CPF&G '#]],2,FALSE)=\"\",\"\",VLOOKUP(C33,Table3[[SHOOTER]:[CPF&G '#]],2,FALSE)),\"\")","v":""}]
[31,null,null,null,{"$f":"IFERROR(IF(VLOOKUP(C34,Table3[[SHOOTER]:[CPF&G '#]],2,FALSE)=\"\",\"\",VLOOKUP(C34,Table3[[SHOOTER]:[CPF&G '#]],2,FALSE)),\"\")","v":""}]
[32,null,null,null,{"$f":"IFERROR(IF(VLOOKUP(C35,Table3[[SHOOTER]:[CPF&G '#]],2,FALSE)=\"\",\"\",VLOOKUP(C35,Table3[[SHOOTER]:[CPF&G '#]],2,FALSE)),\"\")","v":""}]
[33,null,null,null,{"$f":"IFERROR(IF(VLOOKUP(C36,Table3[[SHOOTER]:[CPF&G '#]],2,FALSE)=\"\",\"\",VLOOKUP(C36,Table3[[SHOOTER]:[CPF&G '#]],2,FALSE)),\"\")","v":""}]
[34,null,null,null,{"$f":"IFERROR(IF(VLOOKUP(C37,Table3[[SHOOTER]:[CPF&G '#]],2,FALSE)=\"\",\"\",VLOOKUP(C37,Table3[[SHOOTER]:[CPF&G '#]],2,FALSE)),\"\")","v":""}]
[35,null,null,null,{"$f":"IFERROR(IF(VLOOKUP(C38,Table3[[SHOOTER]:[CPF&G '#]],2,FALSE)=\"\",\"\",VLOOKUP(C38,Table3[[SHOOTER]:[CPF&G '#]],2,FALSE)),\"\")","v":""}]
[36,null,null,null,{"$f":"IFERROR(IF(VLOOKUP(C39,Table3[[SHOOTER]:[CPF&G '#]],2,FALSE)=\"\",\"\",VLOOKUP(C39,Table3[[SHOOTER]:[CPF&G '#]],2,FALSE)),\"\")","v":""}]
[37,null,null,null,{"$f":"IFERROR(IF(VLOOKUP(C40,Table3[[SHOOTER]:[CPF&G '#]],2,FALSE)=\"\",\"\",VLOOKUP(C40,Table3[[SHOOTER]:[CPF&G '#]],2,FALSE)),\"\")","v":""}]
[38,null,null,null,{"$f":"IFERROR(IF(VLOOKUP(C41,Table3[[SHOOTER]:[CPF&G '#]],2,FALSE)=\"\",\"\",VLOOKUP(C41,Table3[[SHOOTER]:[CPF&G '#]],2,FALSE)),\"\")","v":""}]
[39,null,null,null,{"$f":"IFERROR(IF(VLOOKUP(C42,Table3[[SHOOTER]:[CPF&G '#]],2,FALSE)=\"\",\"\",VLOOKUP(C42,Table3[[SHOOTER]:[CPF&G '#]],2,FALSE)),\"\")","v":""}]
[40,null,null,null,{"$f":"IFERROR(IF(VLOOKUP(C43,Table3[[SHOOTER]:[CPF&G '#]],2,FALSE)=\"\",\"\",VLOOKUP(C43,Table3[[SHOOTER]:[CPF&G '#]],2,FALSE)),\"\")","v":""}]
[41,null,null,null,{"$f":"IFERROR(IF(VLOOKUP(C44,Table3[[SHOOTER]:[CPF&G '#]],2,FALSE)=\"\",\"\",VLOOKUP(C44,Table3[[SHOOTER]:[CPF&G '#]],2,FALSE)),\"\")","v":""}]
[42,null,null,null,{"$f":"IFERROR(IF(VLOOKUP(C45,Table3[[SHOOTER]:[CPF&G '#]],2,FALSE)=\"\",\"\",VLOOKUP(C45,Table3[[SHOOTER]:[CPF&G '#]],2,FALSE)),\"\")","v":""}]
[43,null,null,null,{"$f":"IFERROR(IF(VLOOKUP(C46,Table3[[SHOOTER]:[CPF&G '#]],2,FALSE)=\"\",\"\",VLOOKUP(C46,Table3[[SHOOTER]:[CPF&G '#]],2,FALSE)),\"\")","v":""}]
[44,null,null,null,{"$f":"IFERROR(IF(VLOOKUP(C47,Table3[[SHOOTER]:[CPF&G '#]],2,FALSE)=\"\",\"\",VLOOKUP(C47,Table3[[SHOOTER]:[CPF&G '#]],2,FALSE)),\"\")","v":""}]
[45,null,null,null,{"$f":"IFERROR(IF(VLOOKUP(C48,Table3[[SHOOTER]:[CPF&G '#]],2,FALSE)=\"\",\"\",VLOOKUP(C48,Table3[[SHOOTER]:[CPF&G '#]],2,FALSE)),\"\")","v":""}]
[46,null,null,null,{"$f":"IFERROR(IF(VLOOKUP(C49,Table3[[SHOOTER]:[CPF&G '#]],2,FALSE)=\"\",\"\",VLOOKUP(C49,Table3[[SHOOTER]:[CPF&G '#]],2,FALSE)),\"\")","v":""}]
[47,null,null,null,{"$f":"IFERROR(IF(VLOOKUP(C50,Table3[[SHOOTER]:[CPF&G '#]],2,FALSE)=\"\",\"\",VLOOKUP(C50,Table3[[SHOOTER]:[CPF&G '#]],2,FALSE)),\"\")","v":""}]
[48,null,null,null,{"$f":"IFERROR(IF(VLOOKUP(C51,Table3[[SHOOTER]:[CPF&G '#]],2,FALSE)=\"\",\"\",VLOOKUP(C51,Table3[[SHOOTER]:[CPF&G '#]],2,FALSE)),\"\")","v":""}]
[49,null,null,null,{"$f":"IFERROR(IF(VLOOKUP(C52,Table3[[SHOOTER]:[CPF&G '#]],2,FALSE)=\"\",\"\",VLOOKUP(C52,Table3[[SHOOTER]:[CPF&G '#]],2,FALSE)),\"\")","v":""}]
[50,null,null,null,{"$f":"IFERROR(IF(VLOOKUP(C53,Table3[[SHOOTER]:[CPF&G '#]],2,FALSE)=\"\",\"\",VLOOKUP(C53,Table3[[SHOOTER]:[CPF&G '#]],2,FALSE)),\"\")","v":""}]
[51,null,null,null,{"$f":"IFERROR(IF(VLOOKUP(C54,Table3[[SHOOTER]:[CPF&G '#]],2,FALSE)=\"\",\"\",VLOOKUP(C54,Table3[[SHOOTER]:[CPF&G '#]],2,FALSE)),\"\")","v":""}]
[52,null,null,null,{"$f":"IFERROR(IF(VLOOKUP(C55,Table3[[SHOOTER]:[CPF&G '#]],2,FALSE)=\"\",\"\",VLOOKUP(C55,Table3[[SHOOTER]:[CPF&G '#]],2,FALSE)),\"\")","v":""}]
[53,null,null,null,{"$f":"IFERROR(IF(VLOOKUP(C56,Table3[[SHOOTER]:[CPF&G '#]],2,FALSE)=\"\",\"\",VLOOKUP(C56,Table3[[SHOOTER]:[CPF&G '#]],2,FALSE)),\"\")","v":""}]
[54,null,null,null,{"$f":"IFERROR(IF(VLOOKUP(C57,Table3[[SHOOTER]:[CPF&G '#]],2,FALSE)=\"\",\"\",VLOOKUP(C57,Table3[[SHOOTER]:[CPF&G '#]],2,FALSE)),\"\")","v":""}]
[55,null,null,null,{"$f":"IFERROR(IF(VLOOKUP(C58,Table3[[SHOOTER]:[CPF&G '#]],2,FALSE)=\"\",\"\",VLOOKUP(C58,Table3[[SHOOTER]:[CPF&G '#]],2,FALSE)),\"\")","v":""}]
[56,null,null,null,{"$f":"IFERROR(IF(VLOOKUP(C59,Table3[[SHOOTER]:[CPF&G '#]],2,FALSE)=\"\",\"\",VLOOKUP(C59,Table3[[SHOOTER]:[CPF&G '#]],2,FALSE)),\"\")","v":""}]
[57,null,null,null,{"$f":"IFERROR(IF(VLOOKUP(C60,Table3[[SHOOTER]:[CPF&G '#]],2,FALSE)=\"\",\"\",VLOOKUP(C60,Table3[[SHOOTER]:[CPF&G '#]],2,FALSE)),\"\")","v":""}]
[58,null,null,null,{"$f":"IFERROR(IF(VLOOKUP(C61,Table3[[SHOOTER]:[CPF&G '#]],2,FALSE)=\"\",\"\",VLOOKUP(C61,Table3[[SHOOTER]:[CPF&G '#]],2,FALSE)),\"\")","v":""}]
[59,null,null,null,{"$f":"IFERROR(IF(VLOOKUP(C62,Table3[[SHOOTER]:[CPF&G '#]],2,FALSE)=\"\",\"\",VLOOKUP(C62,Table3[[SHOOTER]:[CPF&G '#]],2,FALSE)),\"\")","v":""}]
[60,null,null,null,{"$f":"IFERROR(IF(VLOOKUP(C63,Table3[[SHOOTER]:[CPF&G '#]],2,FALSE)=\"\",\"\",VLOOKUP(C63,Table3[[SHOOTER]:[CPF&G '#]],2,FALSE)),\"\")","v":""}]
[61,null,null,null,{"$f":"IFERROR(IF(VLOOKUP(C64,Table3[[SHOOTER]:[CPF&G '#]],2,FALSE)=\"\",\"\",VLOOKUP(C64,Table3[[SHOOTER]:[CPF&G '#]],2,FALSE)),\"\")","v":""}]
[62,null,null,null,{"$f":"IFERROR(IF(VLOOKUP(C65,Table3[[SHOOTER]:[CPF&G '#]],2,FALSE)=\"\",\"\",VLOOKUP(C65,Table3[[SHOOTER]:[CPF&G '#]],2,FALSE)),\"\")","v":""}]
[63,null,null,null,{"$f":"IFERROR(IF(VLOOKUP(C66,Table3[[SHOOTER]:[CPF&G '#]],2,FALSE)=\"\",\"\",VLOOKUP(C66,Table3[[SHOOTER]:[CPF&G '#]],2,FALSE)),\"\")","v":""}]
[64,null,null,null,{"$f":"IFERROR(IF(VLOOKUP(C67,Table3[[SHOOTER]:[CPF&G '#]],2,FALSE)=\"\",\"\",VLOOKUP(C67,Table3[[SHOOTER]:[CPF&G '#]],2,FALSE)),\"\")","v":""}]
[65,null,null,null,{"$f":"IFERROR(IF(VLOOKUP(C68,Table3[[SHOOTER]:[CPF&G '#]],2,FALSE)=\"\",\"\",VLOOKUP(C68,Table3[[SHOOTER]:[CPF&G '#]],2,FALSE)),\"\")","v":""}]
[66,null,null,null,{"$f":"IFERROR(IF(VLOOKUP(C69,Table3[[SHOOTER]:[CPF&G '#]],2,FALSE)=\"\",\"\",VLOOKUP(C69,Table3[[SHOOTER]:[CPF&G '#]],2,FALSE)),\"\")","v":""}]
[67,null,null,null,{"$f":"IFERROR(IF(VLOOKUP(C70,Table3[[SHOOTER]:[CPF&G '#]],2,FALSE)=\"\",\"\",VLOOKUP(C70,Table3[[SHOOTER]:[CPF&G '#]],2,FALSE)),\"\")","v":""}]
[68,null,null,null,{"$f":"IFERROR(IF(VLOOKUP(C71,Table3[[SHOOTER]:[CPF&G '#]],2,FALSE)=\"\",\"\",VLOOKUP(C71,Table3[[SHOOTER]:[CPF&G '#]],2,FALSE)),\"\")","v":""}]
[69,null,null,null,{"$f":"IFERROR(IF(VLOOKUP(C72,Table3[[SHOOTER]:[CPF&G '#]],2,FALSE)=\"\",\"\",VLOOKUP(C72,Table3[[SHOOTER]:[CPF&G '#]],2,FALSE)),\"\")","v":""}]
[70,null,null,null,{"$f":"IFERROR(IF(VLOOKUP(C73,Table3[[SHOOTER]:[CPF&G '#]],2,FALSE)=\"\",\"\",VLOOKUP(C73,Table3[[SHOOTER]:[CPF&G '#]],2,FALSE)),\"\")","v":""}]
[71,null,null,null,{"$f":"IFERROR(IF(VLOOKUP(C74,Table3[[SHOOTER]:[CPF&G '#]],2,FALSE)=\"\",\"\",VLOOKUP(C74,Table3[[SHOOTER]:[CPF&G '#]],2,FALSE)),\"\")","v":""}]
[72,null,null,null,{"$f":"IFERROR(IF(VLOOKUP(C75,Table3[[SHOOTER]:[CPF&G '#]],2,FALSE)=\"\",\"\",VLOOKUP(C75,Table3[[SHOOTER]:[CPF&G '#]],2,FALSE)),\"\")","v":""}]
[73,null,null,null,{"$f":"IFERROR(IF(VLOOKUP(C76,Table3[[SHOOTER]:[CPF&G '#]],2,FALSE)=\"\",\"\",VLOOKUP(C76,Table3[[SHOOTER]:[CPF&G '#]],2,FALSE)),\"\")","v":""}]
[74,null,null,null,{"$f":"IFERROR(IF(VLOOKUP(C77,Table3[[SHOOTER]:[CPF&G '#]],2,FALSE)=\"\",\"\",VLOOKUP(C77,Table3[[SHOOTER]:[CPF&G '#]],2,FALSE)),\"\")","v":""}]
[75,null,null,null,{"$f":"IFERROR(IF(VLOOKUP(C78,Table3[[SHOOTER]:[CPF&G '#]],2,FALSE)=\"\",\"\",VLOOKUP(C78,Table3[[SHOOTER]:[CPF&G '#]],2,FALSE)),\"\")","v":""}]
[76,null,null,null,{"$f":"IFERROR(IF(VLOOKUP(C79,Table3[[SHOOTER]:[CPF&G '#]],2,FALSE)=\"\",\"\",VLOOKUP(C79,Table3[[SHOOTER]:[CPF&G '#]],2,FALSE)),\"\")","v":""}]
[77,null,null,null,{"$f":"IFERROR(IF(VLOOKUP(C80,Table3[[SHOOTER]:[CPF&G '#]],2,FALSE)=\"\",\"\",VLOOKUP(C80,Table3[[SHOOTER]:[CPF&G '#]],2,FALSE)),\"\")","v":""}]
[78,null,null,null,{"$f":"IFERROR(IF(VLOOKUP(C81,Table3[[SHOOTER]:[CPF&G '#]],2,FALSE)=\"\",\"\",VLOOKUP(C81,Table3[[SHOOTER]:[CPF&G '#]],2,FALSE)),\"\")","v":""}]
[79,null,null,null,{"$f":"IFERROR(IF(VLOOKUP(C82,Table3[[SHOOTER]:[CPF&G '#]],2,FALSE)=\"\",\"\",VLOOKUP(C82,Table3[[SHOOTER]:[CPF&G '#]],2,FALSE)),\"\")","v":""}]
[80,null,null,null,{"$f":"IFERROR(IF(VLOOKUP(C83,Table3[[SHOOTER]:[CPF&G '#]],2,FALSE)=\"\",\"\",VLOOKUP(C83,Table3[[SHOOTER]:[CPF&G '#]],2,FALSE)),\"\")","v":""}]
[81,null,null,null,{"$f":"IFERROR(IF(VLOOKUP(C84,Table3[[SHOOTER]:[CPF&G '#]],2,FALSE)=\"\",\"\",VLOOKUP(C84,Table3[[SHOOTER]:[CPF&G '#]],2,FALSE)),\"\")","v":""}]
[82,null,null,null,{"$f":"IFERROR(IF(VLOOKUP(C85,Table3[[SHOOTER]:[CPF&G '#]],2,FALSE)=\"\",\"\",VLOOKUP(C85,Table3[[SHOOTER]:[CPF&G '#]],2,FALSE)),\"\")","v":""}]
[83,null,null,null,{"$f":"IFERROR(IF(VLOOKUP(C86,Table3[[SHOOTER]:[CPF&G '#]],2,FALSE)=\"\",\"\",VLOOKUP(C86,Table3[[SHOOTER]:[CPF&G '#]],2,FALSE)),\"\")","v":""}]
[84,null,null,null,{"$f":"IFERROR(IF(VLOOKUP(C87,Table3[[SHOOTER]:[CPF&G '#]],2,FALSE)=\"\",\"\",VLOOKUP(C87,Table3[[SHOOTER]:[CPF&G '#]],2,FALSE)),\"\")","v":""}]
[85,null,null,null,{"$f":"IFERROR(IF(VLOOKUP(C88,Table3[[SHOOTER]:[CPF&G '#]],2,FALSE)=\"\",\"\",VLOOKUP(C88,Table3[[SHOOTER]:[CPF&G '#]],2,FALSE)),\"\")","v":""}]
[86,null,null,null,{"$f":"IFERROR(IF(VLOOKUP(C89,Table3[[SHOOTER]:[CPF&G '#]],2,FALSE)=\"\",\"\",VLOOKUP(C89,Table3[[SHOOTER]:[CPF&G '#]],2,FALSE)),\"\")","v":""}]
[87,null,null,null,{"$f":"IFERROR(IF(VLOOKUP(C90,Table3[[SHOOTER]:[CPF&G '#]],2,FALSE)=\"\",\"\",VLOOKUP(C90,Table3[[SHOOTER]:[CPF&G '#]],2,FALSE)),\"\")","v":""}]
[88,null,null,null,{"$f":"IFERROR(IF(VLOOKUP(C91,Table3[[SHOOTER]:[CPF&G '#]],2,FALSE)=\"\",\"\",VLOOKUP(C91,Table3[[SHOOTER]:[CPF&G '#]],2,FALSE)),\"\")","v":""}]
[89,null,null,null,{"$f":"IFERROR(IF(VLOOKUP(C92,Table3[[SHOOTER]:[CPF&G '#]],2,FALSE)=\"\",\"\",VLOOKUP(C92,Table3[[SHOOTER]:[CPF&G '#]],2,FALSE)),\"\")","v":""}]
[90,null,null,null,{"$f":"IFERROR(IF(VLOOKUP(C93,Table3[[SHOOTER]:[CPF&G '#]],2,FALSE)=\"\",\"\",VLOOKUP(C93,Table3[[SHOOTER]:[CPF&G '#]],2,FALSE)),\"\")","v":""}]
[91,null,null,null,{"$f":"IFERROR(IF(VLOOKUP(C94,Table3[[SHOOTER]:[CPF&G '#]],2,FALSE)=\"\",\"\",VLOOKUP(C94,Table3[[SHOOTER]:[CPF&G '#]],2,FALSE)),\"\")","v":""}]
[92,null,null,null,{"$f":"IFERROR(IF(VLOOKUP(C95,Table3[[SHOOTER]:[CPF&G '#]],2,FALSE)=\"\",\"\",VLOOKUP(C95,Table3[[SHOOTER]:[CPF&G '#]],2,FALSE)),\"\")","v":""}]
[93,null,null,null,{"$f":"IFERROR(IF(VLOOKUP(C96,Table3[[SHOOTER]:[CPF&G '#]],2,FALSE)=\"\",\"\",VLOOKUP(C96,Table3[[SHOOTER]:[CPF&G '#]],2,FALSE)),\"\")","v":""}]
[94,null,null,null,{"$f":"IFERROR(IF(VLOOKUP(C97,Table3[[SHOOTER]:[CPF&G '#]],2,FALSE)=\"\",\"\",VLOOKUP(C97,Table3[[SHOOTER]:[CPF&G '#]],2,FALSE)),\"\")","v":""}]
[95,null,null,null,{"$f":"IFERROR(IF(VLOOKUP(C98,Table3[[SHOOTER]:[CPF&G '#]],2,FALSE)=\"\",\"\",VLOOKUP(C98,Table3[[SHOOTER]:[CPF&G '#]],2,FALSE)),\"\")","v":""}]
[96,null,null,null,{"$f":"IFERROR(IF(VLOOKUP(C99,Table3[[SHOOTER]:[CPF&G '#]],2,FALSE)=\"\",\"\",VLOOKUP(C99,Table3[[SHOOTER]:[CPF&G '#]],2,FALSE)),\"\")","v":""}]
[97,null,null,null,{"$f":"IFERROR(IF(VLOOKUP(C100,Table3[[SHOOTER]:[CPF&G '#]],2,FALSE)=\"\",\"\",VLOOKUP(C100,Table3[[SHOOTER]:[CPF&G '#]],2,FALSE)),\"\")","v":""}]
[98,null,null,null,{"$f":"IFERROR(IF(VLOOKUP(C101,Table3[[SHOOTER]:[CPF&G '#]],2,FALSE)=\"\",\"\",VLOOKUP(C101,Table3[[SHOOTER]:[CPF&G '#]],2,FALSE)),\"\")","v":""}]
[99,null,null,null,{"$f":"IFERROR(IF(VLOOKUP(C102,Table3[[SHOOTER]:[CPF&G '#]],2,FALSE)=\"\",\"\",VLOOKUP(C102,Table3[[SHOOTER]:[CPF&G '#]],2,FALSE)),\"\")","v":""}]
[100,null,null,null,{"$f":"IFERROR(IF(VLOOKUP(C103,Table3[[SHOOTER]:[CPF&G '#]],2,FALSE)=\"\",\"\",VLOOKUP(C103,Table3[[SHOOTER]:[CPF&G '#]],2,FALSE)),\"\")","v":""}]
[101,null,null,null,{"$f":"IFERROR(IF(VLOOKUP(C104,Table3[[SHOOTER]:[CPF&G '#]],2,FALSE)=\"\",\"\",VLOOKUP(C104,Table3[[SHOOTER]:[CPF&G '#]],2,FALSE)),\"\")","v":""}]
[102,null,null,null,{"$f":"IFERROR(IF(VLOOKUP(C105,Table3[[SHOOTER]:[CPF&G '#]],2,FALSE)=\"\",\"\",VLOOKUP(C105,Table3[[SHOOTER]:[CPF&G '#]],2,FALSE)),\"\")","v":""}]
[103,null,null,null,{"$f":"IFERROR(IF(VLOOKUP(C106,Table3[[SHOOTER]:[CPF&G '#]],2,FALSE)=\"\",\"\",VLOOKUP(C106,Table3[[SHOOTER]:[CPF&G '#]],2,FALSE)),\"\")","v":""}]
[104,null,null,null,{"$f":"IFERROR(IF(VLOOKUP(C107,Table3[[SHOOTER]:[CPF&G '#]],2,FALSE)=\"\",\"\",VLOOKUP(C107,Table3[[SHOOTER]:[CPF&G '#]],2,FALSE)),\"\")","v":""}]
[105,null,null,null,{"$f":"IFERROR(IF(VLOOKUP(C108,Table3[[SHOOTER]:[CPF&G '#]],2,FALSE)=\"\",\"\",VLOOKUP(C108,Table3[[SHOOTER]:[CPF&G '#]],2,FALSE)),\"\")","v":""}]
[106,null,null,null,{"$f":"IFERROR(IF(VLOOKUP(C109,Table3[[SHOOTER]:[CPF&G '#]],2,FALSE)=\"\",\"\",VLOOKUP(C109,Table3[[SHOOTER]:[CPF&G '#]],2,FALSE)),\"\")","v":""}]
[107,null,null,null,{"$f":"IFERROR(IF(VLOOKUP(C110,Table3[[SHOOTER]:[CPF&G '#]],2,FALSE)=\"\",\"\",VLOOKUP(C110,Table3[[SHOOTER]:[CPF&G '#]],2,FALSE)),\"\")","v":""}]
[108,null,null,null,{"$f":"IFERROR(IF(VLOOKUP(C111,Table3[[SHOOTER]:[CPF&G '#]],2,FALSE)=\"\",\"\",VLOOKUP(C111,Table3[[SHOOTER]:[CPF&G '#]],2,FALSE)),\"\")","v":""}]
[109,null,null,null,{"$f":"IFERROR(IF(VLOOKUP(C112,Table3[[SHOOTER]:[CPF&G '#]],2,FALSE)=\"\",\"\",VLOOKUP(C112,Table3[[SHOOTER]:[CPF&G '#]],2,FALSE)),\"\")","v":""}]
[110,null,null,null,{"$f":"IFERROR(IF(VLOOKUP(C113,Table3[[SHOOTER]:[CPF&G '#]],2,FALSE)=\"\",\"\",VLOOKUP(C113,Table3[[SHOOTER]:[CPF&G '#]],2,FALSE)),\"\")","v":""}]
[111,null,null,null,{"$f":"IFERROR(IF(VLOOKUP(C114,Table3[[SHOOTER]:[CPF&G '#]],2,FALSE)=\"\",\"\",VLOOKUP(C114,Table3[[SHOOTER]:[CPF&G '#]],2,FALSE)),\"\")","v":""}]
[112,null,null,null,{"$f":"IFERROR(IF(VLOOKUP(C115,Table3[[SHOOTER]:[CPF&G '#]],2,FALSE)=\"\",\"\",VLOOKUP(C115,Table3[[SHOOTER]:[CPF&G '#]],2,FALSE)),\"\")","v":""}]
[113,null,null,null,{"$f":"IFERROR(IF(VLOOKUP(C116,Table3[[SHOOTER]:[CPF&G '#]],2,FALSE)=\"\",\"\",VLOOKUP(C116,Table3[[SHOOTER]:[CPF&G '#]],2,FALSE)),\"\")","v":""}]
[114,null,null,null,{"$f":"IFERROR(IF(VLOOKUP(C117,Table3[[SHOOTER]:[CPF&G '#]],2,FALSE)=\"\",\"\",VLOOKUP(C117,Table3[[SHOOTER]:[CPF&G '#]],2,FALSE)),\"\")","v":""}]
[115,null,null,null,{"$f":"IFERROR(IF(VLOOKUP(C118,Table3[[SHOOTER]:[CPF&G '#]],2,FALSE)=\"\",\"\",VLOOKUP(C118,Table3[[SHOOTER]:[CPF&G '#]],2,FALSE)),\"\")","v":""}]
[116,null,null,null,{"$f":"IFERROR(IF(VLOOKUP(C119,Table3[[SHOOTER]:[CPF&G '#]],2,FALSE)=\"\",\"\",VLOOKUP(C119,Table3[[SHOOTER]:[CPF&G '#]],2,FALSE)),\"\")","v":""}]
[117,null,null,null,{"$f":"IFERROR(IF(VLOOKUP(C120,Table3[[SHOOTER]:[CPF&G '#]],2,FALSE)=\"\",\"\",VLOOKUP(C120,Table3[[SHOOTER]:[CPF&G '#]],2,FALSE)),\"\")","v":""}]
[118,null,null,null,{"$f":"IFERROR(IF(VLOOKUP(C121,Table3[[SHOOTER]:[CPF&G '#]],2,FALSE)=\"\",\"\",VLOOKUP(C121,Table3[[SHOOTER]:[CPF&G '#]],2,FALSE)),\"\")","v":""}]
[119,null,null,null,{"$f":"IFERROR(IF(VLOOKUP(C122,Table3[[SHOOTER]:[CPF&G '#]],2,FALSE)=\"\",\"\",VLOOKUP(C122,Table3[[SHOOTER]:[CPF&G '#]],2,FALSE)),\"\")","v":""}]
[120,null,null,null,{"$f":"IFERROR(IF(VLOOKUP(C123,Table3[[SHOOTER]:[CPF&G '#]],2,FALSE)=\"\",\"\",VLOOKUP(C123,Table3[[SHOOTER]:[CPF&G '#]],2,FALSE)),\"\")","v":""}]